{"text_format":"3","workbook":"xlsx","n_sheets":10,"sheets":["Student Entry","Fig 1 Ballet Leg","Fig 2 Kip","Fig 3 Heron","Fig 4 Walkover","Totals","Draw","Schools","Official Draw","Meet Results"],"not_rendered":{"images":1,"macros":1,"defined_names":5,"pivot_tables":3},"read":"whole","date_system":"1900"}

{"sheet":"Student Entry","index":0,"n_rows":26,"n_cols":3,"rows_kept":26,"merged":[[0,0,0,2]]}
["Student Entry"]
["School # 1 Name:","School # 2 Name:","School # 3 Name:"]
["Stillwater","Osseo-Maple Grove","Edina"]
["Student Names:","Student Names:","Student Names:"]
["Erin Wurgler","Mikaela Crosby"]
["Maddie Stricker","Annika Desphande"]
["Elly Blair","Savanna Woods"]
["Samantha MacDonald","Paulina Frayman"]
["Kya Hodgdon","Kati Knox"]
["Leigha Kraft"]
["Adelee Wrightsman"]
["Maylin Kennedy"]
["Chloe Knuteson"]
["Kennedy Tope"]
["Anika Wright"]
["Nissa Wilcox"]
["Jillian Kulzer"]
["Alexis Montgomery"]
["Hannah Bliss"]
["Bella Formico"]
["Kyra Will"]
["Lauren Guinee"]
["Hayeon Lee"]
["Nina Djukelic"]
["Molly Goheen"]
["Berit Serle"]

{"sheet":"Fig 1 Ballet Leg","index":1,"n_rows":150,"n_cols":11,"rows_kept":150}
[null,"Figure #1:","101 R/L Ballet Leg, single, *right or *left"]
["#","Degree of Difficulty","Judge 1","Judge 2","Judge 3","Judge 4","Judge 5","Score","Penalty"]
[{"$f":"IF(Draw!E2=0,\"\",Draw!E2)","v":1},1.6,{"$nulls":5},{"$f":"IF(B3=\"\",\"\",IF(K3=5,(SUM(C3:G3)-MAX(C3:G3)-MIN(C3:G3))/3,IF(K3=4,(SUM(C3:G3)-MAX(C3:G3))/3,SUM(C3:G3)/3))*B3/7.6)","v":{"v":0,"d":"0.000"}},null,null,{"$f":"COUNT(C3:G3)","v":0}]
[{"$f":"IF(Draw!E3=0,\"\",Draw!E3)","v":2},{"$f":"IF(A4=\"\",\"\",B$3)","v":1.6},60,63,63,null,null,{"$f":"IF(B4=\"\",\"\",IF(K4=5,(SUM(C4:G4)-MAX(C4:G4)-MIN(C4:G4))/3,IF(K4=4,(SUM(C4:G4)-MAX(C4:G4))/3,SUM(C4:G4)/3))*B4/7.6)","v":{"v":13.05263157894737,"d":"13.053"}},null,null,{"$f":"COUNT(C4:G4)","v":3}]
[{"$f":"IF(Draw!E4=0,\"\",Draw!E4)","v":3},{"$f":"IF(A5=\"\",\"\",B$3)","v":1.6},48,45,44,null,null,{"v":9.614035087719298,"d":"9.614"},null,null,3]
[{"$f":"IF(Draw!E5=0,\"\",Draw!E5)","v":4},1.6,49,49,50,null,null,{"$f":"IF(B6=\"\",\"\",IF(K6=5,(SUM(C6:G6)-MAX(C6:G6)-MIN(C6:G6))/3,IF(K6=4,(SUM(C6:G6)-MAX(C6:G6))/3,SUM(C6:G6)/3))*B6/7.6)","v":{"v":10.385964912280702,"d":"10.386"}},null,null,3]
[{"$f":"IF(Draw!E6=0,\"\",Draw!E6)","v":5},{"$f":"IF(A7=\"\",\"\",B$3)","v":1.6},54,54,51,null,null,{"v":11.157894736842108,"d":"11.158"},null,null,3]
[{"$f":"IF(Draw!E7=0,\"\",Draw!E7)","v":6},1.6,53,55,50,null,null,{"v":11.087719298245615,"d":"11.088"},null,null,3]
[{"$f":"IF(Draw!E8=0,\"\",Draw!E8)","v":7},1.6,64,60,64,null,null,{"v":13.192982456140351,"d":"13.193"},null,null,3]
[{"$f":"IF(Draw!E9=0,\"\",Draw!E9)","v":8},1.6,41,42,43,null,null,{"v":8.842105263157896,"d":"8.842"},null,null,3]
[{"$f":"IF(Draw!E10=0,\"\",Draw!E10)","v":9},1.6,56,54,50,null,null,{"v":11.228070175438598,"d":"11.228"},null,null,3]
[{"$f":"IF(Draw!E11=0,\"\",Draw!E11)","v":10},1.6,54,52,45,null,null,{"v":10.596491228070178,"d":"10.596"},null,null,3]
[{"$f":"IF(Draw!E12=0,\"\",Draw!E12)","v":11},1.6,63,62,60,null,null,{"v":12.982456140350878,"d":"12.982"},null,null,3]
[{"$f":"IF(Draw!E13=0,\"\",Draw!E13)","v":12},1.6,60,58,60,null,null,{"v":12.49122807017544,"d":"12.491"},null,null,3]
[{"$f":"IF(Draw!E14=0,\"\",Draw!E14)","v":13},1.6,59,60,62,null,null,{"v":12.701754385964914,"d":"12.702"},null,null,3]
[{"$f":"IF(Draw!E15=0,\"\",Draw!E15)","v":14},1.6,60,63,64,null,null,{"v":13.122807017543863,"d":"13.123"},null,null,3]
[{"$f":"IF(Draw!E16=0,\"\",Draw!E16)","v":15},1.6,52,53,53,null,null,{"v":11.087719298245615,"d":"11.088"},null,null,3]
[{"$f":"IF(Draw!E17=0,\"\",Draw!E17)","v":16},1.6,60,58,63,null,null,{"v":12.701754385964914,"d":"12.702"},null,null,3]
[{"$f":"IF(Draw!E18=0,\"\",Draw!E18)","v":17},1.6,60,59,59,null,null,{"v":12.49122807017544,"d":"12.491"},null,null,3]
[{"$f":"IF(Draw!E19=0,\"\",Draw!E19)","v":18},1.6,43,40,42,null,null,{"v":8.771929824561404,"d":"8.772"},null,null,3]
[{"$f":"IF(Draw!E20=0,\"\",Draw!E20)","v":19},1.6,{"$nulls":5},{"v":0,"d":"0.000"},null,null,0]
[{"$f":"IF(Draw!E21=0,\"\",Draw!E21)","v":20},1.6,58,62,54,null,null,{"v":12.210526315789476,"d":"12.211"},null,null,3]
[{"$f":"IF(Draw!E22=0,\"\",Draw!E22)","v":21},1.6,66,62,62,null,null,{"v":13.333333333333336,"d":"13.333"},null,null,3]
[{"$f":"IF(Draw!E23=0,\"\",Draw!E23)","v":22},1.6,51,50,43,null,null,{"v":10.105263157894738,"d":"10.105"},null,null,3]
[{"$f":"IF(Draw!E24=0,\"\",Draw!E24)","v":23},1.6,52,51,51,null,null,{"v":10.80701754385965,"d":"10.807"},null,null,3]
[{"$f":"IF(Draw!E25=0,\"\",Draw!E25)","v":24},1.6,58,59,59,null,null,{"v":12.350877192982457,"d":"12.351"},null,null,3]
[{"$f":"IF(Draw!E26=0,\"\",Draw!E26)","v":25},1.6,64,65,63,null,null,{"v":13.473684210526317,"d":"13.474"},null,null,3]
[{"$f":"IF(Draw!E27=0,\"\",Draw!E27)","v":26},1.6,57,56,52,null,null,{"v":11.578947368421053,"d":"11.579"},null,null,3]
[{"$f":"IF(Draw!E28=0,\"\",Draw!E28)","v":27},1.6,40,40,42,null,null,{"v":8.56140350877193,"d":"8.561"},null,null,3]
[{"$f":"IF(Draw!E29=0,\"\",Draw!E29)","v":28},1.6,48,48,45,null,null,{"v":9.894736842105264,"d":"9.895"},null,null,3]
[{"$f":"IF(Draw!E30=0,\"\",Draw!E30)","v":""},"",{"$nulls":5},"",null,null,0]
[{"$f":"IF(Draw!E31=0,\"\",Draw!E31)","v":""},"",{"$nulls":5},"",null,null,0]
[{"$f":"IF(Draw!E32=0,\"\",Draw!E32)","v":""},"",{"$nulls":5},"",null,null,0]
[{"$f":"IF(Draw!E33=0,\"\",Draw!E33)","v":""},"",{"$nulls":5},"",null,null,0]
[{"$f":"IF(Draw!E34=0,\"\",Draw!E34)","v":""},"",{"$nulls":5},"",null,null,0]
[{"$f":"IF(Draw!E35=0,\"\",Draw!E35)","v":""},"",{"$nulls":5},"",null,null,0]
[{"$f":"IF(Draw!E36=0,\"\",Draw!E36)","v":""},"",{"$nulls":5},"",null,null,0]
[{"$f":"IF(Draw!E37=0,\"\",Draw!E37)","v":""},"",{"$nulls":5},"",null,null,0]
[{"$f":"IF(Draw!E38=0,\"\",Draw!E38)","v":""},"",{"$nulls":5},"",null,null,0]
[{"$f":"IF(Draw!E39=0,\"\",Draw!E39)","v":""},"",{"$nulls":5},"",null,null,0]
[{"$f":"IF(Draw!E40=0,\"\",Draw!E40)","v":""},"",{"$nulls":5},"",null,null,0]
[{"$f":"IF(Draw!E41=0,\"\",Draw!E41)","v":""},"",{"$nulls":5},"",null,null,0]
[{"$f":"IF(Draw!E42=0,\"\",Draw!E42)","v":""},"",{"$nulls":5},"",null,null,0]
[{"$f":"IF(Draw!E43=0,\"\",Draw!E43)","v":""},"",{"$nulls":5},"",null,null,0]
[{"$f":"IF(Draw!E44=0,\"\",Draw!E44)","v":""},"",{"$nulls":5},"",null,null,0]
[{"$f":"IF(Draw!E45=0,\"\",Draw!E45)","v":""},"",{"$nulls":5},"",null,null,0]
[{"$f":"IF(Draw!E46=0,\"\",Draw!E46)","v":""},"",{"$nulls":5},"",null,null,0]
[{"$f":"IF(Draw!E47=0,\"\",Draw!E47)","v":""},"",{"$nulls":5},"",null,null,0]
[{"$f":"IF(Draw!E48=0,\"\",Draw!E48)","v":""},"",{"$nulls":5},"",null,null,0]
[{"$f":"IF(Draw!E49=0,\"\",Draw!E49)","v":""},"",{"$nulls":5},"",null,null,0]
[{"$f":"IF(Draw!E50=0,\"\",Draw!E50)","v":""},"",{"$nulls":5},"",null,null,0]
[{"$f":"IF(Draw!E51=0,\"\",Draw!E51)","v":""},"",{"$nulls":5},"",null,null,0]
[{"$f":"IF(Draw!E52=0,\"\",Draw!E52)","v":""},"",{"$nulls":5},"",null,null,0]
[{"$f":"IF(Draw!E53=0,\"\",Draw!E53)","v":""},"",{"$nulls":5},"",null,null,0]
[{"$f":"IF(Draw!E54=0,\"\",Draw!E54)","v":""},"",{"$nulls":5},"",null,null,0]
[{"$f":"IF(Draw!E55=0,\"\",Draw!E55)","v":""},"",{"$nulls":5},"",null,null,0]
[{"$f":"IF(Draw!E56=0,\"\",Draw!E56)","v":""},"",{"$nulls":5},"",null,null,0]
[{"$f":"IF(Draw!E57=0,\"\",Draw!E57)","v":""},"",{"$nulls":5},"",null,null,0]
[{"$f":"IF(Draw!E58=0,\"\",Draw!E58)","v":""},"",{"$nulls":5},"",null,null,0]
[{"$f":"IF(Draw!E59=0,\"\",Draw!E59)","v":""},"",{"$nulls":5},"",null,null,0]
[{"$f":"IF(Draw!E60=0,\"\",Draw!E60)","v":""},"",{"$nulls":5},"",null,null,0]
[{"$f":"IF(Draw!E61=0,\"\",Draw!E61)","v":""},"",{"$nulls":5},"",null,null,0]
[{"$f":"IF(Draw!E62=0,\"\",Draw!E62)","v":""},"",{"$nulls":5},"",null,null,0]
[{"$f":"IF(Draw!E63=0,\"\",Draw!E63)","v":""},"",{"$nulls":5},"",null,null,0]
[{"$f":"IF(Draw!E64=0,\"\",Draw!E64)","v":""},"",{"$nulls":5},"",null,null,0]
[{"$f":"IF(Draw!E65=0,\"\",Draw!E65)","v":""},"",{"$nulls":5},"",null,null,0]
[{"$f":"IF(Draw!E66=0,\"\",Draw!E66)","v":""},"",{"$nulls":5},"",null,null,0]
[{"$f":"IF(Draw!E67=0,\"\",Draw!E67)","v":""},"",{"$nulls":5},"",null,null,{"$f":"COUNT(C68:G68)","v":0}]
[{"$f":"IF(Draw!E68=0,\"\",Draw!E68)","v":""},"",{"$nulls":5},"",null,null,0]
[{"$f":"IF(Draw!E69=0,\"\",Draw!E69)","v":""},"",{"$nulls":5},{"$f":"IF(B70=\"\",\"\",IF(K70=5,(SUM(C70:G70)-MAX(C70:G70)-MIN(C70:G70))/3,IF(K70=4,(SUM(C70:G70)-MAX(C70:G70))/3,SUM(C70:G70)/3))*B70/7.6)","v":""},null,null,0]
[{"$f":"IF(Draw!E70=0,\"\",Draw!E70)","v":""},{"$f":"IF(A71=\"\",\"\",B$3)","v":""},{"$nulls":5},"",null,null,0]
[{"$f":"IF(Draw!E71=0,\"\",Draw!E71)","v":""},"",{"$nulls":5},"",null,null,0]
[{"$f":"IF(Draw!E72=0,\"\",Draw!E72)","v":""},"",{"$nulls":5},"",null,null,0]
[{"$f":"IF(Draw!E73=0,\"\",Draw!E73)","v":""},"",{"$nulls":5},"",null,null,0]
[{"$f":"IF(Draw!E74=0,\"\",Draw!E74)","v":""},"",{"$nulls":5},"",null,null,0]
[{"$f":"IF(Draw!E75=0,\"\",Draw!E75)","v":""},"",{"$nulls":5},"",null,null,0]
[{"$f":"IF(Draw!E76=0,\"\",Draw!E76)","v":""},"",{"$nulls":5},"",null,null,0]
[{"$f":"IF(Draw!E77=0,\"\",Draw!E77)","v":""},"",{"$nulls":5},"",null,null,0]
[{"$f":"IF(Draw!E78=0,\"\",Draw!E78)","v":""},"",{"$nulls":5},"",null,null,0]
[{"$f":"IF(Draw!E79=0,\"\",Draw!E79)","v":""},"",{"$nulls":5},"",null,null,0]
[{"$f":"IF(Draw!E80=0,\"\",Draw!E80)","v":""},"",{"$nulls":5},"",null,null,0]
[{"$f":"IF(Draw!E81=0,\"\",Draw!E81)","v":""},"",{"$nulls":5},"",null,null,0]
[{"$f":"IF(Draw!E82=0,\"\",Draw!E82)","v":""},"",{"$nulls":5},"",null,null,0]
[{"$f":"IF(Draw!E83=0,\"\",Draw!E83)","v":""},"",{"$nulls":5},"",null,null,0]
[{"$f":"IF(Draw!E84=0,\"\",Draw!E84)","v":""},"",{"$nulls":5},"",null,null,0]
[{"$f":"IF(Draw!E85=0,\"\",Draw!E85)","v":""},"",{"$nulls":5},"",null,null,0]
[{"$f":"IF(Draw!E86=0,\"\",Draw!E86)","v":""},"",{"$nulls":5},"",null,null,0]
[{"$f":"IF(Draw!E87=0,\"\",Draw!E87)","v":""},"",{"$nulls":5},"",null,null,0]
[{"$f":"IF(Draw!E88=0,\"\",Draw!E88)","v":""},"",{"$nulls":5},"",null,null,0]
[{"$f":"IF(Draw!E89=0,\"\",Draw!E89)","v":""},"",{"$nulls":5},"",null,null,0]
[{"$f":"IF(Draw!E90=0,\"\",Draw!E90)","v":""},"",{"$nulls":5},"",null,null,0]
[{"$f":"IF(Draw!E91=0,\"\",Draw!E91)","v":""},"",{"$nulls":5},"",null,null,0]
[{"$f":"IF(Draw!E92=0,\"\",Draw!E92)","v":""},"",{"$nulls":5},"",null,null,0]
[{"$f":"IF(Draw!E93=0,\"\",Draw!E93)","v":""},"",{"$nulls":5},"",null,null,0]
[{"$f":"IF(Draw!E94=0,\"\",Draw!E94)","v":""},"",{"$nulls":5},"",null,null,0]
[{"$f":"IF(Draw!E95=0,\"\",Draw!E95)","v":""},"",{"$nulls":5},"",null,null,0]
[{"$f":"IF(Draw!E96=0,\"\",Draw!E96)","v":""},"",{"$nulls":5},"",null,null,0]
[{"$f":"IF(Draw!E97=0,\"\",Draw!E97)","v":""},"",{"$nulls":5},"",null,null,0]
[{"$f":"IF(Draw!E98=0,\"\",Draw!E98)","v":""},"",{"$nulls":5},"",null,null,0]
[{"$f":"IF(Draw!E99=0,\"\",Draw!E99)","v":""},"",{"$nulls":5},"",null,null,0]
[{"$f":"IF(Draw!E100=0,\"\",Draw!E100)","v":""},"",{"$nulls":5},"",null,null,0]
[{"$f":"IF(Draw!E101=0,\"\",Draw!E101)","v":""},"",{"$nulls":5},"",null,null,0]
[{"$f":"IF(Draw!E102=0,\"\",Draw!E102)","v":""},"",{"$nulls":5},"",null,null,0]
[{"$f":"IF(Draw!E103=0,\"\",Draw!E103)","v":""},"",{"$nulls":5},"",null,null,0]
[{"$f":"IF(Draw!E104=0,\"\",Draw!E104)","v":""},"",{"$nulls":5},"",null,null,0]
[{"$f":"IF(Draw!E105=0,\"\",Draw!E105)","v":""},"",{"$nulls":5},"",null,null,0]
[{"$f":"IF(Draw!E106=0,\"\",Draw!E106)","v":""},"",{"$nulls":5},"",null,null,0]
[{"$f":"IF(Draw!E107=0,\"\",Draw!E107)","v":""},"",{"$nulls":5},"",null,null,0]
[{"$f":"IF(Draw!E108=0,\"\",Draw!E108)","v":""},"",{"$nulls":5},"",null,null,0]
[{"$f":"IF(Draw!E109=0,\"\",Draw!E109)","v":""},"",{"$nulls":5},"",null,null,0]
[{"$f":"IF(Draw!E110=0,\"\",Draw!E110)","v":""},"",{"$nulls":5},"",null,null,0]
[{"$f":"IF(Draw!E111=0,\"\",Draw!E111)","v":""},"",{"$nulls":5},"",null,null,0]
[{"$f":"IF(Draw!E112=0,\"\",Draw!E112)","v":""},"",{"$nulls":5},"",null,null,0]
[{"$f":"IF(Draw!E113=0,\"\",Draw!E113)","v":""},"",{"$nulls":5},"",null,null,0]
[{"$f":"IF(Draw!E114=0,\"\",Draw!E114)","v":""},"",{"$nulls":5},"",null,null,0]
[{"$f":"IF(Draw!E115=0,\"\",Draw!E115)","v":""},"",{"$nulls":5},"",null,null,0]
[{"$f":"IF(Draw!E116=0,\"\",Draw!E116)","v":""},"",{"$nulls":5},"",null,null,0]
[{"$f":"IF(Draw!E117=0,\"\",Draw!E117)","v":""},"",{"$nulls":5},"",null,null,0]
[{"$f":"IF(Draw!E118=0,\"\",Draw!E118)","v":""},"",{"$nulls":5},"",null,null,0]
[{"$f":"IF(Draw!E119=0,\"\",Draw!E119)","v":""},"",{"$nulls":5},"",null,null,0]
[{"$f":"IF(Draw!E120=0,\"\",Draw!E120)","v":""},"",{"$nulls":5},"",null,null,0]
[{"$f":"IF(Draw!E121=0,\"\",Draw!E121)","v":""},"",{"$nulls":5},"",null,null,0]
[{"$f":"IF(Draw!E122=0,\"\",Draw!E122)","v":""},"",{"$nulls":5},"",null,null,0]
[{"$f":"IF(Draw!E123=0,\"\",Draw!E123)","v":""},"",{"$nulls":5},"",null,null,0]
[{"$f":"IF(Draw!E124=0,\"\",Draw!E124)","v":""},"",{"$nulls":5},"",null,null,0]
[{"$f":"IF(Draw!E125=0,\"\",Draw!E125)","v":""},"",{"$nulls":5},"",null,null,0]
[{"$f":"IF(Draw!E126=0,\"\",Draw!E126)","v":""},"",{"$nulls":5},"",null,null,0]
[{"$f":"IF(Draw!E127=0,\"\",Draw!E127)","v":""},"",{"$nulls":5},"",null,null,0]
[{"$f":"IF(Draw!E128=0,\"\",Draw!E128)","v":""},"",{"$nulls":5},"",null,null,0]
[{"$f":"IF(Draw!E129=0,\"\",Draw!E129)","v":""},"",{"$nulls":5},"",null,null,0]
[{"$f":"IF(Draw!E130=0,\"\",Draw!E130)","v":""},"",{"$nulls":5},"",null,null,0]
[{"$f":"IF(Draw!E131=0,\"\",Draw!E131)","v":""},"",{"$nulls":5},"",null,null,{"$f":"COUNT(C132:G132)","v":0}]
[{"$f":"IF(Draw!E132=0,\"\",Draw!E132)","v":""},"",{"$nulls":5},"",null,null,0]
[{"$f":"IF(Draw!E133=0,\"\",Draw!E133)","v":""},"",{"$nulls":5},{"$f":"IF(B134=\"\",\"\",IF(K134=5,(SUM(C134:G134)-MAX(C134:G134)-MIN(C134:G134))/3,IF(K134=4,(SUM(C134:G134)-MAX(C134:G134))/3,SUM(C134:G134)/3))*B134/7.6)","v":""},null,null,0]
[{"$f":"IF(Draw!E134=0,\"\",Draw!E134)","v":""},{"$f":"IF(A135=\"\",\"\",B$3)","v":""},{"$nulls":5},"",null,null,0]
[{"$f":"IF(Draw!E135=0,\"\",Draw!E135)","v":""},"",{"$nulls":5},"",null,null,0]
[{"$f":"IF(Draw!E136=0,\"\",Draw!E136)","v":""},"",{"$nulls":5},"",null,null,0]
[{"$f":"IF(Draw!E137=0,\"\",Draw!E137)","v":""},"",{"$nulls":5},"",null,null,0]
[{"$f":"IF(Draw!E138=0,\"\",Draw!E138)","v":""},"",{"$nulls":5},"",null,null,0]
[{"$f":"IF(Draw!E139=0,\"\",Draw!E139)","v":""},"",{"$nulls":5},"",null,null,0]
[{"$f":"IF(Draw!E140=0,\"\",Draw!E140)","v":""},"",{"$nulls":5},"",null,null,0]
[{"$f":"IF(Draw!E141=0,\"\",Draw!E141)","v":""},"",{"$nulls":5},"",null,null,0]
[{"$f":"IF(Draw!E142=0,\"\",Draw!E142)","v":""},"",{"$nulls":5},"",null,null,0]
[{"$f":"IF(Draw!E143=0,\"\",Draw!E143)","v":""},"",{"$nulls":5},"",null,null,0]
[{"$f":"IF(Draw!E144=0,\"\",Draw!E144)","v":""},"",{"$nulls":5},"",null,null,0]
[{"$f":"IF(Draw!E145=0,\"\",Draw!E145)","v":""},"",{"$nulls":5},"",null,null,0]
[{"$f":"IF(Draw!E146=0,\"\",Draw!E146)","v":""},"",{"$nulls":5},"",null,null,0]
[{"$f":"IF(Draw!E147=0,\"\",Draw!E147)","v":""},"",{"$nulls":5},"",null,null,0]
[{"$f":"IF(Draw!E148=0,\"\",Draw!E148)","v":""},"",{"$nulls":5},"",null,null,0]
[{"$f":"IF(Draw!E149=0,\"\",Draw!E149)","v":""},"",{"$nulls":5},"",null,null,0]

{"sheet":"Fig 2 Kip","index":2,"n_rows":150,"n_cols":11,"rows_kept":150,"merged":[[0,2,0,6]]}
[null,"Figure #2:","311 Kip"]
["#","Degree of Difficulty","Judge 1","Judge 2","Judge 3","Judge 4","Judge 5","Score","Penalty"]
[{"$f":"IF(Draw!E2=0,\"\",Draw!E2)","v":1},1.8,{"$nulls":5},{"$f":"IF(B3=\"\",\"\",IF(K3=5,(SUM(C3:G3)-MAX(C3:G3)-MIN(C3:G3))/3,IF(K3=4,(SUM(C3:G3)-MAX(C3:G3))/3,SUM(C3:G3)/3))*B3/7.6)","v":{"v":0,"d":"0.000"}},null,null,{"$f":"COUNT(C3:G3)","v":0}]
[{"$f":"IF(Draw!E3=0,\"\",Draw!E3)","v":2},{"$f":"IF(A4=\"\",\"\",B$3)","v":1.8},57,60,56,null,null,{"$f":"IF(B4=\"\",\"\",IF(K4=5,(SUM(C4:G4)-MAX(C4:G4)-MIN(C4:G4))/3,IF(K4=4,(SUM(C4:G4)-MAX(C4:G4))/3,SUM(C4:G4)/3))*B4/7.6)","v":{"v":13.657894736842106,"d":"13.658"}},null,null,{"$f":"COUNT(C4:G4)","v":3}]
[{"$f":"IF(Draw!E4=0,\"\",Draw!E4)","v":3},{"$f":"IF(A5=\"\",\"\",B$3)","v":1.8},48,50,46,null,null,{"$f":"IF(B5=\"\",\"\",IF(K5=5,(SUM(C5:G5)-MAX(C5:G5)-MIN(C5:G5))/3,IF(K5=4,(SUM(C5:G5)-MAX(C5:G5))/3,SUM(C5:G5)/3))*B5/7.6)","v":{"v":11.36842105263158,"d":"11.368"}},null,null,3]
[{"$f":"IF(Draw!E5=0,\"\",Draw!E5)","v":4},1.8,57,53,50,null,null,{"$f":"IF(B6=\"\",\"\",IF(K6=5,(SUM(C6:G6)-MAX(C6:G6)-MIN(C6:G6))/3,IF(K6=4,(SUM(C6:G6)-MAX(C6:G6))/3,SUM(C6:G6)/3))*B6/7.6)","v":{"v":12.631578947368421,"d":"12.632"}},null,null,3]
[{"$f":"IF(Draw!E6=0,\"\",Draw!E6)","v":5},{"$f":"IF(A7=\"\",\"\",B$3)","v":1.8},57,55,51,null,null,{"$f":"IF(B7=\"\",\"\",IF(K7=5,(SUM(C7:G7)-MAX(C7:G7)-MIN(C7:G7))/3,IF(K7=4,(SUM(C7:G7)-MAX(C7:G7))/3,SUM(C7:G7)/3))*B7/7.6)","v":{"v":12.86842105263158,"d":"12.868"}},null,null,3]
[{"$f":"IF(Draw!E7=0,\"\",Draw!E7)","v":6},1.8,54,52,53,null,null,{"$f":"IF(B8=\"\",\"\",IF(K8=5,(SUM(C8:G8)-MAX(C8:G8)-MIN(C8:G8))/3,IF(K8=4,(SUM(C8:G8)-MAX(C8:G8))/3,SUM(C8:G8)/3))*B8/7.6)","v":{"v":12.55263157894737,"d":"12.553"}},null,null,3]
[{"$f":"IF(Draw!E8=0,\"\",Draw!E8)","v":7},1.8,62,64,65,null,null,{"$f":"IF(B9=\"\",\"\",IF(K9=5,(SUM(C9:G9)-MAX(C9:G9)-MIN(C9:G9))/3,IF(K9=4,(SUM(C9:G9)-MAX(C9:G9))/3,SUM(C9:G9)/3))*B9/7.6)","v":{"v":15.078947368421053,"d":"15.079"}},null,null,3]
[{"$f":"IF(Draw!E9=0,\"\",Draw!E9)","v":8},1.8,46,50,44,null,null,{"$f":"IF(B10=\"\",\"\",IF(K10=5,(SUM(C10:G10)-MAX(C10:G10)-MIN(C10:G10))/3,IF(K10=4,(SUM(C10:G10)-MAX(C10:G10))/3,SUM(C10:G10)/3))*B10/7.6)","v":{"v":11.052631578947368,"d":"11.053"}},null,null,3]
[{"$f":"IF(Draw!E10=0,\"\",Draw!E10)","v":9},1.8,47,51,50,null,null,{"$f":"IF(B11=\"\",\"\",IF(K11=5,(SUM(C11:G11)-MAX(C11:G11)-MIN(C11:G11))/3,IF(K11=4,(SUM(C11:G11)-MAX(C11:G11))/3,SUM(C11:G11)/3))*B11/7.6)","v":{"v":11.684210526315791,"d":"11.684"}},null,null,3]
[{"$f":"IF(Draw!E11=0,\"\",Draw!E11)","v":10},1.8,48,49,48,null,null,{"$f":"IF(B12=\"\",\"\",IF(K12=5,(SUM(C12:G12)-MAX(C12:G12)-MIN(C12:G12))/3,IF(K12=4,(SUM(C12:G12)-MAX(C12:G12))/3,SUM(C12:G12)/3))*B12/7.6)","v":{"v":11.447368421052632,"d":"11.447"}},null,null,3]
[{"$f":"IF(Draw!E12=0,\"\",Draw!E12)","v":11},1.8,55,56,54,null,null,{"$f":"IF(B13=\"\",\"\",IF(K13=5,(SUM(C13:G13)-MAX(C13:G13)-MIN(C13:G13))/3,IF(K13=4,(SUM(C13:G13)-MAX(C13:G13))/3,SUM(C13:G13)/3))*B13/7.6)","v":{"v":13.026315789473685,"d":"13.026"}},null,null,3]
[{"$f":"IF(Draw!E13=0,\"\",Draw!E13)","v":12},1.8,54,54,52,null,null,{"$f":"IF(B14=\"\",\"\",IF(K14=5,(SUM(C14:G14)-MAX(C14:G14)-MIN(C14:G14))/3,IF(K14=4,(SUM(C14:G14)-MAX(C14:G14))/3,SUM(C14:G14)/3))*B14/7.6)","v":{"v":12.631578947368421,"d":"12.632"}},null,null,3]
[{"$f":"IF(Draw!E14=0,\"\",Draw!E14)","v":13},1.8,55,57,56,null,null,{"$f":"IF(B15=\"\",\"\",IF(K15=5,(SUM(C15:G15)-MAX(C15:G15)-MIN(C15:G15))/3,IF(K15=4,(SUM(C15:G15)-MAX(C15:G15))/3,SUM(C15:G15)/3))*B15/7.6)","v":{"v":13.263157894736842,"d":"13.263"}},null,null,3]
[{"$f":"IF(Draw!E15=0,\"\",Draw!E15)","v":14},1.8,59,55,55,null,null,{"$f":"IF(B16=\"\",\"\",IF(K16=5,(SUM(C16:G16)-MAX(C16:G16)-MIN(C16:G16))/3,IF(K16=4,(SUM(C16:G16)-MAX(C16:G16))/3,SUM(C16:G16)/3))*B16/7.6)","v":{"v":13.342105263157896,"d":"13.342"}},null,null,3]
[{"$f":"IF(Draw!E16=0,\"\",Draw!E16)","v":15},1.8,53,51,53,null,null,{"$f":"IF(B17=\"\",\"\",IF(K17=5,(SUM(C17:G17)-MAX(C17:G17)-MIN(C17:G17))/3,IF(K17=4,(SUM(C17:G17)-MAX(C17:G17))/3,SUM(C17:G17)/3))*B17/7.6)","v":{"v":12.394736842105264,"d":"12.395"}},null,null,3]
[{"$f":"IF(Draw!E17=0,\"\",Draw!E17)","v":16},1.8,62,60,60,null,null,{"$f":"IF(B18=\"\",\"\",IF(K18=5,(SUM(C18:G18)-MAX(C18:G18)-MIN(C18:G18))/3,IF(K18=4,(SUM(C18:G18)-MAX(C18:G18))/3,SUM(C18:G18)/3))*B18/7.6)","v":{"v":14.36842105263158,"d":"14.368"}},null,null,3]
[{"$f":"IF(Draw!E18=0,\"\",Draw!E18)","v":17},1.8,60,62,60,null,null,{"$f":"IF(B19=\"\",\"\",IF(K19=5,(SUM(C19:G19)-MAX(C19:G19)-MIN(C19:G19))/3,IF(K19=4,(SUM(C19:G19)-MAX(C19:G19))/3,SUM(C19:G19)/3))*B19/7.6)","v":{"v":14.36842105263158,"d":"14.368"}},null,null,3]
[{"$f":"IF(Draw!E19=0,\"\",Draw!E19)","v":18},1.8,47,47,44,null,null,{"$f":"IF(B20=\"\",\"\",IF(K20=5,(SUM(C20:G20)-MAX(C20:G20)-MIN(C20:G20))/3,IF(K20=4,(SUM(C20:G20)-MAX(C20:G20))/3,SUM(C20:G20)/3))*B20/7.6)","v":{"v":10.894736842105264,"d":"10.895"}},null,null,3]
[{"$f":"IF(Draw!E20=0,\"\",Draw!E20)","v":19},1.8,{"$nulls":5},{"$f":"IF(B21=\"\",\"\",IF(K21=5,(SUM(C21:G21)-MAX(C21:G21)-MIN(C21:G21))/3,IF(K21=4,(SUM(C21:G21)-MAX(C21:G21))/3,SUM(C21:G21)/3))*B21/7.6)","v":{"v":0,"d":"0.000"}},null,null,0]
[{"$f":"IF(Draw!E21=0,\"\",Draw!E21)","v":20},1.8,52,54,53,null,null,{"$f":"IF(B22=\"\",\"\",IF(K22=5,(SUM(C22:G22)-MAX(C22:G22)-MIN(C22:G22))/3,IF(K22=4,(SUM(C22:G22)-MAX(C22:G22))/3,SUM(C22:G22)/3))*B22/7.6)","v":{"v":12.55263157894737,"d":"12.553"}},null,null,3]
[{"$f":"IF(Draw!E22=0,\"\",Draw!E22)","v":21},1.8,62,63,61,null,null,{"$f":"IF(B23=\"\",\"\",IF(K23=5,(SUM(C23:G23)-MAX(C23:G23)-MIN(C23:G23))/3,IF(K23=4,(SUM(C23:G23)-MAX(C23:G23))/3,SUM(C23:G23)/3))*B23/7.6)","v":{"v":14.684210526315791,"d":"14.684"}},null,null,3]
[{"$f":"IF(Draw!E23=0,\"\",Draw!E23)","v":22},1.8,48,46,52,null,null,{"$f":"IF(B24=\"\",\"\",IF(K24=5,(SUM(C24:G24)-MAX(C24:G24)-MIN(C24:G24))/3,IF(K24=4,(SUM(C24:G24)-MAX(C24:G24))/3,SUM(C24:G24)/3))*B24/7.6)","v":{"v":11.526315789473683,"d":"11.526"}},null,null,3]
[{"$f":"IF(Draw!E24=0,\"\",Draw!E24)","v":23},1.8,50,54,61,null,null,{"$f":"IF(B25=\"\",\"\",IF(K25=5,(SUM(C25:G25)-MAX(C25:G25)-MIN(C25:G25))/3,IF(K25=4,(SUM(C25:G25)-MAX(C25:G25))/3,SUM(C25:G25)/3))*B25/7.6)","v":{"v":13.026315789473685,"d":"13.026"}},null,null,3]
[{"$f":"IF(Draw!E25=0,\"\",Draw!E25)","v":24},1.8,54,54,51,null,null,{"$f":"IF(B26=\"\",\"\",IF(K26=5,(SUM(C26:G26)-MAX(C26:G26)-MIN(C26:G26))/3,IF(K26=4,(SUM(C26:G26)-MAX(C26:G26))/3,SUM(C26:G26)/3))*B26/7.6)","v":{"v":12.55263157894737,"d":"12.553"}},null,null,3]
[{"$f":"IF(Draw!E26=0,\"\",Draw!E26)","v":25},1.8,63,62,57,null,null,{"$f":"IF(B27=\"\",\"\",IF(K27=5,(SUM(C27:G27)-MAX(C27:G27)-MIN(C27:G27))/3,IF(K27=4,(SUM(C27:G27)-MAX(C27:G27))/3,SUM(C27:G27)/3))*B27/7.6)","v":{"v":14.36842105263158,"d":"14.368"}},null,null,3]
[{"$f":"IF(Draw!E27=0,\"\",Draw!E27)","v":26},1.8,55,57,57,null,null,{"$f":"IF(B28=\"\",\"\",IF(K28=5,(SUM(C28:G28)-MAX(C28:G28)-MIN(C28:G28))/3,IF(K28=4,(SUM(C28:G28)-MAX(C28:G28))/3,SUM(C28:G28)/3))*B28/7.6)","v":{"v":13.342105263157896,"d":"13.342"}},null,null,3]
[{"$f":"IF(Draw!E28=0,\"\",Draw!E28)","v":27},1.8,48,42,43,null,null,{"$f":"IF(B29=\"\",\"\",IF(K29=5,(SUM(C29:G29)-MAX(C29:G29)-MIN(C29:G29))/3,IF(K29=4,(SUM(C29:G29)-MAX(C29:G29))/3,SUM(C29:G29)/3))*B29/7.6)","v":{"v":10.500000000000002,"d":"10.500"}},null,null,3]
[{"$f":"IF(Draw!E29=0,\"\",Draw!E29)","v":28},1.8,50,52,50,null,null,{"$f":"IF(B30=\"\",\"\",IF(K30=5,(SUM(C30:G30)-MAX(C30:G30)-MIN(C30:G30))/3,IF(K30=4,(SUM(C30:G30)-MAX(C30:G30))/3,SUM(C30:G30)/3))*B30/7.6)","v":{"v":12.000000000000002,"d":"12.000"}},null,null,3]
[{"$f":"IF(Draw!E30=0,\"\",Draw!E30)","v":""},"",{"$nulls":5},{"$f":"IF(B31=\"\",\"\",IF(K31=5,(SUM(C31:G31)-MAX(C31:G31)-MIN(C31:G31))/3,IF(K31=4,(SUM(C31:G31)-MAX(C31:G31))/3,SUM(C31:G31)/3))*B31/7.6)","v":""},null,null,0]
[{"$f":"IF(Draw!E31=0,\"\",Draw!E31)","v":""},"",{"$nulls":5},{"$f":"IF(B32=\"\",\"\",IF(K32=5,(SUM(C32:G32)-MAX(C32:G32)-MIN(C32:G32))/3,IF(K32=4,(SUM(C32:G32)-MAX(C32:G32))/3,SUM(C32:G32)/3))*B32/7.6)","v":""},null,null,0]
[{"$f":"IF(Draw!E32=0,\"\",Draw!E32)","v":""},"",{"$nulls":5},{"$f":"IF(B33=\"\",\"\",IF(K33=5,(SUM(C33:G33)-MAX(C33:G33)-MIN(C33:G33))/3,IF(K33=4,(SUM(C33:G33)-MAX(C33:G33))/3,SUM(C33:G33)/3))*B33/7.6)","v":""},null,null,0]
[{"$f":"IF(Draw!E33=0,\"\",Draw!E33)","v":""},"",{"$nulls":5},{"$f":"IF(B34=\"\",\"\",IF(K34=5,(SUM(C34:G34)-MAX(C34:G34)-MIN(C34:G34))/3,IF(K34=4,(SUM(C34:G34)-MAX(C34:G34))/3,SUM(C34:G34)/3))*B34/7.6)","v":""},null,null,0]
[{"$f":"IF(Draw!E34=0,\"\",Draw!E34)","v":""},"",{"$nulls":5},{"$f":"IF(B35=\"\",\"\",IF(K35=5,(SUM(C35:G35)-MAX(C35:G35)-MIN(C35:G35))/3,IF(K35=4,(SUM(C35:G35)-MAX(C35:G35))/3,SUM(C35:G35)/3))*B35/7.6)","v":""},null,null,0]
[{"$f":"IF(Draw!E35=0,\"\",Draw!E35)","v":""},"",{"$nulls":5},{"$f":"IF(B36=\"\",\"\",IF(K36=5,(SUM(C36:G36)-MAX(C36:G36)-MIN(C36:G36))/3,IF(K36=4,(SUM(C36:G36)-MAX(C36:G36))/3,SUM(C36:G36)/3))*B36/7.6)","v":""},null,null,0]
[{"$f":"IF(Draw!E36=0,\"\",Draw!E36)","v":""},"",{"$nulls":5},{"$f":"IF(B37=\"\",\"\",IF(K37=5,(SUM(C37:G37)-MAX(C37:G37)-MIN(C37:G37))/3,IF(K37=4,(SUM(C37:G37)-MAX(C37:G37))/3,SUM(C37:G37)/3))*B37/7.6)","v":""},null,null,0]
[{"$f":"IF(Draw!E37=0,\"\",Draw!E37)","v":""},"",{"$nulls":5},{"$f":"IF(B38=\"\",\"\",IF(K38=5,(SUM(C38:G38)-MAX(C38:G38)-MIN(C38:G38))/3,IF(K38=4,(SUM(C38:G38)-MAX(C38:G38))/3,SUM(C38:G38)/3))*B38/7.6)","v":""},null,null,0]
[{"$f":"IF(Draw!E38=0,\"\",Draw!E38)","v":""},"",{"$nulls":5},{"$f":"IF(B39=\"\",\"\",IF(K39=5,(SUM(C39:G39)-MAX(C39:G39)-MIN(C39:G39))/3,IF(K39=4,(SUM(C39:G39)-MAX(C39:G39))/3,SUM(C39:G39)/3))*B39/7.6)","v":""},null,null,0]
[{"$f":"IF(Draw!E39=0,\"\",Draw!E39)","v":""},"",{"$nulls":5},{"$f":"IF(B40=\"\",\"\",IF(K40=5,(SUM(C40:G40)-MAX(C40:G40)-MIN(C40:G40))/3,IF(K40=4,(SUM(C40:G40)-MAX(C40:G40))/3,SUM(C40:G40)/3))*B40/7.6)","v":""},null,null,0]
[{"$f":"IF(Draw!E40=0,\"\",Draw!E40)","v":""},"",{"$nulls":5},{"$f":"IF(B41=\"\",\"\",IF(K41=5,(SUM(C41:G41)-MAX(C41:G41)-MIN(C41:G41))/3,IF(K41=4,(SUM(C41:G41)-MAX(C41:G41))/3,SUM(C41:G41)/3))*B41/7.6)","v":""},null,null,0]
[{"$f":"IF(Draw!E41=0,\"\",Draw!E41)","v":""},"",{"$nulls":5},{"$f":"IF(B42=\"\",\"\",IF(K42=5,(SUM(C42:G42)-MAX(C42:G42)-MIN(C42:G42))/3,IF(K42=4,(SUM(C42:G42)-MAX(C42:G42))/3,SUM(C42:G42)/3))*B42/7.6)","v":""},null,null,0]
[{"$f":"IF(Draw!E42=0,\"\",Draw!E42)","v":""},"",{"$nulls":5},{"$f":"IF(B43=\"\",\"\",IF(K43=5,(SUM(C43:G43)-MAX(C43:G43)-MIN(C43:G43))/3,IF(K43=4,(SUM(C43:G43)-MAX(C43:G43))/3,SUM(C43:G43)/3))*B43/7.6)","v":""},null,null,0]
[{"$f":"IF(Draw!E43=0,\"\",Draw!E43)","v":""},"",{"$nulls":5},{"$f":"IF(B44=\"\",\"\",IF(K44=5,(SUM(C44:G44)-MAX(C44:G44)-MIN(C44:G44))/3,IF(K44=4,(SUM(C44:G44)-MAX(C44:G44))/3,SUM(C44:G44)/3))*B44/7.6)","v":""},null,null,0]
[{"$f":"IF(Draw!E44=0,\"\",Draw!E44)","v":""},"",{"$nulls":5},{"$f":"IF(B45=\"\",\"\",IF(K45=5,(SUM(C45:G45)-MAX(C45:G45)-MIN(C45:G45))/3,IF(K45=4,(SUM(C45:G45)-MAX(C45:G45))/3,SUM(C45:G45)/3))*B45/7.6)","v":""},null,null,0]
[{"$f":"IF(Draw!E45=0,\"\",Draw!E45)","v":""},"",{"$nulls":5},{"$f":"IF(B46=\"\",\"\",IF(K46=5,(SUM(C46:G46)-MAX(C46:G46)-MIN(C46:G46))/3,IF(K46=4,(SUM(C46:G46)-MAX(C46:G46))/3,SUM(C46:G46)/3))*B46/7.6)","v":""},null,null,0]
[{"$f":"IF(Draw!E46=0,\"\",Draw!E46)","v":""},"",{"$nulls":5},{"$f":"IF(B47=\"\",\"\",IF(K47=5,(SUM(C47:G47)-MAX(C47:G47)-MIN(C47:G47))/3,IF(K47=4,(SUM(C47:G47)-MAX(C47:G47))/3,SUM(C47:G47)/3))*B47/7.6)","v":""},null,null,0]
[{"$f":"IF(Draw!E47=0,\"\",Draw!E47)","v":""},"",{"$nulls":5},{"$f":"IF(B48=\"\",\"\",IF(K48=5,(SUM(C48:G48)-MAX(C48:G48)-MIN(C48:G48))/3,IF(K48=4,(SUM(C48:G48)-MAX(C48:G48))/3,SUM(C48:G48)/3))*B48/7.6)","v":""},null,null,0]
[{"$f":"IF(Draw!E48=0,\"\",Draw!E48)","v":""},"",{"$nulls":5},{"$f":"IF(B49=\"\",\"\",IF(K49=5,(SUM(C49:G49)-MAX(C49:G49)-MIN(C49:G49))/3,IF(K49=4,(SUM(C49:G49)-MAX(C49:G49))/3,SUM(C49:G49)/3))*B49/7.6)","v":""},null,null,0]
[{"$f":"IF(Draw!E49=0,\"\",Draw!E49)","v":""},"",{"$nulls":5},{"$f":"IF(B50=\"\",\"\",IF(K50=5,(SUM(C50:G50)-MAX(C50:G50)-MIN(C50:G50))/3,IF(K50=4,(SUM(C50:G50)-MAX(C50:G50))/3,SUM(C50:G50)/3))*B50/7.6)","v":""},null,null,0]
[{"$f":"IF(Draw!E50=0,\"\",Draw!E50)","v":""},"",{"$nulls":5},{"$f":"IF(B51=\"\",\"\",IF(K51=5,(SUM(C51:G51)-MAX(C51:G51)-MIN(C51:G51))/3,IF(K51=4,(SUM(C51:G51)-MAX(C51:G51))/3,SUM(C51:G51)/3))*B51/7.6)","v":""},null,null,0]
[{"$f":"IF(Draw!E51=0,\"\",Draw!E51)","v":""},"",{"$nulls":5},{"$f":"IF(B52=\"\",\"\",IF(K52=5,(SUM(C52:G52)-MAX(C52:G52)-MIN(C52:G52))/3,IF(K52=4,(SUM(C52:G52)-MAX(C52:G52))/3,SUM(C52:G52)/3))*B52/7.6)","v":""},null,null,0]
[{"$f":"IF(Draw!E52=0,\"\",Draw!E52)","v":""},"",{"$nulls":5},{"$f":"IF(B53=\"\",\"\",IF(K53=5,(SUM(C53:G53)-MAX(C53:G53)-MIN(C53:G53))/3,IF(K53=4,(SUM(C53:G53)-MAX(C53:G53))/3,SUM(C53:G53)/3))*B53/7.6)","v":""},null,null,0]
[{"$f":"IF(Draw!E53=0,\"\",Draw!E53)","v":""},"",{"$nulls":5},{"$f":"IF(B54=\"\",\"\",IF(K54=5,(SUM(C54:G54)-MAX(C54:G54)-MIN(C54:G54))/3,IF(K54=4,(SUM(C54:G54)-MAX(C54:G54))/3,SUM(C54:G54)/3))*B54/7.6)","v":""},null,null,0]
[{"$f":"IF(Draw!E54=0,\"\",Draw!E54)","v":""},"",{"$nulls":5},{"$f":"IF(B55=\"\",\"\",IF(K55=5,(SUM(C55:G55)-MAX(C55:G55)-MIN(C55:G55))/3,IF(K55=4,(SUM(C55:G55)-MAX(C55:G55))/3,SUM(C55:G55)/3))*B55/7.6)","v":""},null,null,0]
[{"$f":"IF(Draw!E55=0,\"\",Draw!E55)","v":""},"",{"$nulls":5},{"$f":"IF(B56=\"\",\"\",IF(K56=5,(SUM(C56:G56)-MAX(C56:G56)-MIN(C56:G56))/3,IF(K56=4,(SUM(C56:G56)-MAX(C56:G56))/3,SUM(C56:G56)/3))*B56/7.6)","v":""},null,null,0]
[{"$f":"IF(Draw!E56=0,\"\",Draw!E56)","v":""},"",{"$nulls":5},{"$f":"IF(B57=\"\",\"\",IF(K57=5,(SUM(C57:G57)-MAX(C57:G57)-MIN(C57:G57))/3,IF(K57=4,(SUM(C57:G57)-MAX(C57:G57))/3,SUM(C57:G57)/3))*B57/7.6)","v":""},null,null,0]
[{"$f":"IF(Draw!E57=0,\"\",Draw!E57)","v":""},"",{"$nulls":5},{"$f":"IF(B58=\"\",\"\",IF(K58=5,(SUM(C58:G58)-MAX(C58:G58)-MIN(C58:G58))/3,IF(K58=4,(SUM(C58:G58)-MAX(C58:G58))/3,SUM(C58:G58)/3))*B58/7.6)","v":""},null,null,0]
[{"$f":"IF(Draw!E58=0,\"\",Draw!E58)","v":""},"",{"$nulls":5},{"$f":"IF(B59=\"\",\"\",IF(K59=5,(SUM(C59:G59)-MAX(C59:G59)-MIN(C59:G59))/3,IF(K59=4,(SUM(C59:G59)-MAX(C59:G59))/3,SUM(C59:G59)/3))*B59/7.6)","v":""},null,null,0]
[{"$f":"IF(Draw!E59=0,\"\",Draw!E59)","v":""},"",{"$nulls":5},{"$f":"IF(B60=\"\",\"\",IF(K60=5,(SUM(C60:G60)-MAX(C60:G60)-MIN(C60:G60))/3,IF(K60=4,(SUM(C60:G60)-MAX(C60:G60))/3,SUM(C60:G60)/3))*B60/7.6)","v":""},null,null,0]
[{"$f":"IF(Draw!E60=0,\"\",Draw!E60)","v":""},"",{"$nulls":5},{"$f":"IF(B61=\"\",\"\",IF(K61=5,(SUM(C61:G61)-MAX(C61:G61)-MIN(C61:G61))/3,IF(K61=4,(SUM(C61:G61)-MAX(C61:G61))/3,SUM(C61:G61)/3))*B61/7.6)","v":""},null,null,0]
[{"$f":"IF(Draw!E61=0,\"\",Draw!E61)","v":""},"",{"$nulls":5},{"$f":"IF(B62=\"\",\"\",IF(K62=5,(SUM(C62:G62)-MAX(C62:G62)-MIN(C62:G62))/3,IF(K62=4,(SUM(C62:G62)-MAX(C62:G62))/3,SUM(C62:G62)/3))*B62/7.6)","v":""},null,null,0]
[{"$f":"IF(Draw!E62=0,\"\",Draw!E62)","v":""},"",{"$nulls":5},{"$f":"IF(B63=\"\",\"\",IF(K63=5,(SUM(C63:G63)-MAX(C63:G63)-MIN(C63:G63))/3,IF(K63=4,(SUM(C63:G63)-MAX(C63:G63))/3,SUM(C63:G63)/3))*B63/7.6)","v":""},null,null,0]
[{"$f":"IF(Draw!E63=0,\"\",Draw!E63)","v":""},"",{"$nulls":5},{"$f":"IF(B64=\"\",\"\",IF(K64=5,(SUM(C64:G64)-MAX(C64:G64)-MIN(C64:G64))/3,IF(K64=4,(SUM(C64:G64)-MAX(C64:G64))/3,SUM(C64:G64)/3))*B64/7.6)","v":""},null,null,0]
[{"$f":"IF(Draw!E64=0,\"\",Draw!E64)","v":""},"",{"$nulls":5},{"$f":"IF(B65=\"\",\"\",IF(K65=5,(SUM(C65:G65)-MAX(C65:G65)-MIN(C65:G65))/3,IF(K65=4,(SUM(C65:G65)-MAX(C65:G65))/3,SUM(C65:G65)/3))*B65/7.6)","v":""},null,null,0]
[{"$f":"IF(Draw!E65=0,\"\",Draw!E65)","v":""},"",{"$nulls":5},{"$f":"IF(B66=\"\",\"\",IF(K66=5,(SUM(C66:G66)-MAX(C66:G66)-MIN(C66:G66))/3,IF(K66=4,(SUM(C66:G66)-MAX(C66:G66))/3,SUM(C66:G66)/3))*B66/7.6)","v":""},null,null,0]
[{"$f":"IF(Draw!E66=0,\"\",Draw!E66)","v":""},"",{"$nulls":5},{"$f":"IF(B67=\"\",\"\",IF(K67=5,(SUM(C67:G67)-MAX(C67:G67)-MIN(C67:G67))/3,IF(K67=4,(SUM(C67:G67)-MAX(C67:G67))/3,SUM(C67:G67)/3))*B67/7.6)","v":""},null,null,0]
[{"$f":"IF(Draw!E67=0,\"\",Draw!E67)","v":""},"",{"$nulls":5},{"$f":"IF(B68=\"\",\"\",IF(K68=5,(SUM(C68:G68)-MAX(C68:G68)-MIN(C68:G68))/3,IF(K68=4,(SUM(C68:G68)-MAX(C68:G68))/3,SUM(C68:G68)/3))*B68/7.6)","v":""},null,null,{"$f":"COUNT(C68:G68)","v":0}]
[{"$f":"IF(Draw!E68=0,\"\",Draw!E68)","v":""},"",{"$nulls":5},{"$f":"IF(B69=\"\",\"\",IF(K69=5,(SUM(C69:G69)-MAX(C69:G69)-MIN(C69:G69))/3,IF(K69=4,(SUM(C69:G69)-MAX(C69:G69))/3,SUM(C69:G69)/3))*B69/7.6)","v":""},null,null,0]
[{"$f":"IF(Draw!E69=0,\"\",Draw!E69)","v":""},"",{"$nulls":5},{"$f":"IF(B70=\"\",\"\",IF(K70=5,(SUM(C70:G70)-MAX(C70:G70)-MIN(C70:G70))/3,IF(K70=4,(SUM(C70:G70)-MAX(C70:G70))/3,SUM(C70:G70)/3))*B70/7.6)","v":""},null,null,0]
[{"$f":"IF(Draw!E70=0,\"\",Draw!E70)","v":""},{"$f":"IF(A71=\"\",\"\",B$3)","v":""},{"$nulls":5},{"$f":"IF(B71=\"\",\"\",IF(K71=5,(SUM(C71:G71)-MAX(C71:G71)-MIN(C71:G71))/3,IF(K71=4,(SUM(C71:G71)-MAX(C71:G71))/3,SUM(C71:G71)/3))*B71/7.6)","v":""},null,null,0]
[{"$f":"IF(Draw!E71=0,\"\",Draw!E71)","v":""},"",{"$nulls":5},{"$f":"IF(B72=\"\",\"\",IF(K72=5,(SUM(C72:G72)-MAX(C72:G72)-MIN(C72:G72))/3,IF(K72=4,(SUM(C72:G72)-MAX(C72:G72))/3,SUM(C72:G72)/3))*B72/7.6)","v":""},null,null,0]
[{"$f":"IF(Draw!E72=0,\"\",Draw!E72)","v":""},"",{"$nulls":5},{"$f":"IF(B73=\"\",\"\",IF(K73=5,(SUM(C73:G73)-MAX(C73:G73)-MIN(C73:G73))/3,IF(K73=4,(SUM(C73:G73)-MAX(C73:G73))/3,SUM(C73:G73)/3))*B73/7.6)","v":""},null,null,0]
[{"$f":"IF(Draw!E73=0,\"\",Draw!E73)","v":""},"",{"$nulls":5},{"$f":"IF(B74=\"\",\"\",IF(K74=5,(SUM(C74:G74)-MAX(C74:G74)-MIN(C74:G74))/3,IF(K74=4,(SUM(C74:G74)-MAX(C74:G74))/3,SUM(C74:G74)/3))*B74/7.6)","v":""},null,null,0]
[{"$f":"IF(Draw!E74=0,\"\",Draw!E74)","v":""},"",{"$nulls":5},{"$f":"IF(B75=\"\",\"\",IF(K75=5,(SUM(C75:G75)-MAX(C75:G75)-MIN(C75:G75))/3,IF(K75=4,(SUM(C75:G75)-MAX(C75:G75))/3,SUM(C75:G75)/3))*B75/7.6)","v":""},null,null,0]
[{"$f":"IF(Draw!E75=0,\"\",Draw!E75)","v":""},"",{"$nulls":5},{"$f":"IF(B76=\"\",\"\",IF(K76=5,(SUM(C76:G76)-MAX(C76:G76)-MIN(C76:G76))/3,IF(K76=4,(SUM(C76:G76)-MAX(C76:G76))/3,SUM(C76:G76)/3))*B76/7.6)","v":""},null,null,0]
[{"$f":"IF(Draw!E76=0,\"\",Draw!E76)","v":""},"",{"$nulls":5},{"$f":"IF(B77=\"\",\"\",IF(K77=5,(SUM(C77:G77)-MAX(C77:G77)-MIN(C77:G77))/3,IF(K77=4,(SUM(C77:G77)-MAX(C77:G77))/3,SUM(C77:G77)/3))*B77/7.6)","v":""},null,null,0]
[{"$f":"IF(Draw!E77=0,\"\",Draw!E77)","v":""},"",{"$nulls":5},{"$f":"IF(B78=\"\",\"\",IF(K78=5,(SUM(C78:G78)-MAX(C78:G78)-MIN(C78:G78))/3,IF(K78=4,(SUM(C78:G78)-MAX(C78:G78))/3,SUM(C78:G78)/3))*B78/7.6)","v":""},null,null,0]
[{"$f":"IF(Draw!E78=0,\"\",Draw!E78)","v":""},"",{"$nulls":5},{"$f":"IF(B79=\"\",\"\",IF(K79=5,(SUM(C79:G79)-MAX(C79:G79)-MIN(C79:G79))/3,IF(K79=4,(SUM(C79:G79)-MAX(C79:G79))/3,SUM(C79:G79)/3))*B79/7.6)","v":""},null,null,0]
[{"$f":"IF(Draw!E79=0,\"\",Draw!E79)","v":""},"",{"$nulls":5},{"$f":"IF(B80=\"\",\"\",IF(K80=5,(SUM(C80:G80)-MAX(C80:G80)-MIN(C80:G80))/3,IF(K80=4,(SUM(C80:G80)-MAX(C80:G80))/3,SUM(C80:G80)/3))*B80/7.6)","v":""},null,null,0]
[{"$f":"IF(Draw!E80=0,\"\",Draw!E80)","v":""},"",{"$nulls":5},{"$f":"IF(B81=\"\",\"\",IF(K81=5,(SUM(C81:G81)-MAX(C81:G81)-MIN(C81:G81))/3,IF(K81=4,(SUM(C81:G81)-MAX(C81:G81))/3,SUM(C81:G81)/3))*B81/7.6)","v":""},null,null,0]
[{"$f":"IF(Draw!E81=0,\"\",Draw!E81)","v":""},"",{"$nulls":5},{"$f":"IF(B82=\"\",\"\",IF(K82=5,(SUM(C82:G82)-MAX(C82:G82)-MIN(C82:G82))/3,IF(K82=4,(SUM(C82:G82)-MAX(C82:G82))/3,SUM(C82:G82)/3))*B82/7.6)","v":""},null,null,0]
[{"$f":"IF(Draw!E82=0,\"\",Draw!E82)","v":""},"",{"$nulls":5},{"$f":"IF(B83=\"\",\"\",IF(K83=5,(SUM(C83:G83)-MAX(C83:G83)-MIN(C83:G83))/3,IF(K83=4,(SUM(C83:G83)-MAX(C83:G83))/3,SUM(C83:G83)/3))*B83/7.6)","v":""},null,null,0]
[{"$f":"IF(Draw!E83=0,\"\",Draw!E83)","v":""},"",{"$nulls":5},{"$f":"IF(B84=\"\",\"\",IF(K84=5,(SUM(C84:G84)-MAX(C84:G84)-MIN(C84:G84))/3,IF(K84=4,(SUM(C84:G84)-MAX(C84:G84))/3,SUM(C84:G84)/3))*B84/7.6)","v":""},null,null,0]
[{"$f":"IF(Draw!E84=0,\"\",Draw!E84)","v":""},"",{"$nulls":5},{"$f":"IF(B85=\"\",\"\",IF(K85=5,(SUM(C85:G85)-MAX(C85:G85)-MIN(C85:G85))/3,IF(K85=4,(SUM(C85:G85)-MAX(C85:G85))/3,SUM(C85:G85)/3))*B85/7.6)","v":""},null,null,0]
[{"$f":"IF(Draw!E85=0,\"\",Draw!E85)","v":""},"",{"$nulls":5},{"$f":"IF(B86=\"\",\"\",IF(K86=5,(SUM(C86:G86)-MAX(C86:G86)-MIN(C86:G86))/3,IF(K86=4,(SUM(C86:G86)-MAX(C86:G86))/3,SUM(C86:G86)/3))*B86/7.6)","v":""},null,null,0]
[{"$f":"IF(Draw!E86=0,\"\",Draw!E86)","v":""},"",{"$nulls":5},{"$f":"IF(B87=\"\",\"\",IF(K87=5,(SUM(C87:G87)-MAX(C87:G87)-MIN(C87:G87))/3,IF(K87=4,(SUM(C87:G87)-MAX(C87:G87))/3,SUM(C87:G87)/3))*B87/7.6)","v":""},null,null,0]
[{"$f":"IF(Draw!E87=0,\"\",Draw!E87)","v":""},"",{"$nulls":5},{"$f":"IF(B88=\"\",\"\",IF(K88=5,(SUM(C88:G88)-MAX(C88:G88)-MIN(C88:G88))/3,IF(K88=4,(SUM(C88:G88)-MAX(C88:G88))/3,SUM(C88:G88)/3))*B88/7.6)","v":""},null,null,0]
[{"$f":"IF(Draw!E88=0,\"\",Draw!E88)","v":""},"",{"$nulls":5},{"$f":"IF(B89=\"\",\"\",IF(K89=5,(SUM(C89:G89)-MAX(C89:G89)-MIN(C89:G89))/3,IF(K89=4,(SUM(C89:G89)-MAX(C89:G89))/3,SUM(C89:G89)/3))*B89/7.6)","v":""},null,null,0]
[{"$f":"IF(Draw!E89=0,\"\",Draw!E89)","v":""},"",{"$nulls":5},{"$f":"IF(B90=\"\",\"\",IF(K90=5,(SUM(C90:G90)-MAX(C90:G90)-MIN(C90:G90))/3,IF(K90=4,(SUM(C90:G90)-MAX(C90:G90))/3,SUM(C90:G90)/3))*B90/7.6)","v":""},null,null,0]
[{"$f":"IF(Draw!E90=0,\"\",Draw!E90)","v":""},"",{"$nulls":5},{"$f":"IF(B91=\"\",\"\",IF(K91=5,(SUM(C91:G91)-MAX(C91:G91)-MIN(C91:G91))/3,IF(K91=4,(SUM(C91:G91)-MAX(C91:G91))/3,SUM(C91:G91)/3))*B91/7.6)","v":""},null,null,0]
[{"$f":"IF(Draw!E91=0,\"\",Draw!E91)","v":""},"",{"$nulls":5},{"$f":"IF(B92=\"\",\"\",IF(K92=5,(SUM(C92:G92)-MAX(C92:G92)-MIN(C92:G92))/3,IF(K92=4,(SUM(C92:G92)-MAX(C92:G92))/3,SUM(C92:G92)/3))*B92/7.6)","v":""},null,null,0]
[{"$f":"IF(Draw!E92=0,\"\",Draw!E92)","v":""},"",{"$nulls":5},{"$f":"IF(B93=\"\",\"\",IF(K93=5,(SUM(C93:G93)-MAX(C93:G93)-MIN(C93:G93))/3,IF(K93=4,(SUM(C93:G93)-MAX(C93:G93))/3,SUM(C93:G93)/3))*B93/7.6)","v":""},null,null,0]
[{"$f":"IF(Draw!E93=0,\"\",Draw!E93)","v":""},"",{"$nulls":5},{"$f":"IF(B94=\"\",\"\",IF(K94=5,(SUM(C94:G94)-MAX(C94:G94)-MIN(C94:G94))/3,IF(K94=4,(SUM(C94:G94)-MAX(C94:G94))/3,SUM(C94:G94)/3))*B94/7.6)","v":""},null,null,0]
[{"$f":"IF(Draw!E94=0,\"\",Draw!E94)","v":""},"",{"$nulls":5},{"$f":"IF(B95=\"\",\"\",IF(K95=5,(SUM(C95:G95)-MAX(C95:G95)-MIN(C95:G95))/3,IF(K95=4,(SUM(C95:G95)-MAX(C95:G95))/3,SUM(C95:G95)/3))*B95/7.6)","v":""},null,null,0]
[{"$f":"IF(Draw!E95=0,\"\",Draw!E95)","v":""},"",{"$nulls":5},{"$f":"IF(B96=\"\",\"\",IF(K96=5,(SUM(C96:G96)-MAX(C96:G96)-MIN(C96:G96))/3,IF(K96=4,(SUM(C96:G96)-MAX(C96:G96))/3,SUM(C96:G96)/3))*B96/7.6)","v":""},null,null,0]
[{"$f":"IF(Draw!E96=0,\"\",Draw!E96)","v":""},"",{"$nulls":5},{"$f":"IF(B97=\"\",\"\",IF(K97=5,(SUM(C97:G97)-MAX(C97:G97)-MIN(C97:G97))/3,IF(K97=4,(SUM(C97:G97)-MAX(C97:G97))/3,SUM(C97:G97)/3))*B97/7.6)","v":""},null,null,0]
[{"$f":"IF(Draw!E97=0,\"\",Draw!E97)","v":""},"",{"$nulls":5},{"$f":"IF(B98=\"\",\"\",IF(K98=5,(SUM(C98:G98)-MAX(C98:G98)-MIN(C98:G98))/3,IF(K98=4,(SUM(C98:G98)-MAX(C98:G98))/3,SUM(C98:G98)/3))*B98/7.6)","v":""},null,null,0]
[{"$f":"IF(Draw!E98=0,\"\",Draw!E98)","v":""},"",{"$nulls":5},{"$f":"IF(B99=\"\",\"\",IF(K99=5,(SUM(C99:G99)-MAX(C99:G99)-MIN(C99:G99))/3,IF(K99=4,(SUM(C99:G99)-MAX(C99:G99))/3,SUM(C99:G99)/3))*B99/7.6)","v":""},null,null,0]
[{"$f":"IF(Draw!E99=0,\"\",Draw!E99)","v":""},"",{"$nulls":5},{"$f":"IF(B100=\"\",\"\",IF(K100=5,(SUM(C100:G100)-MAX(C100:G100)-MIN(C100:G100))/3,IF(K100=4,(SUM(C100:G100)-MAX(C100:G100))/3,SUM(C100:G100)/3))*B100/7.6)","v":""},null,null,0]
[{"$f":"IF(Draw!E100=0,\"\",Draw!E100)","v":""},"",{"$nulls":5},{"$f":"IF(B101=\"\",\"\",IF(K101=5,(SUM(C101:G101)-MAX(C101:G101)-MIN(C101:G101))/3,IF(K101=4,(SUM(C101:G101)-MAX(C101:G101))/3,SUM(C101:G101)/3))*B101/7.6)","v":""},null,null,0]
[{"$f":"IF(Draw!E101=0,\"\",Draw!E101)","v":""},"",{"$nulls":5},{"$f":"IF(B102=\"\",\"\",IF(K102=5,(SUM(C102:G102)-MAX(C102:G102)-MIN(C102:G102))/3,IF(K102=4,(SUM(C102:G102)-MAX(C102:G102))/3,SUM(C102:G102)/3))*B102/7.6)","v":""},null,null,0]
[{"$f":"IF(Draw!E102=0,\"\",Draw!E102)","v":""},"",{"$nulls":5},{"$f":"IF(B103=\"\",\"\",IF(K103=5,(SUM(C103:G103)-MAX(C103:G103)-MIN(C103:G103))/3,IF(K103=4,(SUM(C103:G103)-MAX(C103:G103))/3,SUM(C103:G103)/3))*B103/7.6)","v":""},null,null,0]
[{"$f":"IF(Draw!E103=0,\"\",Draw!E103)","v":""},"",{"$nulls":5},{"$f":"IF(B104=\"\",\"\",IF(K104=5,(SUM(C104:G104)-MAX(C104:G104)-MIN(C104:G104))/3,IF(K104=4,(SUM(C104:G104)-MAX(C104:G104))/3,SUM(C104:G104)/3))*B104/7.6)","v":""},null,null,0]
[{"$f":"IF(Draw!E104=0,\"\",Draw!E104)","v":""},"",{"$nulls":5},{"$f":"IF(B105=\"\",\"\",IF(K105=5,(SUM(C105:G105)-MAX(C105:G105)-MIN(C105:G105))/3,IF(K105=4,(SUM(C105:G105)-MAX(C105:G105))/3,SUM(C105:G105)/3))*B105/7.6)","v":""},null,null,0]
[{"$f":"IF(Draw!E105=0,\"\",Draw!E105)","v":""},"",{"$nulls":5},{"$f":"IF(B106=\"\",\"\",IF(K106=5,(SUM(C106:G106)-MAX(C106:G106)-MIN(C106:G106))/3,IF(K106=4,(SUM(C106:G106)-MAX(C106:G106))/3,SUM(C106:G106)/3))*B106/7.6)","v":""},null,null,0]
[{"$f":"IF(Draw!E106=0,\"\",Draw!E106)","v":""},"",{"$nulls":5},{"$f":"IF(B107=\"\",\"\",IF(K107=5,(SUM(C107:G107)-MAX(C107:G107)-MIN(C107:G107))/3,IF(K107=4,(SUM(C107:G107)-MAX(C107:G107))/3,SUM(C107:G107)/3))*B107/7.6)","v":""},null,null,0]
[{"$f":"IF(Draw!E107=0,\"\",Draw!E107)","v":""},"",{"$nulls":5},{"$f":"IF(B108=\"\",\"\",IF(K108=5,(SUM(C108:G108)-MAX(C108:G108)-MIN(C108:G108))/3,IF(K108=4,(SUM(C108:G108)-MAX(C108:G108))/3,SUM(C108:G108)/3))*B108/7.6)","v":""},null,null,0]
[{"$f":"IF(Draw!E108=0,\"\",Draw!E108)","v":""},"",{"$nulls":5},{"$f":"IF(B109=\"\",\"\",IF(K109=5,(SUM(C109:G109)-MAX(C109:G109)-MIN(C109:G109))/3,IF(K109=4,(SUM(C109:G109)-MAX(C109:G109))/3,SUM(C109:G109)/3))*B109/7.6)","v":""},null,null,0]
[{"$f":"IF(Draw!E109=0,\"\",Draw!E109)","v":""},"",{"$nulls":5},{"$f":"IF(B110=\"\",\"\",IF(K110=5,(SUM(C110:G110)-MAX(C110:G110)-MIN(C110:G110))/3,IF(K110=4,(SUM(C110:G110)-MAX(C110:G110))/3,SUM(C110:G110)/3))*B110/7.6)","v":""},null,null,0]
[{"$f":"IF(Draw!E110=0,\"\",Draw!E110)","v":""},"",{"$nulls":5},{"$f":"IF(B111=\"\",\"\",IF(K111=5,(SUM(C111:G111)-MAX(C111:G111)-MIN(C111:G111))/3,IF(K111=4,(SUM(C111:G111)-MAX(C111:G111))/3,SUM(C111:G111)/3))*B111/7.6)","v":""},null,null,0]
[{"$f":"IF(Draw!E111=0,\"\",Draw!E111)","v":""},"",{"$nulls":5},{"$f":"IF(B112=\"\",\"\",IF(K112=5,(SUM(C112:G112)-MAX(C112:G112)-MIN(C112:G112))/3,IF(K112=4,(SUM(C112:G112)-MAX(C112:G112))/3,SUM(C112:G112)/3))*B112/7.6)","v":""},null,null,0]
[{"$f":"IF(Draw!E112=0,\"\",Draw!E112)","v":""},"",{"$nulls":5},{"$f":"IF(B113=\"\",\"\",IF(K113=5,(SUM(C113:G113)-MAX(C113:G113)-MIN(C113:G113))/3,IF(K113=4,(SUM(C113:G113)-MAX(C113:G113))/3,SUM(C113:G113)/3))*B113/7.6)","v":""},null,null,0]
[{"$f":"IF(Draw!E113=0,\"\",Draw!E113)","v":""},"",{"$nulls":5},{"$f":"IF(B114=\"\",\"\",IF(K114=5,(SUM(C114:G114)-MAX(C114:G114)-MIN(C114:G114))/3,IF(K114=4,(SUM(C114:G114)-MAX(C114:G114))/3,SUM(C114:G114)/3))*B114/7.6)","v":""},null,null,0]
[{"$f":"IF(Draw!E114=0,\"\",Draw!E114)","v":""},"",{"$nulls":5},{"$f":"IF(B115=\"\",\"\",IF(K115=5,(SUM(C115:G115)-MAX(C115:G115)-MIN(C115:G115))/3,IF(K115=4,(SUM(C115:G115)-MAX(C115:G115))/3,SUM(C115:G115)/3))*B115/7.6)","v":""},null,null,0]
[{"$f":"IF(Draw!E115=0,\"\",Draw!E115)","v":""},"",{"$nulls":5},{"$f":"IF(B116=\"\",\"\",IF(K116=5,(SUM(C116:G116)-MAX(C116:G116)-MIN(C116:G116))/3,IF(K116=4,(SUM(C116:G116)-MAX(C116:G116))/3,SUM(C116:G116)/3))*B116/7.6)","v":""},null,null,0]
[{"$f":"IF(Draw!E116=0,\"\",Draw!E116)","v":""},"",{"$nulls":5},{"$f":"IF(B117=\"\",\"\",IF(K117=5,(SUM(C117:G117)-MAX(C117:G117)-MIN(C117:G117))/3,IF(K117=4,(SUM(C117:G117)-MAX(C117:G117))/3,SUM(C117:G117)/3))*B117/7.6)","v":""},null,null,0]
[{"$f":"IF(Draw!E117=0,\"\",Draw!E117)","v":""},"",{"$nulls":5},{"$f":"IF(B118=\"\",\"\",IF(K118=5,(SUM(C118:G118)-MAX(C118:G118)-MIN(C118:G118))/3,IF(K118=4,(SUM(C118:G118)-MAX(C118:G118))/3,SUM(C118:G118)/3))*B118/7.6)","v":""},null,null,0]
[{"$f":"IF(Draw!E118=0,\"\",Draw!E118)","v":""},"",{"$nulls":5},{"$f":"IF(B119=\"\",\"\",IF(K119=5,(SUM(C119:G119)-MAX(C119:G119)-MIN(C119:G119))/3,IF(K119=4,(SUM(C119:G119)-MAX(C119:G119))/3,SUM(C119:G119)/3))*B119/7.6)","v":""},null,null,0]
[{"$f":"IF(Draw!E119=0,\"\",Draw!E119)","v":""},"",{"$nulls":5},{"$f":"IF(B120=\"\",\"\",IF(K120=5,(SUM(C120:G120)-MAX(C120:G120)-MIN(C120:G120))/3,IF(K120=4,(SUM(C120:G120)-MAX(C120:G120))/3,SUM(C120:G120)/3))*B120/7.6)","v":""},null,null,0]
[{"$f":"IF(Draw!E120=0,\"\",Draw!E120)","v":""},"",{"$nulls":5},{"$f":"IF(B121=\"\",\"\",IF(K121=5,(SUM(C121:G121)-MAX(C121:G121)-MIN(C121:G121))/3,IF(K121=4,(SUM(C121:G121)-MAX(C121:G121))/3,SUM(C121:G121)/3))*B121/7.6)","v":""},null,null,0]
[{"$f":"IF(Draw!E121=0,\"\",Draw!E121)","v":""},"",{"$nulls":5},{"$f":"IF(B122=\"\",\"\",IF(K122=5,(SUM(C122:G122)-MAX(C122:G122)-MIN(C122:G122))/3,IF(K122=4,(SUM(C122:G122)-MAX(C122:G122))/3,SUM(C122:G122)/3))*B122/7.6)","v":""},null,null,0]
[{"$f":"IF(Draw!E122=0,\"\",Draw!E122)","v":""},"",{"$nulls":5},{"$f":"IF(B123=\"\",\"\",IF(K123=5,(SUM(C123:G123)-MAX(C123:G123)-MIN(C123:G123))/3,IF(K123=4,(SUM(C123:G123)-MAX(C123:G123))/3,SUM(C123:G123)/3))*B123/7.6)","v":""},null,null,0]
[{"$f":"IF(Draw!E123=0,\"\",Draw!E123)","v":""},"",{"$nulls":5},{"$f":"IF(B124=\"\",\"\",IF(K124=5,(SUM(C124:G124)-MAX(C124:G124)-MIN(C124:G124))/3,IF(K124=4,(SUM(C124:G124)-MAX(C124:G124))/3,SUM(C124:G124)/3))*B124/7.6)","v":""},null,null,0]
[{"$f":"IF(Draw!E124=0,\"\",Draw!E124)","v":""},"",{"$nulls":5},{"$f":"IF(B125=\"\",\"\",IF(K125=5,(SUM(C125:G125)-MAX(C125:G125)-MIN(C125:G125))/3,IF(K125=4,(SUM(C125:G125)-MAX(C125:G125))/3,SUM(C125:G125)/3))*B125/7.6)","v":""},null,null,0]
[{"$f":"IF(Draw!E125=0,\"\",Draw!E125)","v":""},"",{"$nulls":5},{"$f":"IF(B126=\"\",\"\",IF(K126=5,(SUM(C126:G126)-MAX(C126:G126)-MIN(C126:G126))/3,IF(K126=4,(SUM(C126:G126)-MAX(C126:G126))/3,SUM(C126:G126)/3))*B126/7.6)","v":""},null,null,0]
[{"$f":"IF(Draw!E126=0,\"\",Draw!E126)","v":""},"",{"$nulls":5},{"$f":"IF(B127=\"\",\"\",IF(K127=5,(SUM(C127:G127)-MAX(C127:G127)-MIN(C127:G127))/3,IF(K127=4,(SUM(C127:G127)-MAX(C127:G127))/3,SUM(C127:G127)/3))*B127/7.6)","v":""},null,null,0]
[{"$f":"IF(Draw!E127=0,\"\",Draw!E127)","v":""},"",{"$nulls":5},{"$f":"IF(B128=\"\",\"\",IF(K128=5,(SUM(C128:G128)-MAX(C128:G128)-MIN(C128:G128))/3,IF(K128=4,(SUM(C128:G128)-MAX(C128:G128))/3,SUM(C128:G128)/3))*B128/7.6)","v":""},null,null,0]
[{"$f":"IF(Draw!E128=0,\"\",Draw!E128)","v":""},"",{"$nulls":5},{"$f":"IF(B129=\"\",\"\",IF(K129=5,(SUM(C129:G129)-MAX(C129:G129)-MIN(C129:G129))/3,IF(K129=4,(SUM(C129:G129)-MAX(C129:G129))/3,SUM(C129:G129)/3))*B129/7.6)","v":""},null,null,0]
[{"$f":"IF(Draw!E129=0,\"\",Draw!E129)","v":""},"",{"$nulls":5},{"$f":"IF(B130=\"\",\"\",IF(K130=5,(SUM(C130:G130)-MAX(C130:G130)-MIN(C130:G130))/3,IF(K130=4,(SUM(C130:G130)-MAX(C130:G130))/3,SUM(C130:G130)/3))*B130/7.6)","v":""},null,null,0]
[{"$f":"IF(Draw!E130=0,\"\",Draw!E130)","v":""},"",{"$nulls":5},{"$f":"IF(B131=\"\",\"\",IF(K131=5,(SUM(C131:G131)-MAX(C131:G131)-MIN(C131:G131))/3,IF(K131=4,(SUM(C131:G131)-MAX(C131:G131))/3,SUM(C131:G131)/3))*B131/7.6)","v":""},null,null,0]
[{"$f":"IF(Draw!E131=0,\"\",Draw!E131)","v":""},"",{"$nulls":5},{"$f":"IF(B132=\"\",\"\",IF(K132=5,(SUM(C132:G132)-MAX(C132:G132)-MIN(C132:G132))/3,IF(K132=4,(SUM(C132:G132)-MAX(C132:G132))/3,SUM(C132:G132)/3))*B132/7.6)","v":""},null,null,{"$f":"COUNT(C132:G132)","v":0}]
[{"$f":"IF(Draw!E132=0,\"\",Draw!E132)","v":""},"",{"$nulls":5},{"$f":"IF(B133=\"\",\"\",IF(K133=5,(SUM(C133:G133)-MAX(C133:G133)-MIN(C133:G133))/3,IF(K133=4,(SUM(C133:G133)-MAX(C133:G133))/3,SUM(C133:G133)/3))*B133/7.6)","v":""},null,null,0]
[{"$f":"IF(Draw!E133=0,\"\",Draw!E133)","v":""},"",{"$nulls":5},{"$f":"IF(B134=\"\",\"\",IF(K134=5,(SUM(C134:G134)-MAX(C134:G134)-MIN(C134:G134))/3,IF(K134=4,(SUM(C134:G134)-MAX(C134:G134))/3,SUM(C134:G134)/3))*B134/7.6)","v":""},null,null,0]
[{"$f":"IF(Draw!E134=0,\"\",Draw!E134)","v":""},{"$f":"IF(A135=\"\",\"\",B$3)","v":""},{"$nulls":5},{"$f":"IF(B135=\"\",\"\",IF(K135=5,(SUM(C135:G135)-MAX(C135:G135)-MIN(C135:G135))/3,IF(K135=4,(SUM(C135:G135)-MAX(C135:G135))/3,SUM(C135:G135)/3))*B135/7.6)","v":""},null,null,0]
[{"$f":"IF(Draw!E135=0,\"\",Draw!E135)","v":""},"",{"$nulls":5},{"$f":"IF(B136=\"\",\"\",IF(K136=5,(SUM(C136:G136)-MAX(C136:G136)-MIN(C136:G136))/3,IF(K136=4,(SUM(C136:G136)-MAX(C136:G136))/3,SUM(C136:G136)/3))*B136/7.6)","v":""},null,null,0]
[{"$f":"IF(Draw!E136=0,\"\",Draw!E136)","v":""},"",{"$nulls":5},{"$f":"IF(B137=\"\",\"\",IF(K137=5,(SUM(C137:G137)-MAX(C137:G137)-MIN(C137:G137))/3,IF(K137=4,(SUM(C137:G137)-MAX(C137:G137))/3,SUM(C137:G137)/3))*B137/7.6)","v":""},null,null,0]
[{"$f":"IF(Draw!E137=0,\"\",Draw!E137)","v":""},"",{"$nulls":5},{"$f":"IF(B138=\"\",\"\",IF(K138=5,(SUM(C138:G138)-MAX(C138:G138)-MIN(C138:G138))/3,IF(K138=4,(SUM(C138:G138)-MAX(C138:G138))/3,SUM(C138:G138)/3))*B138/7.6)","v":""},null,null,0]
[{"$f":"IF(Draw!E138=0,\"\",Draw!E138)","v":""},"",{"$nulls":5},{"$f":"IF(B139=\"\",\"\",IF(K139=5,(SUM(C139:G139)-MAX(C139:G139)-MIN(C139:G139))/3,IF(K139=4,(SUM(C139:G139)-MAX(C139:G139))/3,SUM(C139:G139)/3))*B139/7.6)","v":""},null,null,0]
[{"$f":"IF(Draw!E139=0,\"\",Draw!E139)","v":""},"",{"$nulls":5},{"$f":"IF(B140=\"\",\"\",IF(K140=5,(SUM(C140:G140)-MAX(C140:G140)-MIN(C140:G140))/3,IF(K140=4,(SUM(C140:G140)-MAX(C140:G140))/3,SUM(C140:G140)/3))*B140/7.6)","v":""},null,null,0]
[{"$f":"IF(Draw!E140=0,\"\",Draw!E140)","v":""},"",{"$nulls":5},{"$f":"IF(B141=\"\",\"\",IF(K141=5,(SUM(C141:G141)-MAX(C141:G141)-MIN(C141:G141))/3,IF(K141=4,(SUM(C141:G141)-MAX(C141:G141))/3,SUM(C141:G141)/3))*B141/7.6)","v":""},null,null,0]
[{"$f":"IF(Draw!E141=0,\"\",Draw!E141)","v":""},"",{"$nulls":5},{"$f":"IF(B142=\"\",\"\",IF(K142=5,(SUM(C142:G142)-MAX(C142:G142)-MIN(C142:G142))/3,IF(K142=4,(SUM(C142:G142)-MAX(C142:G142))/3,SUM(C142:G142)/3))*B142/7.6)","v":""},null,null,0]
[{"$f":"IF(Draw!E142=0,\"\",Draw!E142)","v":""},"",{"$nulls":5},{"$f":"IF(B143=\"\",\"\",IF(K143=5,(SUM(C143:G143)-MAX(C143:G143)-MIN(C143:G143))/3,IF(K143=4,(SUM(C143:G143)-MAX(C143:G143))/3,SUM(C143:G143)/3))*B143/7.6)","v":""},null,null,0]
[{"$f":"IF(Draw!E143=0,\"\",Draw!E143)","v":""},"",{"$nulls":5},{"$f":"IF(B144=\"\",\"\",IF(K144=5,(SUM(C144:G144)-MAX(C144:G144)-MIN(C144:G144))/3,IF(K144=4,(SUM(C144:G144)-MAX(C144:G144))/3,SUM(C144:G144)/3))*B144/7.6)","v":""},null,null,0]
[{"$f":"IF(Draw!E144=0,\"\",Draw!E144)","v":""},"",{"$nulls":5},{"$f":"IF(B145=\"\",\"\",IF(K145=5,(SUM(C145:G145)-MAX(C145:G145)-MIN(C145:G145))/3,IF(K145=4,(SUM(C145:G145)-MAX(C145:G145))/3,SUM(C145:G145)/3))*B145/7.6)","v":""},null,null,0]
[{"$f":"IF(Draw!E145=0,\"\",Draw!E145)","v":""},"",{"$nulls":5},{"$f":"IF(B146=\"\",\"\",IF(K146=5,(SUM(C146:G146)-MAX(C146:G146)-MIN(C146:G146))/3,IF(K146=4,(SUM(C146:G146)-MAX(C146:G146))/3,SUM(C146:G146)/3))*B146/7.6)","v":""},null,null,0]
[{"$f":"IF(Draw!E146=0,\"\",Draw!E146)","v":""},"",{"$nulls":5},{"$f":"IF(B147=\"\",\"\",IF(K147=5,(SUM(C147:G147)-MAX(C147:G147)-MIN(C147:G147))/3,IF(K147=4,(SUM(C147:G147)-MAX(C147:G147))/3,SUM(C147:G147)/3))*B147/7.6)","v":""},null,null,0]
[{"$f":"IF(Draw!E147=0,\"\",Draw!E147)","v":""},"",{"$nulls":5},{"$f":"IF(B148=\"\",\"\",IF(K148=5,(SUM(C148:G148)-MAX(C148:G148)-MIN(C148:G148))/3,IF(K148=4,(SUM(C148:G148)-MAX(C148:G148))/3,SUM(C148:G148)/3))*B148/7.6)","v":""},null,null,0]
[{"$f":"IF(Draw!E148=0,\"\",Draw!E148)","v":""},"",{"$nulls":5},{"$f":"IF(B149=\"\",\"\",IF(K149=5,(SUM(C149:G149)-MAX(C149:G149)-MIN(C149:G149))/3,IF(K149=4,(SUM(C149:G149)-MAX(C149:G149))/3,SUM(C149:G149)/3))*B149/7.6)","v":""},null,null,0]
[{"$f":"IF(Draw!E149=0,\"\",Draw!E149)","v":""},"",{"$nulls":5},{"$f":"IF(B150=\"\",\"\",IF(K150=5,(SUM(C150:G150)-MAX(C150:G150)-MIN(C150:G150))/3,IF(K150=4,(SUM(C150:G150)-MAX(C150:G150))/3,SUM(C150:G150)/3))*B150/7.6)","v":""},null,null,0]

{"sheet":"Fig 3 Heron","index":3,"n_rows":150,"n_cols":11,"rows_kept":150,"merged":[[0,2,0,6]]}
[null,"Figure #3:","342 Heron"]
["#","Degree of Difficulty","Judge 1","Judge 2","Judge 3","Judge 4","Judge 5","Score","Penalty"]
[{"$f":"IF(Draw!E2=0,\"\",Draw!E2)","v":1},2.1,{"$nulls":5},{"$f":"IF(B3=\"\",\"\",IF(K3=5,(SUM(C3:G3)-MAX(C3:G3)-MIN(C3:G3))/3,IF(K3=4,(SUM(C3:G3)-MAX(C3:G3))/3,SUM(C3:G3)/3))*B3/7.6)","v":{"v":0,"d":"0.000"}},null,null,{"$f":"COUNT(C3:G3)","v":0}]
[{"$f":"IF(Draw!E3=0,\"\",Draw!E3)","v":2},{"$f":"IF(A4=\"\",\"\",B$3)","v":2.1},60,62,66,null,null,{"$f":"IF(B4=\"\",\"\",IF(K4=5,(SUM(C4:G4)-MAX(C4:G4)-MIN(C4:G4))/3,IF(K4=4,(SUM(C4:G4)-MAX(C4:G4))/3,SUM(C4:G4)/3))*B4/7.6)","v":{"v":17.31578947368421,"d":"17.316"}},null,null,{"$f":"COUNT(C4:G4)","v":3}]
[{"$f":"IF(Draw!E4=0,\"\",Draw!E4)","v":3},{"$f":"IF(A5=\"\",\"\",B$3)","v":2.1},46,49,51,null,null,{"$f":"IF(B5=\"\",\"\",IF(K5=5,(SUM(C5:G5)-MAX(C5:G5)-MIN(C5:G5))/3,IF(K5=4,(SUM(C5:G5)-MAX(C5:G5))/3,SUM(C5:G5)/3))*B5/7.6)","v":{"v":13.447368421052632,"d":"13.447"}},null,null,3]
[{"$f":"IF(Draw!E5=0,\"\",Draw!E5)","v":4},2.1,48,52,46,null,null,{"$f":"IF(B6=\"\",\"\",IF(K6=5,(SUM(C6:G6)-MAX(C6:G6)-MIN(C6:G6))/3,IF(K6=4,(SUM(C6:G6)-MAX(C6:G6))/3,SUM(C6:G6)/3))*B6/7.6)","v":{"v":13.447368421052632,"d":"13.447"}},null,null,3]
[{"$f":"IF(Draw!E6=0,\"\",Draw!E6)","v":5},{"$f":"IF(A7=\"\",\"\",B$3)","v":2.1},52,56,54,null,null,{"$f":"IF(B7=\"\",\"\",IF(K7=5,(SUM(C7:G7)-MAX(C7:G7)-MIN(C7:G7))/3,IF(K7=4,(SUM(C7:G7)-MAX(C7:G7))/3,SUM(C7:G7)/3))*B7/7.6)","v":{"v":14.921052631578949,"d":"14.921"}},null,null,3]
[{"$f":"IF(Draw!E7=0,\"\",Draw!E7)","v":6},2.1,45,48,44,null,null,{"$f":"IF(B8=\"\",\"\",IF(K8=5,(SUM(C8:G8)-MAX(C8:G8)-MIN(C8:G8))/3,IF(K8=4,(SUM(C8:G8)-MAX(C8:G8))/3,SUM(C8:G8)/3))*B8/7.6)","v":{"v":12.61842105263158,"d":"12.618"}},null,null,3]
[{"$f":"IF(Draw!E8=0,\"\",Draw!E8)","v":7},2.1,63,60,56,null,null,{"$f":"IF(B9=\"\",\"\",IF(K9=5,(SUM(C9:G9)-MAX(C9:G9)-MIN(C9:G9))/3,IF(K9=4,(SUM(C9:G9)-MAX(C9:G9))/3,SUM(C9:G9)/3))*B9/7.6)","v":{"v":16.486842105263158,"d":"16.487"}},null,null,3]
[{"$f":"IF(Draw!E9=0,\"\",Draw!E9)","v":8},2.1,44,48,44,null,null,{"$f":"IF(B10=\"\",\"\",IF(K10=5,(SUM(C10:G10)-MAX(C10:G10)-MIN(C10:G10))/3,IF(K10=4,(SUM(C10:G10)-MAX(C10:G10))/3,SUM(C10:G10)/3))*B10/7.6)","v":{"v":12.526315789473685,"d":"12.526"}},null,null,3]
[{"$f":"IF(Draw!E10=0,\"\",Draw!E10)","v":9},2.1,53,53,55,null,null,{"$f":"IF(B11=\"\",\"\",IF(K11=5,(SUM(C11:G11)-MAX(C11:G11)-MIN(C11:G11))/3,IF(K11=4,(SUM(C11:G11)-MAX(C11:G11))/3,SUM(C11:G11)/3))*B11/7.6)","v":{"v":14.828947368421053,"d":"14.829"}},null,null,3]
[{"$f":"IF(Draw!E11=0,\"\",Draw!E11)","v":10},2.1,51,51,50,null,null,{"$f":"IF(B12=\"\",\"\",IF(K12=5,(SUM(C12:G12)-MAX(C12:G12)-MIN(C12:G12))/3,IF(K12=4,(SUM(C12:G12)-MAX(C12:G12))/3,SUM(C12:G12)/3))*B12/7.6)","v":{"v":14.000000000000002,"d":"14.000"}},null,null,3]
[{"$f":"IF(Draw!E12=0,\"\",Draw!E12)","v":11},2.1,64,63,57,null,null,{"$f":"IF(B13=\"\",\"\",IF(K13=5,(SUM(C13:G13)-MAX(C13:G13)-MIN(C13:G13))/3,IF(K13=4,(SUM(C13:G13)-MAX(C13:G13))/3,SUM(C13:G13)/3))*B13/7.6)","v":{"v":16.947368421052634,"d":"16.947"}},null,null,3]
[{"$f":"IF(Draw!E13=0,\"\",Draw!E13)","v":12},2.1,59,62,58,null,null,{"$f":"IF(B14=\"\",\"\",IF(K14=5,(SUM(C14:G14)-MAX(C14:G14)-MIN(C14:G14))/3,IF(K14=4,(SUM(C14:G14)-MAX(C14:G14))/3,SUM(C14:G14)/3))*B14/7.6)","v":{"v":16.486842105263158,"d":"16.487"}},null,null,3]
[{"$f":"IF(Draw!E14=0,\"\",Draw!E14)","v":13},2.1,51,51,50,null,null,{"$f":"IF(B15=\"\",\"\",IF(K15=5,(SUM(C15:G15)-MAX(C15:G15)-MIN(C15:G15))/3,IF(K15=4,(SUM(C15:G15)-MAX(C15:G15))/3,SUM(C15:G15)/3))*B15/7.6)","v":{"v":14.000000000000002,"d":"14.000"}},null,null,3]
[{"$f":"IF(Draw!E15=0,\"\",Draw!E15)","v":14},2.1,62,63,58,null,null,{"$f":"IF(B16=\"\",\"\",IF(K16=5,(SUM(C16:G16)-MAX(C16:G16)-MIN(C16:G16))/3,IF(K16=4,(SUM(C16:G16)-MAX(C16:G16))/3,SUM(C16:G16)/3))*B16/7.6)","v":{"v":16.855263157894736,"d":"16.855"}},null,null,3]
[{"$f":"IF(Draw!E16=0,\"\",Draw!E16)","v":15},2.1,52,52,50,null,null,{"$f":"IF(B17=\"\",\"\",IF(K17=5,(SUM(C17:G17)-MAX(C17:G17)-MIN(C17:G17))/3,IF(K17=4,(SUM(C17:G17)-MAX(C17:G17))/3,SUM(C17:G17)/3))*B17/7.6)","v":{"v":14.184210526315791,"d":"14.184"}},null,null,3]
[{"$f":"IF(Draw!E17=0,\"\",Draw!E17)","v":16},2.1,60,60,63,null,null,{"$f":"IF(B18=\"\",\"\",IF(K18=5,(SUM(C18:G18)-MAX(C18:G18)-MIN(C18:G18))/3,IF(K18=4,(SUM(C18:G18)-MAX(C18:G18))/3,SUM(C18:G18)/3))*B18/7.6)","v":{"v":16.855263157894736,"d":"16.855"}},null,null,3]
[{"$f":"IF(Draw!E18=0,\"\",Draw!E18)","v":17},2.1,59,57,57,null,null,{"$f":"IF(B19=\"\",\"\",IF(K19=5,(SUM(C19:G19)-MAX(C19:G19)-MIN(C19:G19))/3,IF(K19=4,(SUM(C19:G19)-MAX(C19:G19))/3,SUM(C19:G19)/3))*B19/7.6)","v":{"v":15.93421052631579,"d":"15.934"}},null,null,3]
[{"$f":"IF(Draw!E19=0,\"\",Draw!E19)","v":18},2.1,44,47,40,null,null,{"$f":"IF(B20=\"\",\"\",IF(K20=5,(SUM(C20:G20)-MAX(C20:G20)-MIN(C20:G20))/3,IF(K20=4,(SUM(C20:G20)-MAX(C20:G20))/3,SUM(C20:G20)/3))*B20/7.6)","v":{"v":12.06578947368421,"d":"12.066"}},null,null,3]
[{"$f":"IF(Draw!E20=0,\"\",Draw!E20)","v":19},2.1,{"$nulls":5},{"$f":"IF(B21=\"\",\"\",IF(K21=5,(SUM(C21:G21)-MAX(C21:G21)-MIN(C21:G21))/3,IF(K21=4,(SUM(C21:G21)-MAX(C21:G21))/3,SUM(C21:G21)/3))*B21/7.6)","v":{"v":0,"d":"0.000"}},null,null,0]
[{"$f":"IF(Draw!E21=0,\"\",Draw!E21)","v":20},2.1,53,53,53,null,null,{"$f":"IF(B22=\"\",\"\",IF(K22=5,(SUM(C22:G22)-MAX(C22:G22)-MIN(C22:G22))/3,IF(K22=4,(SUM(C22:G22)-MAX(C22:G22))/3,SUM(C22:G22)/3))*B22/7.6)","v":{"v":14.644736842105265,"d":"14.645"}},null,null,3]
[{"$f":"IF(Draw!E22=0,\"\",Draw!E22)","v":21},2.1,56,59,58,null,null,{"$f":"IF(B23=\"\",\"\",IF(K23=5,(SUM(C23:G23)-MAX(C23:G23)-MIN(C23:G23))/3,IF(K23=4,(SUM(C23:G23)-MAX(C23:G23))/3,SUM(C23:G23)/3))*B23/7.6)","v":{"v":15.93421052631579,"d":"15.934"}},null,null,3]
[{"$f":"IF(Draw!E23=0,\"\",Draw!E23)","v":22},2.1,49,48,54,null,null,{"$f":"IF(B24=\"\",\"\",IF(K24=5,(SUM(C24:G24)-MAX(C24:G24)-MIN(C24:G24))/3,IF(K24=4,(SUM(C24:G24)-MAX(C24:G24))/3,SUM(C24:G24)/3))*B24/7.6)","v":{"v":13.907894736842106,"d":"13.908"}},null,null,3]
[{"$f":"IF(Draw!E24=0,\"\",Draw!E24)","v":23},2.1,52,53,50,null,null,{"$f":"IF(B25=\"\",\"\",IF(K25=5,(SUM(C25:G25)-MAX(C25:G25)-MIN(C25:G25))/3,IF(K25=4,(SUM(C25:G25)-MAX(C25:G25))/3,SUM(C25:G25)/3))*B25/7.6)","v":{"v":14.276315789473685,"d":"14.276"}},null,null,3]
[{"$f":"IF(Draw!E25=0,\"\",Draw!E25)","v":24},2.1,56,56,58,null,null,{"$f":"IF(B26=\"\",\"\",IF(K26=5,(SUM(C26:G26)-MAX(C26:G26)-MIN(C26:G26))/3,IF(K26=4,(SUM(C26:G26)-MAX(C26:G26))/3,SUM(C26:G26)/3))*B26/7.6)","v":{"v":15.657894736842106,"d":"15.658"}},null,null,3]
[{"$f":"IF(Draw!E26=0,\"\",Draw!E26)","v":25},2.1,59,56,55,null,null,{"$f":"IF(B27=\"\",\"\",IF(K27=5,(SUM(C27:G27)-MAX(C27:G27)-MIN(C27:G27))/3,IF(K27=4,(SUM(C27:G27)-MAX(C27:G27))/3,SUM(C27:G27)/3))*B27/7.6)","v":{"v":15.657894736842106,"d":"15.658"}},null,null,3]
[{"$f":"IF(Draw!E27=0,\"\",Draw!E27)","v":26},2.1,52,56,54,null,null,{"$f":"IF(B28=\"\",\"\",IF(K28=5,(SUM(C28:G28)-MAX(C28:G28)-MIN(C28:G28))/3,IF(K28=4,(SUM(C28:G28)-MAX(C28:G28))/3,SUM(C28:G28)/3))*B28/7.6)","v":{"v":14.921052631578949,"d":"14.921"}},null,null,3]
[{"$f":"IF(Draw!E28=0,\"\",Draw!E28)","v":27},2.1,0,0,0,null,null,{"$f":"IF(B29=\"\",\"\",IF(K29=5,(SUM(C29:G29)-MAX(C29:G29)-MIN(C29:G29))/3,IF(K29=4,(SUM(C29:G29)-MAX(C29:G29))/3,SUM(C29:G29)/3))*B29/7.6)","v":{"v":0,"d":"0.000"}},null,null,3]
[{"$f":"IF(Draw!E29=0,\"\",Draw!E29)","v":28},2.1,46,54,57,null,null,{"$f":"IF(B30=\"\",\"\",IF(K30=5,(SUM(C30:G30)-MAX(C30:G30)-MIN(C30:G30))/3,IF(K30=4,(SUM(C30:G30)-MAX(C30:G30))/3,SUM(C30:G30)/3))*B30/7.6)","v":{"v":14.460526315789474,"d":"14.461"}},null,null,3]
[{"$f":"IF(Draw!E30=0,\"\",Draw!E30)","v":""},"",{"$nulls":5},{"$f":"IF(B31=\"\",\"\",IF(K31=5,(SUM(C31:G31)-MAX(C31:G31)-MIN(C31:G31))/3,IF(K31=4,(SUM(C31:G31)-MAX(C31:G31))/3,SUM(C31:G31)/3))*B31/7.6)","v":""},null,null,0]
[{"$f":"IF(Draw!E31=0,\"\",Draw!E31)","v":""},"",{"$nulls":5},{"$f":"IF(B32=\"\",\"\",IF(K32=5,(SUM(C32:G32)-MAX(C32:G32)-MIN(C32:G32))/3,IF(K32=4,(SUM(C32:G32)-MAX(C32:G32))/3,SUM(C32:G32)/3))*B32/7.6)","v":""},null,null,0]
[{"$f":"IF(Draw!E32=0,\"\",Draw!E32)","v":""},"",{"$nulls":5},{"$f":"IF(B33=\"\",\"\",IF(K33=5,(SUM(C33:G33)-MAX(C33:G33)-MIN(C33:G33))/3,IF(K33=4,(SUM(C33:G33)-MAX(C33:G33))/3,SUM(C33:G33)/3))*B33/7.6)","v":""},null,null,0]
[{"$f":"IF(Draw!E33=0,\"\",Draw!E33)","v":""},"",{"$nulls":5},{"$f":"IF(B34=\"\",\"\",IF(K34=5,(SUM(C34:G34)-MAX(C34:G34)-MIN(C34:G34))/3,IF(K34=4,(SUM(C34:G34)-MAX(C34:G34))/3,SUM(C34:G34)/3))*B34/7.6)","v":""},null,null,0]
[{"$f":"IF(Draw!E34=0,\"\",Draw!E34)","v":""},"",{"$nulls":5},{"$f":"IF(B35=\"\",\"\",IF(K35=5,(SUM(C35:G35)-MAX(C35:G35)-MIN(C35:G35))/3,IF(K35=4,(SUM(C35:G35)-MAX(C35:G35))/3,SUM(C35:G35)/3))*B35/7.6)","v":""},null,null,0]
[{"$f":"IF(Draw!E35=0,\"\",Draw!E35)","v":""},"",{"$nulls":5},{"$f":"IF(B36=\"\",\"\",IF(K36=5,(SUM(C36:G36)-MAX(C36:G36)-MIN(C36:G36))/3,IF(K36=4,(SUM(C36:G36)-MAX(C36:G36))/3,SUM(C36:G36)/3))*B36/7.6)","v":""},null,null,0]
[{"$f":"IF(Draw!E36=0,\"\",Draw!E36)","v":""},"",{"$nulls":5},{"$f":"IF(B37=\"\",\"\",IF(K37=5,(SUM(C37:G37)-MAX(C37:G37)-MIN(C37:G37))/3,IF(K37=4,(SUM(C37:G37)-MAX(C37:G37))/3,SUM(C37:G37)/3))*B37/7.6)","v":""},null,null,0]
[{"$f":"IF(Draw!E37=0,\"\",Draw!E37)","v":""},"",{"$nulls":5},{"$f":"IF(B38=\"\",\"\",IF(K38=5,(SUM(C38:G38)-MAX(C38:G38)-MIN(C38:G38))/3,IF(K38=4,(SUM(C38:G38)-MAX(C38:G38))/3,SUM(C38:G38)/3))*B38/7.6)","v":""},null,null,0]
[{"$f":"IF(Draw!E38=0,\"\",Draw!E38)","v":""},"",{"$nulls":5},{"$f":"IF(B39=\"\",\"\",IF(K39=5,(SUM(C39:G39)-MAX(C39:G39)-MIN(C39:G39))/3,IF(K39=4,(SUM(C39:G39)-MAX(C39:G39))/3,SUM(C39:G39)/3))*B39/7.6)","v":""},null,null,0]
[{"$f":"IF(Draw!E39=0,\"\",Draw!E39)","v":""},"",{"$nulls":5},{"$f":"IF(B40=\"\",\"\",IF(K40=5,(SUM(C40:G40)-MAX(C40:G40)-MIN(C40:G40))/3,IF(K40=4,(SUM(C40:G40)-MAX(C40:G40))/3,SUM(C40:G40)/3))*B40/7.6)","v":""},null,null,0]
[{"$f":"IF(Draw!E40=0,\"\",Draw!E40)","v":""},"",{"$nulls":5},{"$f":"IF(B41=\"\",\"\",IF(K41=5,(SUM(C41:G41)-MAX(C41:G41)-MIN(C41:G41))/3,IF(K41=4,(SUM(C41:G41)-MAX(C41:G41))/3,SUM(C41:G41)/3))*B41/7.6)","v":""},null,null,0]
[{"$f":"IF(Draw!E41=0,\"\",Draw!E41)","v":""},"",{"$nulls":5},{"$f":"IF(B42=\"\",\"\",IF(K42=5,(SUM(C42:G42)-MAX(C42:G42)-MIN(C42:G42))/3,IF(K42=4,(SUM(C42:G42)-MAX(C42:G42))/3,SUM(C42:G42)/3))*B42/7.6)","v":""},null,null,0]
[{"$f":"IF(Draw!E42=0,\"\",Draw!E42)","v":""},"",{"$nulls":5},{"$f":"IF(B43=\"\",\"\",IF(K43=5,(SUM(C43:G43)-MAX(C43:G43)-MIN(C43:G43))/3,IF(K43=4,(SUM(C43:G43)-MAX(C43:G43))/3,SUM(C43:G43)/3))*B43/7.6)","v":""},null,null,0]
[{"$f":"IF(Draw!E43=0,\"\",Draw!E43)","v":""},"",{"$nulls":5},{"$f":"IF(B44=\"\",\"\",IF(K44=5,(SUM(C44:G44)-MAX(C44:G44)-MIN(C44:G44))/3,IF(K44=4,(SUM(C44:G44)-MAX(C44:G44))/3,SUM(C44:G44)/3))*B44/7.6)","v":""},null,null,0]
[{"$f":"IF(Draw!E44=0,\"\",Draw!E44)","v":""},"",{"$nulls":5},{"$f":"IF(B45=\"\",\"\",IF(K45=5,(SUM(C45:G45)-MAX(C45:G45)-MIN(C45:G45))/3,IF(K45=4,(SUM(C45:G45)-MAX(C45:G45))/3,SUM(C45:G45)/3))*B45/7.6)","v":""},null,null,0]
[{"$f":"IF(Draw!E45=0,\"\",Draw!E45)","v":""},"",{"$nulls":5},{"$f":"IF(B46=\"\",\"\",IF(K46=5,(SUM(C46:G46)-MAX(C46:G46)-MIN(C46:G46))/3,IF(K46=4,(SUM(C46:G46)-MAX(C46:G46))/3,SUM(C46:G46)/3))*B46/7.6)","v":""},null,null,0]
[{"$f":"IF(Draw!E46=0,\"\",Draw!E46)","v":""},"",{"$nulls":5},{"$f":"IF(B47=\"\",\"\",IF(K47=5,(SUM(C47:G47)-MAX(C47:G47)-MIN(C47:G47))/3,IF(K47=4,(SUM(C47:G47)-MAX(C47:G47))/3,SUM(C47:G47)/3))*B47/7.6)","v":""},null,null,0]
[{"$f":"IF(Draw!E47=0,\"\",Draw!E47)","v":""},"",{"$nulls":5},{"$f":"IF(B48=\"\",\"\",IF(K48=5,(SUM(C48:G48)-MAX(C48:G48)-MIN(C48:G48))/3,IF(K48=4,(SUM(C48:G48)-MAX(C48:G48))/3,SUM(C48:G48)/3))*B48/7.6)","v":""},null,null,0]
[{"$f":"IF(Draw!E48=0,\"\",Draw!E48)","v":""},"",{"$nulls":5},{"$f":"IF(B49=\"\",\"\",IF(K49=5,(SUM(C49:G49)-MAX(C49:G49)-MIN(C49:G49))/3,IF(K49=4,(SUM(C49:G49)-MAX(C49:G49))/3,SUM(C49:G49)/3))*B49/7.6)","v":""},null,null,0]
[{"$f":"IF(Draw!E49=0,\"\",Draw!E49)","v":""},"",{"$nulls":5},{"$f":"IF(B50=\"\",\"\",IF(K50=5,(SUM(C50:G50)-MAX(C50:G50)-MIN(C50:G50))/3,IF(K50=4,(SUM(C50:G50)-MAX(C50:G50))/3,SUM(C50:G50)/3))*B50/7.6)","v":""},null,null,0]
[{"$f":"IF(Draw!E50=0,\"\",Draw!E50)","v":""},"",{"$nulls":5},{"$f":"IF(B51=\"\",\"\",IF(K51=5,(SUM(C51:G51)-MAX(C51:G51)-MIN(C51:G51))/3,IF(K51=4,(SUM(C51:G51)-MAX(C51:G51))/3,SUM(C51:G51)/3))*B51/7.6)","v":""},null,null,0]
[{"$f":"IF(Draw!E51=0,\"\",Draw!E51)","v":""},"",{"$nulls":5},{"$f":"IF(B52=\"\",\"\",IF(K52=5,(SUM(C52:G52)-MAX(C52:G52)-MIN(C52:G52))/3,IF(K52=4,(SUM(C52:G52)-MAX(C52:G52))/3,SUM(C52:G52)/3))*B52/7.6)","v":""},null,null,0]
[{"$f":"IF(Draw!E52=0,\"\",Draw!E52)","v":""},"",{"$nulls":5},{"$f":"IF(B53=\"\",\"\",IF(K53=5,(SUM(C53:G53)-MAX(C53:G53)-MIN(C53:G53))/3,IF(K53=4,(SUM(C53:G53)-MAX(C53:G53))/3,SUM(C53:G53)/3))*B53/7.6)","v":""},null,null,0]
[{"$f":"IF(Draw!E53=0,\"\",Draw!E53)","v":""},"",{"$nulls":5},{"$f":"IF(B54=\"\",\"\",IF(K54=5,(SUM(C54:G54)-MAX(C54:G54)-MIN(C54:G54))/3,IF(K54=4,(SUM(C54:G54)-MAX(C54:G54))/3,SUM(C54:G54)/3))*B54/7.6)","v":""},null,null,0]
[{"$f":"IF(Draw!E54=0,\"\",Draw!E54)","v":""},"",{"$nulls":5},{"$f":"IF(B55=\"\",\"\",IF(K55=5,(SUM(C55:G55)-MAX(C55:G55)-MIN(C55:G55))/3,IF(K55=4,(SUM(C55:G55)-MAX(C55:G55))/3,SUM(C55:G55)/3))*B55/7.6)","v":""},null,null,0]
[{"$f":"IF(Draw!E55=0,\"\",Draw!E55)","v":""},"",{"$nulls":5},{"$f":"IF(B56=\"\",\"\",IF(K56=5,(SUM(C56:G56)-MAX(C56:G56)-MIN(C56:G56))/3,IF(K56=4,(SUM(C56:G56)-MAX(C56:G56))/3,SUM(C56:G56)/3))*B56/7.6)","v":""},null,null,0]
[{"$f":"IF(Draw!E56=0,\"\",Draw!E56)","v":""},"",{"$nulls":5},{"$f":"IF(B57=\"\",\"\",IF(K57=5,(SUM(C57:G57)-MAX(C57:G57)-MIN(C57:G57))/3,IF(K57=4,(SUM(C57:G57)-MAX(C57:G57))/3,SUM(C57:G57)/3))*B57/7.6)","v":""},null,null,0]
[{"$f":"IF(Draw!E57=0,\"\",Draw!E57)","v":""},"",{"$nulls":5},{"$f":"IF(B58=\"\",\"\",IF(K58=5,(SUM(C58:G58)-MAX(C58:G58)-MIN(C58:G58))/3,IF(K58=4,(SUM(C58:G58)-MAX(C58:G58))/3,SUM(C58:G58)/3))*B58/7.6)","v":""},null,null,0]
[{"$f":"IF(Draw!E58=0,\"\",Draw!E58)","v":""},"",{"$nulls":5},{"$f":"IF(B59=\"\",\"\",IF(K59=5,(SUM(C59:G59)-MAX(C59:G59)-MIN(C59:G59))/3,IF(K59=4,(SUM(C59:G59)-MAX(C59:G59))/3,SUM(C59:G59)/3))*B59/7.6)","v":""},null,null,0]
[{"$f":"IF(Draw!E59=0,\"\",Draw!E59)","v":""},"",{"$nulls":5},{"$f":"IF(B60=\"\",\"\",IF(K60=5,(SUM(C60:G60)-MAX(C60:G60)-MIN(C60:G60))/3,IF(K60=4,(SUM(C60:G60)-MAX(C60:G60))/3,SUM(C60:G60)/3))*B60/7.6)","v":""},null,null,0]
[{"$f":"IF(Draw!E60=0,\"\",Draw!E60)","v":""},"",{"$nulls":5},{"$f":"IF(B61=\"\",\"\",IF(K61=5,(SUM(C61:G61)-MAX(C61:G61)-MIN(C61:G61))/3,IF(K61=4,(SUM(C61:G61)-MAX(C61:G61))/3,SUM(C61:G61)/3))*B61/7.6)","v":""},null,null,0]
[{"$f":"IF(Draw!E61=0,\"\",Draw!E61)","v":""},"",{"$nulls":5},{"$f":"IF(B62=\"\",\"\",IF(K62=5,(SUM(C62:G62)-MAX(C62:G62)-MIN(C62:G62))/3,IF(K62=4,(SUM(C62:G62)-MAX(C62:G62))/3,SUM(C62:G62)/3))*B62/7.6)","v":""},null,null,0]
[{"$f":"IF(Draw!E62=0,\"\",Draw!E62)","v":""},"",{"$nulls":5},{"$f":"IF(B63=\"\",\"\",IF(K63=5,(SUM(C63:G63)-MAX(C63:G63)-MIN(C63:G63))/3,IF(K63=4,(SUM(C63:G63)-MAX(C63:G63))/3,SUM(C63:G63)/3))*B63/7.6)","v":""},null,null,0]
[{"$f":"IF(Draw!E63=0,\"\",Draw!E63)","v":""},"",{"$nulls":5},{"$f":"IF(B64=\"\",\"\",IF(K64=5,(SUM(C64:G64)-MAX(C64:G64)-MIN(C64:G64))/3,IF(K64=4,(SUM(C64:G64)-MAX(C64:G64))/3,SUM(C64:G64)/3))*B64/7.6)","v":""},null,null,0]
[{"$f":"IF(Draw!E64=0,\"\",Draw!E64)","v":""},"",{"$nulls":5},{"$f":"IF(B65=\"\",\"\",IF(K65=5,(SUM(C65:G65)-MAX(C65:G65)-MIN(C65:G65))/3,IF(K65=4,(SUM(C65:G65)-MAX(C65:G65))/3,SUM(C65:G65)/3))*B65/7.6)","v":""},null,null,0]
[{"$f":"IF(Draw!E65=0,\"\",Draw!E65)","v":""},"",{"$nulls":5},{"$f":"IF(B66=\"\",\"\",IF(K66=5,(SUM(C66:G66)-MAX(C66:G66)-MIN(C66:G66))/3,IF(K66=4,(SUM(C66:G66)-MAX(C66:G66))/3,SUM(C66:G66)/3))*B66/7.6)","v":""},null,null,0]
[{"$f":"IF(Draw!E66=0,\"\",Draw!E66)","v":""},"",{"$nulls":5},{"$f":"IF(B67=\"\",\"\",IF(K67=5,(SUM(C67:G67)-MAX(C67:G67)-MIN(C67:G67))/3,IF(K67=4,(SUM(C67:G67)-MAX(C67:G67))/3,SUM(C67:G67)/3))*B67/7.6)","v":""},null,null,0]
[{"$f":"IF(Draw!E67=0,\"\",Draw!E67)","v":""},"",{"$nulls":5},{"$f":"IF(B68=\"\",\"\",IF(K68=5,(SUM(C68:G68)-MAX(C68:G68)-MIN(C68:G68))/3,IF(K68=4,(SUM(C68:G68)-MAX(C68:G68))/3,SUM(C68:G68)/3))*B68/7.6)","v":""},null,null,{"$f":"COUNT(C68:G68)","v":0}]
[{"$f":"IF(Draw!E68=0,\"\",Draw!E68)","v":""},"",{"$nulls":5},{"$f":"IF(B69=\"\",\"\",IF(K69=5,(SUM(C69:G69)-MAX(C69:G69)-MIN(C69:G69))/3,IF(K69=4,(SUM(C69:G69)-MAX(C69:G69))/3,SUM(C69:G69)/3))*B69/7.6)","v":""},null,null,0]
[{"$f":"IF(Draw!E69=0,\"\",Draw!E69)","v":""},"",{"$nulls":5},{"$f":"IF(B70=\"\",\"\",IF(K70=5,(SUM(C70:G70)-MAX(C70:G70)-MIN(C70:G70))/3,IF(K70=4,(SUM(C70:G70)-MAX(C70:G70))/3,SUM(C70:G70)/3))*B70/7.6)","v":""},null,null,0]
[{"$f":"IF(Draw!E70=0,\"\",Draw!E70)","v":""},{"$f":"IF(A71=\"\",\"\",B$3)","v":""},{"$nulls":5},{"$f":"IF(B71=\"\",\"\",IF(K71=5,(SUM(C71:G71)-MAX(C71:G71)-MIN(C71:G71))/3,IF(K71=4,(SUM(C71:G71)-MAX(C71:G71))/3,SUM(C71:G71)/3))*B71/7.6)","v":""},null,null,0]
[{"$f":"IF(Draw!E71=0,\"\",Draw!E71)","v":""},"",{"$nulls":5},{"$f":"IF(B72=\"\",\"\",IF(K72=5,(SUM(C72:G72)-MAX(C72:G72)-MIN(C72:G72))/3,IF(K72=4,(SUM(C72:G72)-MAX(C72:G72))/3,SUM(C72:G72)/3))*B72/7.6)","v":""},null,null,0]
[{"$f":"IF(Draw!E72=0,\"\",Draw!E72)","v":""},"",{"$nulls":5},{"$f":"IF(B73=\"\",\"\",IF(K73=5,(SUM(C73:G73)-MAX(C73:G73)-MIN(C73:G73))/3,IF(K73=4,(SUM(C73:G73)-MAX(C73:G73))/3,SUM(C73:G73)/3))*B73/7.6)","v":""},null,null,0]
[{"$f":"IF(Draw!E73=0,\"\",Draw!E73)","v":""},"",{"$nulls":5},{"$f":"IF(B74=\"\",\"\",IF(K74=5,(SUM(C74:G74)-MAX(C74:G74)-MIN(C74:G74))/3,IF(K74=4,(SUM(C74:G74)-MAX(C74:G74))/3,SUM(C74:G74)/3))*B74/7.6)","v":""},null,null,0]
[{"$f":"IF(Draw!E74=0,\"\",Draw!E74)","v":""},"",{"$nulls":5},{"$f":"IF(B75=\"\",\"\",IF(K75=5,(SUM(C75:G75)-MAX(C75:G75)-MIN(C75:G75))/3,IF(K75=4,(SUM(C75:G75)-MAX(C75:G75))/3,SUM(C75:G75)/3))*B75/7.6)","v":""},null,null,0]
[{"$f":"IF(Draw!E75=0,\"\",Draw!E75)","v":""},"",{"$nulls":5},{"$f":"IF(B76=\"\",\"\",IF(K76=5,(SUM(C76:G76)-MAX(C76:G76)-MIN(C76:G76))/3,IF(K76=4,(SUM(C76:G76)-MAX(C76:G76))/3,SUM(C76:G76)/3))*B76/7.6)","v":""},null,null,0]
[{"$f":"IF(Draw!E76=0,\"\",Draw!E76)","v":""},"",{"$nulls":5},{"$f":"IF(B77=\"\",\"\",IF(K77=5,(SUM(C77:G77)-MAX(C77:G77)-MIN(C77:G77))/3,IF(K77=4,(SUM(C77:G77)-MAX(C77:G77))/3,SUM(C77:G77)/3))*B77/7.6)","v":""},null,null,0]
[{"$f":"IF(Draw!E77=0,\"\",Draw!E77)","v":""},"",{"$nulls":5},{"$f":"IF(B78=\"\",\"\",IF(K78=5,(SUM(C78:G78)-MAX(C78:G78)-MIN(C78:G78))/3,IF(K78=4,(SUM(C78:G78)-MAX(C78:G78))/3,SUM(C78:G78)/3))*B78/7.6)","v":""},null,null,0]
[{"$f":"IF(Draw!E78=0,\"\",Draw!E78)","v":""},"",{"$nulls":5},{"$f":"IF(B79=\"\",\"\",IF(K79=5,(SUM(C79:G79)-MAX(C79:G79)-MIN(C79:G79))/3,IF(K79=4,(SUM(C79:G79)-MAX(C79:G79))/3,SUM(C79:G79)/3))*B79/7.6)","v":""},null,null,0]
[{"$f":"IF(Draw!E79=0,\"\",Draw!E79)","v":""},"",{"$nulls":5},{"$f":"IF(B80=\"\",\"\",IF(K80=5,(SUM(C80:G80)-MAX(C80:G80)-MIN(C80:G80))/3,IF(K80=4,(SUM(C80:G80)-MAX(C80:G80))/3,SUM(C80:G80)/3))*B80/7.6)","v":""},null,null,0]
[{"$f":"IF(Draw!E80=0,\"\",Draw!E80)","v":""},"",{"$nulls":5},{"$f":"IF(B81=\"\",\"\",IF(K81=5,(SUM(C81:G81)-MAX(C81:G81)-MIN(C81:G81))/3,IF(K81=4,(SUM(C81:G81)-MAX(C81:G81))/3,SUM(C81:G81)/3))*B81/7.6)","v":""},null,null,0]
[{"$f":"IF(Draw!E81=0,\"\",Draw!E81)","v":""},"",{"$nulls":5},{"$f":"IF(B82=\"\",\"\",IF(K82=5,(SUM(C82:G82)-MAX(C82:G82)-MIN(C82:G82))/3,IF(K82=4,(SUM(C82:G82)-MAX(C82:G82))/3,SUM(C82:G82)/3))*B82/7.6)","v":""},null,null,0]
[{"$f":"IF(Draw!E82=0,\"\",Draw!E82)","v":""},"",{"$nulls":5},{"$f":"IF(B83=\"\",\"\",IF(K83=5,(SUM(C83:G83)-MAX(C83:G83)-MIN(C83:G83))/3,IF(K83=4,(SUM(C83:G83)-MAX(C83:G83))/3,SUM(C83:G83)/3))*B83/7.6)","v":""},null,null,0]
[{"$f":"IF(Draw!E83=0,\"\",Draw!E83)","v":""},"",{"$nulls":5},{"$f":"IF(B84=\"\",\"\",IF(K84=5,(SUM(C84:G84)-MAX(C84:G84)-MIN(C84:G84))/3,IF(K84=4,(SUM(C84:G84)-MAX(C84:G84))/3,SUM(C84:G84)/3))*B84/7.6)","v":""},null,null,0]
[{"$f":"IF(Draw!E84=0,\"\",Draw!E84)","v":""},"",{"$nulls":5},{"$f":"IF(B85=\"\",\"\",IF(K85=5,(SUM(C85:G85)-MAX(C85:G85)-MIN(C85:G85))/3,IF(K85=4,(SUM(C85:G85)-MAX(C85:G85))/3,SUM(C85:G85)/3))*B85/7.6)","v":""},null,null,0]
[{"$f":"IF(Draw!E85=0,\"\",Draw!E85)","v":""},"",{"$nulls":5},{"$f":"IF(B86=\"\",\"\",IF(K86=5,(SUM(C86:G86)-MAX(C86:G86)-MIN(C86:G86))/3,IF(K86=4,(SUM(C86:G86)-MAX(C86:G86))/3,SUM(C86:G86)/3))*B86/7.6)","v":""},null,null,0]
[{"$f":"IF(Draw!E86=0,\"\",Draw!E86)","v":""},"",{"$nulls":5},{"$f":"IF(B87=\"\",\"\",IF(K87=5,(SUM(C87:G87)-MAX(C87:G87)-MIN(C87:G87))/3,IF(K87=4,(SUM(C87:G87)-MAX(C87:G87))/3,SUM(C87:G87)/3))*B87/7.6)","v":""},null,null,0]
[{"$f":"IF(Draw!E87=0,\"\",Draw!E87)","v":""},"",{"$nulls":5},{"$f":"IF(B88=\"\",\"\",IF(K88=5,(SUM(C88:G88)-MAX(C88:G88)-MIN(C88:G88))/3,IF(K88=4,(SUM(C88:G88)-MAX(C88:G88))/3,SUM(C88:G88)/3))*B88/7.6)","v":""},null,null,0]
[{"$f":"IF(Draw!E88=0,\"\",Draw!E88)","v":""},"",{"$nulls":5},{"$f":"IF(B89=\"\",\"\",IF(K89=5,(SUM(C89:G89)-MAX(C89:G89)-MIN(C89:G89))/3,IF(K89=4,(SUM(C89:G89)-MAX(C89:G89))/3,SUM(C89:G89)/3))*B89/7.6)","v":""},null,null,0]
[{"$f":"IF(Draw!E89=0,\"\",Draw!E89)","v":""},"",{"$nulls":5},{"$f":"IF(B90=\"\",\"\",IF(K90=5,(SUM(C90:G90)-MAX(C90:G90)-MIN(C90:G90))/3,IF(K90=4,(SUM(C90:G90)-MAX(C90:G90))/3,SUM(C90:G90)/3))*B90/7.6)","v":""},null,null,0]
[{"$f":"IF(Draw!E90=0,\"\",Draw!E90)","v":""},"",{"$nulls":5},{"$f":"IF(B91=\"\",\"\",IF(K91=5,(SUM(C91:G91)-MAX(C91:G91)-MIN(C91:G91))/3,IF(K91=4,(SUM(C91:G91)-MAX(C91:G91))/3,SUM(C91:G91)/3))*B91/7.6)","v":""},null,null,0]
[{"$f":"IF(Draw!E91=0,\"\",Draw!E91)","v":""},"",{"$nulls":5},{"$f":"IF(B92=\"\",\"\",IF(K92=5,(SUM(C92:G92)-MAX(C92:G92)-MIN(C92:G92))/3,IF(K92=4,(SUM(C92:G92)-MAX(C92:G92))/3,SUM(C92:G92)/3))*B92/7.6)","v":""},null,null,0]
[{"$f":"IF(Draw!E92=0,\"\",Draw!E92)","v":""},"",{"$nulls":5},{"$f":"IF(B93=\"\",\"\",IF(K93=5,(SUM(C93:G93)-MAX(C93:G93)-MIN(C93:G93))/3,IF(K93=4,(SUM(C93:G93)-MAX(C93:G93))/3,SUM(C93:G93)/3))*B93/7.6)","v":""},null,null,0]
[{"$f":"IF(Draw!E93=0,\"\",Draw!E93)","v":""},"",{"$nulls":5},{"$f":"IF(B94=\"\",\"\",IF(K94=5,(SUM(C94:G94)-MAX(C94:G94)-MIN(C94:G94))/3,IF(K94=4,(SUM(C94:G94)-MAX(C94:G94))/3,SUM(C94:G94)/3))*B94/7.6)","v":""},null,null,0]
[{"$f":"IF(Draw!E94=0,\"\",Draw!E94)","v":""},"",{"$nulls":5},{"$f":"IF(B95=\"\",\"\",IF(K95=5,(SUM(C95:G95)-MAX(C95:G95)-MIN(C95:G95))/3,IF(K95=4,(SUM(C95:G95)-MAX(C95:G95))/3,SUM(C95:G95)/3))*B95/7.6)","v":""},null,null,0]
[{"$f":"IF(Draw!E95=0,\"\",Draw!E95)","v":""},"",{"$nulls":5},{"$f":"IF(B96=\"\",\"\",IF(K96=5,(SUM(C96:G96)-MAX(C96:G96)-MIN(C96:G96))/3,IF(K96=4,(SUM(C96:G96)-MAX(C96:G96))/3,SUM(C96:G96)/3))*B96/7.6)","v":""},null,null,0]
[{"$f":"IF(Draw!E96=0,\"\",Draw!E96)","v":""},"",{"$nulls":5},{"$f":"IF(B97=\"\",\"\",IF(K97=5,(SUM(C97:G97)-MAX(C97:G97)-MIN(C97:G97))/3,IF(K97=4,(SUM(C97:G97)-MAX(C97:G97))/3,SUM(C97:G97)/3))*B97/7.6)","v":""},null,null,0]
[{"$f":"IF(Draw!E97=0,\"\",Draw!E97)","v":""},"",{"$nulls":5},{"$f":"IF(B98=\"\",\"\",IF(K98=5,(SUM(C98:G98)-MAX(C98:G98)-MIN(C98:G98))/3,IF(K98=4,(SUM(C98:G98)-MAX(C98:G98))/3,SUM(C98:G98)/3))*B98/7.6)","v":""},null,null,0]
[{"$f":"IF(Draw!E98=0,\"\",Draw!E98)","v":""},"",{"$nulls":5},{"$f":"IF(B99=\"\",\"\",IF(K99=5,(SUM(C99:G99)-MAX(C99:G99)-MIN(C99:G99))/3,IF(K99=4,(SUM(C99:G99)-MAX(C99:G99))/3,SUM(C99:G99)/3))*B99/7.6)","v":""},null,null,0]
[{"$f":"IF(Draw!E99=0,\"\",Draw!E99)","v":""},"",{"$nulls":5},{"$f":"IF(B100=\"\",\"\",IF(K100=5,(SUM(C100:G100)-MAX(C100:G100)-MIN(C100:G100))/3,IF(K100=4,(SUM(C100:G100)-MAX(C100:G100))/3,SUM(C100:G100)/3))*B100/7.6)","v":""},null,null,0]
[{"$f":"IF(Draw!E100=0,\"\",Draw!E100)","v":""},"",{"$nulls":5},{"$f":"IF(B101=\"\",\"\",IF(K101=5,(SUM(C101:G101)-MAX(C101:G101)-MIN(C101:G101))/3,IF(K101=4,(SUM(C101:G101)-MAX(C101:G101))/3,SUM(C101:G101)/3))*B101/7.6)","v":""},null,null,0]
[{"$f":"IF(Draw!E101=0,\"\",Draw!E101)","v":""},"",{"$nulls":5},{"$f":"IF(B102=\"\",\"\",IF(K102=5,(SUM(C102:G102)-MAX(C102:G102)-MIN(C102:G102))/3,IF(K102=4,(SUM(C102:G102)-MAX(C102:G102))/3,SUM(C102:G102)/3))*B102/7.6)","v":""},null,null,0]
[{"$f":"IF(Draw!E102=0,\"\",Draw!E102)","v":""},"",{"$nulls":5},{"$f":"IF(B103=\"\",\"\",IF(K103=5,(SUM(C103:G103)-MAX(C103:G103)-MIN(C103:G103))/3,IF(K103=4,(SUM(C103:G103)-MAX(C103:G103))/3,SUM(C103:G103)/3))*B103/7.6)","v":""},null,null,0]
[{"$f":"IF(Draw!E103=0,\"\",Draw!E103)","v":""},"",{"$nulls":5},{"$f":"IF(B104=\"\",\"\",IF(K104=5,(SUM(C104:G104)-MAX(C104:G104)-MIN(C104:G104))/3,IF(K104=4,(SUM(C104:G104)-MAX(C104:G104))/3,SUM(C104:G104)/3))*B104/7.6)","v":""},null,null,0]
[{"$f":"IF(Draw!E104=0,\"\",Draw!E104)","v":""},"",{"$nulls":5},{"$f":"IF(B105=\"\",\"\",IF(K105=5,(SUM(C105:G105)-MAX(C105:G105)-MIN(C105:G105))/3,IF(K105=4,(SUM(C105:G105)-MAX(C105:G105))/3,SUM(C105:G105)/3))*B105/7.6)","v":""},null,null,0]
[{"$f":"IF(Draw!E105=0,\"\",Draw!E105)","v":""},"",{"$nulls":5},{"$f":"IF(B106=\"\",\"\",IF(K106=5,(SUM(C106:G106)-MAX(C106:G106)-MIN(C106:G106))/3,IF(K106=4,(SUM(C106:G106)-MAX(C106:G106))/3,SUM(C106:G106)/3))*B106/7.6)","v":""},null,null,0]
[{"$f":"IF(Draw!E106=0,\"\",Draw!E106)","v":""},"",{"$nulls":5},{"$f":"IF(B107=\"\",\"\",IF(K107=5,(SUM(C107:G107)-MAX(C107:G107)-MIN(C107:G107))/3,IF(K107=4,(SUM(C107:G107)-MAX(C107:G107))/3,SUM(C107:G107)/3))*B107/7.6)","v":""},null,null,0]
[{"$f":"IF(Draw!E107=0,\"\",Draw!E107)","v":""},"",{"$nulls":5},{"$f":"IF(B108=\"\",\"\",IF(K108=5,(SUM(C108:G108)-MAX(C108:G108)-MIN(C108:G108))/3,IF(K108=4,(SUM(C108:G108)-MAX(C108:G108))/3,SUM(C108:G108)/3))*B108/7.6)","v":""},null,null,0]
[{"$f":"IF(Draw!E108=0,\"\",Draw!E108)","v":""},"",{"$nulls":5},{"$f":"IF(B109=\"\",\"\",IF(K109=5,(SUM(C109:G109)-MAX(C109:G109)-MIN(C109:G109))/3,IF(K109=4,(SUM(C109:G109)-MAX(C109:G109))/3,SUM(C109:G109)/3))*B109/7.6)","v":""},null,null,0]
[{"$f":"IF(Draw!E109=0,\"\",Draw!E109)","v":""},"",{"$nulls":5},{"$f":"IF(B110=\"\",\"\",IF(K110=5,(SUM(C110:G110)-MAX(C110:G110)-MIN(C110:G110))/3,IF(K110=4,(SUM(C110:G110)-MAX(C110:G110))/3,SUM(C110:G110)/3))*B110/7.6)","v":""},null,null,0]
[{"$f":"IF(Draw!E110=0,\"\",Draw!E110)","v":""},"",{"$nulls":5},{"$f":"IF(B111=\"\",\"\",IF(K111=5,(SUM(C111:G111)-MAX(C111:G111)-MIN(C111:G111))/3,IF(K111=4,(SUM(C111:G111)-MAX(C111:G111))/3,SUM(C111:G111)/3))*B111/7.6)","v":""},null,null,0]
[{"$f":"IF(Draw!E111=0,\"\",Draw!E111)","v":""},"",{"$nulls":5},{"$f":"IF(B112=\"\",\"\",IF(K112=5,(SUM(C112:G112)-MAX(C112:G112)-MIN(C112:G112))/3,IF(K112=4,(SUM(C112:G112)-MAX(C112:G112))/3,SUM(C112:G112)/3))*B112/7.6)","v":""},null,null,0]
[{"$f":"IF(Draw!E112=0,\"\",Draw!E112)","v":""},"",{"$nulls":5},{"$f":"IF(B113=\"\",\"\",IF(K113=5,(SUM(C113:G113)-MAX(C113:G113)-MIN(C113:G113))/3,IF(K113=4,(SUM(C113:G113)-MAX(C113:G113))/3,SUM(C113:G113)/3))*B113/7.6)","v":""},null,null,0]
[{"$f":"IF(Draw!E113=0,\"\",Draw!E113)","v":""},"",{"$nulls":5},{"$f":"IF(B114=\"\",\"\",IF(K114=5,(SUM(C114:G114)-MAX(C114:G114)-MIN(C114:G114))/3,IF(K114=4,(SUM(C114:G114)-MAX(C114:G114))/3,SUM(C114:G114)/3))*B114/7.6)","v":""},null,null,0]
[{"$f":"IF(Draw!E114=0,\"\",Draw!E114)","v":""},"",{"$nulls":5},{"$f":"IF(B115=\"\",\"\",IF(K115=5,(SUM(C115:G115)-MAX(C115:G115)-MIN(C115:G115))/3,IF(K115=4,(SUM(C115:G115)-MAX(C115:G115))/3,SUM(C115:G115)/3))*B115/7.6)","v":""},null,null,0]
[{"$f":"IF(Draw!E115=0,\"\",Draw!E115)","v":""},"",{"$nulls":5},{"$f":"IF(B116=\"\",\"\",IF(K116=5,(SUM(C116:G116)-MAX(C116:G116)-MIN(C116:G116))/3,IF(K116=4,(SUM(C116:G116)-MAX(C116:G116))/3,SUM(C116:G116)/3))*B116/7.6)","v":""},null,null,0]
[{"$f":"IF(Draw!E116=0,\"\",Draw!E116)","v":""},"",{"$nulls":5},{"$f":"IF(B117=\"\",\"\",IF(K117=5,(SUM(C117:G117)-MAX(C117:G117)-MIN(C117:G117))/3,IF(K117=4,(SUM(C117:G117)-MAX(C117:G117))/3,SUM(C117:G117)/3))*B117/7.6)","v":""},null,null,0]
[{"$f":"IF(Draw!E117=0,\"\",Draw!E117)","v":""},"",{"$nulls":5},{"$f":"IF(B118=\"\",\"\",IF(K118=5,(SUM(C118:G118)-MAX(C118:G118)-MIN(C118:G118))/3,IF(K118=4,(SUM(C118:G118)-MAX(C118:G118))/3,SUM(C118:G118)/3))*B118/7.6)","v":""},null,null,0]
[{"$f":"IF(Draw!E118=0,\"\",Draw!E118)","v":""},"",{"$nulls":5},{"$f":"IF(B119=\"\",\"\",IF(K119=5,(SUM(C119:G119)-MAX(C119:G119)-MIN(C119:G119))/3,IF(K119=4,(SUM(C119:G119)-MAX(C119:G119))/3,SUM(C119:G119)/3))*B119/7.6)","v":""},null,null,0]
[{"$f":"IF(Draw!E119=0,\"\",Draw!E119)","v":""},"",{"$nulls":5},{"$f":"IF(B120=\"\",\"\",IF(K120=5,(SUM(C120:G120)-MAX(C120:G120)-MIN(C120:G120))/3,IF(K120=4,(SUM(C120:G120)-MAX(C120:G120))/3,SUM(C120:G120)/3))*B120/7.6)","v":""},null,null,0]
[{"$f":"IF(Draw!E120=0,\"\",Draw!E120)","v":""},"",{"$nulls":5},{"$f":"IF(B121=\"\",\"\",IF(K121=5,(SUM(C121:G121)-MAX(C121:G121)-MIN(C121:G121))/3,IF(K121=4,(SUM(C121:G121)-MAX(C121:G121))/3,SUM(C121:G121)/3))*B121/7.6)","v":""},null,null,0]
[{"$f":"IF(Draw!E121=0,\"\",Draw!E121)","v":""},"",{"$nulls":5},{"$f":"IF(B122=\"\",\"\",IF(K122=5,(SUM(C122:G122)-MAX(C122:G122)-MIN(C122:G122))/3,IF(K122=4,(SUM(C122:G122)-MAX(C122:G122))/3,SUM(C122:G122)/3))*B122/7.6)","v":""},null,null,0]
[{"$f":"IF(Draw!E122=0,\"\",Draw!E122)","v":""},"",{"$nulls":5},{"$f":"IF(B123=\"\",\"\",IF(K123=5,(SUM(C123:G123)-MAX(C123:G123)-MIN(C123:G123))/3,IF(K123=4,(SUM(C123:G123)-MAX(C123:G123))/3,SUM(C123:G123)/3))*B123/7.6)","v":""},null,null,0]
[{"$f":"IF(Draw!E123=0,\"\",Draw!E123)","v":""},"",{"$nulls":5},{"$f":"IF(B124=\"\",\"\",IF(K124=5,(SUM(C124:G124)-MAX(C124:G124)-MIN(C124:G124))/3,IF(K124=4,(SUM(C124:G124)-MAX(C124:G124))/3,SUM(C124:G124)/3))*B124/7.6)","v":""},null,null,0]
[{"$f":"IF(Draw!E124=0,\"\",Draw!E124)","v":""},"",{"$nulls":5},{"$f":"IF(B125=\"\",\"\",IF(K125=5,(SUM(C125:G125)-MAX(C125:G125)-MIN(C125:G125))/3,IF(K125=4,(SUM(C125:G125)-MAX(C125:G125))/3,SUM(C125:G125)/3))*B125/7.6)","v":""},null,null,0]
[{"$f":"IF(Draw!E125=0,\"\",Draw!E125)","v":""},"",{"$nulls":5},{"$f":"IF(B126=\"\",\"\",IF(K126=5,(SUM(C126:G126)-MAX(C126:G126)-MIN(C126:G126))/3,IF(K126=4,(SUM(C126:G126)-MAX(C126:G126))/3,SUM(C126:G126)/3))*B126/7.6)","v":""},null,null,0]
[{"$f":"IF(Draw!E126=0,\"\",Draw!E126)","v":""},"",{"$nulls":5},{"$f":"IF(B127=\"\",\"\",IF(K127=5,(SUM(C127:G127)-MAX(C127:G127)-MIN(C127:G127))/3,IF(K127=4,(SUM(C127:G127)-MAX(C127:G127))/3,SUM(C127:G127)/3))*B127/7.6)","v":""},null,null,0]
[{"$f":"IF(Draw!E127=0,\"\",Draw!E127)","v":""},"",{"$nulls":5},{"$f":"IF(B128=\"\",\"\",IF(K128=5,(SUM(C128:G128)-MAX(C128:G128)-MIN(C128:G128))/3,IF(K128=4,(SUM(C128:G128)-MAX(C128:G128))/3,SUM(C128:G128)/3))*B128/7.6)","v":""},null,null,0]
[{"$f":"IF(Draw!E128=0,\"\",Draw!E128)","v":""},"",{"$nulls":5},{"$f":"IF(B129=\"\",\"\",IF(K129=5,(SUM(C129:G129)-MAX(C129:G129)-MIN(C129:G129))/3,IF(K129=4,(SUM(C129:G129)-MAX(C129:G129))/3,SUM(C129:G129)/3))*B129/7.6)","v":""},null,null,0]
[{"$f":"IF(Draw!E129=0,\"\",Draw!E129)","v":""},"",{"$nulls":5},{"$f":"IF(B130=\"\",\"\",IF(K130=5,(SUM(C130:G130)-MAX(C130:G130)-MIN(C130:G130))/3,IF(K130=4,(SUM(C130:G130)-MAX(C130:G130))/3,SUM(C130:G130)/3))*B130/7.6)","v":""},null,null,0]
[{"$f":"IF(Draw!E130=0,\"\",Draw!E130)","v":""},"",{"$nulls":5},{"$f":"IF(B131=\"\",\"\",IF(K131=5,(SUM(C131:G131)-MAX(C131:G131)-MIN(C131:G131))/3,IF(K131=4,(SUM(C131:G131)-MAX(C131:G131))/3,SUM(C131:G131)/3))*B131/7.6)","v":""},null,null,0]
[{"$f":"IF(Draw!E131=0,\"\",Draw!E131)","v":""},"",{"$nulls":5},{"$f":"IF(B132=\"\",\"\",IF(K132=5,(SUM(C132:G132)-MAX(C132:G132)-MIN(C132:G132))/3,IF(K132=4,(SUM(C132:G132)-MAX(C132:G132))/3,SUM(C132:G132)/3))*B132/7.6)","v":""},null,null,{"$f":"COUNT(C132:G132)","v":0}]
[{"$f":"IF(Draw!E132=0,\"\",Draw!E132)","v":""},"",{"$nulls":5},{"$f":"IF(B133=\"\",\"\",IF(K133=5,(SUM(C133:G133)-MAX(C133:G133)-MIN(C133:G133))/3,IF(K133=4,(SUM(C133:G133)-MAX(C133:G133))/3,SUM(C133:G133)/3))*B133/7.6)","v":""},null,null,0]
[{"$f":"IF(Draw!E133=0,\"\",Draw!E133)","v":""},"",{"$nulls":5},{"$f":"IF(B134=\"\",\"\",IF(K134=5,(SUM(C134:G134)-MAX(C134:G134)-MIN(C134:G134))/3,IF(K134=4,(SUM(C134:G134)-MAX(C134:G134))/3,SUM(C134:G134)/3))*B134/7.6)","v":""},null,null,0]
[{"$f":"IF(Draw!E134=0,\"\",Draw!E134)","v":""},{"$f":"IF(A135=\"\",\"\",B$3)","v":""},{"$nulls":5},{"$f":"IF(B135=\"\",\"\",IF(K135=5,(SUM(C135:G135)-MAX(C135:G135)-MIN(C135:G135))/3,IF(K135=4,(SUM(C135:G135)-MAX(C135:G135))/3,SUM(C135:G135)/3))*B135/7.6)","v":""},null,null,0]
[{"$f":"IF(Draw!E135=0,\"\",Draw!E135)","v":""},"",{"$nulls":5},{"$f":"IF(B136=\"\",\"\",IF(K136=5,(SUM(C136:G136)-MAX(C136:G136)-MIN(C136:G136))/3,IF(K136=4,(SUM(C136:G136)-MAX(C136:G136))/3,SUM(C136:G136)/3))*B136/7.6)","v":""},null,null,0]
[{"$f":"IF(Draw!E136=0,\"\",Draw!E136)","v":""},"",{"$nulls":5},{"$f":"IF(B137=\"\",\"\",IF(K137=5,(SUM(C137:G137)-MAX(C137:G137)-MIN(C137:G137))/3,IF(K137=4,(SUM(C137:G137)-MAX(C137:G137))/3,SUM(C137:G137)/3))*B137/7.6)","v":""},null,null,0]
[{"$f":"IF(Draw!E137=0,\"\",Draw!E137)","v":""},"",{"$nulls":5},{"$f":"IF(B138=\"\",\"\",IF(K138=5,(SUM(C138:G138)-MAX(C138:G138)-MIN(C138:G138))/3,IF(K138=4,(SUM(C138:G138)-MAX(C138:G138))/3,SUM(C138:G138)/3))*B138/7.6)","v":""},null,null,0]
[{"$f":"IF(Draw!E138=0,\"\",Draw!E138)","v":""},"",{"$nulls":5},{"$f":"IF(B139=\"\",\"\",IF(K139=5,(SUM(C139:G139)-MAX(C139:G139)-MIN(C139:G139))/3,IF(K139=4,(SUM(C139:G139)-MAX(C139:G139))/3,SUM(C139:G139)/3))*B139/7.6)","v":""},null,null,0]
[{"$f":"IF(Draw!E139=0,\"\",Draw!E139)","v":""},"",{"$nulls":5},{"$f":"IF(B140=\"\",\"\",IF(K140=5,(SUM(C140:G140)-MAX(C140:G140)-MIN(C140:G140))/3,IF(K140=4,(SUM(C140:G140)-MAX(C140:G140))/3,SUM(C140:G140)/3))*B140/7.6)","v":""},null,null,0]
[{"$f":"IF(Draw!E140=0,\"\",Draw!E140)","v":""},"",{"$nulls":5},{"$f":"IF(B141=\"\",\"\",IF(K141=5,(SUM(C141:G141)-MAX(C141:G141)-MIN(C141:G141))/3,IF(K141=4,(SUM(C141:G141)-MAX(C141:G141))/3,SUM(C141:G141)/3))*B141/7.6)","v":""},null,null,0]
[{"$f":"IF(Draw!E141=0,\"\",Draw!E141)","v":""},"",{"$nulls":5},{"$f":"IF(B142=\"\",\"\",IF(K142=5,(SUM(C142:G142)-MAX(C142:G142)-MIN(C142:G142))/3,IF(K142=4,(SUM(C142:G142)-MAX(C142:G142))/3,SUM(C142:G142)/3))*B142/7.6)","v":""},null,null,0]
[{"$f":"IF(Draw!E142=0,\"\",Draw!E142)","v":""},"",{"$nulls":5},{"$f":"IF(B143=\"\",\"\",IF(K143=5,(SUM(C143:G143)-MAX(C143:G143)-MIN(C143:G143))/3,IF(K143=4,(SUM(C143:G143)-MAX(C143:G143))/3,SUM(C143:G143)/3))*B143/7.6)","v":""},null,null,0]
[{"$f":"IF(Draw!E143=0,\"\",Draw!E143)","v":""},"",{"$nulls":5},{"$f":"IF(B144=\"\",\"\",IF(K144=5,(SUM(C144:G144)-MAX(C144:G144)-MIN(C144:G144))/3,IF(K144=4,(SUM(C144:G144)-MAX(C144:G144))/3,SUM(C144:G144)/3))*B144/7.6)","v":""},null,null,0]
[{"$f":"IF(Draw!E144=0,\"\",Draw!E144)","v":""},"",{"$nulls":5},{"$f":"IF(B145=\"\",\"\",IF(K145=5,(SUM(C145:G145)-MAX(C145:G145)-MIN(C145:G145))/3,IF(K145=4,(SUM(C145:G145)-MAX(C145:G145))/3,SUM(C145:G145)/3))*B145/7.6)","v":""},null,null,0]
[{"$f":"IF(Draw!E145=0,\"\",Draw!E145)","v":""},"",{"$nulls":5},{"$f":"IF(B146=\"\",\"\",IF(K146=5,(SUM(C146:G146)-MAX(C146:G146)-MIN(C146:G146))/3,IF(K146=4,(SUM(C146:G146)-MAX(C146:G146))/3,SUM(C146:G146)/3))*B146/7.6)","v":""},null,null,0]
[{"$f":"IF(Draw!E146=0,\"\",Draw!E146)","v":""},"",{"$nulls":5},{"$f":"IF(B147=\"\",\"\",IF(K147=5,(SUM(C147:G147)-MAX(C147:G147)-MIN(C147:G147))/3,IF(K147=4,(SUM(C147:G147)-MAX(C147:G147))/3,SUM(C147:G147)/3))*B147/7.6)","v":""},null,null,0]
[{"$f":"IF(Draw!E147=0,\"\",Draw!E147)","v":""},"",{"$nulls":5},{"$f":"IF(B148=\"\",\"\",IF(K148=5,(SUM(C148:G148)-MAX(C148:G148)-MIN(C148:G148))/3,IF(K148=4,(SUM(C148:G148)-MAX(C148:G148))/3,SUM(C148:G148)/3))*B148/7.6)","v":""},null,null,0]
[{"$f":"IF(Draw!E148=0,\"\",Draw!E148)","v":""},"",{"$nulls":5},{"$f":"IF(B149=\"\",\"\",IF(K149=5,(SUM(C149:G149)-MAX(C149:G149)-MIN(C149:G149))/3,IF(K149=4,(SUM(C149:G149)-MAX(C149:G149))/3,SUM(C149:G149)/3))*B149/7.6)","v":""},null,null,0]
[{"$f":"IF(Draw!E149=0,\"\",Draw!E149)","v":""},"",{"$nulls":5},{"$f":"IF(B150=\"\",\"\",IF(K150=5,(SUM(C150:G150)-MAX(C150:G150)-MIN(C150:G150))/3,IF(K150=4,(SUM(C150:G150)-MAX(C150:G150))/3,SUM(C150:G150)/3))*B150/7.6)","v":""},null,null,0]

{"sheet":"Fig 4 Walkover","index":4,"n_rows":150,"n_cols":11,"rows_kept":150,"merged":[[0,2,0,6]]}
[null,"Figure #4:","360 Walkover Front"]
["#","Degree of Difficulty","Judge 1","Judge 2","Judge 3","Judge 4","Judge 5","Score","Penalty"]
[{"$f":"IF(Draw!E2=0,\"\",Draw!E2)","v":1},2.1,{"$nulls":5},{"$f":"IF(B3=\"\",\"\",IF(K3=5,(SUM(C3:G3)-MAX(C3:G3)-MIN(C3:G3))/3,IF(K3=4,(SUM(C3:G3)-MAX(C3:G3))/3,SUM(C3:G3)/3))*B3/7.6)","v":{"v":0,"d":"0.000"}},null,null,{"$f":"COUNT(C3:G3)","v":0}]
[{"$f":"IF(Draw!E3=0,\"\",Draw!E3)","v":2},{"$f":"IF(A4=\"\",\"\",B$3)","v":2.1},59,60,63,null,null,{"$f":"IF(B4=\"\",\"\",IF(K4=5,(SUM(C4:G4)-MAX(C4:G4)-MIN(C4:G4))/3,IF(K4=4,(SUM(C4:G4)-MAX(C4:G4))/3,SUM(C4:G4)/3))*B4/7.6)","v":{"v":16.763157894736842,"d":"16.763"}},null,null,{"$f":"COUNT(C4:G4)","v":3}]
[{"$f":"IF(Draw!E4=0,\"\",Draw!E4)","v":3},{"$f":"IF(A5=\"\",\"\",B$3)","v":2.1},43,50,51,null,null,{"$f":"IF(B5=\"\",\"\",IF(K5=5,(SUM(C5:G5)-MAX(C5:G5)-MIN(C5:G5))/3,IF(K5=4,(SUM(C5:G5)-MAX(C5:G5))/3,SUM(C5:G5)/3))*B5/7.6)","v":{"v":13.263157894736844,"d":"13.263"}},null,null,3]
[{"$f":"IF(Draw!E5=0,\"\",Draw!E5)","v":4},2.1,52,49,47,null,null,{"$f":"IF(B6=\"\",\"\",IF(K6=5,(SUM(C6:G6)-MAX(C6:G6)-MIN(C6:G6))/3,IF(K6=4,(SUM(C6:G6)-MAX(C6:G6))/3,SUM(C6:G6)/3))*B6/7.6)","v":{"v":13.631578947368423,"d":"13.632"}},null,null,3]
[{"$f":"IF(Draw!E6=0,\"\",Draw!E6)","v":5},{"$f":"IF(A7=\"\",\"\",B$3)","v":2.1},56,56,53,null,null,{"$f":"IF(B7=\"\",\"\",IF(K7=5,(SUM(C7:G7)-MAX(C7:G7)-MIN(C7:G7))/3,IF(K7=4,(SUM(C7:G7)-MAX(C7:G7))/3,SUM(C7:G7)/3))*B7/7.6)","v":{"v":15.197368421052632,"d":"15.197"}},null,null,3]
[{"$f":"IF(Draw!E7=0,\"\",Draw!E7)","v":6},2.1,50,53,50,null,null,{"$f":"IF(B8=\"\",\"\",IF(K8=5,(SUM(C8:G8)-MAX(C8:G8)-MIN(C8:G8))/3,IF(K8=4,(SUM(C8:G8)-MAX(C8:G8))/3,SUM(C8:G8)/3))*B8/7.6)","v":{"v":14.092105263157897,"d":"14.092"}},null,null,3]
[{"$f":"IF(Draw!E8=0,\"\",Draw!E8)","v":7},2.1,63,61,66,null,null,{"$f":"IF(B9=\"\",\"\",IF(K9=5,(SUM(C9:G9)-MAX(C9:G9)-MIN(C9:G9))/3,IF(K9=4,(SUM(C9:G9)-MAX(C9:G9))/3,SUM(C9:G9)/3))*B9/7.6)","v":{"v":17.5,"d":"17.500"}},null,null,3]
[{"$f":"IF(Draw!E9=0,\"\",Draw!E9)","v":8},2.1,53,48,48,null,null,{"$f":"IF(B10=\"\",\"\",IF(K10=5,(SUM(C10:G10)-MAX(C10:G10)-MIN(C10:G10))/3,IF(K10=4,(SUM(C10:G10)-MAX(C10:G10))/3,SUM(C10:G10)/3))*B10/7.6)","v":{"v":13.723684210526317,"d":"13.724"}},null,null,3]
[{"$f":"IF(Draw!E10=0,\"\",Draw!E10)","v":9},2.1,49,50,50,null,null,{"$f":"IF(B11=\"\",\"\",IF(K11=5,(SUM(C11:G11)-MAX(C11:G11)-MIN(C11:G11))/3,IF(K11=4,(SUM(C11:G11)-MAX(C11:G11))/3,SUM(C11:G11)/3))*B11/7.6)","v":{"v":13.723684210526317,"d":"13.724"}},null,null,3]
[{"$f":"IF(Draw!E11=0,\"\",Draw!E11)","v":10},2.1,46,47,44,null,null,{"$f":"IF(B12=\"\",\"\",IF(K12=5,(SUM(C12:G12)-MAX(C12:G12)-MIN(C12:G12))/3,IF(K12=4,(SUM(C12:G12)-MAX(C12:G12))/3,SUM(C12:G12)/3))*B12/7.6)","v":{"v":12.61842105263158,"d":"12.618"}},null,null,3]
[{"$f":"IF(Draw!E12=0,\"\",Draw!E12)","v":11},2.1,62,64,61,null,null,{"$f":"IF(B13=\"\",\"\",IF(K13=5,(SUM(C13:G13)-MAX(C13:G13)-MIN(C13:G13))/3,IF(K13=4,(SUM(C13:G13)-MAX(C13:G13))/3,SUM(C13:G13)/3))*B13/7.6)","v":{"v":17.22368421052632,"d":"17.224"}},null,null,3]
[{"$f":"IF(Draw!E13=0,\"\",Draw!E13)","v":12},2.1,59,57,56,null,null,{"$f":"IF(B14=\"\",\"\",IF(K14=5,(SUM(C14:G14)-MAX(C14:G14)-MIN(C14:G14))/3,IF(K14=4,(SUM(C14:G14)-MAX(C14:G14))/3,SUM(C14:G14)/3))*B14/7.6)","v":{"v":15.842105263157896,"d":"15.842"}},null,null,3]
[{"$f":"IF(Draw!E14=0,\"\",Draw!E14)","v":13},2.1,58,59,60,null,null,{"$f":"IF(B15=\"\",\"\",IF(K15=5,(SUM(C15:G15)-MAX(C15:G15)-MIN(C15:G15))/3,IF(K15=4,(SUM(C15:G15)-MAX(C15:G15))/3,SUM(C15:G15)/3))*B15/7.6)","v":{"v":16.30263157894737,"d":"16.303"}},null,null,3]
[{"$f":"IF(Draw!E15=0,\"\",Draw!E15)","v":14},2.1,63,62,61,null,null,{"$f":"IF(B16=\"\",\"\",IF(K16=5,(SUM(C16:G16)-MAX(C16:G16)-MIN(C16:G16))/3,IF(K16=4,(SUM(C16:G16)-MAX(C16:G16))/3,SUM(C16:G16)/3))*B16/7.6)","v":{"v":17.131578947368425,"d":"17.132"}},null,null,3]
[{"$f":"IF(Draw!E16=0,\"\",Draw!E16)","v":15},2.1,46,52,50,null,null,{"$f":"IF(B17=\"\",\"\",IF(K17=5,(SUM(C17:G17)-MAX(C17:G17)-MIN(C17:G17))/3,IF(K17=4,(SUM(C17:G17)-MAX(C17:G17))/3,SUM(C17:G17)/3))*B17/7.6)","v":{"v":13.631578947368423,"d":"13.632"}},null,null,3]
[{"$f":"IF(Draw!E17=0,\"\",Draw!E17)","v":16},2.1,57,55,55,null,null,{"$f":"IF(B18=\"\",\"\",IF(K18=5,(SUM(C18:G18)-MAX(C18:G18)-MIN(C18:G18))/3,IF(K18=4,(SUM(C18:G18)-MAX(C18:G18))/3,SUM(C18:G18)/3))*B18/7.6)","v":{"v":15.381578947368423,"d":"15.382"}},null,null,3]
[{"$f":"IF(Draw!E18=0,\"\",Draw!E18)","v":17},2.1,59,57,58,null,null,{"$f":"IF(B19=\"\",\"\",IF(K19=5,(SUM(C19:G19)-MAX(C19:G19)-MIN(C19:G19))/3,IF(K19=4,(SUM(C19:G19)-MAX(C19:G19))/3,SUM(C19:G19)/3))*B19/7.6)","v":{"v":16.026315789473685,"d":"16.026"}},null,null,3]
[{"$f":"IF(Draw!E19=0,\"\",Draw!E19)","v":18},2.1,53,47,45,null,null,{"$f":"IF(B20=\"\",\"\",IF(K20=5,(SUM(C20:G20)-MAX(C20:G20)-MIN(C20:G20))/3,IF(K20=4,(SUM(C20:G20)-MAX(C20:G20))/3,SUM(C20:G20)/3))*B20/7.6)","v":{"v":13.35526315789474,"d":"13.355"}},null,null,3]
[{"$f":"IF(Draw!E20=0,\"\",Draw!E20)","v":19},2.1,{"$nulls":5},{"$f":"IF(B21=\"\",\"\",IF(K21=5,(SUM(C21:G21)-MAX(C21:G21)-MIN(C21:G21))/3,IF(K21=4,(SUM(C21:G21)-MAX(C21:G21))/3,SUM(C21:G21)/3))*B21/7.6)","v":{"v":0,"d":"0.000"}},null,null,0]
[{"$f":"IF(Draw!E21=0,\"\",Draw!E21)","v":20},2.1,54,55,52,null,null,{"$f":"IF(B22=\"\",\"\",IF(K22=5,(SUM(C22:G22)-MAX(C22:G22)-MIN(C22:G22))/3,IF(K22=4,(SUM(C22:G22)-MAX(C22:G22))/3,SUM(C22:G22)/3))*B22/7.6)","v":{"v":14.828947368421053,"d":"14.829"}},null,null,3]
[{"$f":"IF(Draw!E22=0,\"\",Draw!E22)","v":21},2.1,58,56,59,null,null,{"$f":"IF(B23=\"\",\"\",IF(K23=5,(SUM(C23:G23)-MAX(C23:G23)-MIN(C23:G23))/3,IF(K23=4,(SUM(C23:G23)-MAX(C23:G23))/3,SUM(C23:G23)/3))*B23/7.6)","v":{"v":15.93421052631579,"d":"15.934"}},null,null,3]
[{"$f":"IF(Draw!E23=0,\"\",Draw!E23)","v":22},2.1,49,56,53,null,null,{"$f":"IF(B24=\"\",\"\",IF(K24=5,(SUM(C24:G24)-MAX(C24:G24)-MIN(C24:G24))/3,IF(K24=4,(SUM(C24:G24)-MAX(C24:G24))/3,SUM(C24:G24)/3))*B24/7.6)","v":{"v":14.552631578947368,"d":"14.553"}},null,null,3]
[{"$f":"IF(Draw!E24=0,\"\",Draw!E24)","v":23},2.1,59,58,52,null,null,{"$f":"IF(B25=\"\",\"\",IF(K25=5,(SUM(C25:G25)-MAX(C25:G25)-MIN(C25:G25))/3,IF(K25=4,(SUM(C25:G25)-MAX(C25:G25))/3,SUM(C25:G25)/3))*B25/7.6)","v":{"v":15.565789473684212,"d":"15.566"}},null,null,3]
[{"$f":"IF(Draw!E25=0,\"\",Draw!E25)","v":24},2.1,57,53,56,null,null,{"$f":"IF(B26=\"\",\"\",IF(K26=5,(SUM(C26:G26)-MAX(C26:G26)-MIN(C26:G26))/3,IF(K26=4,(SUM(C26:G26)-MAX(C26:G26))/3,SUM(C26:G26)/3))*B26/7.6)","v":{"v":15.289473684210527,"d":"15.289"}},null,null,3]
[{"$f":"IF(Draw!E26=0,\"\",Draw!E26)","v":25},2.1,62,60,59,null,null,{"$f":"IF(B27=\"\",\"\",IF(K27=5,(SUM(C27:G27)-MAX(C27:G27)-MIN(C27:G27))/3,IF(K27=4,(SUM(C27:G27)-MAX(C27:G27))/3,SUM(C27:G27)/3))*B27/7.6)","v":{"v":16.67105263157895,"d":"16.671"}},null,null,3]
[{"$f":"IF(Draw!E27=0,\"\",Draw!E27)","v":26},2.1,55,55,57,null,null,{"$f":"IF(B28=\"\",\"\",IF(K28=5,(SUM(C28:G28)-MAX(C28:G28)-MIN(C28:G28))/3,IF(K28=4,(SUM(C28:G28)-MAX(C28:G28))/3,SUM(C28:G28)/3))*B28/7.6)","v":{"v":15.381578947368423,"d":"15.382"}},null,null,3]
[{"$f":"IF(Draw!E28=0,\"\",Draw!E28)","v":27},2.1,41,44,42,null,null,{"$f":"IF(B29=\"\",\"\",IF(K29=5,(SUM(C29:G29)-MAX(C29:G29)-MIN(C29:G29))/3,IF(K29=4,(SUM(C29:G29)-MAX(C29:G29))/3,SUM(C29:G29)/3))*B29/7.6)","v":{"v":11.697368421052634,"d":"11.697"}},null,null,3]
[{"$f":"IF(Draw!E29=0,\"\",Draw!E29)","v":28},2.1,54,54,53,null,null,{"$f":"IF(B30=\"\",\"\",IF(K30=5,(SUM(C30:G30)-MAX(C30:G30)-MIN(C30:G30))/3,IF(K30=4,(SUM(C30:G30)-MAX(C30:G30))/3,SUM(C30:G30)/3))*B30/7.6)","v":{"v":14.828947368421053,"d":"14.829"}},null,null,3]
[{"$f":"IF(Draw!E30=0,\"\",Draw!E30)","v":""},"",{"$nulls":5},{"$f":"IF(B31=\"\",\"\",IF(K31=5,(SUM(C31:G31)-MAX(C31:G31)-MIN(C31:G31))/3,IF(K31=4,(SUM(C31:G31)-MAX(C31:G31))/3,SUM(C31:G31)/3))*B31/7.6)","v":""},null,null,0]
[{"$f":"IF(Draw!E31=0,\"\",Draw!E31)","v":""},"",{"$nulls":5},{"$f":"IF(B32=\"\",\"\",IF(K32=5,(SUM(C32:G32)-MAX(C32:G32)-MIN(C32:G32))/3,IF(K32=4,(SUM(C32:G32)-MAX(C32:G32))/3,SUM(C32:G32)/3))*B32/7.6)","v":""},null,null,0]
[{"$f":"IF(Draw!E32=0,\"\",Draw!E32)","v":""},"",{"$nulls":5},{"$f":"IF(B33=\"\",\"\",IF(K33=5,(SUM(C33:G33)-MAX(C33:G33)-MIN(C33:G33))/3,IF(K33=4,(SUM(C33:G33)-MAX(C33:G33))/3,SUM(C33:G33)/3))*B33/7.6)","v":""},null,null,0]
[{"$f":"IF(Draw!E33=0,\"\",Draw!E33)","v":""},"",{"$nulls":5},{"$f":"IF(B34=\"\",\"\",IF(K34=5,(SUM(C34:G34)-MAX(C34:G34)-MIN(C34:G34))/3,IF(K34=4,(SUM(C34:G34)-MAX(C34:G34))/3,SUM(C34:G34)/3))*B34/7.6)","v":""},null,null,0]
[{"$f":"IF(Draw!E34=0,\"\",Draw!E34)","v":""},"",{"$nulls":5},{"$f":"IF(B35=\"\",\"\",IF(K35=5,(SUM(C35:G35)-MAX(C35:G35)-MIN(C35:G35))/3,IF(K35=4,(SUM(C35:G35)-MAX(C35:G35))/3,SUM(C35:G35)/3))*B35/7.6)","v":""},null,null,0]
[{"$f":"IF(Draw!E35=0,\"\",Draw!E35)","v":""},"",{"$nulls":5},{"$f":"IF(B36=\"\",\"\",IF(K36=5,(SUM(C36:G36)-MAX(C36:G36)-MIN(C36:G36))/3,IF(K36=4,(SUM(C36:G36)-MAX(C36:G36))/3,SUM(C36:G36)/3))*B36/7.6)","v":""},null,null,0]
[{"$f":"IF(Draw!E36=0,\"\",Draw!E36)","v":""},"",{"$nulls":5},{"$f":"IF(B37=\"\",\"\",IF(K37=5,(SUM(C37:G37)-MAX(C37:G37)-MIN(C37:G37))/3,IF(K37=4,(SUM(C37:G37)-MAX(C37:G37))/3,SUM(C37:G37)/3))*B37/7.6)","v":""},null,null,0]
[{"$f":"IF(Draw!E37=0,\"\",Draw!E37)","v":""},"",{"$nulls":5},{"$f":"IF(B38=\"\",\"\",IF(K38=5,(SUM(C38:G38)-MAX(C38:G38)-MIN(C38:G38))/3,IF(K38=4,(SUM(C38:G38)-MAX(C38:G38))/3,SUM(C38:G38)/3))*B38/7.6)","v":""},null,null,0]
[{"$f":"IF(Draw!E38=0,\"\",Draw!E38)","v":""},"",{"$nulls":5},{"$f":"IF(B39=\"\",\"\",IF(K39=5,(SUM(C39:G39)-MAX(C39:G39)-MIN(C39:G39))/3,IF(K39=4,(SUM(C39:G39)-MAX(C39:G39))/3,SUM(C39:G39)/3))*B39/7.6)","v":""},null,null,0]
[{"$f":"IF(Draw!E39=0,\"\",Draw!E39)","v":""},"",{"$nulls":5},{"$f":"IF(B40=\"\",\"\",IF(K40=5,(SUM(C40:G40)-MAX(C40:G40)-MIN(C40:G40))/3,IF(K40=4,(SUM(C40:G40)-MAX(C40:G40))/3,SUM(C40:G40)/3))*B40/7.6)","v":""},null,null,0]
[{"$f":"IF(Draw!E40=0,\"\",Draw!E40)","v":""},"",{"$nulls":5},{"$f":"IF(B41=\"\",\"\",IF(K41=5,(SUM(C41:G41)-MAX(C41:G41)-MIN(C41:G41))/3,IF(K41=4,(SUM(C41:G41)-MAX(C41:G41))/3,SUM(C41:G41)/3))*B41/7.6)","v":""},null,null,0]
[{"$f":"IF(Draw!E41=0,\"\",Draw!E41)","v":""},"",{"$nulls":5},{"$f":"IF(B42=\"\",\"\",IF(K42=5,(SUM(C42:G42)-MAX(C42:G42)-MIN(C42:G42))/3,IF(K42=4,(SUM(C42:G42)-MAX(C42:G42))/3,SUM(C42:G42)/3))*B42/7.6)","v":""},null,null,0]
[{"$f":"IF(Draw!E42=0,\"\",Draw!E42)","v":""},"",{"$nulls":5},{"$f":"IF(B43=\"\",\"\",IF(K43=5,(SUM(C43:G43)-MAX(C43:G43)-MIN(C43:G43))/3,IF(K43=4,(SUM(C43:G43)-MAX(C43:G43))/3,SUM(C43:G43)/3))*B43/7.6)","v":""},null,null,0]
[{"$f":"IF(Draw!E43=0,\"\",Draw!E43)","v":""},"",{"$nulls":5},{"$f":"IF(B44=\"\",\"\",IF(K44=5,(SUM(C44:G44)-MAX(C44:G44)-MIN(C44:G44))/3,IF(K44=4,(SUM(C44:G44)-MAX(C44:G44))/3,SUM(C44:G44)/3))*B44/7.6)","v":""},null,null,0]
[{"$f":"IF(Draw!E44=0,\"\",Draw!E44)","v":""},"",{"$nulls":5},{"$f":"IF(B45=\"\",\"\",IF(K45=5,(SUM(C45:G45)-MAX(C45:G45)-MIN(C45:G45))/3,IF(K45=4,(SUM(C45:G45)-MAX(C45:G45))/3,SUM(C45:G45)/3))*B45/7.6)","v":""},null,null,0]
[{"$f":"IF(Draw!E45=0,\"\",Draw!E45)","v":""},"",{"$nulls":5},{"$f":"IF(B46=\"\",\"\",IF(K46=5,(SUM(C46:G46)-MAX(C46:G46)-MIN(C46:G46))/3,IF(K46=4,(SUM(C46:G46)-MAX(C46:G46))/3,SUM(C46:G46)/3))*B46/7.6)","v":""},null,null,0]
[{"$f":"IF(Draw!E46=0,\"\",Draw!E46)","v":""},"",{"$nulls":5},{"$f":"IF(B47=\"\",\"\",IF(K47=5,(SUM(C47:G47)-MAX(C47:G47)-MIN(C47:G47))/3,IF(K47=4,(SUM(C47:G47)-MAX(C47:G47))/3,SUM(C47:G47)/3))*B47/7.6)","v":""},null,null,0]
[{"$f":"IF(Draw!E47=0,\"\",Draw!E47)","v":""},"",{"$nulls":5},{"$f":"IF(B48=\"\",\"\",IF(K48=5,(SUM(C48:G48)-MAX(C48:G48)-MIN(C48:G48))/3,IF(K48=4,(SUM(C48:G48)-MAX(C48:G48))/3,SUM(C48:G48)/3))*B48/7.6)","v":""},null,null,0]
[{"$f":"IF(Draw!E48=0,\"\",Draw!E48)","v":""},"",{"$nulls":5},{"$f":"IF(B49=\"\",\"\",IF(K49=5,(SUM(C49:G49)-MAX(C49:G49)-MIN(C49:G49))/3,IF(K49=4,(SUM(C49:G49)-MAX(C49:G49))/3,SUM(C49:G49)/3))*B49/7.6)","v":""},null,null,0]
[{"$f":"IF(Draw!E49=0,\"\",Draw!E49)","v":""},"",{"$nulls":5},{"$f":"IF(B50=\"\",\"\",IF(K50=5,(SUM(C50:G50)-MAX(C50:G50)-MIN(C50:G50))/3,IF(K50=4,(SUM(C50:G50)-MAX(C50:G50))/3,SUM(C50:G50)/3))*B50/7.6)","v":""},null,null,0]
[{"$f":"IF(Draw!E50=0,\"\",Draw!E50)","v":""},"",{"$nulls":5},{"$f":"IF(B51=\"\",\"\",IF(K51=5,(SUM(C51:G51)-MAX(C51:G51)-MIN(C51:G51))/3,IF(K51=4,(SUM(C51:G51)-MAX(C51:G51))/3,SUM(C51:G51)/3))*B51/7.6)","v":""},null,null,0]
[{"$f":"IF(Draw!E51=0,\"\",Draw!E51)","v":""},"",{"$nulls":5},{"$f":"IF(B52=\"\",\"\",IF(K52=5,(SUM(C52:G52)-MAX(C52:G52)-MIN(C52:G52))/3,IF(K52=4,(SUM(C52:G52)-MAX(C52:G52))/3,SUM(C52:G52)/3))*B52/7.6)","v":""},null,null,0]
[{"$f":"IF(Draw!E52=0,\"\",Draw!E52)","v":""},"",{"$nulls":5},{"$f":"IF(B53=\"\",\"\",IF(K53=5,(SUM(C53:G53)-MAX(C53:G53)-MIN(C53:G53))/3,IF(K53=4,(SUM(C53:G53)-MAX(C53:G53))/3,SUM(C53:G53)/3))*B53/7.6)","v":""},null,null,0]
[{"$f":"IF(Draw!E53=0,\"\",Draw!E53)","v":""},"",{"$nulls":5},{"$f":"IF(B54=\"\",\"\",IF(K54=5,(SUM(C54:G54)-MAX(C54:G54)-MIN(C54:G54))/3,IF(K54=4,(SUM(C54:G54)-MAX(C54:G54))/3,SUM(C54:G54)/3))*B54/7.6)","v":""},null,null,0]
[{"$f":"IF(Draw!E54=0,\"\",Draw!E54)","v":""},"",{"$nulls":5},{"$f":"IF(B55=\"\",\"\",IF(K55=5,(SUM(C55:G55)-MAX(C55:G55)-MIN(C55:G55))/3,IF(K55=4,(SUM(C55:G55)-MAX(C55:G55))/3,SUM(C55:G55)/3))*B55/7.6)","v":""},null,null,0]
[{"$f":"IF(Draw!E55=0,\"\",Draw!E55)","v":""},"",{"$nulls":5},{"$f":"IF(B56=\"\",\"\",IF(K56=5,(SUM(C56:G56)-MAX(C56:G56)-MIN(C56:G56))/3,IF(K56=4,(SUM(C56:G56)-MAX(C56:G56))/3,SUM(C56:G56)/3))*B56/7.6)","v":""},null,null,0]
[{"$f":"IF(Draw!E56=0,\"\",Draw!E56)","v":""},"",{"$nulls":5},{"$f":"IF(B57=\"\",\"\",IF(K57=5,(SUM(C57:G57)-MAX(C57:G57)-MIN(C57:G57))/3,IF(K57=4,(SUM(C57:G57)-MAX(C57:G57))/3,SUM(C57:G57)/3))*B57/7.6)","v":""},null,null,0]
[{"$f":"IF(Draw!E57=0,\"\",Draw!E57)","v":""},"",{"$nulls":5},{"$f":"IF(B58=\"\",\"\",IF(K58=5,(SUM(C58:G58)-MAX(C58:G58)-MIN(C58:G58))/3,IF(K58=4,(SUM(C58:G58)-MAX(C58:G58))/3,SUM(C58:G58)/3))*B58/7.6)","v":""},null,null,0]
[{"$f":"IF(Draw!E58=0,\"\",Draw!E58)","v":""},"",{"$nulls":5},{"$f":"IF(B59=\"\",\"\",IF(K59=5,(SUM(C59:G59)-MAX(C59:G59)-MIN(C59:G59))/3,IF(K59=4,(SUM(C59:G59)-MAX(C59:G59))/3,SUM(C59:G59)/3))*B59/7.6)","v":""},null,null,0]
[{"$f":"IF(Draw!E59=0,\"\",Draw!E59)","v":""},"",{"$nulls":5},{"$f":"IF(B60=\"\",\"\",IF(K60=5,(SUM(C60:G60)-MAX(C60:G60)-MIN(C60:G60))/3,IF(K60=4,(SUM(C60:G60)-MAX(C60:G60))/3,SUM(C60:G60)/3))*B60/7.6)","v":""},null,null,0]
[{"$f":"IF(Draw!E60=0,\"\",Draw!E60)","v":""},"",{"$nulls":5},{"$f":"IF(B61=\"\",\"\",IF(K61=5,(SUM(C61:G61)-MAX(C61:G61)-MIN(C61:G61))/3,IF(K61=4,(SUM(C61:G61)-MAX(C61:G61))/3,SUM(C61:G61)/3))*B61/7.6)","v":""},null,null,0]
[{"$f":"IF(Draw!E61=0,\"\",Draw!E61)","v":""},"",{"$nulls":5},{"$f":"IF(B62=\"\",\"\",IF(K62=5,(SUM(C62:G62)-MAX(C62:G62)-MIN(C62:G62))/3,IF(K62=4,(SUM(C62:G62)-MAX(C62:G62))/3,SUM(C62:G62)/3))*B62/7.6)","v":""},null,null,0]
[{"$f":"IF(Draw!E62=0,\"\",Draw!E62)","v":""},"",{"$nulls":5},{"$f":"IF(B63=\"\",\"\",IF(K63=5,(SUM(C63:G63)-MAX(C63:G63)-MIN(C63:G63))/3,IF(K63=4,(SUM(C63:G63)-MAX(C63:G63))/3,SUM(C63:G63)/3))*B63/7.6)","v":""},null,null,0]
[{"$f":"IF(Draw!E63=0,\"\",Draw!E63)","v":""},"",{"$nulls":5},{"$f":"IF(B64=\"\",\"\",IF(K64=5,(SUM(C64:G64)-MAX(C64:G64)-MIN(C64:G64))/3,IF(K64=4,(SUM(C64:G64)-MAX(C64:G64))/3,SUM(C64:G64)/3))*B64/7.6)","v":""},null,null,0]
[{"$f":"IF(Draw!E64=0,\"\",Draw!E64)","v":""},"",{"$nulls":5},{"$f":"IF(B65=\"\",\"\",IF(K65=5,(SUM(C65:G65)-MAX(C65:G65)-MIN(C65:G65))/3,IF(K65=4,(SUM(C65:G65)-MAX(C65:G65))/3,SUM(C65:G65)/3))*B65/7.6)","v":""},null,null,0]
[{"$f":"IF(Draw!E65=0,\"\",Draw!E65)","v":""},"",{"$nulls":5},{"$f":"IF(B66=\"\",\"\",IF(K66=5,(SUM(C66:G66)-MAX(C66:G66)-MIN(C66:G66))/3,IF(K66=4,(SUM(C66:G66)-MAX(C66:G66))/3,SUM(C66:G66)/3))*B66/7.6)","v":""},null,null,0]
[{"$f":"IF(Draw!E66=0,\"\",Draw!E66)","v":""},"",{"$nulls":5},{"$f":"IF(B67=\"\",\"\",IF(K67=5,(SUM(C67:G67)-MAX(C67:G67)-MIN(C67:G67))/3,IF(K67=4,(SUM(C67:G67)-MAX(C67:G67))/3,SUM(C67:G67)/3))*B67/7.6)","v":""},null,null,0]
[{"$f":"IF(Draw!E67=0,\"\",Draw!E67)","v":""},"",{"$nulls":5},{"$f":"IF(B68=\"\",\"\",IF(K68=5,(SUM(C68:G68)-MAX(C68:G68)-MIN(C68:G68))/3,IF(K68=4,(SUM(C68:G68)-MAX(C68:G68))/3,SUM(C68:G68)/3))*B68/7.6)","v":""},null,null,{"$f":"COUNT(C68:G68)","v":0}]
[{"$f":"IF(Draw!E68=0,\"\",Draw!E68)","v":""},"",{"$nulls":5},{"$f":"IF(B69=\"\",\"\",IF(K69=5,(SUM(C69:G69)-MAX(C69:G69)-MIN(C69:G69))/3,IF(K69=4,(SUM(C69:G69)-MAX(C69:G69))/3,SUM(C69:G69)/3))*B69/7.6)","v":""},null,null,0]
[{"$f":"IF(Draw!E69=0,\"\",Draw!E69)","v":""},"",{"$nulls":5},{"$f":"IF(B70=\"\",\"\",IF(K70=5,(SUM(C70:G70)-MAX(C70:G70)-MIN(C70:G70))/3,IF(K70=4,(SUM(C70:G70)-MAX(C70:G70))/3,SUM(C70:G70)/3))*B70/7.6)","v":""},null,null,0]
[{"$f":"IF(Draw!E70=0,\"\",Draw!E70)","v":""},{"$f":"IF(A71=\"\",\"\",B$3)","v":""},{"$nulls":5},{"$f":"IF(B71=\"\",\"\",IF(K71=5,(SUM(C71:G71)-MAX(C71:G71)-MIN(C71:G71))/3,IF(K71=4,(SUM(C71:G71)-MAX(C71:G71))/3,SUM(C71:G71)/3))*B71/7.6)","v":""},null,null,0]
[{"$f":"IF(Draw!E71=0,\"\",Draw!E71)","v":""},"",{"$nulls":5},{"$f":"IF(B72=\"\",\"\",IF(K72=5,(SUM(C72:G72)-MAX(C72:G72)-MIN(C72:G72))/3,IF(K72=4,(SUM(C72:G72)-MAX(C72:G72))/3,SUM(C72:G72)/3))*B72/7.6)","v":""},null,null,0]
[{"$f":"IF(Draw!E72=0,\"\",Draw!E72)","v":""},"",{"$nulls":5},{"$f":"IF(B73=\"\",\"\",IF(K73=5,(SUM(C73:G73)-MAX(C73:G73)-MIN(C73:G73))/3,IF(K73=4,(SUM(C73:G73)-MAX(C73:G73))/3,SUM(C73:G73)/3))*B73/7.6)","v":""},null,null,0]
[{"$f":"IF(Draw!E73=0,\"\",Draw!E73)","v":""},"",{"$nulls":5},{"$f":"IF(B74=\"\",\"\",IF(K74=5,(SUM(C74:G74)-MAX(C74:G74)-MIN(C74:G74))/3,IF(K74=4,(SUM(C74:G74)-MAX(C74:G74))/3,SUM(C74:G74)/3))*B74/7.6)","v":""},null,null,0]
[{"$f":"IF(Draw!E74=0,\"\",Draw!E74)","v":""},"",{"$nulls":5},{"$f":"IF(B75=\"\",\"\",IF(K75=5,(SUM(C75:G75)-MAX(C75:G75)-MIN(C75:G75))/3,IF(K75=4,(SUM(C75:G75)-MAX(C75:G75))/3,SUM(C75:G75)/3))*B75/7.6)","v":""},null,null,0]
[{"$f":"IF(Draw!E75=0,\"\",Draw!E75)","v":""},"",{"$nulls":5},{"$f":"IF(B76=\"\",\"\",IF(K76=5,(SUM(C76:G76)-MAX(C76:G76)-MIN(C76:G76))/3,IF(K76=4,(SUM(C76:G76)-MAX(C76:G76))/3,SUM(C76:G76)/3))*B76/7.6)","v":""},null,null,0]
[{"$f":"IF(Draw!E76=0,\"\",Draw!E76)","v":""},"",{"$nulls":5},{"$f":"IF(B77=\"\",\"\",IF(K77=5,(SUM(C77:G77)-MAX(C77:G77)-MIN(C77:G77))/3,IF(K77=4,(SUM(C77:G77)-MAX(C77:G77))/3,SUM(C77:G77)/3))*B77/7.6)","v":""},null,null,0]
[{"$f":"IF(Draw!E77=0,\"\",Draw!E77)","v":""},"",{"$nulls":5},{"$f":"IF(B78=\"\",\"\",IF(K78=5,(SUM(C78:G78)-MAX(C78:G78)-MIN(C78:G78))/3,IF(K78=4,(SUM(C78:G78)-MAX(C78:G78))/3,SUM(C78:G78)/3))*B78/7.6)","v":""},null,null,0]
[{"$f":"IF(Draw!E78=0,\"\",Draw!E78)","v":""},"",{"$nulls":5},{"$f":"IF(B79=\"\",\"\",IF(K79=5,(SUM(C79:G79)-MAX(C79:G79)-MIN(C79:G79))/3,IF(K79=4,(SUM(C79:G79)-MAX(C79:G79))/3,SUM(C79:G79)/3))*B79/7.6)","v":""},null,null,0]
[{"$f":"IF(Draw!E79=0,\"\",Draw!E79)","v":""},"",{"$nulls":5},{"$f":"IF(B80=\"\",\"\",IF(K80=5,(SUM(C80:G80)-MAX(C80:G80)-MIN(C80:G80))/3,IF(K80=4,(SUM(C80:G80)-MAX(C80:G80))/3,SUM(C80:G80)/3))*B80/7.6)","v":""},null,null,0]
[{"$f":"IF(Draw!E80=0,\"\",Draw!E80)","v":""},"",{"$nulls":5},{"$f":"IF(B81=\"\",\"\",IF(K81=5,(SUM(C81:G81)-MAX(C81:G81)-MIN(C81:G81))/3,IF(K81=4,(SUM(C81:G81)-MAX(C81:G81))/3,SUM(C81:G81)/3))*B81/7.6)","v":""},null,null,0]
[{"$f":"IF(Draw!E81=0,\"\",Draw!E81)","v":""},"",{"$nulls":5},{"$f":"IF(B82=\"\",\"\",IF(K82=5,(SUM(C82:G82)-MAX(C82:G82)-MIN(C82:G82))/3,IF(K82=4,(SUM(C82:G82)-MAX(C82:G82))/3,SUM(C82:G82)/3))*B82/7.6)","v":""},null,null,0]
[{"$f":"IF(Draw!E82=0,\"\",Draw!E82)","v":""},"",{"$nulls":5},{"$f":"IF(B83=\"\",\"\",IF(K83=5,(SUM(C83:G83)-MAX(C83:G83)-MIN(C83:G83))/3,IF(K83=4,(SUM(C83:G83)-MAX(C83:G83))/3,SUM(C83:G83)/3))*B83/7.6)","v":""},null,null,0]
[{"$f":"IF(Draw!E83=0,\"\",Draw!E83)","v":""},"",{"$nulls":5},{"$f":"IF(B84=\"\",\"\",IF(K84=5,(SUM(C84:G84)-MAX(C84:G84)-MIN(C84:G84))/3,IF(K84=4,(SUM(C84:G84)-MAX(C84:G84))/3,SUM(C84:G84)/3))*B84/7.6)","v":""},null,null,0]
[{"$f":"IF(Draw!E84=0,\"\",Draw!E84)","v":""},"",{"$nulls":5},{"$f":"IF(B85=\"\",\"\",IF(K85=5,(SUM(C85:G85)-MAX(C85:G85)-MIN(C85:G85))/3,IF(K85=4,(SUM(C85:G85)-MAX(C85:G85))/3,SUM(C85:G85)/3))*B85/7.6)","v":""},null,null,0]
[{"$f":"IF(Draw!E85=0,\"\",Draw!E85)","v":""},"",{"$nulls":5},{"$f":"IF(B86=\"\",\"\",IF(K86=5,(SUM(C86:G86)-MAX(C86:G86)-MIN(C86:G86))/3,IF(K86=4,(SUM(C86:G86)-MAX(C86:G86))/3,SUM(C86:G86)/3))*B86/7.6)","v":""},null,null,0]
[{"$f":"IF(Draw!E86=0,\"\",Draw!E86)","v":""},"",{"$nulls":5},{"$f":"IF(B87=\"\",\"\",IF(K87=5,(SUM(C87:G87)-MAX(C87:G87)-MIN(C87:G87))/3,IF(K87=4,(SUM(C87:G87)-MAX(C87:G87))/3,SUM(C87:G87)/3))*B87/7.6)","v":""},null,null,0]
[{"$f":"IF(Draw!E87=0,\"\",Draw!E87)","v":""},"",{"$nulls":5},{"$f":"IF(B88=\"\",\"\",IF(K88=5,(SUM(C88:G88)-MAX(C88:G88)-MIN(C88:G88))/3,IF(K88=4,(SUM(C88:G88)-MAX(C88:G88))/3,SUM(C88:G88)/3))*B88/7.6)","v":""},null,null,0]
[{"$f":"IF(Draw!E88=0,\"\",Draw!E88)","v":""},"",{"$nulls":5},{"$f":"IF(B89=\"\",\"\",IF(K89=5,(SUM(C89:G89)-MAX(C89:G89)-MIN(C89:G89))/3,IF(K89=4,(SUM(C89:G89)-MAX(C89:G89))/3,SUM(C89:G89)/3))*B89/7.6)","v":""},null,null,0]
[{"$f":"IF(Draw!E89=0,\"\",Draw!E89)","v":""},"",{"$nulls":5},{"$f":"IF(B90=\"\",\"\",IF(K90=5,(SUM(C90:G90)-MAX(C90:G90)-MIN(C90:G90))/3,IF(K90=4,(SUM(C90:G90)-MAX(C90:G90))/3,SUM(C90:G90)/3))*B90/7.6)","v":""},null,null,0]
[{"$f":"IF(Draw!E90=0,\"\",Draw!E90)","v":""},"",{"$nulls":5},{"$f":"IF(B91=\"\",\"\",IF(K91=5,(SUM(C91:G91)-MAX(C91:G91)-MIN(C91:G91))/3,IF(K91=4,(SUM(C91:G91)-MAX(C91:G91))/3,SUM(C91:G91)/3))*B91/7.6)","v":""},null,null,0]
[{"$f":"IF(Draw!E91=0,\"\",Draw!E91)","v":""},"",{"$nulls":5},{"$f":"IF(B92=\"\",\"\",IF(K92=5,(SUM(C92:G92)-MAX(C92:G92)-MIN(C92:G92))/3,IF(K92=4,(SUM(C92:G92)-MAX(C92:G92))/3,SUM(C92:G92)/3))*B92/7.6)","v":""},null,null,0]
[{"$f":"IF(Draw!E92=0,\"\",Draw!E92)","v":""},"",{"$nulls":5},{"$f":"IF(B93=\"\",\"\",IF(K93=5,(SUM(C93:G93)-MAX(C93:G93)-MIN(C93:G93))/3,IF(K93=4,(SUM(C93:G93)-MAX(C93:G93))/3,SUM(C93:G93)/3))*B93/7.6)","v":""},null,null,0]
[{"$f":"IF(Draw!E93=0,\"\",Draw!E93)","v":""},"",{"$nulls":5},{"$f":"IF(B94=\"\",\"\",IF(K94=5,(SUM(C94:G94)-MAX(C94:G94)-MIN(C94:G94))/3,IF(K94=4,(SUM(C94:G94)-MAX(C94:G94))/3,SUM(C94:G94)/3))*B94/7.6)","v":""},null,null,0]
[{"$f":"IF(Draw!E94=0,\"\",Draw!E94)","v":""},"",{"$nulls":5},{"$f":"IF(B95=\"\",\"\",IF(K95=5,(SUM(C95:G95)-MAX(C95:G95)-MIN(C95:G95))/3,IF(K95=4,(SUM(C95:G95)-MAX(C95:G95))/3,SUM(C95:G95)/3))*B95/7.6)","v":""},null,null,0]
[{"$f":"IF(Draw!E95=0,\"\",Draw!E95)","v":""},"",{"$nulls":5},{"$f":"IF(B96=\"\",\"\",IF(K96=5,(SUM(C96:G96)-MAX(C96:G96)-MIN(C96:G96))/3,IF(K96=4,(SUM(C96:G96)-MAX(C96:G96))/3,SUM(C96:G96)/3))*B96/7.6)","v":""},null,null,0]
[{"$f":"IF(Draw!E96=0,\"\",Draw!E96)","v":""},"",{"$nulls":5},{"$f":"IF(B97=\"\",\"\",IF(K97=5,(SUM(C97:G97)-MAX(C97:G97)-MIN(C97:G97))/3,IF(K97=4,(SUM(C97:G97)-MAX(C97:G97))/3,SUM(C97:G97)/3))*B97/7.6)","v":""},null,null,0]
[{"$f":"IF(Draw!E97=0,\"\",Draw!E97)","v":""},"",{"$nulls":5},{"$f":"IF(B98=\"\",\"\",IF(K98=5,(SUM(C98:G98)-MAX(C98:G98)-MIN(C98:G98))/3,IF(K98=4,(SUM(C98:G98)-MAX(C98:G98))/3,SUM(C98:G98)/3))*B98/7.6)","v":""},null,null,0]
[{"$f":"IF(Draw!E98=0,\"\",Draw!E98)","v":""},"",{"$nulls":5},{"$f":"IF(B99=\"\",\"\",IF(K99=5,(SUM(C99:G99)-MAX(C99:G99)-MIN(C99:G99))/3,IF(K99=4,(SUM(C99:G99)-MAX(C99:G99))/3,SUM(C99:G99)/3))*B99/7.6)","v":""},null,null,0]
[{"$f":"IF(Draw!E99=0,\"\",Draw!E99)","v":""},"",{"$nulls":5},{"$f":"IF(B100=\"\",\"\",IF(K100=5,(SUM(C100:G100)-MAX(C100:G100)-MIN(C100:G100))/3,IF(K100=4,(SUM(C100:G100)-MAX(C100:G100))/3,SUM(C100:G100)/3))*B100/7.6)","v":""},null,null,0]
[{"$f":"IF(Draw!E100=0,\"\",Draw!E100)","v":""},"",{"$nulls":5},{"$f":"IF(B101=\"\",\"\",IF(K101=5,(SUM(C101:G101)-MAX(C101:G101)-MIN(C101:G101))/3,IF(K101=4,(SUM(C101:G101)-MAX(C101:G101))/3,SUM(C101:G101)/3))*B101/7.6)","v":""},null,null,0]
[{"$f":"IF(Draw!E101=0,\"\",Draw!E101)","v":""},"",{"$nulls":5},{"$f":"IF(B102=\"\",\"\",IF(K102=5,(SUM(C102:G102)-MAX(C102:G102)-MIN(C102:G102))/3,IF(K102=4,(SUM(C102:G102)-MAX(C102:G102))/3,SUM(C102:G102)/3))*B102/7.6)","v":""},null,null,0]
[{"$f":"IF(Draw!E102=0,\"\",Draw!E102)","v":""},"",{"$nulls":5},{"$f":"IF(B103=\"\",\"\",IF(K103=5,(SUM(C103:G103)-MAX(C103:G103)-MIN(C103:G103))/3,IF(K103=4,(SUM(C103:G103)-MAX(C103:G103))/3,SUM(C103:G103)/3))*B103/7.6)","v":""},null,null,0]
[{"$f":"IF(Draw!E103=0,\"\",Draw!E103)","v":""},"",{"$nulls":5},{"$f":"IF(B104=\"\",\"\",IF(K104=5,(SUM(C104:G104)-MAX(C104:G104)-MIN(C104:G104))/3,IF(K104=4,(SUM(C104:G104)-MAX(C104:G104))/3,SUM(C104:G104)/3))*B104/7.6)","v":""},null,null,0]
[{"$f":"IF(Draw!E104=0,\"\",Draw!E104)","v":""},"",{"$nulls":5},{"$f":"IF(B105=\"\",\"\",IF(K105=5,(SUM(C105:G105)-MAX(C105:G105)-MIN(C105:G105))/3,IF(K105=4,(SUM(C105:G105)-MAX(C105:G105))/3,SUM(C105:G105)/3))*B105/7.6)","v":""},null,null,0]
[{"$f":"IF(Draw!E105=0,\"\",Draw!E105)","v":""},"",{"$nulls":5},{"$f":"IF(B106=\"\",\"\",IF(K106=5,(SUM(C106:G106)-MAX(C106:G106)-MIN(C106:G106))/3,IF(K106=4,(SUM(C106:G106)-MAX(C106:G106))/3,SUM(C106:G106)/3))*B106/7.6)","v":""},null,null,0]
[{"$f":"IF(Draw!E106=0,\"\",Draw!E106)","v":""},"",{"$nulls":5},{"$f":"IF(B107=\"\",\"\",IF(K107=5,(SUM(C107:G107)-MAX(C107:G107)-MIN(C107:G107))/3,IF(K107=4,(SUM(C107:G107)-MAX(C107:G107))/3,SUM(C107:G107)/3))*B107/7.6)","v":""},null,null,0]
[{"$f":"IF(Draw!E107=0,\"\",Draw!E107)","v":""},"",{"$nulls":5},{"$f":"IF(B108=\"\",\"\",IF(K108=5,(SUM(C108:G108)-MAX(C108:G108)-MIN(C108:G108))/3,IF(K108=4,(SUM(C108:G108)-MAX(C108:G108))/3,SUM(C108:G108)/3))*B108/7.6)","v":""},null,null,0]
[{"$f":"IF(Draw!E108=0,\"\",Draw!E108)","v":""},"",{"$nulls":5},{"$f":"IF(B109=\"\",\"\",IF(K109=5,(SUM(C109:G109)-MAX(C109:G109)-MIN(C109:G109))/3,IF(K109=4,(SUM(C109:G109)-MAX(C109:G109))/3,SUM(C109:G109)/3))*B109/7.6)","v":""},null,null,0]
[{"$f":"IF(Draw!E109=0,\"\",Draw!E109)","v":""},"",{"$nulls":5},{"$f":"IF(B110=\"\",\"\",IF(K110=5,(SUM(C110:G110)-MAX(C110:G110)-MIN(C110:G110))/3,IF(K110=4,(SUM(C110:G110)-MAX(C110:G110))/3,SUM(C110:G110)/3))*B110/7.6)","v":""},null,null,0]
[{"$f":"IF(Draw!E110=0,\"\",Draw!E110)","v":""},"",{"$nulls":5},{"$f":"IF(B111=\"\",\"\",IF(K111=5,(SUM(C111:G111)-MAX(C111:G111)-MIN(C111:G111))/3,IF(K111=4,(SUM(C111:G111)-MAX(C111:G111))/3,SUM(C111:G111)/3))*B111/7.6)","v":""},null,null,0]
[{"$f":"IF(Draw!E111=0,\"\",Draw!E111)","v":""},"",{"$nulls":5},{"$f":"IF(B112=\"\",\"\",IF(K112=5,(SUM(C112:G112)-MAX(C112:G112)-MIN(C112:G112))/3,IF(K112=4,(SUM(C112:G112)-MAX(C112:G112))/3,SUM(C112:G112)/3))*B112/7.6)","v":""},null,null,0]
[{"$f":"IF(Draw!E112=0,\"\",Draw!E112)","v":""},"",{"$nulls":5},{"$f":"IF(B113=\"\",\"\",IF(K113=5,(SUM(C113:G113)-MAX(C113:G113)-MIN(C113:G113))/3,IF(K113=4,(SUM(C113:G113)-MAX(C113:G113))/3,SUM(C113:G113)/3))*B113/7.6)","v":""},null,null,0]
[{"$f":"IF(Draw!E113=0,\"\",Draw!E113)","v":""},"",{"$nulls":5},{"$f":"IF(B114=\"\",\"\",IF(K114=5,(SUM(C114:G114)-MAX(C114:G114)-MIN(C114:G114))/3,IF(K114=4,(SUM(C114:G114)-MAX(C114:G114))/3,SUM(C114:G114)/3))*B114/7.6)","v":""},null,null,0]
[{"$f":"IF(Draw!E114=0,\"\",Draw!E114)","v":""},"",{"$nulls":5},{"$f":"IF(B115=\"\",\"\",IF(K115=5,(SUM(C115:G115)-MAX(C115:G115)-MIN(C115:G115))/3,IF(K115=4,(SUM(C115:G115)-MAX(C115:G115))/3,SUM(C115:G115)/3))*B115/7.6)","v":""},null,null,0]
[{"$f":"IF(Draw!E115=0,\"\",Draw!E115)","v":""},"",{"$nulls":5},{"$f":"IF(B116=\"\",\"\",IF(K116=5,(SUM(C116:G116)-MAX(C116:G116)-MIN(C116:G116))/3,IF(K116=4,(SUM(C116:G116)-MAX(C116:G116))/3,SUM(C116:G116)/3))*B116/7.6)","v":""},null,null,0]
[{"$f":"IF(Draw!E116=0,\"\",Draw!E116)","v":""},"",{"$nulls":5},{"$f":"IF(B117=\"\",\"\",IF(K117=5,(SUM(C117:G117)-MAX(C117:G117)-MIN(C117:G117))/3,IF(K117=4,(SUM(C117:G117)-MAX(C117:G117))/3,SUM(C117:G117)/3))*B117/7.6)","v":""},null,null,0]
[{"$f":"IF(Draw!E117=0,\"\",Draw!E117)","v":""},"",{"$nulls":5},{"$f":"IF(B118=\"\",\"\",IF(K118=5,(SUM(C118:G118)-MAX(C118:G118)-MIN(C118:G118))/3,IF(K118=4,(SUM(C118:G118)-MAX(C118:G118))/3,SUM(C118:G118)/3))*B118/7.6)","v":""},null,null,0]
[{"$f":"IF(Draw!E118=0,\"\",Draw!E118)","v":""},"",{"$nulls":5},{"$f":"IF(B119=\"\",\"\",IF(K119=5,(SUM(C119:G119)-MAX(C119:G119)-MIN(C119:G119))/3,IF(K119=4,(SUM(C119:G119)-MAX(C119:G119))/3,SUM(C119:G119)/3))*B119/7.6)","v":""},null,null,0]
[{"$f":"IF(Draw!E119=0,\"\",Draw!E119)","v":""},"",{"$nulls":5},{"$f":"IF(B120=\"\",\"\",IF(K120=5,(SUM(C120:G120)-MAX(C120:G120)-MIN(C120:G120))/3,IF(K120=4,(SUM(C120:G120)-MAX(C120:G120))/3,SUM(C120:G120)/3))*B120/7.6)","v":""},null,null,0]
[{"$f":"IF(Draw!E120=0,\"\",Draw!E120)","v":""},"",{"$nulls":5},{"$f":"IF(B121=\"\",\"\",IF(K121=5,(SUM(C121:G121)-MAX(C121:G121)-MIN(C121:G121))/3,IF(K121=4,(SUM(C121:G121)-MAX(C121:G121))/3,SUM(C121:G121)/3))*B121/7.6)","v":""},null,null,0]
[{"$f":"IF(Draw!E121=0,\"\",Draw!E121)","v":""},"",{"$nulls":5},{"$f":"IF(B122=\"\",\"\",IF(K122=5,(SUM(C122:G122)-MAX(C122:G122)-MIN(C122:G122))/3,IF(K122=4,(SUM(C122:G122)-MAX(C122:G122))/3,SUM(C122:G122)/3))*B122/7.6)","v":""},null,null,0]
[{"$f":"IF(Draw!E122=0,\"\",Draw!E122)","v":""},"",{"$nulls":5},{"$f":"IF(B123=\"\",\"\",IF(K123=5,(SUM(C123:G123)-MAX(C123:G123)-MIN(C123:G123))/3,IF(K123=4,(SUM(C123:G123)-MAX(C123:G123))/3,SUM(C123:G123)/3))*B123/7.6)","v":""},null,null,0]
[{"$f":"IF(Draw!E123=0,\"\",Draw!E123)","v":""},"",{"$nulls":5},{"$f":"IF(B124=\"\",\"\",IF(K124=5,(SUM(C124:G124)-MAX(C124:G124)-MIN(C124:G124))/3,IF(K124=4,(SUM(C124:G124)-MAX(C124:G124))/3,SUM(C124:G124)/3))*B124/7.6)","v":""},null,null,0]
[{"$f":"IF(Draw!E124=0,\"\",Draw!E124)","v":""},"",{"$nulls":5},{"$f":"IF(B125=\"\",\"\",IF(K125=5,(SUM(C125:G125)-MAX(C125:G125)-MIN(C125:G125))/3,IF(K125=4,(SUM(C125:G125)-MAX(C125:G125))/3,SUM(C125:G125)/3))*B125/7.6)","v":""},null,null,0]
[{"$f":"IF(Draw!E125=0,\"\",Draw!E125)","v":""},"",{"$nulls":5},{"$f":"IF(B126=\"\",\"\",IF(K126=5,(SUM(C126:G126)-MAX(C126:G126)-MIN(C126:G126))/3,IF(K126=4,(SUM(C126:G126)-MAX(C126:G126))/3,SUM(C126:G126)/3))*B126/7.6)","v":""},null,null,0]
[{"$f":"IF(Draw!E126=0,\"\",Draw!E126)","v":""},"",{"$nulls":5},{"$f":"IF(B127=\"\",\"\",IF(K127=5,(SUM(C127:G127)-MAX(C127:G127)-MIN(C127:G127))/3,IF(K127=4,(SUM(C127:G127)-MAX(C127:G127))/3,SUM(C127:G127)/3))*B127/7.6)","v":""},null,null,0]
[{"$f":"IF(Draw!E127=0,\"\",Draw!E127)","v":""},"",{"$nulls":5},{"$f":"IF(B128=\"\",\"\",IF(K128=5,(SUM(C128:G128)-MAX(C128:G128)-MIN(C128:G128))/3,IF(K128=4,(SUM(C128:G128)-MAX(C128:G128))/3,SUM(C128:G128)/3))*B128/7.6)","v":""},null,null,0]
[{"$f":"IF(Draw!E128=0,\"\",Draw!E128)","v":""},"",{"$nulls":5},{"$f":"IF(B129=\"\",\"\",IF(K129=5,(SUM(C129:G129)-MAX(C129:G129)-MIN(C129:G129))/3,IF(K129=4,(SUM(C129:G129)-MAX(C129:G129))/3,SUM(C129:G129)/3))*B129/7.6)","v":""},null,null,0]
[{"$f":"IF(Draw!E129=0,\"\",Draw!E129)","v":""},"",{"$nulls":5},{"$f":"IF(B130=\"\",\"\",IF(K130=5,(SUM(C130:G130)-MAX(C130:G130)-MIN(C130:G130))/3,IF(K130=4,(SUM(C130:G130)-MAX(C130:G130))/3,SUM(C130:G130)/3))*B130/7.6)","v":""},null,null,0]
[{"$f":"IF(Draw!E130=0,\"\",Draw!E130)","v":""},"",{"$nulls":5},{"$f":"IF(B131=\"\",\"\",IF(K131=5,(SUM(C131:G131)-MAX(C131:G131)-MIN(C131:G131))/3,IF(K131=4,(SUM(C131:G131)-MAX(C131:G131))/3,SUM(C131:G131)/3))*B131/7.6)","v":""},null,null,0]
[{"$f":"IF(Draw!E131=0,\"\",Draw!E131)","v":""},"",{"$nulls":5},{"$f":"IF(B132=\"\",\"\",IF(K132=5,(SUM(C132:G132)-MAX(C132:G132)-MIN(C132:G132))/3,IF(K132=4,(SUM(C132:G132)-MAX(C132:G132))/3,SUM(C132:G132)/3))*B132/7.6)","v":""},null,null,{"$f":"COUNT(C132:G132)","v":0}]
[{"$f":"IF(Draw!E132=0,\"\",Draw!E132)","v":""},"",{"$nulls":5},{"$f":"IF(B133=\"\",\"\",IF(K133=5,(SUM(C133:G133)-MAX(C133:G133)-MIN(C133:G133))/3,IF(K133=4,(SUM(C133:G133)-MAX(C133:G133))/3,SUM(C133:G133)/3))*B133/7.6)","v":""},null,null,0]
[{"$f":"IF(Draw!E133=0,\"\",Draw!E133)","v":""},"",{"$nulls":5},{"$f":"IF(B134=\"\",\"\",IF(K134=5,(SUM(C134:G134)-MAX(C134:G134)-MIN(C134:G134))/3,IF(K134=4,(SUM(C134:G134)-MAX(C134:G134))/3,SUM(C134:G134)/3))*B134/7.6)","v":""},null,null,0]
[{"$f":"IF(Draw!E134=0,\"\",Draw!E134)","v":""},{"$f":"IF(A135=\"\",\"\",B$3)","v":""},{"$nulls":5},{"$f":"IF(B135=\"\",\"\",IF(K135=5,(SUM(C135:G135)-MAX(C135:G135)-MIN(C135:G135))/3,IF(K135=4,(SUM(C135:G135)-MAX(C135:G135))/3,SUM(C135:G135)/3))*B135/7.6)","v":""},null,null,0]
[{"$f":"IF(Draw!E135=0,\"\",Draw!E135)","v":""},"",{"$nulls":5},{"$f":"IF(B136=\"\",\"\",IF(K136=5,(SUM(C136:G136)-MAX(C136:G136)-MIN(C136:G136))/3,IF(K136=4,(SUM(C136:G136)-MAX(C136:G136))/3,SUM(C136:G136)/3))*B136/7.6)","v":""},null,null,0]
[{"$f":"IF(Draw!E136=0,\"\",Draw!E136)","v":""},"",{"$nulls":5},{"$f":"IF(B137=\"\",\"\",IF(K137=5,(SUM(C137:G137)-MAX(C137:G137)-MIN(C137:G137))/3,IF(K137=4,(SUM(C137:G137)-MAX(C137:G137))/3,SUM(C137:G137)/3))*B137/7.6)","v":""},null,null,0]
[{"$f":"IF(Draw!E137=0,\"\",Draw!E137)","v":""},"",{"$nulls":5},{"$f":"IF(B138=\"\",\"\",IF(K138=5,(SUM(C138:G138)-MAX(C138:G138)-MIN(C138:G138))/3,IF(K138=4,(SUM(C138:G138)-MAX(C138:G138))/3,SUM(C138:G138)/3))*B138/7.6)","v":""},null,null,0]
[{"$f":"IF(Draw!E138=0,\"\",Draw!E138)","v":""},"",{"$nulls":5},{"$f":"IF(B139=\"\",\"\",IF(K139=5,(SUM(C139:G139)-MAX(C139:G139)-MIN(C139:G139))/3,IF(K139=4,(SUM(C139:G139)-MAX(C139:G139))/3,SUM(C139:G139)/3))*B139/7.6)","v":""},null,null,0]
[{"$f":"IF(Draw!E139=0,\"\",Draw!E139)","v":""},"",{"$nulls":5},{"$f":"IF(B140=\"\",\"\",IF(K140=5,(SUM(C140:G140)-MAX(C140:G140)-MIN(C140:G140))/3,IF(K140=4,(SUM(C140:G140)-MAX(C140:G140))/3,SUM(C140:G140)/3))*B140/7.6)","v":""},null,null,0]
[{"$f":"IF(Draw!E140=0,\"\",Draw!E140)","v":""},"",{"$nulls":5},{"$f":"IF(B141=\"\",\"\",IF(K141=5,(SUM(C141:G141)-MAX(C141:G141)-MIN(C141:G141))/3,IF(K141=4,(SUM(C141:G141)-MAX(C141:G141))/3,SUM(C141:G141)/3))*B141/7.6)","v":""},null,null,0]
[{"$f":"IF(Draw!E141=0,\"\",Draw!E141)","v":""},"",{"$nulls":5},{"$f":"IF(B142=\"\",\"\",IF(K142=5,(SUM(C142:G142)-MAX(C142:G142)-MIN(C142:G142))/3,IF(K142=4,(SUM(C142:G142)-MAX(C142:G142))/3,SUM(C142:G142)/3))*B142/7.6)","v":""},null,null,0]
[{"$f":"IF(Draw!E142=0,\"\",Draw!E142)","v":""},"",{"$nulls":5},{"$f":"IF(B143=\"\",\"\",IF(K143=5,(SUM(C143:G143)-MAX(C143:G143)-MIN(C143:G143))/3,IF(K143=4,(SUM(C143:G143)-MAX(C143:G143))/3,SUM(C143:G143)/3))*B143/7.6)","v":""},null,null,0]
[{"$f":"IF(Draw!E143=0,\"\",Draw!E143)","v":""},"",{"$nulls":5},{"$f":"IF(B144=\"\",\"\",IF(K144=5,(SUM(C144:G144)-MAX(C144:G144)-MIN(C144:G144))/3,IF(K144=4,(SUM(C144:G144)-MAX(C144:G144))/3,SUM(C144:G144)/3))*B144/7.6)","v":""},null,null,0]
[{"$f":"IF(Draw!E144=0,\"\",Draw!E144)","v":""},"",{"$nulls":5},{"$f":"IF(B145=\"\",\"\",IF(K145=5,(SUM(C145:G145)-MAX(C145:G145)-MIN(C145:G145))/3,IF(K145=4,(SUM(C145:G145)-MAX(C145:G145))/3,SUM(C145:G145)/3))*B145/7.6)","v":""},null,null,0]
[{"$f":"IF(Draw!E145=0,\"\",Draw!E145)","v":""},"",{"$nulls":5},{"$f":"IF(B146=\"\",\"\",IF(K146=5,(SUM(C146:G146)-MAX(C146:G146)-MIN(C146:G146))/3,IF(K146=4,(SUM(C146:G146)-MAX(C146:G146))/3,SUM(C146:G146)/3))*B146/7.6)","v":""},null,null,0]
[{"$f":"IF(Draw!E146=0,\"\",Draw!E146)","v":""},"",{"$nulls":5},{"$f":"IF(B147=\"\",\"\",IF(K147=5,(SUM(C147:G147)-MAX(C147:G147)-MIN(C147:G147))/3,IF(K147=4,(SUM(C147:G147)-MAX(C147:G147))/3,SUM(C147:G147)/3))*B147/7.6)","v":""},null,null,0]
[{"$f":"IF(Draw!E147=0,\"\",Draw!E147)","v":""},"",{"$nulls":5},{"$f":"IF(B148=\"\",\"\",IF(K148=5,(SUM(C148:G148)-MAX(C148:G148)-MIN(C148:G148))/3,IF(K148=4,(SUM(C148:G148)-MAX(C148:G148))/3,SUM(C148:G148)/3))*B148/7.6)","v":""},null,null,0]
[{"$f":"IF(Draw!E148=0,\"\",Draw!E148)","v":""},"",{"$nulls":5},{"$f":"IF(B149=\"\",\"\",IF(K149=5,(SUM(C149:G149)-MAX(C149:G149)-MIN(C149:G149))/3,IF(K149=4,(SUM(C149:G149)-MAX(C149:G149))/3,SUM(C149:G149)/3))*B149/7.6)","v":""},null,null,0]
[{"$f":"IF(Draw!E149=0,\"\",Draw!E149)","v":""},"",{"$nulls":5},{"$f":"IF(B150=\"\",\"\",IF(K150=5,(SUM(C150:G150)-MAX(C150:G150)-MIN(C150:G150))/3,IF(K150=4,(SUM(C150:G150)-MAX(C150:G150))/3,SUM(C150:G150)/3))*B150/7.6)","v":""},null,null,0]

{"sheet":"Totals","index":5,"n_rows":151,"n_cols":51,"rows_kept":151}
["#","Swimmer","School","Total Score","Place","Figure 1","Figure 2","Figure 3","Figure 4","Penalties","Score"]
[{"$f":"IF(Draw!E8=0,\"\",Draw!E8)","v":7},"Anika Wright","Stillwater",{"$f":"IF($A2=\"\",\"\",SUM(F2:I2)-J2)","v":{"v":62.25877192982456,"d":"62.259"}},{"$f":"IF($A2=\"\",\"\",RANK(D2,D$2:D$150))","v":1},{"$f":"IF($A2=\"\",\"\",'Fig 1 Ballet Leg'!H9)","v":{"v":13.192982456140351,"d":"13.193"}},{"$f":"IF($A2=\"\",\"\",'Fig 2 Kip'!H9)","v":{"v":15.078947368421053,"d":"15.079"}},{"$f":"IF($A2=\"\",\"\",'Fig 3 Heron'!H9)","v":{"v":16.486842105263158,"d":"16.487"}},{"$f":"IF($A2=\"\",\"\",'Fig 4 Walkover'!H9)","v":{"v":17.5,"d":"17.500"}},{"$f":"IF($A2=\"\",\"\",'Fig 1 Ballet Leg'!I9+'Fig 2 Kip'!I9+'Fig 3 Heron'!I9+'Fig 4 Walkover'!I9)","v":{"v":0,"d":"0.0"}},{"$f":"IF($A2=\"\",\"\",IF(A2=\"\",\"\",VLOOKUP(E2,AX$3:AY$102,2,FALSE)))","v":8}]
[{"$f":"IF(Draw!E3=0,\"\",Draw!E3)","v":2},"Erin Wurgler","Stillwater",{"v":60.78947368421053,"d":"60.789"},2,{"$f":"IF($A3=\"\",\"\",'Fig 1 Ballet Leg'!H4)","v":{"v":13.05263157894737,"d":"13.053"}},{"$f":"IF($A3=\"\",\"\",'Fig 2 Kip'!H4)","v":{"v":13.657894736842106,"d":"13.658"}},{"$f":"IF($A3=\"\",\"\",'Fig 3 Heron'!H4)","v":{"v":17.31578947368421,"d":"17.316"}},{"$f":"IF($A3=\"\",\"\",'Fig 4 Walkover'!H4)","v":{"v":16.763157894736842,"d":"16.763"}},{"$f":"IF($A3=\"\",\"\",'Fig 1 Ballet Leg'!I4+'Fig 2 Kip'!I4+'Fig 3 Heron'!I4+'Fig 4 Walkover'!I4)","v":{"v":0,"d":"0.0"}},6,{"$nulls":38},1,8]
[{"$f":"IF(Draw!E15=0,\"\",Draw!E15)","v":14},"Chloe Knuteson","Stillwater",{"v":60.45175438596492,"d":"60.452"},3,{"$f":"IF($A4=\"\",\"\",'Fig 1 Ballet Leg'!H16)","v":{"v":13.122807017543863,"d":"13.123"}},{"$f":"IF($A4=\"\",\"\",'Fig 2 Kip'!H16)","v":{"v":13.342105263157896,"d":"13.342"}},{"$f":"IF($A4=\"\",\"\",'Fig 3 Heron'!H16)","v":{"v":16.855263157894736,"d":"16.855"}},{"$f":"IF($A4=\"\",\"\",'Fig 4 Walkover'!H16)","v":{"v":17.131578947368425,"d":"17.132"}},{"$f":"IF($A4=\"\",\"\",'Fig 1 Ballet Leg'!I16+'Fig 2 Kip'!I16+'Fig 3 Heron'!I16+'Fig 4 Walkover'!I16)","v":{"v":0,"d":"0.0"}},5,{"$nulls":38},2,6]
[{"$f":"IF(Draw!E12=0,\"\",Draw!E12)","v":11},"Adelee Wrightsman","Stillwater",{"v":60.17982456140351,"d":"60.180"},4,{"$f":"IF($A5=\"\",\"\",'Fig 1 Ballet Leg'!H13)","v":{"v":12.982456140350878,"d":"12.982"}},{"$f":"IF($A5=\"\",\"\",'Fig 2 Kip'!H13)","v":{"v":13.026315789473685,"d":"13.026"}},{"$f":"IF($A5=\"\",\"\",'Fig 3 Heron'!H13)","v":{"v":16.947368421052634,"d":"16.947"}},{"$f":"IF($A5=\"\",\"\",'Fig 4 Walkover'!H13)","v":{"v":17.22368421052632,"d":"17.224"}},{"$f":"IF($A5=\"\",\"\",'Fig 1 Ballet Leg'!I13+'Fig 2 Kip'!I13+'Fig 3 Heron'!I13+'Fig 4 Walkover'!I13)","v":{"v":0,"d":"0.0"}},4,{"$nulls":38},3,5]
[{"$f":"IF(Draw!E26=0,\"\",Draw!E26)","v":25},"Kya Hodgdon","Stillwater",{"v":60.171052631578945,"d":"60.171"},5,{"$f":"IF($A6=\"\",\"\",'Fig 1 Ballet Leg'!H27)","v":{"v":13.473684210526317,"d":"13.474"}},{"$f":"IF($A6=\"\",\"\",'Fig 2 Kip'!H27)","v":{"v":14.36842105263158,"d":"14.368"}},{"$f":"IF($A6=\"\",\"\",'Fig 3 Heron'!H27)","v":{"v":15.657894736842106,"d":"15.658"}},{"$f":"IF($A6=\"\",\"\",'Fig 4 Walkover'!H27)","v":{"v":16.67105263157895,"d":"16.671"}},{"$f":"IF($A6=\"\",\"\",'Fig 1 Ballet Leg'!I27+'Fig 2 Kip'!I27+'Fig 3 Heron'!I27+'Fig 4 Walkover'!I27)","v":{"v":0,"d":"0.0"}},3,{"$nulls":38},4,4]
[{"$f":"IF(Draw!E22=0,\"\",Draw!E22)","v":21},"Maddie Stricker","Stillwater",{"v":59.885964912280706,"d":"59.886"},6,{"$f":"IF($A7=\"\",\"\",'Fig 1 Ballet Leg'!H23)","v":{"v":13.333333333333336,"d":"13.333"}},{"$f":"IF($A7=\"\",\"\",'Fig 2 Kip'!H23)","v":{"v":14.684210526315791,"d":"14.684"}},{"$f":"IF($A7=\"\",\"\",'Fig 3 Heron'!H23)","v":{"v":15.93421052631579,"d":"15.934"}},{"$f":"IF($A7=\"\",\"\",'Fig 4 Walkover'!H23)","v":{"v":15.93421052631579,"d":"15.934"}},{"$f":"IF($A7=\"\",\"\",'Fig 1 Ballet Leg'!I23+'Fig 2 Kip'!I23+'Fig 3 Heron'!I23+'Fig 4 Walkover'!I23)","v":{"v":0,"d":"0.0"}},2,{"$nulls":38},5,3]
[{"$f":"IF(Draw!E17=0,\"\",Draw!E17)","v":16},"Samantha MacDonald","Stillwater",{"v":59.30701754385966,"d":"59.307"},7,{"$f":"IF($A8=\"\",\"\",'Fig 1 Ballet Leg'!H18)","v":{"v":12.701754385964914,"d":"12.702"}},{"$f":"IF($A8=\"\",\"\",'Fig 2 Kip'!H18)","v":{"v":14.36842105263158,"d":"14.368"}},{"$f":"IF($A8=\"\",\"\",'Fig 3 Heron'!H18)","v":{"v":16.855263157894736,"d":"16.855"}},{"$f":"IF($A8=\"\",\"\",'Fig 4 Walkover'!H18)","v":{"v":15.381578947368423,"d":"15.382"}},{"$f":"IF($A8=\"\",\"\",'Fig 1 Ballet Leg'!I18+'Fig 2 Kip'!I18+'Fig 3 Heron'!I18+'Fig 4 Walkover'!I18)","v":{"v":0,"d":"0.0"}},1,{"$nulls":38},6,2]
[{"$f":"IF(Draw!E18=0,\"\",Draw!E18)","v":17},"Maylin Kennedy","Stillwater",{"v":58.82017543859649,"d":"58.820"},8,{"$f":"IF($A9=\"\",\"\",'Fig 1 Ballet Leg'!H19)","v":{"v":12.49122807017544,"d":"12.491"}},{"$f":"IF($A9=\"\",\"\",'Fig 2 Kip'!H19)","v":{"v":14.36842105263158,"d":"14.368"}},{"$f":"IF($A9=\"\",\"\",'Fig 3 Heron'!H19)","v":{"v":15.93421052631579,"d":"15.934"}},{"$f":"IF($A9=\"\",\"\",'Fig 4 Walkover'!H19)","v":{"v":16.026315789473685,"d":"16.026"}},{"$f":"IF($A9=\"\",\"\",'Fig 1 Ballet Leg'!I19+'Fig 2 Kip'!I19+'Fig 3 Heron'!I19+'Fig 4 Walkover'!I19)","v":{"v":0,"d":"0.0"}},0,{"$nulls":38},7,1]
[{"$f":"IF(Draw!E13=0,\"\",Draw!E13)","v":12},"Kennedy Tope","Stillwater",{"v":57.45175438596492,"d":"57.452"},9,{"$f":"IF($A10=\"\",\"\",'Fig 1 Ballet Leg'!H14)","v":{"v":12.49122807017544,"d":"12.491"}},{"$f":"IF($A10=\"\",\"\",'Fig 2 Kip'!H14)","v":{"v":12.631578947368421,"d":"12.632"}},{"$f":"IF($A10=\"\",\"\",'Fig 3 Heron'!H14)","v":{"v":16.486842105263158,"d":"16.487"}},{"$f":"IF($A10=\"\",\"\",'Fig 4 Walkover'!H14)","v":{"v":15.842105263157896,"d":"15.842"}},{"$f":"IF($A10=\"\",\"\",'Fig 1 Ballet Leg'!I14+'Fig 2 Kip'!I14+'Fig 3 Heron'!I14+'Fig 4 Walkover'!I14)","v":{"v":0,"d":"0.0"}},0,{"$nulls":38},8,0]
[{"$f":"IF(Draw!E14=0,\"\",Draw!E14)","v":13},"Jillian Kulzer","Stillwater",{"v":56.26754385964913,"d":"56.268"},10,{"$f":"IF($A11=\"\",\"\",'Fig 1 Ballet Leg'!H15)","v":{"v":12.701754385964914,"d":"12.702"}},{"$f":"IF($A11=\"\",\"\",'Fig 2 Kip'!H15)","v":{"v":13.263157894736842,"d":"13.263"}},{"$f":"IF($A11=\"\",\"\",'Fig 3 Heron'!H15)","v":{"v":14.000000000000002,"d":"14.000"}},{"$f":"IF($A11=\"\",\"\",'Fig 4 Walkover'!H15)","v":{"v":16.30263157894737,"d":"16.303"}},{"$f":"IF($A11=\"\",\"\",'Fig 1 Ballet Leg'!I15+'Fig 2 Kip'!I15+'Fig 3 Heron'!I15+'Fig 4 Walkover'!I15)","v":{"v":0,"d":"0.0"}},0,{"$nulls":38},9,0]
[{"$f":"IF(Draw!E25=0,\"\",Draw!E25)","v":24},"Elly Blair","Stillwater",{"v":55.85087719298246,"d":"55.851"},11,{"$f":"IF($A12=\"\",\"\",'Fig 1 Ballet Leg'!H26)","v":{"v":12.350877192982457,"d":"12.351"}},{"$f":"IF($A12=\"\",\"\",'Fig 2 Kip'!H26)","v":{"v":12.55263157894737,"d":"12.553"}},{"$f":"IF($A12=\"\",\"\",'Fig 3 Heron'!H26)","v":{"v":15.657894736842106,"d":"15.658"}},{"$f":"IF($A12=\"\",\"\",'Fig 4 Walkover'!H26)","v":{"v":15.289473684210527,"d":"15.289"}},{"$f":"IF($A12=\"\",\"\",'Fig 1 Ballet Leg'!I26+'Fig 2 Kip'!I26+'Fig 3 Heron'!I26+'Fig 4 Walkover'!I26)","v":{"v":0,"d":"0.0"}},0,{"$nulls":38},10,0]
[{"$f":"IF(Draw!E27=0,\"\",Draw!E27)","v":26},"Bella Formico","Stillwater",{"v":55.22368421052632,"d":"55.224"},12,{"$f":"IF($A13=\"\",\"\",'Fig 1 Ballet Leg'!H28)","v":{"v":11.578947368421053,"d":"11.579"}},{"$f":"IF($A13=\"\",\"\",'Fig 2 Kip'!H28)","v":{"v":13.342105263157896,"d":"13.342"}},{"$f":"IF($A13=\"\",\"\",'Fig 3 Heron'!H28)","v":{"v":14.921052631578949,"d":"14.921"}},{"$f":"IF($A13=\"\",\"\",'Fig 4 Walkover'!H28)","v":{"v":15.381578947368423,"d":"15.382"}},{"$f":"IF($A13=\"\",\"\",'Fig 1 Ballet Leg'!I28+'Fig 2 Kip'!I28+'Fig 3 Heron'!I28+'Fig 4 Walkover'!I28)","v":{"v":0,"d":"0.0"}},0,{"$nulls":38},11,0]
[{"$f":"IF(Draw!E21=0,\"\",Draw!E21)","v":20},"Nissa Wilcox","Stillwater",{"v":54.236842105263165,"d":"54.237"},13,{"$f":"IF($A14=\"\",\"\",'Fig 1 Ballet Leg'!H22)","v":{"v":12.210526315789476,"d":"12.211"}},{"$f":"IF($A14=\"\",\"\",'Fig 2 Kip'!H22)","v":{"v":12.55263157894737,"d":"12.553"}},{"$f":"IF($A14=\"\",\"\",'Fig 3 Heron'!H22)","v":{"v":14.644736842105265,"d":"14.645"}},{"$f":"IF($A14=\"\",\"\",'Fig 4 Walkover'!H22)","v":{"v":14.828947368421053,"d":"14.829"}},{"$f":"IF($A14=\"\",\"\",'Fig 1 Ballet Leg'!I22+'Fig 2 Kip'!I22+'Fig 3 Heron'!I22+'Fig 4 Walkover'!I22)","v":{"v":0,"d":"0.0"}},0,{"$nulls":38},12,0]
[{"$f":"IF(Draw!E6=0,\"\",Draw!E6)","v":5},"Hannah Bliss","Stillwater",{"v":54.14473684210527,"d":"54.145"},14,{"$f":"IF($A15=\"\",\"\",'Fig 1 Ballet Leg'!H7)","v":{"v":11.157894736842108,"d":"11.158"}},{"$f":"IF($A15=\"\",\"\",'Fig 2 Kip'!H7)","v":{"v":12.86842105263158,"d":"12.868"}},{"$f":"IF($A15=\"\",\"\",'Fig 3 Heron'!H7)","v":{"v":14.921052631578949,"d":"14.921"}},{"$f":"IF($A15=\"\",\"\",'Fig 4 Walkover'!H7)","v":{"v":15.197368421052632,"d":"15.197"}},{"$f":"IF($A15=\"\",\"\",'Fig 1 Ballet Leg'!I7+'Fig 2 Kip'!I7+'Fig 3 Heron'!I7+'Fig 4 Walkover'!I7)","v":{"v":0,"d":"0.0"}},0,{"$nulls":38},13,0]
[{"$f":"IF(Draw!E24=0,\"\",Draw!E24)","v":23},"Alexis Montgomery","Stillwater",{"v":53.67543859649123,"d":"53.675"},15,{"$f":"IF($A16=\"\",\"\",'Fig 1 Ballet Leg'!H25)","v":{"v":10.80701754385965,"d":"10.807"}},{"$f":"IF($A16=\"\",\"\",'Fig 2 Kip'!H25)","v":{"v":13.026315789473685,"d":"13.026"}},{"$f":"IF($A16=\"\",\"\",'Fig 3 Heron'!H25)","v":{"v":14.276315789473685,"d":"14.276"}},{"$f":"IF($A16=\"\",\"\",'Fig 4 Walkover'!H25)","v":{"v":15.565789473684212,"d":"15.566"}},{"$f":"IF($A16=\"\",\"\",'Fig 1 Ballet Leg'!I25+'Fig 2 Kip'!I25+'Fig 3 Heron'!I25+'Fig 4 Walkover'!I25)","v":{"v":0,"d":"0.0"}},0,{"$nulls":38},14,0]
[{"$f":"IF(Draw!E10=0,\"\",Draw!E10)","v":9},"Annika Desphande","Osseo-Maple Grove",{"v":51.46491228070176,"d":"51.465"},16,{"$f":"IF($A17=\"\",\"\",'Fig 1 Ballet Leg'!H11)","v":{"v":11.228070175438598,"d":"11.228"}},{"$f":"IF($A17=\"\",\"\",'Fig 2 Kip'!H11)","v":{"v":11.684210526315791,"d":"11.684"}},{"$f":"IF($A17=\"\",\"\",'Fig 3 Heron'!H11)","v":{"v":14.828947368421053,"d":"14.829"}},{"$f":"IF($A17=\"\",\"\",'Fig 4 Walkover'!H11)","v":{"v":13.723684210526317,"d":"13.724"}},{"$f":"IF($A17=\"\",\"\",'Fig 1 Ballet Leg'!I11+'Fig 2 Kip'!I11+'Fig 3 Heron'!I11+'Fig 4 Walkover'!I11)","v":{"v":0,"d":"0.0"}},0,{"$nulls":38},15,0]
[{"$f":"IF(Draw!E16=0,\"\",Draw!E16)","v":15},"Nina Djukelic","Stillwater",{"v":51.298245614035096,"d":"51.298"},17,{"$f":"IF($A18=\"\",\"\",'Fig 1 Ballet Leg'!H17)","v":{"v":11.087719298245615,"d":"11.088"}},{"$f":"IF($A18=\"\",\"\",'Fig 2 Kip'!H17)","v":{"v":12.394736842105264,"d":"12.395"}},{"$f":"IF($A18=\"\",\"\",'Fig 3 Heron'!H17)","v":{"v":14.184210526315791,"d":"14.184"}},{"$f":"IF($A18=\"\",\"\",'Fig 4 Walkover'!H17)","v":{"v":13.631578947368423,"d":"13.632"}},{"$f":"IF($A18=\"\",\"\",'Fig 1 Ballet Leg'!I17+'Fig 2 Kip'!I17+'Fig 3 Heron'!I17+'Fig 4 Walkover'!I17)","v":{"v":0,"d":"0.0"}},0,{"$nulls":38},16,0]
[{"$f":"IF(Draw!E29=0,\"\",Draw!E29)","v":28},"Lauren Guinee","Stillwater",{"v":51.184210526315795,"d":"51.184"},18,{"$f":"IF($A19=\"\",\"\",'Fig 1 Ballet Leg'!H30)","v":{"v":9.894736842105264,"d":"9.895"}},{"$f":"IF($A19=\"\",\"\",'Fig 2 Kip'!H30)","v":{"v":12.000000000000002,"d":"12.000"}},{"$f":"IF($A19=\"\",\"\",'Fig 3 Heron'!H30)","v":{"v":14.460526315789474,"d":"14.461"}},{"$f":"IF($A19=\"\",\"\",'Fig 4 Walkover'!H30)","v":{"v":14.828947368421053,"d":"14.829"}},{"$f":"IF($A19=\"\",\"\",'Fig 1 Ballet Leg'!I30+'Fig 2 Kip'!I30+'Fig 3 Heron'!I30+'Fig 4 Walkover'!I30)","v":{"v":0,"d":"0.0"}},0,{"$nulls":38},17,0]
[{"$f":"IF(Draw!E7=0,\"\",Draw!E7)","v":6},"Kyra Will","Stillwater",{"v":50.350877192982466,"d":"50.351"},19,{"$f":"IF($A20=\"\",\"\",'Fig 1 Ballet Leg'!H8)","v":{"v":11.087719298245615,"d":"11.088"}},{"$f":"IF($A20=\"\",\"\",'Fig 2 Kip'!H8)","v":{"v":12.55263157894737,"d":"12.553"}},{"$f":"IF($A20=\"\",\"\",'Fig 3 Heron'!H8)","v":{"v":12.61842105263158,"d":"12.618"}},{"$f":"IF($A20=\"\",\"\",'Fig 4 Walkover'!H8)","v":{"v":14.092105263157897,"d":"14.092"}},{"$f":"IF($A20=\"\",\"\",'Fig 1 Ballet Leg'!I8+'Fig 2 Kip'!I8+'Fig 3 Heron'!I8+'Fig 4 Walkover'!I8)","v":{"v":0,"d":"0.0"}},0,{"$nulls":38},18,0]
[{"$f":"IF(Draw!E5=0,\"\",Draw!E5)","v":4},"Molly Goheen","Stillwater",{"v":50.09649122807018,"d":"50.096"},20,{"$f":"IF($A21=\"\",\"\",'Fig 1 Ballet Leg'!H6)","v":{"v":10.385964912280702,"d":"10.386"}},{"$f":"IF($A21=\"\",\"\",'Fig 2 Kip'!H6)","v":{"v":12.631578947368421,"d":"12.632"}},{"$f":"IF($A21=\"\",\"\",'Fig 3 Heron'!H6)","v":{"v":13.447368421052632,"d":"13.447"}},{"$f":"IF($A21=\"\",\"\",'Fig 4 Walkover'!H6)","v":{"v":13.631578947368423,"d":"13.632"}},{"$f":"IF($A21=\"\",\"\",'Fig 1 Ballet Leg'!I6+'Fig 2 Kip'!I6+'Fig 3 Heron'!I6+'Fig 4 Walkover'!I6)","v":{"v":0,"d":"0.0"}},0,{"$nulls":38},19,0]
[{"$f":"IF(Draw!E23=0,\"\",Draw!E23)","v":22},"Berit Serle","Stillwater",{"v":50.0921052631579,"d":"50.092"},21,{"$f":"IF($A22=\"\",\"\",'Fig 1 Ballet Leg'!H24)","v":{"v":10.105263157894738,"d":"10.105"}},{"$f":"IF($A22=\"\",\"\",'Fig 2 Kip'!H24)","v":{"v":11.526315789473683,"d":"11.526"}},{"$f":"IF($A22=\"\",\"\",'Fig 3 Heron'!H24)","v":{"v":13.907894736842106,"d":"13.908"}},{"$f":"IF($A22=\"\",\"\",'Fig 4 Walkover'!H24)","v":{"v":14.552631578947368,"d":"14.553"}},{"$f":"IF($A22=\"\",\"\",'Fig 1 Ballet Leg'!I24+'Fig 2 Kip'!I24+'Fig 3 Heron'!I24+'Fig 4 Walkover'!I24)","v":{"v":0,"d":"0.0"}},0,{"$nulls":38},20,0]
[{"$f":"IF(Draw!E11=0,\"\",Draw!E11)","v":10},"Savanna Woods","Osseo-Maple Grove",{"v":48.66228070175439,"d":"48.662"},22,{"$f":"IF($A23=\"\",\"\",'Fig 1 Ballet Leg'!H12)","v":{"v":10.596491228070178,"d":"10.596"}},{"$f":"IF($A23=\"\",\"\",'Fig 2 Kip'!H12)","v":{"v":11.447368421052632,"d":"11.447"}},{"$f":"IF($A23=\"\",\"\",'Fig 3 Heron'!H12)","v":{"v":14.000000000000002,"d":"14.000"}},{"$f":"IF($A23=\"\",\"\",'Fig 4 Walkover'!H12)","v":{"v":12.61842105263158,"d":"12.618"}},{"$f":"IF($A23=\"\",\"\",'Fig 1 Ballet Leg'!I12+'Fig 2 Kip'!I12+'Fig 3 Heron'!I12+'Fig 4 Walkover'!I12)","v":{"v":0,"d":"0.0"}},0,{"$nulls":38},21,0]
[{"$f":"IF(Draw!E4=0,\"\",Draw!E4)","v":3},"Kati Knox","Osseo-Maple Grove",{"v":47.69298245614035,"d":"47.693"},23,{"$f":"IF($A24=\"\",\"\",'Fig 1 Ballet Leg'!H5)","v":{"v":9.614035087719298,"d":"9.614"}},{"$f":"IF($A24=\"\",\"\",'Fig 2 Kip'!H5)","v":{"v":11.36842105263158,"d":"11.368"}},{"$f":"IF($A24=\"\",\"\",'Fig 3 Heron'!H5)","v":{"v":13.447368421052632,"d":"13.447"}},{"$f":"IF($A24=\"\",\"\",'Fig 4 Walkover'!H5)","v":{"v":13.263157894736844,"d":"13.263"}},{"$f":"IF($A24=\"\",\"\",'Fig 1 Ballet Leg'!I5+'Fig 2 Kip'!I5+'Fig 3 Heron'!I5+'Fig 4 Walkover'!I5)","v":{"v":0,"d":"0.0"}},0,{"$nulls":38},22,0]
[{"$f":"IF(Draw!E9=0,\"\",Draw!E9)","v":8},"Mikaela Crosby","Osseo-Maple Grove",{"v":46.14473684210526,"d":"46.145"},24,{"$f":"IF($A25=\"\",\"\",'Fig 1 Ballet Leg'!H10)","v":{"v":8.842105263157896,"d":"8.842"}},{"$f":"IF($A25=\"\",\"\",'Fig 2 Kip'!H10)","v":{"v":11.052631578947368,"d":"11.053"}},{"$f":"IF($A25=\"\",\"\",'Fig 3 Heron'!H10)","v":{"v":12.526315789473685,"d":"12.526"}},{"$f":"IF($A25=\"\",\"\",'Fig 4 Walkover'!H10)","v":{"v":13.723684210526317,"d":"13.724"}},{"$f":"IF($A25=\"\",\"\",'Fig 1 Ballet Leg'!I10+'Fig 2 Kip'!I10+'Fig 3 Heron'!I10+'Fig 4 Walkover'!I10)","v":{"v":0,"d":"0.0"}},0,{"$nulls":38},23,0]
[{"$f":"IF(Draw!E19=0,\"\",Draw!E19)","v":18},"Paulina Frayman","Osseo-Maple Grove",{"v":45.08771929824562,"d":"45.088"},25,{"$f":"IF($A26=\"\",\"\",'Fig 1 Ballet Leg'!H20)","v":{"v":8.771929824561404,"d":"8.772"}},{"$f":"IF($A26=\"\",\"\",'Fig 2 Kip'!H20)","v":{"v":10.894736842105264,"d":"10.895"}},{"$f":"IF($A26=\"\",\"\",'Fig 3 Heron'!H20)","v":{"v":12.06578947368421,"d":"12.066"}},{"$f":"IF($A26=\"\",\"\",'Fig 4 Walkover'!H20)","v":{"v":13.35526315789474,"d":"13.355"}},{"$f":"IF($A26=\"\",\"\",'Fig 1 Ballet Leg'!I20+'Fig 2 Kip'!I20+'Fig 3 Heron'!I20+'Fig 4 Walkover'!I20)","v":{"v":0,"d":"0.0"}},0,{"$nulls":38},24,0]
[{"$f":"IF(Draw!E28=0,\"\",Draw!E28)","v":27},"Hayeon Lee","Stillwater",{"v":30.758771929824565,"d":"30.759"},26,{"$f":"IF($A27=\"\",\"\",'Fig 1 Ballet Leg'!H29)","v":{"v":8.56140350877193,"d":"8.561"}},{"$f":"IF($A27=\"\",\"\",'Fig 2 Kip'!H29)","v":{"v":10.500000000000002,"d":"10.500"}},{"$f":"IF($A27=\"\",\"\",'Fig 3 Heron'!H29)","v":{"v":0,"d":"0.000"}},{"$f":"IF($A27=\"\",\"\",'Fig 4 Walkover'!H29)","v":{"v":11.697368421052634,"d":"11.697"}},{"$f":"IF($A27=\"\",\"\",'Fig 1 Ballet Leg'!I29+'Fig 2 Kip'!I29+'Fig 3 Heron'!I29+'Fig 4 Walkover'!I29)","v":{"v":0,"d":"0.0"}},0,{"$nulls":38},25,0]
[{"$f":"IF(Draw!E2=0,\"\",Draw!E2)","v":1},"Leigha Kraft","Stillwater",{"v":0,"d":"0.000"},27,{"$f":"IF($A28=\"\",\"\",'Fig 1 Ballet Leg'!H3)","v":{"v":0,"d":"0.000"}},{"$f":"IF($A28=\"\",\"\",'Fig 2 Kip'!H3)","v":{"v":0,"d":"0.000"}},{"$f":"IF($A28=\"\",\"\",'Fig 3 Heron'!H3)","v":{"v":0,"d":"0.000"}},{"$f":"IF($A28=\"\",\"\",'Fig 4 Walkover'!H3)","v":{"v":0,"d":"0.000"}},{"$f":"IF($A28=\"\",\"\",'Fig 1 Ballet Leg'!I3+'Fig 2 Kip'!I3+'Fig 3 Heron'!I3+'Fig 4 Walkover'!I3)","v":{"v":0,"d":"0.0"}},0,{"$nulls":38},26,0]
[{"$f":"IF(Draw!E20=0,\"\",Draw!E20)","v":19},"Student Names:","Edina",{"v":0,"d":"0.000"},27,{"$f":"IF($A29=\"\",\"\",'Fig 1 Ballet Leg'!H21)","v":{"v":0,"d":"0.000"}},{"$f":"IF($A29=\"\",\"\",'Fig 2 Kip'!H21)","v":{"v":0,"d":"0.000"}},{"$f":"IF($A29=\"\",\"\",'Fig 3 Heron'!H21)","v":{"v":0,"d":"0.000"}},{"$f":"IF($A29=\"\",\"\",'Fig 4 Walkover'!H21)","v":{"v":0,"d":"0.000"}},{"$f":"IF($A29=\"\",\"\",'Fig 1 Ballet Leg'!I21+'Fig 2 Kip'!I21+'Fig 3 Heron'!I21+'Fig 4 Walkover'!I21)","v":{"v":0,"d":"0.0"}},0,{"$nulls":38},27,0]
[{"$f":"IF(Draw!E30=0,\"\",Draw!E30)","v":""},null,null,{"$f":"IF($A30=\"\",\"\",SUM(F30:I30)-J30)","v":""},{"$f":"IF($A30=\"\",\"\",RANK(D30,D$2:D$150))","v":""},{"$f":"IF($A30=\"\",\"\",'Fig 1 Ballet Leg'!H31)","v":""},{"$f":"IF($A30=\"\",\"\",'Fig 2 Kip'!H31)","v":""},{"$f":"IF($A30=\"\",\"\",'Fig 3 Heron'!H31)","v":""},{"$f":"IF($A30=\"\",\"\",'Fig 4 Walkover'!H31)","v":""},{"$f":"IF($A30=\"\",\"\",'Fig 1 Ballet Leg'!I31+'Fig 2 Kip'!I31+'Fig 3 Heron'!I31+'Fig 4 Walkover'!I31)","v":""},{"$f":"IF($A30=\"\",\"\",IF(A30=\"\",\"\",VLOOKUP(E30,AX$3:AY$102,2,FALSE)))","v":""},{"$nulls":38},28,0]
[{"$f":"IF(Draw!E31=0,\"\",Draw!E31)","v":""},null,null,"","",{"$f":"IF($A31=\"\",\"\",'Fig 1 Ballet Leg'!H32)","v":""},{"$f":"IF($A31=\"\",\"\",'Fig 2 Kip'!H32)","v":""},{"$f":"IF($A31=\"\",\"\",'Fig 3 Heron'!H32)","v":""},{"$f":"IF($A31=\"\",\"\",'Fig 4 Walkover'!H32)","v":""},{"$f":"IF($A31=\"\",\"\",'Fig 1 Ballet Leg'!I32+'Fig 2 Kip'!I32+'Fig 3 Heron'!I32+'Fig 4 Walkover'!I32)","v":""},"",{"$nulls":38},29,0]
[{"$f":"IF(Draw!E32=0,\"\",Draw!E32)","v":""},null,null,"","",{"$f":"IF($A32=\"\",\"\",'Fig 1 Ballet Leg'!H33)","v":""},{"$f":"IF($A32=\"\",\"\",'Fig 2 Kip'!H33)","v":""},{"$f":"IF($A32=\"\",\"\",'Fig 3 Heron'!H33)","v":""},{"$f":"IF($A32=\"\",\"\",'Fig 4 Walkover'!H33)","v":""},{"$f":"IF($A32=\"\",\"\",'Fig 1 Ballet Leg'!I33+'Fig 2 Kip'!I33+'Fig 3 Heron'!I33+'Fig 4 Walkover'!I33)","v":""},"",{"$nulls":38},30,0]
[{"$f":"IF(Draw!E33=0,\"\",Draw!E33)","v":""},null,null,"","",{"$f":"IF($A33=\"\",\"\",'Fig 1 Ballet Leg'!H34)","v":""},{"$f":"IF($A33=\"\",\"\",'Fig 2 Kip'!H34)","v":""},{"$f":"IF($A33=\"\",\"\",'Fig 3 Heron'!H34)","v":""},{"$f":"IF($A33=\"\",\"\",'Fig 4 Walkover'!H34)","v":""},{"$f":"IF($A33=\"\",\"\",'Fig 1 Ballet Leg'!I34+'Fig 2 Kip'!I34+'Fig 3 Heron'!I34+'Fig 4 Walkover'!I34)","v":""},"",{"$nulls":38},31,0]
[{"$f":"IF(Draw!E34=0,\"\",Draw!E34)","v":""},null,null,"","",{"$f":"IF($A34=\"\",\"\",'Fig 1 Ballet Leg'!H35)","v":""},{"$f":"IF($A34=\"\",\"\",'Fig 2 Kip'!H35)","v":""},{"$f":"IF($A34=\"\",\"\",'Fig 3 Heron'!H35)","v":""},{"$f":"IF($A34=\"\",\"\",'Fig 4 Walkover'!H35)","v":""},{"$f":"IF($A34=\"\",\"\",'Fig 1 Ballet Leg'!I35+'Fig 2 Kip'!I35+'Fig 3 Heron'!I35+'Fig 4 Walkover'!I35)","v":""},"",{"$nulls":38},32,0]
[{"$f":"IF(Draw!E35=0,\"\",Draw!E35)","v":""},null,null,"","",{"$f":"IF($A35=\"\",\"\",'Fig 1 Ballet Leg'!H36)","v":""},{"$f":"IF($A35=\"\",\"\",'Fig 2 Kip'!H36)","v":""},{"$f":"IF($A35=\"\",\"\",'Fig 3 Heron'!H36)","v":""},{"$f":"IF($A35=\"\",\"\",'Fig 4 Walkover'!H36)","v":""},{"$f":"IF($A35=\"\",\"\",'Fig 1 Ballet Leg'!I36+'Fig 2 Kip'!I36+'Fig 3 Heron'!I36+'Fig 4 Walkover'!I36)","v":""},"",{"$nulls":38},33,0]
[{"$f":"IF(Draw!E36=0,\"\",Draw!E36)","v":""},null,null,"","",{"$f":"IF($A36=\"\",\"\",'Fig 1 Ballet Leg'!H37)","v":""},{"$f":"IF($A36=\"\",\"\",'Fig 2 Kip'!H37)","v":""},{"$f":"IF($A36=\"\",\"\",'Fig 3 Heron'!H37)","v":""},{"$f":"IF($A36=\"\",\"\",'Fig 4 Walkover'!H37)","v":""},{"$f":"IF($A36=\"\",\"\",'Fig 1 Ballet Leg'!I37+'Fig 2 Kip'!I37+'Fig 3 Heron'!I37+'Fig 4 Walkover'!I37)","v":""},"",{"$nulls":38},34,0]
[{"$f":"IF(Draw!E37=0,\"\",Draw!E37)","v":""},null,null,"","",{"$f":"IF($A37=\"\",\"\",'Fig 1 Ballet Leg'!H38)","v":""},{"$f":"IF($A37=\"\",\"\",'Fig 2 Kip'!H38)","v":""},{"$f":"IF($A37=\"\",\"\",'Fig 3 Heron'!H38)","v":""},{"$f":"IF($A37=\"\",\"\",'Fig 4 Walkover'!H38)","v":""},{"$f":"IF($A37=\"\",\"\",'Fig 1 Ballet Leg'!I38+'Fig 2 Kip'!I38+'Fig 3 Heron'!I38+'Fig 4 Walkover'!I38)","v":""},"",{"$nulls":38},35,0]
[{"$f":"IF(Draw!E38=0,\"\",Draw!E38)","v":""},null,null,"","",{"$f":"IF($A38=\"\",\"\",'Fig 1 Ballet Leg'!H39)","v":""},{"$f":"IF($A38=\"\",\"\",'Fig 2 Kip'!H39)","v":""},{"$f":"IF($A38=\"\",\"\",'Fig 3 Heron'!H39)","v":""},{"$f":"IF($A38=\"\",\"\",'Fig 4 Walkover'!H39)","v":""},{"$f":"IF($A38=\"\",\"\",'Fig 1 Ballet Leg'!I39+'Fig 2 Kip'!I39+'Fig 3 Heron'!I39+'Fig 4 Walkover'!I39)","v":""},"",{"$nulls":38},36,0]
[{"$f":"IF(Draw!E39=0,\"\",Draw!E39)","v":""},null,null,"","",{"$f":"IF($A39=\"\",\"\",'Fig 1 Ballet Leg'!H40)","v":""},{"$f":"IF($A39=\"\",\"\",'Fig 2 Kip'!H40)","v":""},{"$f":"IF($A39=\"\",\"\",'Fig 3 Heron'!H40)","v":""},{"$f":"IF($A39=\"\",\"\",'Fig 4 Walkover'!H40)","v":""},{"$f":"IF($A39=\"\",\"\",'Fig 1 Ballet Leg'!I40+'Fig 2 Kip'!I40+'Fig 3 Heron'!I40+'Fig 4 Walkover'!I40)","v":""},"",{"$nulls":38},37,0]
[{"$f":"IF(Draw!E40=0,\"\",Draw!E40)","v":""},null,null,"","",{"$f":"IF($A40=\"\",\"\",'Fig 1 Ballet Leg'!H41)","v":""},{"$f":"IF($A40=\"\",\"\",'Fig 2 Kip'!H41)","v":""},{"$f":"IF($A40=\"\",\"\",'Fig 3 Heron'!H41)","v":""},{"$f":"IF($A40=\"\",\"\",'Fig 4 Walkover'!H41)","v":""},{"$f":"IF($A40=\"\",\"\",'Fig 1 Ballet Leg'!I41+'Fig 2 Kip'!I41+'Fig 3 Heron'!I41+'Fig 4 Walkover'!I41)","v":""},"",{"$nulls":38},38,0]
[{"$f":"IF(Draw!E41=0,\"\",Draw!E41)","v":""},null,null,"","",{"$f":"IF($A41=\"\",\"\",'Fig 1 Ballet Leg'!H42)","v":""},{"$f":"IF($A41=\"\",\"\",'Fig 2 Kip'!H42)","v":""},{"$f":"IF($A41=\"\",\"\",'Fig 3 Heron'!H42)","v":""},{"$f":"IF($A41=\"\",\"\",'Fig 4 Walkover'!H42)","v":""},{"$f":"IF($A41=\"\",\"\",'Fig 1 Ballet Leg'!I42+'Fig 2 Kip'!I42+'Fig 3 Heron'!I42+'Fig 4 Walkover'!I42)","v":""},"",{"$nulls":38},39,0]
[{"$f":"IF(Draw!E42=0,\"\",Draw!E42)","v":""},null,null,"","",{"$f":"IF($A42=\"\",\"\",'Fig 1 Ballet Leg'!H43)","v":""},{"$f":"IF($A42=\"\",\"\",'Fig 2 Kip'!H43)","v":""},{"$f":"IF($A42=\"\",\"\",'Fig 3 Heron'!H43)","v":""},{"$f":"IF($A42=\"\",\"\",'Fig 4 Walkover'!H43)","v":""},{"$f":"IF($A42=\"\",\"\",'Fig 1 Ballet Leg'!I43+'Fig 2 Kip'!I43+'Fig 3 Heron'!I43+'Fig 4 Walkover'!I43)","v":""},"",{"$nulls":38},40,0]
[{"$f":"IF(Draw!E43=0,\"\",Draw!E43)","v":""},null,null,"","",{"$f":"IF($A43=\"\",\"\",'Fig 1 Ballet Leg'!H44)","v":""},{"$f":"IF($A43=\"\",\"\",'Fig 2 Kip'!H44)","v":""},{"$f":"IF($A43=\"\",\"\",'Fig 3 Heron'!H44)","v":""},{"$f":"IF($A43=\"\",\"\",'Fig 4 Walkover'!H44)","v":""},{"$f":"IF($A43=\"\",\"\",'Fig 1 Ballet Leg'!I44+'Fig 2 Kip'!I44+'Fig 3 Heron'!I44+'Fig 4 Walkover'!I44)","v":""},"",{"$nulls":38},41,0]
[{"$f":"IF(Draw!E44=0,\"\",Draw!E44)","v":""},null,null,"","",{"$f":"IF($A44=\"\",\"\",'Fig 1 Ballet Leg'!H45)","v":""},{"$f":"IF($A44=\"\",\"\",'Fig 2 Kip'!H45)","v":""},{"$f":"IF($A44=\"\",\"\",'Fig 3 Heron'!H45)","v":""},{"$f":"IF($A44=\"\",\"\",'Fig 4 Walkover'!H45)","v":""},{"$f":"IF($A44=\"\",\"\",'Fig 1 Ballet Leg'!I45+'Fig 2 Kip'!I45+'Fig 3 Heron'!I45+'Fig 4 Walkover'!I45)","v":""},"",{"$nulls":38},42,0]
[{"$f":"IF(Draw!E45=0,\"\",Draw!E45)","v":""},null,null,"","",{"$f":"IF($A45=\"\",\"\",'Fig 1 Ballet Leg'!H46)","v":""},{"$f":"IF($A45=\"\",\"\",'Fig 2 Kip'!H46)","v":""},{"$f":"IF($A45=\"\",\"\",'Fig 3 Heron'!H46)","v":""},{"$f":"IF($A45=\"\",\"\",'Fig 4 Walkover'!H46)","v":""},{"$f":"IF($A45=\"\",\"\",'Fig 1 Ballet Leg'!I46+'Fig 2 Kip'!I46+'Fig 3 Heron'!I46+'Fig 4 Walkover'!I46)","v":""},"",{"$nulls":38},43,0]
[{"$f":"IF(Draw!E46=0,\"\",Draw!E46)","v":""},null,null,"","",{"$f":"IF($A46=\"\",\"\",'Fig 1 Ballet Leg'!H47)","v":""},{"$f":"IF($A46=\"\",\"\",'Fig 2 Kip'!H47)","v":""},{"$f":"IF($A46=\"\",\"\",'Fig 3 Heron'!H47)","v":""},{"$f":"IF($A46=\"\",\"\",'Fig 4 Walkover'!H47)","v":""},{"$f":"IF($A46=\"\",\"\",'Fig 1 Ballet Leg'!I47+'Fig 2 Kip'!I47+'Fig 3 Heron'!I47+'Fig 4 Walkover'!I47)","v":""},"",{"$nulls":38},44,0]
[{"$f":"IF(Draw!E47=0,\"\",Draw!E47)","v":""},null,null,"","",{"$f":"IF($A47=\"\",\"\",'Fig 1 Ballet Leg'!H48)","v":""},{"$f":"IF($A47=\"\",\"\",'Fig 2 Kip'!H48)","v":""},{"$f":"IF($A47=\"\",\"\",'Fig 3 Heron'!H48)","v":""},{"$f":"IF($A47=\"\",\"\",'Fig 4 Walkover'!H48)","v":""},{"$f":"IF($A47=\"\",\"\",'Fig 1 Ballet Leg'!I48+'Fig 2 Kip'!I48+'Fig 3 Heron'!I48+'Fig 4 Walkover'!I48)","v":""},"",{"$nulls":38},45,0]
[{"$f":"IF(Draw!E48=0,\"\",Draw!E48)","v":""},null,null,"","",{"$f":"IF($A48=\"\",\"\",'Fig 1 Ballet Leg'!H49)","v":""},{"$f":"IF($A48=\"\",\"\",'Fig 2 Kip'!H49)","v":""},{"$f":"IF($A48=\"\",\"\",'Fig 3 Heron'!H49)","v":""},{"$f":"IF($A48=\"\",\"\",'Fig 4 Walkover'!H49)","v":""},{"$f":"IF($A48=\"\",\"\",'Fig 1 Ballet Leg'!I49+'Fig 2 Kip'!I49+'Fig 3 Heron'!I49+'Fig 4 Walkover'!I49)","v":""},"",{"$nulls":38},46,0]
[{"$f":"IF(Draw!E49=0,\"\",Draw!E49)","v":""},null,null,"","",{"$f":"IF($A49=\"\",\"\",'Fig 1 Ballet Leg'!H50)","v":""},{"$f":"IF($A49=\"\",\"\",'Fig 2 Kip'!H50)","v":""},{"$f":"IF($A49=\"\",\"\",'Fig 3 Heron'!H50)","v":""},{"$f":"IF($A49=\"\",\"\",'Fig 4 Walkover'!H50)","v":""},{"$f":"IF($A49=\"\",\"\",'Fig 1 Ballet Leg'!I50+'Fig 2 Kip'!I50+'Fig 3 Heron'!I50+'Fig 4 Walkover'!I50)","v":""},"",{"$nulls":38},47,0]
[{"$f":"IF(Draw!E50=0,\"\",Draw!E50)","v":""},null,null,"","",{"$f":"IF($A50=\"\",\"\",'Fig 1 Ballet Leg'!H51)","v":""},{"$f":"IF($A50=\"\",\"\",'Fig 2 Kip'!H51)","v":""},{"$f":"IF($A50=\"\",\"\",'Fig 3 Heron'!H51)","v":""},{"$f":"IF($A50=\"\",\"\",'Fig 4 Walkover'!H51)","v":""},{"$f":"IF($A50=\"\",\"\",'Fig 1 Ballet Leg'!I51+'Fig 2 Kip'!I51+'Fig 3 Heron'!I51+'Fig 4 Walkover'!I51)","v":""},"",{"$nulls":38},48,0]
[{"$f":"IF(Draw!E51=0,\"\",Draw!E51)","v":""},null,null,"","",{"$f":"IF($A51=\"\",\"\",'Fig 1 Ballet Leg'!H52)","v":""},{"$f":"IF($A51=\"\",\"\",'Fig 2 Kip'!H52)","v":""},{"$f":"IF($A51=\"\",\"\",'Fig 3 Heron'!H52)","v":""},{"$f":"IF($A51=\"\",\"\",'Fig 4 Walkover'!H52)","v":""},{"$f":"IF($A51=\"\",\"\",'Fig 1 Ballet Leg'!I52+'Fig 2 Kip'!I52+'Fig 3 Heron'!I52+'Fig 4 Walkover'!I52)","v":""},"",{"$nulls":38},49,0]
[{"$f":"IF(Draw!E52=0,\"\",Draw!E52)","v":""},null,null,"","",{"$f":"IF($A52=\"\",\"\",'Fig 1 Ballet Leg'!H53)","v":""},{"$f":"IF($A52=\"\",\"\",'Fig 2 Kip'!H53)","v":""},{"$f":"IF($A52=\"\",\"\",'Fig 3 Heron'!H53)","v":""},{"$f":"IF($A52=\"\",\"\",'Fig 4 Walkover'!H53)","v":""},{"$f":"IF($A52=\"\",\"\",'Fig 1 Ballet Leg'!I53+'Fig 2 Kip'!I53+'Fig 3 Heron'!I53+'Fig 4 Walkover'!I53)","v":""},"",{"$nulls":38},50,0]
[{"$f":"IF(Draw!E53=0,\"\",Draw!E53)","v":""},null,null,"","",{"$f":"IF($A53=\"\",\"\",'Fig 1 Ballet Leg'!H54)","v":""},{"$f":"IF($A53=\"\",\"\",'Fig 2 Kip'!H54)","v":""},{"$f":"IF($A53=\"\",\"\",'Fig 3 Heron'!H54)","v":""},{"$f":"IF($A53=\"\",\"\",'Fig 4 Walkover'!H54)","v":""},{"$f":"IF($A53=\"\",\"\",'Fig 1 Ballet Leg'!I54+'Fig 2 Kip'!I54+'Fig 3 Heron'!I54+'Fig 4 Walkover'!I54)","v":""},"",{"$nulls":38},51,0]
[{"$f":"IF(Draw!E54=0,\"\",Draw!E54)","v":""},null,null,"","",{"$f":"IF($A54=\"\",\"\",'Fig 1 Ballet Leg'!H55)","v":""},{"$f":"IF($A54=\"\",\"\",'Fig 2 Kip'!H55)","v":""},{"$f":"IF($A54=\"\",\"\",'Fig 3 Heron'!H55)","v":""},{"$f":"IF($A54=\"\",\"\",'Fig 4 Walkover'!H55)","v":""},{"$f":"IF($A54=\"\",\"\",'Fig 1 Ballet Leg'!I55+'Fig 2 Kip'!I55+'Fig 3 Heron'!I55+'Fig 4 Walkover'!I55)","v":""},"",{"$nulls":38},52,0]
[{"$f":"IF(Draw!E55=0,\"\",Draw!E55)","v":""},null,null,"","",{"$f":"IF($A55=\"\",\"\",'Fig 1 Ballet Leg'!H56)","v":""},{"$f":"IF($A55=\"\",\"\",'Fig 2 Kip'!H56)","v":""},{"$f":"IF($A55=\"\",\"\",'Fig 3 Heron'!H56)","v":""},{"$f":"IF($A55=\"\",\"\",'Fig 4 Walkover'!H56)","v":""},{"$f":"IF($A55=\"\",\"\",'Fig 1 Ballet Leg'!I56+'Fig 2 Kip'!I56+'Fig 3 Heron'!I56+'Fig 4 Walkover'!I56)","v":""},"",{"$nulls":38},53,0]
[{"$f":"IF(Draw!E56=0,\"\",Draw!E56)","v":""},null,null,"","",{"$f":"IF($A56=\"\",\"\",'Fig 1 Ballet Leg'!H57)","v":""},{"$f":"IF($A56=\"\",\"\",'Fig 2 Kip'!H57)","v":""},{"$f":"IF($A56=\"\",\"\",'Fig 3 Heron'!H57)","v":""},{"$f":"IF($A56=\"\",\"\",'Fig 4 Walkover'!H57)","v":""},{"$f":"IF($A56=\"\",\"\",'Fig 1 Ballet Leg'!I57+'Fig 2 Kip'!I57+'Fig 3 Heron'!I57+'Fig 4 Walkover'!I57)","v":""},"",{"$nulls":38},54,0]
[{"$f":"IF(Draw!E57=0,\"\",Draw!E57)","v":""},null,null,"","",{"$f":"IF($A57=\"\",\"\",'Fig 1 Ballet Leg'!H58)","v":""},{"$f":"IF($A57=\"\",\"\",'Fig 2 Kip'!H58)","v":""},{"$f":"IF($A57=\"\",\"\",'Fig 3 Heron'!H58)","v":""},{"$f":"IF($A57=\"\",\"\",'Fig 4 Walkover'!H58)","v":""},{"$f":"IF($A57=\"\",\"\",'Fig 1 Ballet Leg'!I58+'Fig 2 Kip'!I58+'Fig 3 Heron'!I58+'Fig 4 Walkover'!I58)","v":""},"",{"$nulls":38},55,0]
[{"$f":"IF(Draw!E58=0,\"\",Draw!E58)","v":""},null,null,"","",{"$f":"IF($A58=\"\",\"\",'Fig 1 Ballet Leg'!H59)","v":""},{"$f":"IF($A58=\"\",\"\",'Fig 2 Kip'!H59)","v":""},{"$f":"IF($A58=\"\",\"\",'Fig 3 Heron'!H59)","v":""},{"$f":"IF($A58=\"\",\"\",'Fig 4 Walkover'!H59)","v":""},{"$f":"IF($A58=\"\",\"\",'Fig 1 Ballet Leg'!I59+'Fig 2 Kip'!I59+'Fig 3 Heron'!I59+'Fig 4 Walkover'!I59)","v":""},"",{"$nulls":38},56,0]
[{"$f":"IF(Draw!E59=0,\"\",Draw!E59)","v":""},null,null,"","",{"$f":"IF($A59=\"\",\"\",'Fig 1 Ballet Leg'!H60)","v":""},{"$f":"IF($A59=\"\",\"\",'Fig 2 Kip'!H60)","v":""},{"$f":"IF($A59=\"\",\"\",'Fig 3 Heron'!H60)","v":""},{"$f":"IF($A59=\"\",\"\",'Fig 4 Walkover'!H60)","v":""},{"$f":"IF($A59=\"\",\"\",'Fig 1 Ballet Leg'!I60+'Fig 2 Kip'!I60+'Fig 3 Heron'!I60+'Fig 4 Walkover'!I60)","v":""},"",{"$nulls":38},57,0]
[{"$f":"IF(Draw!E60=0,\"\",Draw!E60)","v":""},null,null,"","",{"$f":"IF($A60=\"\",\"\",'Fig 1 Ballet Leg'!H61)","v":""},{"$f":"IF($A60=\"\",\"\",'Fig 2 Kip'!H61)","v":""},{"$f":"IF($A60=\"\",\"\",'Fig 3 Heron'!H61)","v":""},{"$f":"IF($A60=\"\",\"\",'Fig 4 Walkover'!H61)","v":""},{"$f":"IF($A60=\"\",\"\",'Fig 1 Ballet Leg'!I61+'Fig 2 Kip'!I61+'Fig 3 Heron'!I61+'Fig 4 Walkover'!I61)","v":""},"",{"$nulls":38},58,0]
[{"$f":"IF(Draw!E61=0,\"\",Draw!E61)","v":""},null,null,"","",{"$f":"IF($A61=\"\",\"\",'Fig 1 Ballet Leg'!H62)","v":""},{"$f":"IF($A61=\"\",\"\",'Fig 2 Kip'!H62)","v":""},{"$f":"IF($A61=\"\",\"\",'Fig 3 Heron'!H62)","v":""},{"$f":"IF($A61=\"\",\"\",'Fig 4 Walkover'!H62)","v":""},{"$f":"IF($A61=\"\",\"\",'Fig 1 Ballet Leg'!I62+'Fig 2 Kip'!I62+'Fig 3 Heron'!I62+'Fig 4 Walkover'!I62)","v":""},"",{"$nulls":38},59,0]
[{"$f":"IF(Draw!E62=0,\"\",Draw!E62)","v":""},null,null,"","",{"$f":"IF($A62=\"\",\"\",'Fig 1 Ballet Leg'!H63)","v":""},{"$f":"IF($A62=\"\",\"\",'Fig 2 Kip'!H63)","v":""},{"$f":"IF($A62=\"\",\"\",'Fig 3 Heron'!H63)","v":""},{"$f":"IF($A62=\"\",\"\",'Fig 4 Walkover'!H63)","v":""},{"$f":"IF($A62=\"\",\"\",'Fig 1 Ballet Leg'!I63+'Fig 2 Kip'!I63+'Fig 3 Heron'!I63+'Fig 4 Walkover'!I63)","v":""},"",{"$nulls":38},60,0]
[{"$f":"IF(Draw!E63=0,\"\",Draw!E63)","v":""},null,null,"","",{"$f":"IF($A63=\"\",\"\",'Fig 1 Ballet Leg'!H64)","v":""},{"$f":"IF($A63=\"\",\"\",'Fig 2 Kip'!H64)","v":""},{"$f":"IF($A63=\"\",\"\",'Fig 3 Heron'!H64)","v":""},{"$f":"IF($A63=\"\",\"\",'Fig 4 Walkover'!H64)","v":""},{"$f":"IF($A63=\"\",\"\",'Fig 1 Ballet Leg'!I64+'Fig 2 Kip'!I64+'Fig 3 Heron'!I64+'Fig 4 Walkover'!I64)","v":""},"",{"$nulls":38},61,0]
[{"$f":"IF(Draw!E64=0,\"\",Draw!E64)","v":""},null,null,"","",{"$f":"IF($A64=\"\",\"\",'Fig 1 Ballet Leg'!H65)","v":""},{"$f":"IF($A64=\"\",\"\",'Fig 2 Kip'!H65)","v":""},{"$f":"IF($A64=\"\",\"\",'Fig 3 Heron'!H65)","v":""},{"$f":"IF($A64=\"\",\"\",'Fig 4 Walkover'!H65)","v":""},{"$f":"IF($A64=\"\",\"\",'Fig 1 Ballet Leg'!I65+'Fig 2 Kip'!I65+'Fig 3 Heron'!I65+'Fig 4 Walkover'!I65)","v":""},"",{"$nulls":38},62,0]
[{"$f":"IF(Draw!E65=0,\"\",Draw!E65)","v":""},null,null,"","",{"$f":"IF($A65=\"\",\"\",'Fig 1 Ballet Leg'!H66)","v":""},{"$f":"IF($A65=\"\",\"\",'Fig 2 Kip'!H66)","v":""},{"$f":"IF($A65=\"\",\"\",'Fig 3 Heron'!H66)","v":""},{"$f":"IF($A65=\"\",\"\",'Fig 4 Walkover'!H66)","v":""},{"$f":"IF($A65=\"\",\"\",'Fig 1 Ballet Leg'!I66+'Fig 2 Kip'!I66+'Fig 3 Heron'!I66+'Fig 4 Walkover'!I66)","v":""},"",{"$nulls":38},63,0]
[{"$f":"IF(Draw!E66=0,\"\",Draw!E66)","v":""},null,null,"","",{"$f":"IF($A66=\"\",\"\",'Fig 1 Ballet Leg'!H67)","v":""},{"$f":"IF($A66=\"\",\"\",'Fig 2 Kip'!H67)","v":""},{"$f":"IF($A66=\"\",\"\",'Fig 3 Heron'!H67)","v":""},{"$f":"IF($A66=\"\",\"\",'Fig 4 Walkover'!H67)","v":""},{"$f":"IF($A66=\"\",\"\",'Fig 1 Ballet Leg'!I67+'Fig 2 Kip'!I67+'Fig 3 Heron'!I67+'Fig 4 Walkover'!I67)","v":""},"",{"$nulls":38},64,0]
[{"$f":"IF(Draw!E67=0,\"\",Draw!E67)","v":""},null,null,"","",{"$f":"IF($A67=\"\",\"\",'Fig 1 Ballet Leg'!H68)","v":""},{"$f":"IF($A67=\"\",\"\",'Fig 2 Kip'!H68)","v":""},{"$f":"IF($A67=\"\",\"\",'Fig 3 Heron'!H68)","v":""},{"$f":"IF($A67=\"\",\"\",'Fig 4 Walkover'!H68)","v":""},{"$f":"IF($A67=\"\",\"\",'Fig 1 Ballet Leg'!I68+'Fig 2 Kip'!I68+'Fig 3 Heron'!I68+'Fig 4 Walkover'!I68)","v":""},"",{"$nulls":38},65,0]
[{"$f":"IF(Draw!E68=0,\"\",Draw!E68)","v":""},null,null,"","",{"$f":"IF($A68=\"\",\"\",'Fig 1 Ballet Leg'!H69)","v":""},{"$f":"IF($A68=\"\",\"\",'Fig 2 Kip'!H69)","v":""},{"$f":"IF($A68=\"\",\"\",'Fig 3 Heron'!H69)","v":""},{"$f":"IF($A68=\"\",\"\",'Fig 4 Walkover'!H69)","v":""},{"$f":"IF($A68=\"\",\"\",'Fig 1 Ballet Leg'!I69+'Fig 2 Kip'!I69+'Fig 3 Heron'!I69+'Fig 4 Walkover'!I69)","v":""},"",{"$nulls":38},66,0]
[{"$f":"IF(Draw!E69=0,\"\",Draw!E69)","v":""},null,null,{"$f":"IF($A69=\"\",\"\",SUM(F69:I69)-J69)","v":""},{"$f":"IF($A69=\"\",\"\",RANK(D69,D$2:D$150))","v":""},{"$f":"IF($A69=\"\",\"\",'Fig 1 Ballet Leg'!H70)","v":""},{"$f":"IF($A69=\"\",\"\",'Fig 2 Kip'!H70)","v":""},{"$f":"IF($A69=\"\",\"\",'Fig 3 Heron'!H70)","v":""},{"$f":"IF($A69=\"\",\"\",'Fig 4 Walkover'!H70)","v":""},{"$f":"IF($A69=\"\",\"\",'Fig 1 Ballet Leg'!I70+'Fig 2 Kip'!I70+'Fig 3 Heron'!I70+'Fig 4 Walkover'!I70)","v":""},{"$f":"IF($A69=\"\",\"\",IF(A69=\"\",\"\",VLOOKUP(E69,AX$3:AY$102,2,FALSE)))","v":""},{"$nulls":38},67,0]
[{"$f":"IF(Draw!E70=0,\"\",Draw!E70)","v":""},null,null,"","",{"$f":"IF($A70=\"\",\"\",'Fig 1 Ballet Leg'!H71)","v":""},{"$f":"IF($A70=\"\",\"\",'Fig 2 Kip'!H71)","v":""},{"$f":"IF($A70=\"\",\"\",'Fig 3 Heron'!H71)","v":""},{"$f":"IF($A70=\"\",\"\",'Fig 4 Walkover'!H71)","v":""},{"$f":"IF($A70=\"\",\"\",'Fig 1 Ballet Leg'!I71+'Fig 2 Kip'!I71+'Fig 3 Heron'!I71+'Fig 4 Walkover'!I71)","v":""},"",{"$nulls":38},68,0]
[{"$f":"IF(Draw!E71=0,\"\",Draw!E71)","v":""},null,null,"","",{"$f":"IF($A71=\"\",\"\",'Fig 1 Ballet Leg'!H72)","v":""},{"$f":"IF($A71=\"\",\"\",'Fig 2 Kip'!H72)","v":""},{"$f":"IF($A71=\"\",\"\",'Fig 3 Heron'!H72)","v":""},{"$f":"IF($A71=\"\",\"\",'Fig 4 Walkover'!H72)","v":""},{"$f":"IF($A71=\"\",\"\",'Fig 1 Ballet Leg'!I72+'Fig 2 Kip'!I72+'Fig 3 Heron'!I72+'Fig 4 Walkover'!I72)","v":""},"",{"$nulls":38},69,0]
[{"$f":"IF(Draw!E72=0,\"\",Draw!E72)","v":""},null,null,"","",{"$f":"IF($A72=\"\",\"\",'Fig 1 Ballet Leg'!H73)","v":""},{"$f":"IF($A72=\"\",\"\",'Fig 2 Kip'!H73)","v":""},{"$f":"IF($A72=\"\",\"\",'Fig 3 Heron'!H73)","v":""},{"$f":"IF($A72=\"\",\"\",'Fig 4 Walkover'!H73)","v":""},{"$f":"IF($A72=\"\",\"\",'Fig 1 Ballet Leg'!I73+'Fig 2 Kip'!I73+'Fig 3 Heron'!I73+'Fig 4 Walkover'!I73)","v":""},"",{"$nulls":38},70,0]
[{"$f":"IF(Draw!E73=0,\"\",Draw!E73)","v":""},null,null,"","",{"$f":"IF($A73=\"\",\"\",'Fig 1 Ballet Leg'!H74)","v":""},{"$f":"IF($A73=\"\",\"\",'Fig 2 Kip'!H74)","v":""},{"$f":"IF($A73=\"\",\"\",'Fig 3 Heron'!H74)","v":""},{"$f":"IF($A73=\"\",\"\",'Fig 4 Walkover'!H74)","v":""},{"$f":"IF($A73=\"\",\"\",'Fig 1 Ballet Leg'!I74+'Fig 2 Kip'!I74+'Fig 3 Heron'!I74+'Fig 4 Walkover'!I74)","v":""},"",{"$nulls":38},71,0]
[{"$f":"IF(Draw!E74=0,\"\",Draw!E74)","v":""},null,null,"","",{"$f":"IF($A74=\"\",\"\",'Fig 1 Ballet Leg'!H75)","v":""},{"$f":"IF($A74=\"\",\"\",'Fig 2 Kip'!H75)","v":""},{"$f":"IF($A74=\"\",\"\",'Fig 3 Heron'!H75)","v":""},{"$f":"IF($A74=\"\",\"\",'Fig 4 Walkover'!H75)","v":""},{"$f":"IF($A74=\"\",\"\",'Fig 1 Ballet Leg'!I75+'Fig 2 Kip'!I75+'Fig 3 Heron'!I75+'Fig 4 Walkover'!I75)","v":""},"",{"$nulls":38},72,0]
[{"$f":"IF(Draw!E75=0,\"\",Draw!E75)","v":""},null,null,"","",{"$f":"IF($A75=\"\",\"\",'Fig 1 Ballet Leg'!H76)","v":""},{"$f":"IF($A75=\"\",\"\",'Fig 2 Kip'!H76)","v":""},{"$f":"IF($A75=\"\",\"\",'Fig 3 Heron'!H76)","v":""},{"$f":"IF($A75=\"\",\"\",'Fig 4 Walkover'!H76)","v":""},{"$f":"IF($A75=\"\",\"\",'Fig 1 Ballet Leg'!I76+'Fig 2 Kip'!I76+'Fig 3 Heron'!I76+'Fig 4 Walkover'!I76)","v":""},"",{"$nulls":38},73,0]
[{"$f":"IF(Draw!E76=0,\"\",Draw!E76)","v":""},null,null,"","",{"$f":"IF($A76=\"\",\"\",'Fig 1 Ballet Leg'!H77)","v":""},{"$f":"IF($A76=\"\",\"\",'Fig 2 Kip'!H77)","v":""},{"$f":"IF($A76=\"\",\"\",'Fig 3 Heron'!H77)","v":""},{"$f":"IF($A76=\"\",\"\",'Fig 4 Walkover'!H77)","v":""},{"$f":"IF($A76=\"\",\"\",'Fig 1 Ballet Leg'!I77+'Fig 2 Kip'!I77+'Fig 3 Heron'!I77+'Fig 4 Walkover'!I77)","v":""},"",{"$nulls":38},74,0]
[{"$f":"IF(Draw!E77=0,\"\",Draw!E77)","v":""},null,null,"","",{"$f":"IF($A77=\"\",\"\",'Fig 1 Ballet Leg'!H78)","v":""},{"$f":"IF($A77=\"\",\"\",'Fig 2 Kip'!H78)","v":""},{"$f":"IF($A77=\"\",\"\",'Fig 3 Heron'!H78)","v":""},{"$f":"IF($A77=\"\",\"\",'Fig 4 Walkover'!H78)","v":""},{"$f":"IF($A77=\"\",\"\",'Fig 1 Ballet Leg'!I78+'Fig 2 Kip'!I78+'Fig 3 Heron'!I78+'Fig 4 Walkover'!I78)","v":""},"",{"$nulls":38},75,0]
[{"$f":"IF(Draw!E78=0,\"\",Draw!E78)","v":""},null,null,"","",{"$f":"IF($A78=\"\",\"\",'Fig 1 Ballet Leg'!H79)","v":""},{"$f":"IF($A78=\"\",\"\",'Fig 2 Kip'!H79)","v":""},{"$f":"IF($A78=\"\",\"\",'Fig 3 Heron'!H79)","v":""},{"$f":"IF($A78=\"\",\"\",'Fig 4 Walkover'!H79)","v":""},{"$f":"IF($A78=\"\",\"\",'Fig 1 Ballet Leg'!I79+'Fig 2 Kip'!I79+'Fig 3 Heron'!I79+'Fig 4 Walkover'!I79)","v":""},"",{"$nulls":38},76,0]
[{"$f":"IF(Draw!E79=0,\"\",Draw!E79)","v":""},null,null,"","",{"$f":"IF($A79=\"\",\"\",'Fig 1 Ballet Leg'!H80)","v":""},{"$f":"IF($A79=\"\",\"\",'Fig 2 Kip'!H80)","v":""},{"$f":"IF($A79=\"\",\"\",'Fig 3 Heron'!H80)","v":""},{"$f":"IF($A79=\"\",\"\",'Fig 4 Walkover'!H80)","v":""},{"$f":"IF($A79=\"\",\"\",'Fig 1 Ballet Leg'!I80+'Fig 2 Kip'!I80+'Fig 3 Heron'!I80+'Fig 4 Walkover'!I80)","v":""},"",{"$nulls":38},77,0]
[{"$f":"IF(Draw!E80=0,\"\",Draw!E80)","v":""},null,null,"","",{"$f":"IF($A80=\"\",\"\",'Fig 1 Ballet Leg'!H81)","v":""},{"$f":"IF($A80=\"\",\"\",'Fig 2 Kip'!H81)","v":""},{"$f":"IF($A80=\"\",\"\",'Fig 3 Heron'!H81)","v":""},{"$f":"IF($A80=\"\",\"\",'Fig 4 Walkover'!H81)","v":""},{"$f":"IF($A80=\"\",\"\",'Fig 1 Ballet Leg'!I81+'Fig 2 Kip'!I81+'Fig 3 Heron'!I81+'Fig 4 Walkover'!I81)","v":""},"",{"$nulls":38},78,0]
[{"$f":"IF(Draw!E81=0,\"\",Draw!E81)","v":""},null,null,"","",{"$f":"IF($A81=\"\",\"\",'Fig 1 Ballet Leg'!H82)","v":""},{"$f":"IF($A81=\"\",\"\",'Fig 2 Kip'!H82)","v":""},{"$f":"IF($A81=\"\",\"\",'Fig 3 Heron'!H82)","v":""},{"$f":"IF($A81=\"\",\"\",'Fig 4 Walkover'!H82)","v":""},{"$f":"IF($A81=\"\",\"\",'Fig 1 Ballet Leg'!I82+'Fig 2 Kip'!I82+'Fig 3 Heron'!I82+'Fig 4 Walkover'!I82)","v":""},"",{"$nulls":38},79,0]
[{"$f":"IF(Draw!E82=0,\"\",Draw!E82)","v":""},null,null,"","",{"$f":"IF($A82=\"\",\"\",'Fig 1 Ballet Leg'!H83)","v":""},{"$f":"IF($A82=\"\",\"\",'Fig 2 Kip'!H83)","v":""},{"$f":"IF($A82=\"\",\"\",'Fig 3 Heron'!H83)","v":""},{"$f":"IF($A82=\"\",\"\",'Fig 4 Walkover'!H83)","v":""},{"$f":"IF($A82=\"\",\"\",'Fig 1 Ballet Leg'!I83+'Fig 2 Kip'!I83+'Fig 3 Heron'!I83+'Fig 4 Walkover'!I83)","v":""},"",{"$nulls":38},80,0]
[{"$f":"IF(Draw!E83=0,\"\",Draw!E83)","v":""},null,null,"","",{"$f":"IF($A83=\"\",\"\",'Fig 1 Ballet Leg'!H84)","v":""},{"$f":"IF($A83=\"\",\"\",'Fig 2 Kip'!H84)","v":""},{"$f":"IF($A83=\"\",\"\",'Fig 3 Heron'!H84)","v":""},{"$f":"IF($A83=\"\",\"\",'Fig 4 Walkover'!H84)","v":""},{"$f":"IF($A83=\"\",\"\",'Fig 1 Ballet Leg'!I84+'Fig 2 Kip'!I84+'Fig 3 Heron'!I84+'Fig 4 Walkover'!I84)","v":""},"",{"$nulls":38},81,0]
[{"$f":"IF(Draw!E84=0,\"\",Draw!E84)","v":""},null,null,"","",{"$f":"IF($A84=\"\",\"\",'Fig 1 Ballet Leg'!H85)","v":""},{"$f":"IF($A84=\"\",\"\",'Fig 2 Kip'!H85)","v":""},{"$f":"IF($A84=\"\",\"\",'Fig 3 Heron'!H85)","v":""},{"$f":"IF($A84=\"\",\"\",'Fig 4 Walkover'!H85)","v":""},{"$f":"IF($A84=\"\",\"\",'Fig 1 Ballet Leg'!I85+'Fig 2 Kip'!I85+'Fig 3 Heron'!I85+'Fig 4 Walkover'!I85)","v":""},"",{"$nulls":38},82,0]
[{"$f":"IF(Draw!E85=0,\"\",Draw!E85)","v":""},null,null,"","",{"$f":"IF($A85=\"\",\"\",'Fig 1 Ballet Leg'!H86)","v":""},{"$f":"IF($A85=\"\",\"\",'Fig 2 Kip'!H86)","v":""},{"$f":"IF($A85=\"\",\"\",'Fig 3 Heron'!H86)","v":""},{"$f":"IF($A85=\"\",\"\",'Fig 4 Walkover'!H86)","v":""},{"$f":"IF($A85=\"\",\"\",'Fig 1 Ballet Leg'!I86+'Fig 2 Kip'!I86+'Fig 3 Heron'!I86+'Fig 4 Walkover'!I86)","v":""},"",{"$nulls":38},83,0]
[{"$f":"IF(Draw!E86=0,\"\",Draw!E86)","v":""},null,null,"","",{"$f":"IF($A86=\"\",\"\",'Fig 1 Ballet Leg'!H87)","v":""},{"$f":"IF($A86=\"\",\"\",'Fig 2 Kip'!H87)","v":""},{"$f":"IF($A86=\"\",\"\",'Fig 3 Heron'!H87)","v":""},{"$f":"IF($A86=\"\",\"\",'Fig 4 Walkover'!H87)","v":""},{"$f":"IF($A86=\"\",\"\",'Fig 1 Ballet Leg'!I87+'Fig 2 Kip'!I87+'Fig 3 Heron'!I87+'Fig 4 Walkover'!I87)","v":""},"",{"$nulls":38},84,0]
[{"$f":"IF(Draw!E87=0,\"\",Draw!E87)","v":""},null,null,"","",{"$f":"IF($A87=\"\",\"\",'Fig 1 Ballet Leg'!H88)","v":""},{"$f":"IF($A87=\"\",\"\",'Fig 2 Kip'!H88)","v":""},{"$f":"IF($A87=\"\",\"\",'Fig 3 Heron'!H88)","v":""},{"$f":"IF($A87=\"\",\"\",'Fig 4 Walkover'!H88)","v":""},{"$f":"IF($A87=\"\",\"\",'Fig 1 Ballet Leg'!I88+'Fig 2 Kip'!I88+'Fig 3 Heron'!I88+'Fig 4 Walkover'!I88)","v":""},"",{"$nulls":38},85,0]
[{"$f":"IF(Draw!E88=0,\"\",Draw!E88)","v":""},null,null,"","",{"$f":"IF($A88=\"\",\"\",'Fig 1 Ballet Leg'!H89)","v":""},{"$f":"IF($A88=\"\",\"\",'Fig 2 Kip'!H89)","v":""},{"$f":"IF($A88=\"\",\"\",'Fig 3 Heron'!H89)","v":""},{"$f":"IF($A88=\"\",\"\",'Fig 4 Walkover'!H89)","v":""},{"$f":"IF($A88=\"\",\"\",'Fig 1 Ballet Leg'!I89+'Fig 2 Kip'!I89+'Fig 3 Heron'!I89+'Fig 4 Walkover'!I89)","v":""},"",{"$nulls":38},86,0]
[{"$f":"IF(Draw!E89=0,\"\",Draw!E89)","v":""},null,null,"","",{"$f":"IF($A89=\"\",\"\",'Fig 1 Ballet Leg'!H90)","v":""},{"$f":"IF($A89=\"\",\"\",'Fig 2 Kip'!H90)","v":""},{"$f":"IF($A89=\"\",\"\",'Fig 3 Heron'!H90)","v":""},{"$f":"IF($A89=\"\",\"\",'Fig 4 Walkover'!H90)","v":""},{"$f":"IF($A89=\"\",\"\",'Fig 1 Ballet Leg'!I90+'Fig 2 Kip'!I90+'Fig 3 Heron'!I90+'Fig 4 Walkover'!I90)","v":""},"",{"$nulls":38},87,0]
[{"$f":"IF(Draw!E90=0,\"\",Draw!E90)","v":""},null,null,"","",{"$f":"IF($A90=\"\",\"\",'Fig 1 Ballet Leg'!H91)","v":""},{"$f":"IF($A90=\"\",\"\",'Fig 2 Kip'!H91)","v":""},{"$f":"IF($A90=\"\",\"\",'Fig 3 Heron'!H91)","v":""},{"$f":"IF($A90=\"\",\"\",'Fig 4 Walkover'!H91)","v":""},{"$f":"IF($A90=\"\",\"\",'Fig 1 Ballet Leg'!I91+'Fig 2 Kip'!I91+'Fig 3 Heron'!I91+'Fig 4 Walkover'!I91)","v":""},"",{"$nulls":38},88,0]
[{"$f":"IF(Draw!E91=0,\"\",Draw!E91)","v":""},null,null,"","",{"$f":"IF($A91=\"\",\"\",'Fig 1 Ballet Leg'!H92)","v":""},{"$f":"IF($A91=\"\",\"\",'Fig 2 Kip'!H92)","v":""},{"$f":"IF($A91=\"\",\"\",'Fig 3 Heron'!H92)","v":""},{"$f":"IF($A91=\"\",\"\",'Fig 4 Walkover'!H92)","v":""},{"$f":"IF($A91=\"\",\"\",'Fig 1 Ballet Leg'!I92+'Fig 2 Kip'!I92+'Fig 3 Heron'!I92+'Fig 4 Walkover'!I92)","v":""},"",{"$nulls":38},89,0]
[{"$f":"IF(Draw!E92=0,\"\",Draw!E92)","v":""},null,null,"","",{"$f":"IF($A92=\"\",\"\",'Fig 1 Ballet Leg'!H93)","v":""},{"$f":"IF($A92=\"\",\"\",'Fig 2 Kip'!H93)","v":""},{"$f":"IF($A92=\"\",\"\",'Fig 3 Heron'!H93)","v":""},{"$f":"IF($A92=\"\",\"\",'Fig 4 Walkover'!H93)","v":""},{"$f":"IF($A92=\"\",\"\",'Fig 1 Ballet Leg'!I93+'Fig 2 Kip'!I93+'Fig 3 Heron'!I93+'Fig 4 Walkover'!I93)","v":""},"",{"$nulls":38},90,0]
[{"$f":"IF(Draw!E93=0,\"\",Draw!E93)","v":""},null,null,"","",{"$f":"IF($A93=\"\",\"\",'Fig 1 Ballet Leg'!H94)","v":""},{"$f":"IF($A93=\"\",\"\",'Fig 2 Kip'!H94)","v":""},{"$f":"IF($A93=\"\",\"\",'Fig 3 Heron'!H94)","v":""},{"$f":"IF($A93=\"\",\"\",'Fig 4 Walkover'!H94)","v":""},{"$f":"IF($A93=\"\",\"\",'Fig 1 Ballet Leg'!I94+'Fig 2 Kip'!I94+'Fig 3 Heron'!I94+'Fig 4 Walkover'!I94)","v":""},"",{"$nulls":38},91,0]
[{"$f":"IF(Draw!E94=0,\"\",Draw!E94)","v":""},null,null,"","",{"$f":"IF($A94=\"\",\"\",'Fig 1 Ballet Leg'!H95)","v":""},{"$f":"IF($A94=\"\",\"\",'Fig 2 Kip'!H95)","v":""},{"$f":"IF($A94=\"\",\"\",'Fig 3 Heron'!H95)","v":""},{"$f":"IF($A94=\"\",\"\",'Fig 4 Walkover'!H95)","v":""},{"$f":"IF($A94=\"\",\"\",'Fig 1 Ballet Leg'!I95+'Fig 2 Kip'!I95+'Fig 3 Heron'!I95+'Fig 4 Walkover'!I95)","v":""},"",{"$nulls":38},92,0]
[{"$f":"IF(Draw!E95=0,\"\",Draw!E95)","v":""},null,null,"","",{"$f":"IF($A95=\"\",\"\",'Fig 1 Ballet Leg'!H96)","v":""},{"$f":"IF($A95=\"\",\"\",'Fig 2 Kip'!H96)","v":""},{"$f":"IF($A95=\"\",\"\",'Fig 3 Heron'!H96)","v":""},{"$f":"IF($A95=\"\",\"\",'Fig 4 Walkover'!H96)","v":""},{"$f":"IF($A95=\"\",\"\",'Fig 1 Ballet Leg'!I96+'Fig 2 Kip'!I96+'Fig 3 Heron'!I96+'Fig 4 Walkover'!I96)","v":""},"",{"$nulls":38},93,0]
[{"$f":"IF(Draw!E96=0,\"\",Draw!E96)","v":""},null,null,"","",{"$f":"IF($A96=\"\",\"\",'Fig 1 Ballet Leg'!H97)","v":""},{"$f":"IF($A96=\"\",\"\",'Fig 2 Kip'!H97)","v":""},{"$f":"IF($A96=\"\",\"\",'Fig 3 Heron'!H97)","v":""},{"$f":"IF($A96=\"\",\"\",'Fig 4 Walkover'!H97)","v":""},{"$f":"IF($A96=\"\",\"\",'Fig 1 Ballet Leg'!I97+'Fig 2 Kip'!I97+'Fig 3 Heron'!I97+'Fig 4 Walkover'!I97)","v":""},"",{"$nulls":38},94,0]
[{"$f":"IF(Draw!E97=0,\"\",Draw!E97)","v":""},null,null,"","",{"$f":"IF($A97=\"\",\"\",'Fig 1 Ballet Leg'!H98)","v":""},{"$f":"IF($A97=\"\",\"\",'Fig 2 Kip'!H98)","v":""},{"$f":"IF($A97=\"\",\"\",'Fig 3 Heron'!H98)","v":""},{"$f":"IF($A97=\"\",\"\",'Fig 4 Walkover'!H98)","v":""},{"$f":"IF($A97=\"\",\"\",'Fig 1 Ballet Leg'!I98+'Fig 2 Kip'!I98+'Fig 3 Heron'!I98+'Fig 4 Walkover'!I98)","v":""},"",{"$nulls":38},95,0]
[{"$f":"IF(Draw!E98=0,\"\",Draw!E98)","v":""},null,null,"","",{"$f":"IF($A98=\"\",\"\",'Fig 1 Ballet Leg'!H99)","v":""},{"$f":"IF($A98=\"\",\"\",'Fig 2 Kip'!H99)","v":""},{"$f":"IF($A98=\"\",\"\",'Fig 3 Heron'!H99)","v":""},{"$f":"IF($A98=\"\",\"\",'Fig 4 Walkover'!H99)","v":""},{"$f":"IF($A98=\"\",\"\",'Fig 1 Ballet Leg'!I99+'Fig 2 Kip'!I99+'Fig 3 Heron'!I99+'Fig 4 Walkover'!I99)","v":""},"",{"$nulls":38},96,0]
[{"$f":"IF(Draw!E99=0,\"\",Draw!E99)","v":""},null,null,"","",{"$f":"IF($A99=\"\",\"\",'Fig 1 Ballet Leg'!H100)","v":""},{"$f":"IF($A99=\"\",\"\",'Fig 2 Kip'!H100)","v":""},{"$f":"IF($A99=\"\",\"\",'Fig 3 Heron'!H100)","v":""},{"$f":"IF($A99=\"\",\"\",'Fig 4 Walkover'!H100)","v":""},{"$f":"IF($A99=\"\",\"\",'Fig 1 Ballet Leg'!I100+'Fig 2 Kip'!I100+'Fig 3 Heron'!I100+'Fig 4 Walkover'!I100)","v":""},"",{"$nulls":38},97,0]
[{"$f":"IF(Draw!E100=0,\"\",Draw!E100)","v":""},null,null,"","",{"$f":"IF($A100=\"\",\"\",'Fig 1 Ballet Leg'!H101)","v":""},{"$f":"IF($A100=\"\",\"\",'Fig 2 Kip'!H101)","v":""},{"$f":"IF($A100=\"\",\"\",'Fig 3 Heron'!H101)","v":""},{"$f":"IF($A100=\"\",\"\",'Fig 4 Walkover'!H101)","v":""},{"$f":"IF($A100=\"\",\"\",'Fig 1 Ballet Leg'!I101+'Fig 2 Kip'!I101+'Fig 3 Heron'!I101+'Fig 4 Walkover'!I101)","v":""},"",{"$nulls":38},98,0]
[{"$f":"IF(Draw!E101=0,\"\",Draw!E101)","v":""},null,null,"","",{"$f":"IF($A101=\"\",\"\",'Fig 1 Ballet Leg'!H102)","v":""},{"$f":"IF($A101=\"\",\"\",'Fig 2 Kip'!H102)","v":""},{"$f":"IF($A101=\"\",\"\",'Fig 3 Heron'!H102)","v":""},{"$f":"IF($A101=\"\",\"\",'Fig 4 Walkover'!H102)","v":""},{"$f":"IF($A101=\"\",\"\",'Fig 1 Ballet Leg'!I102+'Fig 2 Kip'!I102+'Fig 3 Heron'!I102+'Fig 4 Walkover'!I102)","v":""},"",{"$nulls":38},99,0]
[{"$f":"IF(Draw!E102=0,\"\",Draw!E102)","v":""},null,null,"","",{"$f":"IF($A102=\"\",\"\",'Fig 1 Ballet Leg'!H103)","v":""},{"$f":"IF($A102=\"\",\"\",'Fig 2 Kip'!H103)","v":""},{"$f":"IF($A102=\"\",\"\",'Fig 3 Heron'!H103)","v":""},{"$f":"IF($A102=\"\",\"\",'Fig 4 Walkover'!H103)","v":""},{"$f":"IF($A102=\"\",\"\",'Fig 1 Ballet Leg'!I103+'Fig 2 Kip'!I103+'Fig 3 Heron'!I103+'Fig 4 Walkover'!I103)","v":""},"",{"$nulls":38},100,0]
[{"$f":"IF(Draw!E103=0,\"\",Draw!E103)","v":""},null,null,"","",{"$f":"IF($A103=\"\",\"\",'Fig 1 Ballet Leg'!H104)","v":""},{"$f":"IF($A103=\"\",\"\",'Fig 2 Kip'!H104)","v":""},{"$f":"IF($A103=\"\",\"\",'Fig 3 Heron'!H104)","v":""},{"$f":"IF($A103=\"\",\"\",'Fig 4 Walkover'!H104)","v":""},{"$f":"IF($A103=\"\",\"\",'Fig 1 Ballet Leg'!I104+'Fig 2 Kip'!I104+'Fig 3 Heron'!I104+'Fig 4 Walkover'!I104)","v":""},""]
[{"$f":"IF(Draw!E104=0,\"\",Draw!E104)","v":""},null,null,"","",{"$f":"IF($A104=\"\",\"\",'Fig 1 Ballet Leg'!H105)","v":""},{"$f":"IF($A104=\"\",\"\",'Fig 2 Kip'!H105)","v":""},{"$f":"IF($A104=\"\",\"\",'Fig 3 Heron'!H105)","v":""},{"$f":"IF($A104=\"\",\"\",'Fig 4 Walkover'!H105)","v":""},{"$f":"IF($A104=\"\",\"\",'Fig 1 Ballet Leg'!I105+'Fig 2 Kip'!I105+'Fig 3 Heron'!I105+'Fig 4 Walkover'!I105)","v":""},""]
[{"$f":"IF(Draw!E105=0,\"\",Draw!E105)","v":""},null,null,"","",{"$f":"IF($A105=\"\",\"\",'Fig 1 Ballet Leg'!H106)","v":""},{"$f":"IF($A105=\"\",\"\",'Fig 2 Kip'!H106)","v":""},{"$f":"IF($A105=\"\",\"\",'Fig 3 Heron'!H106)","v":""},{"$f":"IF($A105=\"\",\"\",'Fig 4 Walkover'!H106)","v":""},{"$f":"IF($A105=\"\",\"\",'Fig 1 Ballet Leg'!I106+'Fig 2 Kip'!I106+'Fig 3 Heron'!I106+'Fig 4 Walkover'!I106)","v":""},""]
[{"$f":"IF(Draw!E106=0,\"\",Draw!E106)","v":""},null,null,"","",{"$f":"IF($A106=\"\",\"\",'Fig 1 Ballet Leg'!H107)","v":""},{"$f":"IF($A106=\"\",\"\",'Fig 2 Kip'!H107)","v":""},{"$f":"IF($A106=\"\",\"\",'Fig 3 Heron'!H107)","v":""},{"$f":"IF($A106=\"\",\"\",'Fig 4 Walkover'!H107)","v":""},{"$f":"IF($A106=\"\",\"\",'Fig 1 Ballet Leg'!I107+'Fig 2 Kip'!I107+'Fig 3 Heron'!I107+'Fig 4 Walkover'!I107)","v":""},""]
[{"$f":"IF(Draw!E107=0,\"\",Draw!E107)","v":""},null,null,"","",{"$f":"IF($A107=\"\",\"\",'Fig 1 Ballet Leg'!H108)","v":""},{"$f":"IF($A107=\"\",\"\",'Fig 2 Kip'!H108)","v":""},{"$f":"IF($A107=\"\",\"\",'Fig 3 Heron'!H108)","v":""},{"$f":"IF($A107=\"\",\"\",'Fig 4 Walkover'!H108)","v":""},{"$f":"IF($A107=\"\",\"\",'Fig 1 Ballet Leg'!I108+'Fig 2 Kip'!I108+'Fig 3 Heron'!I108+'Fig 4 Walkover'!I108)","v":""},""]
[{"$f":"IF(Draw!E108=0,\"\",Draw!E108)","v":""},null,null,"","",{"$f":"IF($A108=\"\",\"\",'Fig 1 Ballet Leg'!H109)","v":""},{"$f":"IF($A108=\"\",\"\",'Fig 2 Kip'!H109)","v":""},{"$f":"IF($A108=\"\",\"\",'Fig 3 Heron'!H109)","v":""},{"$f":"IF($A108=\"\",\"\",'Fig 4 Walkover'!H109)","v":""},{"$f":"IF($A108=\"\",\"\",'Fig 1 Ballet Leg'!I109+'Fig 2 Kip'!I109+'Fig 3 Heron'!I109+'Fig 4 Walkover'!I109)","v":""},""]
[{"$f":"IF(Draw!E109=0,\"\",Draw!E109)","v":""},null,null,"","",{"$f":"IF($A109=\"\",\"\",'Fig 1 Ballet Leg'!H110)","v":""},{"$f":"IF($A109=\"\",\"\",'Fig 2 Kip'!H110)","v":""},{"$f":"IF($A109=\"\",\"\",'Fig 3 Heron'!H110)","v":""},{"$f":"IF($A109=\"\",\"\",'Fig 4 Walkover'!H110)","v":""},{"$f":"IF($A109=\"\",\"\",'Fig 1 Ballet Leg'!I110+'Fig 2 Kip'!I110+'Fig 3 Heron'!I110+'Fig 4 Walkover'!I110)","v":""},""]
[{"$f":"IF(Draw!E110=0,\"\",Draw!E110)","v":""},null,null,"","",{"$f":"IF($A110=\"\",\"\",'Fig 1 Ballet Leg'!H111)","v":""},{"$f":"IF($A110=\"\",\"\",'Fig 2 Kip'!H111)","v":""},{"$f":"IF($A110=\"\",\"\",'Fig 3 Heron'!H111)","v":""},{"$f":"IF($A110=\"\",\"\",'Fig 4 Walkover'!H111)","v":""},{"$f":"IF($A110=\"\",\"\",'Fig 1 Ballet Leg'!I111+'Fig 2 Kip'!I111+'Fig 3 Heron'!I111+'Fig 4 Walkover'!I111)","v":""},""]
[{"$f":"IF(Draw!E111=0,\"\",Draw!E111)","v":""},null,null,"","",{"$f":"IF($A111=\"\",\"\",'Fig 1 Ballet Leg'!H112)","v":""},{"$f":"IF($A111=\"\",\"\",'Fig 2 Kip'!H112)","v":""},{"$f":"IF($A111=\"\",\"\",'Fig 3 Heron'!H112)","v":""},{"$f":"IF($A111=\"\",\"\",'Fig 4 Walkover'!H112)","v":""},{"$f":"IF($A111=\"\",\"\",'Fig 1 Ballet Leg'!I112+'Fig 2 Kip'!I112+'Fig 3 Heron'!I112+'Fig 4 Walkover'!I112)","v":""},""]
[{"$f":"IF(Draw!E112=0,\"\",Draw!E112)","v":""},null,null,"","",{"$f":"IF($A112=\"\",\"\",'Fig 1 Ballet Leg'!H113)","v":""},{"$f":"IF($A112=\"\",\"\",'Fig 2 Kip'!H113)","v":""},{"$f":"IF($A112=\"\",\"\",'Fig 3 Heron'!H113)","v":""},{"$f":"IF($A112=\"\",\"\",'Fig 4 Walkover'!H113)","v":""},{"$f":"IF($A112=\"\",\"\",'Fig 1 Ballet Leg'!I113+'Fig 2 Kip'!I113+'Fig 3 Heron'!I113+'Fig 4 Walkover'!I113)","v":""},""]
[{"$f":"IF(Draw!E113=0,\"\",Draw!E113)","v":""},null,null,"","",{"$f":"IF($A113=\"\",\"\",'Fig 1 Ballet Leg'!H114)","v":""},{"$f":"IF($A113=\"\",\"\",'Fig 2 Kip'!H114)","v":""},{"$f":"IF($A113=\"\",\"\",'Fig 3 Heron'!H114)","v":""},{"$f":"IF($A113=\"\",\"\",'Fig 4 Walkover'!H114)","v":""},{"$f":"IF($A113=\"\",\"\",'Fig 1 Ballet Leg'!I114+'Fig 2 Kip'!I114+'Fig 3 Heron'!I114+'Fig 4 Walkover'!I114)","v":""},""]
[{"$f":"IF(Draw!E114=0,\"\",Draw!E114)","v":""},null,null,"","",{"$f":"IF($A114=\"\",\"\",'Fig 1 Ballet Leg'!H115)","v":""},{"$f":"IF($A114=\"\",\"\",'Fig 2 Kip'!H115)","v":""},{"$f":"IF($A114=\"\",\"\",'Fig 3 Heron'!H115)","v":""},{"$f":"IF($A114=\"\",\"\",'Fig 4 Walkover'!H115)","v":""},{"$f":"IF($A114=\"\",\"\",'Fig 1 Ballet Leg'!I115+'Fig 2 Kip'!I115+'Fig 3 Heron'!I115+'Fig 4 Walkover'!I115)","v":""},""]
[{"$f":"IF(Draw!E115=0,\"\",Draw!E115)","v":""},null,null,"","",{"$f":"IF($A115=\"\",\"\",'Fig 1 Ballet Leg'!H116)","v":""},{"$f":"IF($A115=\"\",\"\",'Fig 2 Kip'!H116)","v":""},{"$f":"IF($A115=\"\",\"\",'Fig 3 Heron'!H116)","v":""},{"$f":"IF($A115=\"\",\"\",'Fig 4 Walkover'!H116)","v":""},{"$f":"IF($A115=\"\",\"\",'Fig 1 Ballet Leg'!I116+'Fig 2 Kip'!I116+'Fig 3 Heron'!I116+'Fig 4 Walkover'!I116)","v":""},""]
[{"$f":"IF(Draw!E116=0,\"\",Draw!E116)","v":""},null,null,"","",{"$f":"IF($A116=\"\",\"\",'Fig 1 Ballet Leg'!H117)","v":""},{"$f":"IF($A116=\"\",\"\",'Fig 2 Kip'!H117)","v":""},{"$f":"IF($A116=\"\",\"\",'Fig 3 Heron'!H117)","v":""},{"$f":"IF($A116=\"\",\"\",'Fig 4 Walkover'!H117)","v":""},{"$f":"IF($A116=\"\",\"\",'Fig 1 Ballet Leg'!I117+'Fig 2 Kip'!I117+'Fig 3 Heron'!I117+'Fig 4 Walkover'!I117)","v":""},""]
[{"$f":"IF(Draw!E117=0,\"\",Draw!E117)","v":""},null,null,"","",{"$f":"IF($A117=\"\",\"\",'Fig 1 Ballet Leg'!H118)","v":""},{"$f":"IF($A117=\"\",\"\",'Fig 2 Kip'!H118)","v":""},{"$f":"IF($A117=\"\",\"\",'Fig 3 Heron'!H118)","v":""},{"$f":"IF($A117=\"\",\"\",'Fig 4 Walkover'!H118)","v":""},{"$f":"IF($A117=\"\",\"\",'Fig 1 Ballet Leg'!I118+'Fig 2 Kip'!I118+'Fig 3 Heron'!I118+'Fig 4 Walkover'!I118)","v":""},""]
[{"$f":"IF(Draw!E118=0,\"\",Draw!E118)","v":""},null,null,"","",{"$f":"IF($A118=\"\",\"\",'Fig 1 Ballet Leg'!H119)","v":""},{"$f":"IF($A118=\"\",\"\",'Fig 2 Kip'!H119)","v":""},{"$f":"IF($A118=\"\",\"\",'Fig 3 Heron'!H119)","v":""},{"$f":"IF($A118=\"\",\"\",'Fig 4 Walkover'!H119)","v":""},{"$f":"IF($A118=\"\",\"\",'Fig 1 Ballet Leg'!I119+'Fig 2 Kip'!I119+'Fig 3 Heron'!I119+'Fig 4 Walkover'!I119)","v":""},""]
[{"$f":"IF(Draw!E119=0,\"\",Draw!E119)","v":""},null,null,"","",{"$f":"IF($A119=\"\",\"\",'Fig 1 Ballet Leg'!H120)","v":""},{"$f":"IF($A119=\"\",\"\",'Fig 2 Kip'!H120)","v":""},{"$f":"IF($A119=\"\",\"\",'Fig 3 Heron'!H120)","v":""},{"$f":"IF($A119=\"\",\"\",'Fig 4 Walkover'!H120)","v":""},{"$f":"IF($A119=\"\",\"\",'Fig 1 Ballet Leg'!I120+'Fig 2 Kip'!I120+'Fig 3 Heron'!I120+'Fig 4 Walkover'!I120)","v":""},""]
[{"$f":"IF(Draw!E120=0,\"\",Draw!E120)","v":""},null,null,"","",{"$f":"IF($A120=\"\",\"\",'Fig 1 Ballet Leg'!H121)","v":""},{"$f":"IF($A120=\"\",\"\",'Fig 2 Kip'!H121)","v":""},{"$f":"IF($A120=\"\",\"\",'Fig 3 Heron'!H121)","v":""},{"$f":"IF($A120=\"\",\"\",'Fig 4 Walkover'!H121)","v":""},{"$f":"IF($A120=\"\",\"\",'Fig 1 Ballet Leg'!I121+'Fig 2 Kip'!I121+'Fig 3 Heron'!I121+'Fig 4 Walkover'!I121)","v":""},""]
[{"$f":"IF(Draw!E121=0,\"\",Draw!E121)","v":""},null,null,"","",{"$f":"IF($A121=\"\",\"\",'Fig 1 Ballet Leg'!H122)","v":""},{"$f":"IF($A121=\"\",\"\",'Fig 2 Kip'!H122)","v":""},{"$f":"IF($A121=\"\",\"\",'Fig 3 Heron'!H122)","v":""},{"$f":"IF($A121=\"\",\"\",'Fig 4 Walkover'!H122)","v":""},{"$f":"IF($A121=\"\",\"\",'Fig 1 Ballet Leg'!I122+'Fig 2 Kip'!I122+'Fig 3 Heron'!I122+'Fig 4 Walkover'!I122)","v":""},""]
[{"$f":"IF(Draw!E122=0,\"\",Draw!E122)","v":""},null,null,"","",{"$f":"IF($A122=\"\",\"\",'Fig 1 Ballet Leg'!H123)","v":""},{"$f":"IF($A122=\"\",\"\",'Fig 2 Kip'!H123)","v":""},{"$f":"IF($A122=\"\",\"\",'Fig 3 Heron'!H123)","v":""},{"$f":"IF($A122=\"\",\"\",'Fig 4 Walkover'!H123)","v":""},{"$f":"IF($A122=\"\",\"\",'Fig 1 Ballet Leg'!I123+'Fig 2 Kip'!I123+'Fig 3 Heron'!I123+'Fig 4 Walkover'!I123)","v":""},""]
[{"$f":"IF(Draw!E123=0,\"\",Draw!E123)","v":""},null,null,"","",{"$f":"IF($A123=\"\",\"\",'Fig 1 Ballet Leg'!H124)","v":""},{"$f":"IF($A123=\"\",\"\",'Fig 2 Kip'!H124)","v":""},{"$f":"IF($A123=\"\",\"\",'Fig 3 Heron'!H124)","v":""},{"$f":"IF($A123=\"\",\"\",'Fig 4 Walkover'!H124)","v":""},{"$f":"IF($A123=\"\",\"\",'Fig 1 Ballet Leg'!I124+'Fig 2 Kip'!I124+'Fig 3 Heron'!I124+'Fig 4 Walkover'!I124)","v":""},""]
[{"$f":"IF(Draw!E124=0,\"\",Draw!E124)","v":""},null,null,"","",{"$f":"IF($A124=\"\",\"\",'Fig 1 Ballet Leg'!H125)","v":""},{"$f":"IF($A124=\"\",\"\",'Fig 2 Kip'!H125)","v":""},{"$f":"IF($A124=\"\",\"\",'Fig 3 Heron'!H125)","v":""},{"$f":"IF($A124=\"\",\"\",'Fig 4 Walkover'!H125)","v":""},{"$f":"IF($A124=\"\",\"\",'Fig 1 Ballet Leg'!I125+'Fig 2 Kip'!I125+'Fig 3 Heron'!I125+'Fig 4 Walkover'!I125)","v":""},""]
[{"$f":"IF(Draw!E125=0,\"\",Draw!E125)","v":""},null,null,"","",{"$f":"IF($A125=\"\",\"\",'Fig 1 Ballet Leg'!H126)","v":""},{"$f":"IF($A125=\"\",\"\",'Fig 2 Kip'!H126)","v":""},{"$f":"IF($A125=\"\",\"\",'Fig 3 Heron'!H126)","v":""},{"$f":"IF($A125=\"\",\"\",'Fig 4 Walkover'!H126)","v":""},{"$f":"IF($A125=\"\",\"\",'Fig 1 Ballet Leg'!I126+'Fig 2 Kip'!I126+'Fig 3 Heron'!I126+'Fig 4 Walkover'!I126)","v":""},""]
[{"$f":"IF(Draw!E126=0,\"\",Draw!E126)","v":""},null,null,"","",{"$f":"IF($A126=\"\",\"\",'Fig 1 Ballet Leg'!H127)","v":""},{"$f":"IF($A126=\"\",\"\",'Fig 2 Kip'!H127)","v":""},{"$f":"IF($A126=\"\",\"\",'Fig 3 Heron'!H127)","v":""},{"$f":"IF($A126=\"\",\"\",'Fig 4 Walkover'!H127)","v":""},{"$f":"IF($A126=\"\",\"\",'Fig 1 Ballet Leg'!I127+'Fig 2 Kip'!I127+'Fig 3 Heron'!I127+'Fig 4 Walkover'!I127)","v":""},""]
[{"$f":"IF(Draw!E127=0,\"\",Draw!E127)","v":""},null,null,"","",{"$f":"IF($A127=\"\",\"\",'Fig 1 Ballet Leg'!H128)","v":""},{"$f":"IF($A127=\"\",\"\",'Fig 2 Kip'!H128)","v":""},{"$f":"IF($A127=\"\",\"\",'Fig 3 Heron'!H128)","v":""},{"$f":"IF($A127=\"\",\"\",'Fig 4 Walkover'!H128)","v":""},{"$f":"IF($A127=\"\",\"\",'Fig 1 Ballet Leg'!I128+'Fig 2 Kip'!I128+'Fig 3 Heron'!I128+'Fig 4 Walkover'!I128)","v":""},""]
[{"$f":"IF(Draw!E128=0,\"\",Draw!E128)","v":""},null,null,"","",{"$f":"IF($A128=\"\",\"\",'Fig 1 Ballet Leg'!H129)","v":""},{"$f":"IF($A128=\"\",\"\",'Fig 2 Kip'!H129)","v":""},{"$f":"IF($A128=\"\",\"\",'Fig 3 Heron'!H129)","v":""},{"$f":"IF($A128=\"\",\"\",'Fig 4 Walkover'!H129)","v":""},{"$f":"IF($A128=\"\",\"\",'Fig 1 Ballet Leg'!I129+'Fig 2 Kip'!I129+'Fig 3 Heron'!I129+'Fig 4 Walkover'!I129)","v":""},""]
[{"$f":"IF(Draw!E129=0,\"\",Draw!E129)","v":""},null,null,"","",{"$f":"IF($A129=\"\",\"\",'Fig 1 Ballet Leg'!H130)","v":""},{"$f":"IF($A129=\"\",\"\",'Fig 2 Kip'!H130)","v":""},{"$f":"IF($A129=\"\",\"\",'Fig 3 Heron'!H130)","v":""},{"$f":"IF($A129=\"\",\"\",'Fig 4 Walkover'!H130)","v":""},{"$f":"IF($A129=\"\",\"\",'Fig 1 Ballet Leg'!I130+'Fig 2 Kip'!I130+'Fig 3 Heron'!I130+'Fig 4 Walkover'!I130)","v":""},""]
[{"$f":"IF(Draw!E130=0,\"\",Draw!E130)","v":""},null,null,"","",{"$f":"IF($A130=\"\",\"\",'Fig 1 Ballet Leg'!H131)","v":""},{"$f":"IF($A130=\"\",\"\",'Fig 2 Kip'!H131)","v":""},{"$f":"IF($A130=\"\",\"\",'Fig 3 Heron'!H131)","v":""},{"$f":"IF($A130=\"\",\"\",'Fig 4 Walkover'!H131)","v":""},{"$f":"IF($A130=\"\",\"\",'Fig 1 Ballet Leg'!I131+'Fig 2 Kip'!I131+'Fig 3 Heron'!I131+'Fig 4 Walkover'!I131)","v":""},""]
[{"$f":"IF(Draw!E131=0,\"\",Draw!E131)","v":""},null,null,"","",{"$f":"IF($A131=\"\",\"\",'Fig 1 Ballet Leg'!H132)","v":""},{"$f":"IF($A131=\"\",\"\",'Fig 2 Kip'!H132)","v":""},{"$f":"IF($A131=\"\",\"\",'Fig 3 Heron'!H132)","v":""},{"$f":"IF($A131=\"\",\"\",'Fig 4 Walkover'!H132)","v":""},{"$f":"IF($A131=\"\",\"\",'Fig 1 Ballet Leg'!I132+'Fig 2 Kip'!I132+'Fig 3 Heron'!I132+'Fig 4 Walkover'!I132)","v":""},""]
[{"$f":"IF(Draw!E132=0,\"\",Draw!E132)","v":""},null,null,"","",{"$f":"IF($A132=\"\",\"\",'Fig 1 Ballet Leg'!H133)","v":""},{"$f":"IF($A132=\"\",\"\",'Fig 2 Kip'!H133)","v":""},{"$f":"IF($A132=\"\",\"\",'Fig 3 Heron'!H133)","v":""},{"$f":"IF($A132=\"\",\"\",'Fig 4 Walkover'!H133)","v":""},{"$f":"IF($A132=\"\",\"\",'Fig 1 Ballet Leg'!I133+'Fig 2 Kip'!I133+'Fig 3 Heron'!I133+'Fig 4 Walkover'!I133)","v":""},""]
[{"$f":"IF(Draw!E133=0,\"\",Draw!E133)","v":""},null,null,{"$f":"IF($A133=\"\",\"\",SUM(F133:I133)-J133)","v":""},{"$f":"IF($A133=\"\",\"\",RANK(D133,D$2:D$150))","v":""},{"$f":"IF($A133=\"\",\"\",'Fig 1 Ballet Leg'!H134)","v":""},{"$f":"IF($A133=\"\",\"\",'Fig 2 Kip'!H134)","v":""},{"$f":"IF($A133=\"\",\"\",'Fig 3 Heron'!H134)","v":""},{"$f":"IF($A133=\"\",\"\",'Fig 4 Walkover'!H134)","v":""},{"$f":"IF($A133=\"\",\"\",'Fig 1 Ballet Leg'!I134+'Fig 2 Kip'!I134+'Fig 3 Heron'!I134+'Fig 4 Walkover'!I134)","v":""},{"$f":"IF($A133=\"\",\"\",IF(A133=\"\",\"\",VLOOKUP(E133,AX$3:AY$102,2,FALSE)))","v":""}]
[{"$f":"IF(Draw!E134=0,\"\",Draw!E134)","v":""},null,null,"","",{"$f":"IF($A134=\"\",\"\",'Fig 1 Ballet Leg'!H135)","v":""},{"$f":"IF($A134=\"\",\"\",'Fig 2 Kip'!H135)","v":""},{"$f":"IF($A134=\"\",\"\",'Fig 3 Heron'!H135)","v":""},{"$f":"IF($A134=\"\",\"\",'Fig 4 Walkover'!H135)","v":""},{"$f":"IF($A134=\"\",\"\",'Fig 1 Ballet Leg'!I135+'Fig 2 Kip'!I135+'Fig 3 Heron'!I135+'Fig 4 Walkover'!I135)","v":""},""]
[{"$f":"IF(Draw!E135=0,\"\",Draw!E135)","v":""},null,null,"","",{"$f":"IF($A135=\"\",\"\",'Fig 1 Ballet Leg'!H136)","v":""},{"$f":"IF($A135=\"\",\"\",'Fig 2 Kip'!H136)","v":""},{"$f":"IF($A135=\"\",\"\",'Fig 3 Heron'!H136)","v":""},{"$f":"IF($A135=\"\",\"\",'Fig 4 Walkover'!H136)","v":""},{"$f":"IF($A135=\"\",\"\",'Fig 1 Ballet Leg'!I136+'Fig 2 Kip'!I136+'Fig 3 Heron'!I136+'Fig 4 Walkover'!I136)","v":""},""]
[{"$f":"IF(Draw!E136=0,\"\",Draw!E136)","v":""},null,null,"","",{"$f":"IF($A136=\"\",\"\",'Fig 1 Ballet Leg'!H137)","v":""},{"$f":"IF($A136=\"\",\"\",'Fig 2 Kip'!H137)","v":""},{"$f":"IF($A136=\"\",\"\",'Fig 3 Heron'!H137)","v":""},{"$f":"IF($A136=\"\",\"\",'Fig 4 Walkover'!H137)","v":""},{"$f":"IF($A136=\"\",\"\",'Fig 1 Ballet Leg'!I137+'Fig 2 Kip'!I137+'Fig 3 Heron'!I137+'Fig 4 Walkover'!I137)","v":""},""]
[{"$f":"IF(Draw!E137=0,\"\",Draw!E137)","v":""},null,null,"","",{"$f":"IF($A137=\"\",\"\",'Fig 1 Ballet Leg'!H138)","v":""},{"$f":"IF($A137=\"\",\"\",'Fig 2 Kip'!H138)","v":""},{"$f":"IF($A137=\"\",\"\",'Fig 3 Heron'!H138)","v":""},{"$f":"IF($A137=\"\",\"\",'Fig 4 Walkover'!H138)","v":""},{"$f":"IF($A137=\"\",\"\",'Fig 1 Ballet Leg'!I138+'Fig 2 Kip'!I138+'Fig 3 Heron'!I138+'Fig 4 Walkover'!I138)","v":""},""]
[{"$f":"IF(Draw!E138=0,\"\",Draw!E138)","v":""},null,null,"","",{"$f":"IF($A138=\"\",\"\",'Fig 1 Ballet Leg'!H139)","v":""},{"$f":"IF($A138=\"\",\"\",'Fig 2 Kip'!H139)","v":""},{"$f":"IF($A138=\"\",\"\",'Fig 3 Heron'!H139)","v":""},{"$f":"IF($A138=\"\",\"\",'Fig 4 Walkover'!H139)","v":""},{"$f":"IF($A138=\"\",\"\",'Fig 1 Ballet Leg'!I139+'Fig 2 Kip'!I139+'Fig 3 Heron'!I139+'Fig 4 Walkover'!I139)","v":""},""]
[{"$f":"IF(Draw!E139=0,\"\",Draw!E139)","v":""},null,null,"","",{"$f":"IF($A139=\"\",\"\",'Fig 1 Ballet Leg'!H140)","v":""},{"$f":"IF($A139=\"\",\"\",'Fig 2 Kip'!H140)","v":""},{"$f":"IF($A139=\"\",\"\",'Fig 3 Heron'!H140)","v":""},{"$f":"IF($A139=\"\",\"\",'Fig 4 Walkover'!H140)","v":""},{"$f":"IF($A139=\"\",\"\",'Fig 1 Ballet Leg'!I140+'Fig 2 Kip'!I140+'Fig 3 Heron'!I140+'Fig 4 Walkover'!I140)","v":""},""]
[{"$f":"IF(Draw!E140=0,\"\",Draw!E140)","v":""},null,null,"","",{"$f":"IF($A140=\"\",\"\",'Fig 1 Ballet Leg'!H141)","v":""},{"$f":"IF($A140=\"\",\"\",'Fig 2 Kip'!H141)","v":""},{"$f":"IF($A140=\"\",\"\",'Fig 3 Heron'!H141)","v":""},{"$f":"IF($A140=\"\",\"\",'Fig 4 Walkover'!H141)","v":""},{"$f":"IF($A140=\"\",\"\",'Fig 1 Ballet Leg'!I141+'Fig 2 Kip'!I141+'Fig 3 Heron'!I141+'Fig 4 Walkover'!I141)","v":""},""]
[{"$f":"IF(Draw!E141=0,\"\",Draw!E141)","v":""},null,null,"","",{"$f":"IF($A141=\"\",\"\",'Fig 1 Ballet Leg'!H142)","v":""},{"$f":"IF($A141=\"\",\"\",'Fig 2 Kip'!H142)","v":""},{"$f":"IF($A141=\"\",\"\",'Fig 3 Heron'!H142)","v":""},{"$f":"IF($A141=\"\",\"\",'Fig 4 Walkover'!H142)","v":""},{"$f":"IF($A141=\"\",\"\",'Fig 1 Ballet Leg'!I142+'Fig 2 Kip'!I142+'Fig 3 Heron'!I142+'Fig 4 Walkover'!I142)","v":""},""]
[{"$f":"IF(Draw!E142=0,\"\",Draw!E142)","v":""},null,null,"","",{"$f":"IF($A142=\"\",\"\",'Fig 1 Ballet Leg'!H143)","v":""},{"$f":"IF($A142=\"\",\"\",'Fig 2 Kip'!H143)","v":""},{"$f":"IF($A142=\"\",\"\",'Fig 3 Heron'!H143)","v":""},{"$f":"IF($A142=\"\",\"\",'Fig 4 Walkover'!H143)","v":""},{"$f":"IF($A142=\"\",\"\",'Fig 1 Ballet Leg'!I143+'Fig 2 Kip'!I143+'Fig 3 Heron'!I143+'Fig 4 Walkover'!I143)","v":""},""]
[{"$f":"IF(Draw!E143=0,\"\",Draw!E143)","v":""},null,null,"","",{"$f":"IF($A143=\"\",\"\",'Fig 1 Ballet Leg'!H144)","v":""},{"$f":"IF($A143=\"\",\"\",'Fig 2 Kip'!H144)","v":""},{"$f":"IF($A143=\"\",\"\",'Fig 3 Heron'!H144)","v":""},{"$f":"IF($A143=\"\",\"\",'Fig 4 Walkover'!H144)","v":""},{"$f":"IF($A143=\"\",\"\",'Fig 1 Ballet Leg'!I144+'Fig 2 Kip'!I144+'Fig 3 Heron'!I144+'Fig 4 Walkover'!I144)","v":""},""]
[{"$f":"IF(Draw!E144=0,\"\",Draw!E144)","v":""},null,null,"","",{"$f":"IF($A144=\"\",\"\",'Fig 1 Ballet Leg'!H145)","v":""},{"$f":"IF($A144=\"\",\"\",'Fig 2 Kip'!H145)","v":""},{"$f":"IF($A144=\"\",\"\",'Fig 3 Heron'!H145)","v":""},{"$f":"IF($A144=\"\",\"\",'Fig 4 Walkover'!H145)","v":""},{"$f":"IF($A144=\"\",\"\",'Fig 1 Ballet Leg'!I145+'Fig 2 Kip'!I145+'Fig 3 Heron'!I145+'Fig 4 Walkover'!I145)","v":""},""]
[{"$f":"IF(Draw!E145=0,\"\",Draw!E145)","v":""},null,null,"","",{"$f":"IF($A145=\"\",\"\",'Fig 1 Ballet Leg'!H146)","v":""},{"$f":"IF($A145=\"\",\"\",'Fig 2 Kip'!H146)","v":""},{"$f":"IF($A145=\"\",\"\",'Fig 3 Heron'!H146)","v":""},{"$f":"IF($A145=\"\",\"\",'Fig 4 Walkover'!H146)","v":""},{"$f":"IF($A145=\"\",\"\",'Fig 1 Ballet Leg'!I146+'Fig 2 Kip'!I146+'Fig 3 Heron'!I146+'Fig 4 Walkover'!I146)","v":""},""]
[{"$f":"IF(Draw!E146=0,\"\",Draw!E146)","v":""},null,null,"","",{"$f":"IF($A146=\"\",\"\",'Fig 1 Ballet Leg'!H147)","v":""},{"$f":"IF($A146=\"\",\"\",'Fig 2 Kip'!H147)","v":""},{"$f":"IF($A146=\"\",\"\",'Fig 3 Heron'!H147)","v":""},{"$f":"IF($A146=\"\",\"\",'Fig 4 Walkover'!H147)","v":""},{"$f":"IF($A146=\"\",\"\",'Fig 1 Ballet Leg'!I147+'Fig 2 Kip'!I147+'Fig 3 Heron'!I147+'Fig 4 Walkover'!I147)","v":""},""]
[{"$f":"IF(Draw!E147=0,\"\",Draw!E147)","v":""},null,null,"","",{"$f":"IF($A147=\"\",\"\",'Fig 1 Ballet Leg'!H148)","v":""},{"$f":"IF($A147=\"\",\"\",'Fig 2 Kip'!H148)","v":""},{"$f":"IF($A147=\"\",\"\",'Fig 3 Heron'!H148)","v":""},{"$f":"IF($A147=\"\",\"\",'Fig 4 Walkover'!H148)","v":""},{"$f":"IF($A147=\"\",\"\",'Fig 1 Ballet Leg'!I148+'Fig 2 Kip'!I148+'Fig 3 Heron'!I148+'Fig 4 Walkover'!I148)","v":""},""]
[{"$f":"IF(Draw!E148=0,\"\",Draw!E148)","v":""},null,null,"","",{"$f":"IF($A148=\"\",\"\",'Fig 1 Ballet Leg'!H149)","v":""},{"$f":"IF($A148=\"\",\"\",'Fig 2 Kip'!H149)","v":""},{"$f":"IF($A148=\"\",\"\",'Fig 3 Heron'!H149)","v":""},{"$f":"IF($A148=\"\",\"\",'Fig 4 Walkover'!H149)","v":""},{"$f":"IF($A148=\"\",\"\",'Fig 1 Ballet Leg'!I149+'Fig 2 Kip'!I149+'Fig 3 Heron'!I149+'Fig 4 Walkover'!I149)","v":""},""]
[{"$f":"IF(Draw!E149=0,\"\",Draw!E149)","v":""},null,null,"","",{"$f":"IF($A149=\"\",\"\",'Fig 1 Ballet Leg'!H150)","v":""},{"$f":"IF($A149=\"\",\"\",'Fig 2 Kip'!H150)","v":""},{"$f":"IF($A149=\"\",\"\",'Fig 3 Heron'!H150)","v":""},{"$f":"IF($A149=\"\",\"\",'Fig 4 Walkover'!H150)","v":""},{"$f":"IF($A149=\"\",\"\",'Fig 1 Ballet Leg'!I150+'Fig 2 Kip'!I150+'Fig 3 Heron'!I150+'Fig 4 Walkover'!I150)","v":""},""]
[{"$f":"IF(Draw!E150=0,\"\",Draw!E150)","v":""},null,null,"","",{"$f":"IF($A150=\"\",\"\",'Fig 1 Ballet Leg'!H151)","v":""},{"$f":"IF($A150=\"\",\"\",'Fig 2 Kip'!H151)","v":""},{"$f":"IF($A150=\"\",\"\",'Fig 3 Heron'!H151)","v":""},{"$f":"IF($A150=\"\",\"\",'Fig 4 Walkover'!H151)","v":""},{"$f":"IF($A150=\"\",\"\",'Fig 1 Ballet Leg'!I151+'Fig 2 Kip'!I151+'Fig 3 Heron'!I151+'Fig 4 Walkover'!I151)","v":""},""]
[{"$nulls":10},{"$f":"IF($A151=\"\",\"\",IF(A151=\"\",\"\",VLOOKUP(E151,AX$3:AY$102,2,FALSE)))","v":""}]

{"sheet":"Draw","index":6,"n_rows":151,"n_cols":16,"rows_kept":151,"hidden":true}
[1,"Bloomington",{"$f":"RAND()","v":0.29190311021859316},{"$nulls":3},"School","Name","Draw #","Name","School"]
["Leigha Kraft","Stillwater",{"$f":"RAND()","v":0.4097173204537208},{"$f":"IF(ISNA(RANK(C2,C$2:C$150,1)),\"\",RANK(C2,C$2:C$150,1))","v":18},{"$f":"IF(B2<>\"\",F2,\"\")","v":1},1,{"$f":"B2","v":"Stillwater"},{"$f":"A2","v":"Leigha Kraft"},{"$f":"E2","v":1},{"$f":"IF(ISNA(VLOOKUP(I2,D$2:H$150,5,FALSE)),\"\",VLOOKUP(I2,D$2:H$150,5,FALSE))","v":"Paulina Frayman"},{"$f":"IF(ISNA(VLOOKUP(I2,D$2:G$150,4,FALSE)),\"\",VLOOKUP(I2,D$2:G$150,4,FALSE))","v":"Osseo-Maple Grove"},null,null,1,"Leigha Kraft","Stillwater"]
["Erin Wurgler","Stillwater",0.5677770070642678,{"$f":"IF(ISNA(RANK(C3,C$2:C$150,1)),\"\",RANK(C3,C$2:C$150,1))","v":21},{"$f":"IF(B3<>\"\",F3,\"\")","v":2},2,{"$f":"B3","v":"Stillwater"},{"$f":"A3","v":"Erin Wurgler"},{"$f":"E3","v":2},{"$f":"IF(ISNA(VLOOKUP(I3,D$2:H$150,5,FALSE)),\"\",VLOOKUP(I3,D$2:H$150,5,FALSE))","v":"Kati Knox"},{"$f":"IF(ISNA(VLOOKUP(I3,D$2:G$150,4,FALSE)),\"\",VLOOKUP(I3,D$2:G$150,4,FALSE))","v":"Osseo-Maple Grove"},null,null,2,"Erin Wurgler","Stillwater"]
["Kati Knox","Osseo-Maple Grove",0.03454971988089017,2,3,3,"Osseo-Maple Grove","Kati Knox",3,"Kyra Will","Stillwater",null,null,3,"Kati Knox","Osseo-Maple Grove"]
["Molly Goheen","Stillwater",0.15185277518908435,8,4,4,"Stillwater","Molly Goheen",4,"Jillian Kulzer","Stillwater",null,null,4,"Molly Goheen","Stillwater"]
["Hannah Bliss","Stillwater",0.251190917722087,11,5,5,"Stillwater","Hannah Bliss",5,"Alexis Montgomery","Stillwater",null,null,5,"Hannah Bliss","Stillwater"]
["Kyra Will","Stillwater",0.035946109662945425,3,6,6,"Stillwater","Kyra Will",6,"Bella Formico","Stillwater",null,null,6,"Kyra Will","Stillwater"]
["Anika Wright","Stillwater",0.10680927180532684,7,7,7,"Stillwater","Anika Wright",7,"Anika Wright","Stillwater",null,null,7,"Anika Wright","Stillwater"]
["Mikaela Crosby","Osseo-Maple Grove",0.4892185865553218,19,8,8,"Osseo-Maple Grove","Mikaela Crosby",8,"Molly Goheen","Stillwater",null,null,8,"Mikaela Crosby","Osseo-Maple Grove"]
["Annika Desphande","Osseo-Maple Grove",0.3687972754224331,14,9,9,"Osseo-Maple Grove","Annika Desphande",9,"Chloe Knuteson","Stillwater",null,null,9,"Annika Desphande","Osseo-Maple Grove"]
["Savanna Woods","Osseo-Maple Grove",0.7959982236299652,23,10,10,"Osseo-Maple Grove","Savanna Woods",10,"Student Names:","Edina",null,null,10,"Savanna Woods","Osseo-Maple Grove"]
["Adelee Wrightsman","Stillwater",0.872126823264197,24,11,11,"Stillwater","Adelee Wrightsman",11,"Hannah Bliss","Stillwater",null,null,11,"Adelee Wrightsman","Stillwater"]
["Kennedy Tope","Stillwater",0.983080803629635,28,12,12,"Stillwater","Kennedy Tope",12,"Lauren Guinee","Stillwater",null,null,12,"Kennedy Tope","Stillwater"]
["Jillian Kulzer","Stillwater",0.04773987475656649,4,13,13,"Stillwater","Jillian Kulzer",13,"Elly Blair","Stillwater",null,null,13,"Jillian Kulzer","Stillwater"]
["Chloe Knuteson","Stillwater",0.17836486020191078,9,14,14,"Stillwater","Chloe Knuteson",14,"Annika Desphande","Osseo-Maple Grove",null,null,14,"Chloe Knuteson","Stillwater"]
["Nina Djukelic","Stillwater",0.5441083986765065,20,15,15,"Stillwater","Nina Djukelic",15,"Nissa Wilcox","Stillwater",null,null,15,"Nina Djukelic","Stillwater"]
["Samantha MacDonald","Stillwater",0.910840703482465,26,16,16,"Stillwater","Samantha MacDonald",16,"Berit Serle","Stillwater",null,null,16,"Samantha MacDonald","Stillwater"]
["Maylin Kennedy","Stillwater",0.7681497524454091,22,17,17,"Stillwater","Maylin Kennedy",17,"Kya Hodgdon","Stillwater",null,null,17,"Maylin Kennedy","Stillwater"]
["Paulina Frayman","Osseo-Maple Grove",0.03274778315701088,1,18,18,"Osseo-Maple Grove","Paulina Frayman",18,"Leigha Kraft","Stillwater",null,null,18,"Paulina Frayman","Osseo-Maple Grove"]
["Student Names:","Edina",0.20935861866867533,10,19,19,"Edina","Student Names:",19,"Mikaela Crosby","Osseo-Maple Grove",null,null,19,"Student Names:","Edina"]
["Nissa Wilcox","Stillwater",0.38241885257646313,15,20,20,"Stillwater","Nissa Wilcox",20,"Nina Djukelic","Stillwater",null,null,20,"Nissa Wilcox","Stillwater"]
["Maddie Stricker","Stillwater",0.9712419050437799,27,21,21,"Stillwater","Maddie Stricker",21,"Erin Wurgler","Stillwater",null,null,21,"Maddie Stricker","Stillwater"]
["Berit Serle","Stillwater",0.3856300352790445,16,22,22,"Stillwater","Berit Serle",22,"Maylin Kennedy","Stillwater",null,null,22,"Berit Serle","Stillwater"]
["Alexis Montgomery","Stillwater",0.05896454230854187,5,23,23,"Stillwater","Alexis Montgomery",23,"Savanna Woods","Osseo-Maple Grove",null,null,23,"Alexis Montgomery","Stillwater"]
["Elly Blair","Stillwater",0.3154679781786909,13,24,24,"Stillwater","Elly Blair",24,"Adelee Wrightsman","Stillwater",null,null,24,"Elly Blair","Stillwater"]
["Kya Hodgdon","Stillwater",0.39686469114296963,17,25,25,"Stillwater","Kya Hodgdon",25,"Hayeon Lee","Stillwater",null,null,25,"Kya Hodgdon","Stillwater"]
["Bella Formico","Stillwater",0.08074103629696183,6,26,26,"Stillwater","Bella Formico",26,"Samantha MacDonald","Stillwater",null,null,26,"Bella Formico","Stillwater"]
["Hayeon Lee","Stillwater",0.9105389564039117,25,27,27,"Stillwater","Hayeon Lee",27,"Maddie Stricker","Stillwater",null,null,27,"Hayeon Lee","Stillwater"]
["Lauren Guinee","Stillwater",0.31269450941448707,12,28,28,"Stillwater","Lauren Guinee",28,"Kennedy Tope","Stillwater",null,null,28,"Lauren Guinee","Stillwater"]
[{"$nulls":3},"","",29,0,0,"",0,0,null,null,""]
[{"$nulls":3},"","",30,0,0,"",0,0,null,null,""]
[{"$nulls":4},{"$f":"IF(B32<>\"\",F32,\"\")","v":""},31,0,0,"",0,0,null,null,""]
[{"$nulls":4},"",32,0,0,"",0,0,null,null,""]
[{"$nulls":4},"",33,0,0,"",0,0,null,null,""]
[{"$nulls":4},"",34,0,0,"",0,0,null,null,""]
[{"$nulls":4},"",35,0,0,"",0,0,null,null,""]
[{"$nulls":4},"",36,0,0,"",0,0,null,null,""]
[{"$nulls":4},"",37,0,0,"",0,0,null,null,""]
[{"$nulls":4},"",38,0,0,"",0,0,null,null,""]
[{"$nulls":4},"",39,0,0,"",0,0,null,null,""]
[{"$nulls":4},"",40,0,0,"",0,0,null,null,""]
[{"$nulls":4},"",41,0,0,"",0,0,null,null,""]
[{"$nulls":4},"",42,0,0,"",0,0,null,null,""]
[{"$nulls":4},"",43,0,0,"",0,0,null,null,""]
[{"$nulls":4},"",44,0,0,"",0,0,null,null,""]
[{"$nulls":4},"",45,0,0,"",0,0,null,null,""]
[{"$nulls":4},"",46,0,0,"",0,0,null,null,""]
[{"$nulls":4},"",47,0,0,"",0,0,null,null,""]
[{"$nulls":4},"",48,0,0,"",0,0,null,null,""]
[{"$nulls":4},"",49,0,0,"",0,0,null,null,""]
[{"$nulls":4},"",50,0,0,"",0,0,null,null,""]
[{"$nulls":4},"",51,0,0,"",0,0,null,null,""]
[{"$nulls":4},"",52,0,0,"",0,0,null,null,""]
[{"$nulls":4},"",53,0,0,"",0,0,null,null,""]
[{"$nulls":4},"",54,0,0,"",0,0,null,null,""]
[{"$nulls":4},"",55,0,0,"",0,0,null,null,""]
[{"$nulls":4},"",56,0,0,"",0,0,null,null,""]
[{"$nulls":4},"",57,0,0,"",0,0,null,null,""]
[{"$nulls":4},"",58,0,0,"",0,0,null,null,""]
[{"$nulls":4},"",59,0,0,"",0,0,null,null,""]
[{"$nulls":4},"",60,0,0,"",0,0,null,null,""]
[{"$nulls":4},"",61,0,0,"",0,0,null,null,""]
[{"$nulls":4},"",62,0,0,"",0,0,null,null,""]
[{"$nulls":4},"",63,0,0,"",0,0,null,null,""]
[{"$nulls":4},"",64,0,0,"",0,0,null,null,""]
[{"$nulls":4},"",65,0,0,"",0,0,null,null,""]
[{"$nulls":4},"",66,{"$f":"B67","v":0},{"$f":"A67","v":0},{"$f":"E67","v":""},{"$f":"IF(ISNA(VLOOKUP(I67,D$2:H$150,5,FALSE)),\"\",VLOOKUP(I67,D$2:H$150,5,FALSE))","v":0},{"$f":"IF(ISNA(VLOOKUP(I67,D$2:G$150,4,FALSE)),\"\",VLOOKUP(I67,D$2:G$150,4,FALSE))","v":0},null,null,""]
[{"$nulls":4},"",67,0,0,"",0,0,null,null,""]
[{"$nulls":4},"",68,0,0,"",0,0,null,null,""]
[{"$nulls":4},"",69,0,0,"",0,0,null,null,""]
[{"$nulls":4},"",70,0,0,"",0,0,null,null,""]
[{"$nulls":4},"",71,0,0,"",0,0,null,null,""]
[{"$nulls":4},"",72,0,0,"",0,0,null,null,""]
[{"$nulls":4},"",73,0,0,"",0,0,null,null,""]
[{"$nulls":4},"",74,0,0,"",0,0,null,null,""]
[{"$nulls":4},"",75,0,0,"",0,0,null,null,""]
[{"$nulls":4},"",76,0,0,"",0,0,null,null,""]
[{"$nulls":4},"",77,0,0,"",0,0,null,null,""]
[{"$nulls":4},"",78,0,0,"",0,0,null,null,""]
[{"$nulls":4},"",79,0,0,"",0,0,null,null,""]
[{"$nulls":4},"",80,0,0,"",0,0,null,null,""]
[{"$nulls":4},"",81,0,0,"",0,0,null,null,""]
[{"$nulls":4},"",82,0,0,"",0,0,null,null,""]
[{"$nulls":4},"",83,0,0,"",0,0,null,null,""]
[{"$nulls":4},"",84,0,0,"",0,0,null,null,""]
[{"$nulls":4},"",85,0,0,"",0,0,null,null,""]
[{"$nulls":4},"",86,0,0,"",0,0,null,null,""]
[{"$nulls":4},"",87,0,0,"",0,0,null,null,""]
[{"$nulls":4},"",88,0,0,"",0,0,null,null,""]
[{"$nulls":4},"",89,0,0,"",0,0,null,null,""]
[{"$nulls":4},"",90,0,0,"",0,0,null,null,""]
[{"$nulls":4},"",91,0,0,"",0,0,null,null,""]
[{"$nulls":4},"",92,0,0,"",0,0,null,null,""]
[{"$nulls":4},"",93,0,0,"",0,0,null,null,""]
[{"$nulls":4},"",94,{"$f":"B95","v":0},{"$f":"A95","v":0},{"$f":"E95","v":""},0,0,null,null,""]
[{"$nulls":4},{"$f":"IF(B96<>\"\",F96,\"\")","v":""},95,0,0,"",0,0,null,null,""]
[{"$nulls":4},"",96,0,0,"",0,0,null,null,""]
[{"$nulls":4},"",97,0,0,"",0,0,null,null,""]
[{"$nulls":4},"",98,0,0,"",0,0,null,null,""]
[{"$nulls":4},"",99,0,0,"",0,0,null,null,""]
[{"$nulls":4},"",100,0,0,"",0,0,null,null,""]
[{"$nulls":4},"",101,0,0,"",0,0,null,null,""]
[{"$nulls":4},"",102,0,0,"",0,0,null,null,""]
[{"$nulls":4},"",103,0,0,"",0,0,null,null,""]
[{"$nulls":4},"",104,0,0,"",0,0,null,null,""]
[{"$nulls":4},"",105,0,0,"",0,0,null,null,""]
[{"$nulls":4},"",106,0,0,"",0,0,null,null,""]
[{"$nulls":4},"",107,0,0,"",0,0,null,null,""]
[{"$nulls":4},"",108,0,0,"",0,0,null,null,""]
[{"$nulls":4},"",109,0,0,"",0,0,null,null,""]
[{"$nulls":4},"",110,0,0,"",0,0,null,null,""]
[{"$nulls":4},"",111,0,0,"",0,0,null,null,""]
[{"$nulls":4},"",112,0,0,"",0,0,null,null,""]
[{"$nulls":4},"",113,0,0,"",0,0,null,null,""]
[{"$nulls":4},"",114,0,0,"",0,0,null,null,""]
[{"$nulls":4},"",115,0,0,"",0,0,null,null,""]
[{"$nulls":4},"",116,0,0,"",0,0,null,null,""]
[{"$nulls":4},"",117,0,0,"",0,0,null,null,""]
[{"$nulls":4},"",118,0,0,"",0,0,null,null,""]
[{"$nulls":4},"",119,0,0,"",0,0,null,null,""]
[{"$nulls":4},"",120,0,0,"",0,0,null,null,""]
[{"$nulls":4},"",121,0,0,"",0,0,null,null,""]
[{"$nulls":4},"",122,0,0,"",0,0,null,null,""]
[{"$nulls":4},"",123,0,0,"",0,0,null,null,""]
[{"$nulls":4},"",124,0,0,"",0,0,null,null,""]
[{"$nulls":4},"",125,0,0,"",0,0,null,null,""]
[{"$nulls":4},"",126,0,0,"",0,0,null,null,""]
[{"$nulls":4},"",127,0,0,"",0,0,null,null,""]
[{"$nulls":4},"",128,0,0,"",0,0,null,null,""]
[{"$nulls":4},"",129,0,0,"",0,0,null,null,""]
[{"$nulls":4},"",130,0,0,"",{"$f":"IF(ISNA(VLOOKUP(I131,D$2:H$150,5,FALSE)),\"\",VLOOKUP(I131,D$2:H$150,5,FALSE))","v":0},{"$f":"IF(ISNA(VLOOKUP(I131,D$2:G$150,4,FALSE)),\"\",VLOOKUP(I131,D$2:G$150,4,FALSE))","v":0},null,null,""]
[{"$nulls":4},"",131,0,0,"",0,0,null,null,""]
[{"$nulls":4},"",132,0,0,"",0,0,null,null,""]
[{"$nulls":4},"",133,0,0,"",0,0,null,null,""]
[{"$nulls":4},"",134,0,0,"",0,0,null,null,""]
[{"$nulls":4},"",135,0,0,"",0,0,null,null,""]
[{"$nulls":4},"",136,0,0,"",0,0,null,null,""]
[{"$nulls":4},"",137,0,0,"",0,0,null,null,""]
[{"$nulls":4},"",138,0,0,"",0,0,null,null,""]
[{"$nulls":4},"",139,0,0,"",0,0,null,null,""]
[{"$nulls":4},"",140,0,0,"",0,0,null,null,""]
[{"$nulls":4},"",141,0,0,"",0,0,null,null,""]
[{"$nulls":4},"",142,0,0,"",0,0,null,null,""]
[{"$nulls":4},"",143,0,0,"",0,0,null,null,""]
[{"$nulls":4},"",144,0,0,"",0,0,null,null,""]
[{"$nulls":4},"",145,0,0,"",0,0,null,null,""]
[{"$nulls":4},"",146,0,0,"",0,0,null,null,""]
[{"$nulls":4},"",147,0,0,"",0,0,null,null,""]
[{"$nulls":4},"",148,0,0,"",0,0,null,null,""]
[{"$nulls":4},"",149,0,0,"",0,0,null,null,""]
[{"$nulls":4},""]

{"sheet":"Schools","index":7,"n_rows":15,"n_cols":1,"rows_kept":15,"hidden":true}
["List of Schools:"]
["Blake"]
["Bloomington"]
["Columbia Heights"]
["Eden Prairie"]
["Edina"]
["Forest Lake"]
["Hopkins"]
["Itasca"]
["Osseo-Maple Grove"]
["Prior Lake"]
["Richfield"]
["St. Louis Park"]
["Stillwater"]
["Wayzata"]

{"sheet":"Official Draw","index":8,"n_rows":151,"n_cols":4,"rows_kept":151}
[]
[null,{"$f":"Draw!I1","v":"Draw #"},{"$f":"Draw!J1","v":"Name"},{"$f":"Draw!K1","v":"School"}]
[null,1,"Leigha Kraft","Stillwater"]
[null,2,"Erin Wurgler","Stillwater"]
[null,3,"Kati Knox","Osseo-Maple Grove"]
[null,4,"Molly Goheen","Stillwater"]
[null,5,"Hannah Bliss","Stillwater"]
[null,6,"Kyra Will","Stillwater"]
[null,7,"Anika Wright","Stillwater"]
[null,8,"Mikaela Crosby","Osseo-Maple Grove"]
[null,9,"Annika Desphande","Osseo-Maple Grove"]
[null,10,"Savanna Woods","Osseo-Maple Grove"]
[null,11,"Adelee Wrightsman","Stillwater"]
[null,12,"Kennedy Tope","Stillwater"]
[null,13,"Jillian Kulzer","Stillwater"]
[null,14,"Chloe Knuteson","Stillwater"]
[null,15,"Nina Djukelic","Stillwater"]
[null,16,"Samantha MacDonald","Stillwater"]
[null,17,"Maylin Kennedy","Stillwater"]
[null,18,"Paulina Frayman","Osseo-Maple Grove"]
[null,19,"Student Names:","Edina"]
[null,20,"Nissa Wilcox","Stillwater"]
[null,21,"Maddie Stricker","Stillwater"]
[null,22,"Berit Serle","Stillwater"]
[null,23,"Alexis Montgomery","Stillwater"]
[null,24,"Elly Blair","Stillwater"]
[null,25,"Kya Hodgdon","Stillwater"]
[null,26,"Bella Formico","Stillwater"]
[null,27,"Hayeon Lee","Stillwater"]
[null,28,"Lauren Guinee","Stillwater"]
[null,{"$f":"Draw!N30","v":""},{"$f":"Draw!O30","v":0},{"$f":"Draw!P30","v":0}]
[null,{"$f":"Draw!N31","v":""},{"$f":"Draw!O31","v":0},{"$f":"Draw!P31","v":0}]
[null,{"$f":"Draw!N32","v":""},{"$f":"Draw!O32","v":0},{"$f":"Draw!P32","v":0}]
[null,{"$f":"Draw!N33","v":""},{"$f":"Draw!O33","v":0},{"$f":"Draw!P33","v":0}]
[null,{"$f":"Draw!N34","v":""},{"$f":"Draw!O34","v":0},{"$f":"Draw!P34","v":0}]
[null,{"$f":"Draw!N35","v":""},{"$f":"Draw!O35","v":0},{"$f":"Draw!P35","v":0}]
[null,{"$f":"Draw!N36","v":""},{"$f":"Draw!O36","v":0},{"$f":"Draw!P36","v":0}]
[null,{"$f":"Draw!N37","v":""},{"$f":"Draw!O37","v":0},{"$f":"Draw!P37","v":0}]
[null,{"$f":"Draw!N38","v":""},{"$f":"Draw!O38","v":0},{"$f":"Draw!P38","v":0}]
[null,{"$f":"Draw!N39","v":""},{"$f":"Draw!O39","v":0},{"$f":"Draw!P39","v":0}]
[null,{"$f":"Draw!N40","v":""},{"$f":"Draw!O40","v":0},{"$f":"Draw!P40","v":0}]
[null,{"$f":"Draw!N41","v":""},{"$f":"Draw!O41","v":0},{"$f":"Draw!P41","v":0}]
[null,{"$f":"Draw!N42","v":""},{"$f":"Draw!O42","v":0},{"$f":"Draw!P42","v":0}]
[null,{"$f":"Draw!N43","v":""},{"$f":"Draw!O43","v":0},{"$f":"Draw!P43","v":0}]
[null,{"$f":"Draw!N44","v":""},{"$f":"Draw!O44","v":0},{"$f":"Draw!P44","v":0}]
[null,{"$f":"Draw!N45","v":""},{"$f":"Draw!O45","v":0},{"$f":"Draw!P45","v":0}]
[null,{"$f":"Draw!N46","v":""},{"$f":"Draw!O46","v":0},{"$f":"Draw!P46","v":0}]
[null,{"$f":"Draw!N47","v":""},{"$f":"Draw!O47","v":0},{"$f":"Draw!P47","v":0}]
[null,{"$f":"Draw!N48","v":""},{"$f":"Draw!O48","v":0},{"$f":"Draw!P48","v":0}]
[null,{"$f":"Draw!N49","v":""},{"$f":"Draw!O49","v":0},{"$f":"Draw!P49","v":0}]
[null,{"$f":"Draw!N50","v":""},{"$f":"Draw!O50","v":0},{"$f":"Draw!P50","v":0}]
[null,{"$f":"Draw!N51","v":""},{"$f":"Draw!O51","v":0},{"$f":"Draw!P51","v":0}]
[null,{"$f":"Draw!N52","v":""},{"$f":"Draw!O52","v":0},{"$f":"Draw!P52","v":0}]
[null,{"$f":"Draw!N53","v":""},{"$f":"Draw!O53","v":0},{"$f":"Draw!P53","v":0}]
[null,{"$f":"Draw!N54","v":""},{"$f":"Draw!O54","v":0},{"$f":"Draw!P54","v":0}]
[null,{"$f":"Draw!N55","v":""},{"$f":"Draw!O55","v":0},{"$f":"Draw!P55","v":0}]
[null,{"$f":"Draw!N56","v":""},{"$f":"Draw!O56","v":0},{"$f":"Draw!P56","v":0}]
[null,{"$f":"Draw!N57","v":""},{"$f":"Draw!O57","v":0},{"$f":"Draw!P57","v":0}]
[null,{"$f":"Draw!N58","v":""},{"$f":"Draw!O58","v":0},{"$f":"Draw!P58","v":0}]
[null,{"$f":"Draw!N59","v":""},{"$f":"Draw!O59","v":0},{"$f":"Draw!P59","v":0}]
[null,{"$f":"Draw!N60","v":""},{"$f":"Draw!O60","v":0},{"$f":"Draw!P60","v":0}]
[null,{"$f":"Draw!N61","v":""},{"$f":"Draw!O61","v":0},{"$f":"Draw!P61","v":0}]
[null,{"$f":"Draw!N62","v":""},{"$f":"Draw!O62","v":0},{"$f":"Draw!P62","v":0}]
[null,{"$f":"Draw!N63","v":""},{"$f":"Draw!O63","v":0},{"$f":"Draw!P63","v":0}]
[null,{"$f":"Draw!N64","v":""},{"$f":"Draw!O64","v":0},{"$f":"Draw!P64","v":0}]
[null,{"$f":"Draw!N65","v":""},{"$f":"Draw!O65","v":0},{"$f":"Draw!P65","v":0}]
[null,{"$f":"Draw!N66","v":""},{"$f":"Draw!O66","v":0},{"$f":"Draw!P66","v":0}]
[null,{"$f":"Draw!N67","v":""},{"$f":"Draw!O67","v":0},{"$f":"Draw!P67","v":0}]
[null,{"$f":"Draw!N68","v":""},{"$f":"Draw!O68","v":0},{"$f":"Draw!P68","v":0}]
[null,{"$f":"Draw!N69","v":""},{"$f":"Draw!O69","v":0},{"$f":"Draw!P69","v":0}]
[null,{"$f":"Draw!N70","v":""},{"$f":"Draw!O70","v":0},{"$f":"Draw!P70","v":0}]
[null,{"$f":"Draw!N71","v":""},{"$f":"Draw!O71","v":0},{"$f":"Draw!P71","v":0}]
[null,{"$f":"Draw!N72","v":""},{"$f":"Draw!O72","v":0},{"$f":"Draw!P72","v":0}]
[null,{"$f":"Draw!N73","v":""},{"$f":"Draw!O73","v":0},{"$f":"Draw!P73","v":0}]
[null,{"$f":"Draw!N74","v":""},{"$f":"Draw!O74","v":0},{"$f":"Draw!P74","v":0}]
[null,{"$f":"Draw!N75","v":""},{"$f":"Draw!O75","v":0},{"$f":"Draw!P75","v":0}]
[null,{"$f":"Draw!N76","v":""},{"$f":"Draw!O76","v":0},{"$f":"Draw!P76","v":0}]
[null,{"$f":"Draw!N77","v":""},{"$f":"Draw!O77","v":0},{"$f":"Draw!P77","v":0}]
[null,{"$f":"Draw!N78","v":""},{"$f":"Draw!O78","v":0},{"$f":"Draw!P78","v":0}]
[null,{"$f":"Draw!N79","v":""},{"$f":"Draw!O79","v":0},{"$f":"Draw!P79","v":0}]
[null,{"$f":"Draw!N80","v":""},{"$f":"Draw!O80","v":0},{"$f":"Draw!P80","v":0}]
[null,{"$f":"Draw!N81","v":""},{"$f":"Draw!O81","v":0},{"$f":"Draw!P81","v":0}]
[null,{"$f":"Draw!N82","v":""},{"$f":"Draw!O82","v":0},{"$f":"Draw!P82","v":0}]
[null,{"$f":"Draw!N83","v":""},{"$f":"Draw!O83","v":0},{"$f":"Draw!P83","v":0}]
[null,{"$f":"Draw!N84","v":""},{"$f":"Draw!O84","v":0},{"$f":"Draw!P84","v":0}]
[null,{"$f":"Draw!N85","v":""},{"$f":"Draw!O85","v":0},{"$f":"Draw!P85","v":0}]
[null,{"$f":"Draw!N86","v":""},{"$f":"Draw!O86","v":0},{"$f":"Draw!P86","v":0}]
[null,{"$f":"Draw!N87","v":""},{"$f":"Draw!O87","v":0},{"$f":"Draw!P87","v":0}]
[null,{"$f":"Draw!N88","v":""},{"$f":"Draw!O88","v":0},{"$f":"Draw!P88","v":0}]
[null,{"$f":"Draw!N89","v":""},{"$f":"Draw!O89","v":0},{"$f":"Draw!P89","v":0}]
[null,{"$f":"Draw!N90","v":""},{"$f":"Draw!O90","v":0},{"$f":"Draw!P90","v":0}]
[null,{"$f":"Draw!N91","v":""},{"$f":"Draw!O91","v":0},{"$f":"Draw!P91","v":0}]
[null,{"$f":"Draw!N92","v":""},{"$f":"Draw!O92","v":0},{"$f":"Draw!P92","v":0}]
[null,{"$f":"Draw!N93","v":""},{"$f":"Draw!O93","v":0},{"$f":"Draw!P93","v":0}]
[null,{"$f":"Draw!N94","v":""},{"$f":"Draw!O94","v":0},{"$f":"Draw!P94","v":0}]
[null,{"$f":"Draw!N95","v":""},{"$f":"Draw!O95","v":0},{"$f":"Draw!P95","v":0}]
[null,{"$f":"Draw!N96","v":""},{"$f":"Draw!O96","v":0},{"$f":"Draw!P96","v":0}]
[null,{"$f":"Draw!N97","v":""},{"$f":"Draw!O97","v":0},{"$f":"Draw!P97","v":0}]
[null,{"$f":"Draw!N98","v":""},{"$f":"Draw!O98","v":0},{"$f":"Draw!P98","v":0}]
[null,{"$f":"Draw!N99","v":""},{"$f":"Draw!O99","v":0},{"$f":"Draw!P99","v":0}]
[null,{"$f":"Draw!N100","v":""},{"$f":"Draw!O100","v":0},{"$f":"Draw!P100","v":0}]
[null,{"$f":"Draw!N101","v":""},{"$f":"Draw!O101","v":0},{"$f":"Draw!P101","v":0}]
[null,{"$f":"Draw!N102","v":""},{"$f":"Draw!O102","v":0},{"$f":"Draw!P102","v":0}]
[null,{"$f":"Draw!N103","v":""},{"$f":"Draw!O103","v":0},{"$f":"Draw!P103","v":0}]
[null,{"$f":"Draw!N104","v":""},{"$f":"Draw!O104","v":0},{"$f":"Draw!P104","v":0}]
[null,{"$f":"Draw!N105","v":""},{"$f":"Draw!O105","v":0},{"$f":"Draw!P105","v":0}]
[null,{"$f":"Draw!N106","v":""},{"$f":"Draw!O106","v":0},{"$f":"Draw!P106","v":0}]
[null,{"$f":"Draw!N107","v":""},{"$f":"Draw!O107","v":0},{"$f":"Draw!P107","v":0}]
[null,{"$f":"Draw!N108","v":""},{"$f":"Draw!O108","v":0},{"$f":"Draw!P108","v":0}]
[null,{"$f":"Draw!N109","v":""},{"$f":"Draw!O109","v":0},{"$f":"Draw!P109","v":0}]
[null,{"$f":"Draw!N110","v":""},{"$f":"Draw!O110","v":0},{"$f":"Draw!P110","v":0}]
[null,{"$f":"Draw!N111","v":""},{"$f":"Draw!O111","v":0},{"$f":"Draw!P111","v":0}]
[null,{"$f":"Draw!N112","v":""},{"$f":"Draw!O112","v":0},{"$f":"Draw!P112","v":0}]
[null,{"$f":"Draw!N113","v":""},{"$f":"Draw!O113","v":0},{"$f":"Draw!P113","v":0}]
[null,{"$f":"Draw!N114","v":""},{"$f":"Draw!O114","v":0},{"$f":"Draw!P114","v":0}]
[null,{"$f":"Draw!N115","v":""},{"$f":"Draw!O115","v":0},{"$f":"Draw!P115","v":0}]
[null,{"$f":"Draw!N116","v":""},{"$f":"Draw!O116","v":0},{"$f":"Draw!P116","v":0}]
[null,{"$f":"Draw!N117","v":""},{"$f":"Draw!O117","v":0},{"$f":"Draw!P117","v":0}]
[null,{"$f":"Draw!N118","v":""},{"$f":"Draw!O118","v":0},{"$f":"Draw!P118","v":0}]
[null,{"$f":"Draw!N119","v":""},{"$f":"Draw!O119","v":0},{"$f":"Draw!P119","v":0}]
[null,{"$f":"Draw!N120","v":""},{"$f":"Draw!O120","v":0},{"$f":"Draw!P120","v":0}]
[null,{"$f":"Draw!N121","v":""},{"$f":"Draw!O121","v":0},{"$f":"Draw!P121","v":0}]
[null,{"$f":"Draw!N122","v":""},{"$f":"Draw!O122","v":0},{"$f":"Draw!P122","v":0}]
[null,{"$f":"Draw!N123","v":""},{"$f":"Draw!O123","v":0},{"$f":"Draw!P123","v":0}]
[null,{"$f":"Draw!N124","v":""},{"$f":"Draw!O124","v":0},{"$f":"Draw!P124","v":0}]
[null,{"$f":"Draw!N125","v":""},{"$f":"Draw!O125","v":0},{"$f":"Draw!P125","v":0}]
[null,{"$f":"Draw!N126","v":""},{"$f":"Draw!O126","v":0},{"$f":"Draw!P126","v":0}]
[null,{"$f":"Draw!N127","v":""},{"$f":"Draw!O127","v":0},{"$f":"Draw!P127","v":0}]
[null,{"$f":"Draw!N128","v":""},{"$f":"Draw!O128","v":0},{"$f":"Draw!P128","v":0}]
[null,{"$f":"Draw!N129","v":""},{"$f":"Draw!O129","v":0},{"$f":"Draw!P129","v":0}]
[null,{"$f":"Draw!N130","v":""},{"$f":"Draw!O130","v":0},{"$f":"Draw!P130","v":0}]
[null,{"$f":"Draw!N131","v":""},{"$f":"Draw!O131","v":0},{"$f":"Draw!P131","v":0}]
[null,{"$f":"Draw!N132","v":""},{"$f":"Draw!O132","v":0},{"$f":"Draw!P132","v":0}]
[null,{"$f":"Draw!N133","v":""},{"$f":"Draw!O133","v":0},{"$f":"Draw!P133","v":0}]
[null,{"$f":"Draw!N134","v":""},{"$f":"Draw!O134","v":0},{"$f":"Draw!P134","v":0}]
[null,{"$f":"Draw!N135","v":""},{"$f":"Draw!O135","v":0},{"$f":"Draw!P135","v":0}]
[null,{"$f":"Draw!N136","v":""},{"$f":"Draw!O136","v":0},{"$f":"Draw!P136","v":0}]
[null,{"$f":"Draw!N137","v":""},{"$f":"Draw!O137","v":0},{"$f":"Draw!P137","v":0}]
[null,{"$f":"Draw!N138","v":""},{"$f":"Draw!O138","v":0},{"$f":"Draw!P138","v":0}]
[null,{"$f":"Draw!N139","v":""},{"$f":"Draw!O139","v":0},{"$f":"Draw!P139","v":0}]
[null,{"$f":"Draw!N140","v":""},{"$f":"Draw!O140","v":0},{"$f":"Draw!P140","v":0}]
[null,{"$f":"Draw!N141","v":""},{"$f":"Draw!O141","v":0},{"$f":"Draw!P141","v":0}]
[null,{"$f":"Draw!N142","v":""},{"$f":"Draw!O142","v":0},{"$f":"Draw!P142","v":0}]
[null,{"$f":"Draw!N143","v":""},{"$f":"Draw!O143","v":0},{"$f":"Draw!P143","v":0}]
[null,{"$f":"Draw!N144","v":""},{"$f":"Draw!O144","v":0},{"$f":"Draw!P144","v":0}]
[null,{"$f":"Draw!N145","v":""},{"$f":"Draw!O145","v":0},{"$f":"Draw!P145","v":0}]
[null,{"$f":"Draw!N146","v":""},{"$f":"Draw!O146","v":0},{"$f":"Draw!P146","v":0}]
[null,{"$f":"Draw!N147","v":""},{"$f":"Draw!O147","v":0},{"$f":"Draw!P147","v":0}]
[null,{"$f":"Draw!N148","v":""},{"$f":"Draw!O148","v":0},{"$f":"Draw!P148","v":0}]
[null,{"$f":"Draw!N149","v":""},{"$f":"Draw!O149","v":0},{"$f":"Draw!P149","v":0}]
[null,{"$f":"Draw!N150","v":""},{"$f":"Draw!O150","v":0},{"$f":"Draw!P150","v":0}]

{"sheet":"Meet Results","index":9,"n_rows":150,"n_cols":23,"rows_kept":150}
[]
[{"$nulls":3},"Stillwater",{"$f":"SUMIF($F5:$G24,D2,$H5:$H24)","v":0},"Osseo-Maple Grove",{"$f":"SUMIF($F5:$G24,F2,$H5:$H24)","v":0},{"$nulls":3},"Edina",{"$f":"SUMIF($M5:$N24,K2,$O5:$O24)","v":8},"Edina",{"$f":"SUMIF($M5:$N24,M2,$O5:$O24)","v":8},{"$nulls":3},"Hopkins",{"$f":"SUMIF($T5:$U24,R2,$V5:$V24)","v":8},"Hopkins",{"$f":"SUMIF($T5:$U24,T2,$V5:$V24)","v":8}]
[{"$nulls":3}," Total Score",{"$nulls":6}," Total Score",{"$nulls":6}," Total Score"]
[{"$nulls":3},"#","Swimmer","School","Total","SCORE","PLACE",null,"#","Swimmer","School","Total","SCORE","PLACE",null,"#","Swimmer","School","Total","SCORE","PLACE"]
[{"$nulls":3},2,"Student Names:","Hopkins",{"v":0,"d":"0.00000"},{"$f":"IF(ISNA(VLOOKUP(I5,Totals!$AX$3:$AY$102,2,FALSE)),\"\",VLOOKUP(I5,Totals!$AX$3:$AY$102,2,FALSE))","v":8},{"$f":"IF(ISNA(RANK(G5,G$5:G$150)),\"\",RANK(G5,G$5:G$150))","v":1},null,1,"Student Names:","Edina",{"v":0,"d":"0.00000"},{"$f":"IF(ISNA(VLOOKUP(P5,Totals!$AX$3:$AY$102,2,FALSE)),\"\",VLOOKUP(P5,Totals!$AX$3:$AY$102,2,FALSE))","v":8},{"$f":"IF(ISNA(RANK(N5,N$5:N$150)),\"\",RANK(N5,N$5:N$150))","v":1},null,2,"Student Names:","Hopkins",{"v":0,"d":"0.00000"},{"$f":"IF(ISNA(VLOOKUP(W5,Totals!$AX$3:$AY$102,2,FALSE)),\"\",VLOOKUP(W5,Totals!$AX$3:$AY$102,2,FALSE))","v":8},{"$f":"IF(ISNA(RANK(U5,U$5:U$150)),\"\",RANK(U5,U$5:U$150))","v":1}]
[{"$nulls":3},1,"Student Names:","Edina",{"v":0,"d":"0.00000"},{"$f":"IF(ISNA(VLOOKUP(I6,Totals!$AX$3:$AY$102,2,FALSE)),\"\",VLOOKUP(I6,Totals!$AX$3:$AY$102,2,FALSE))","v":8},{"$f":"IF(G6=G5,I5,IF(ISNA(RANK(G6,G$5:G$150)),\"\",RANK(G6,G$5:G$150)))","v":1},{"$nulls":5},{"$f":"IF(ISNA(VLOOKUP(P6,Totals!$AX$3:$AY$102,2,FALSE)),\"\",VLOOKUP(P6,Totals!$AX$3:$AY$102,2,FALSE))","v":8},{"$f":"IF(ISNA(RANK(N6,N$5:N$150)),\"\",RANK(N6,N$5:N$150))","v":1},{"$nulls":5},{"$f":"IF(ISNA(VLOOKUP(W6,Totals!$AX$3:$AY$102,2,FALSE)),\"\",VLOOKUP(W6,Totals!$AX$3:$AY$102,2,FALSE))","v":8},{"$f":"IF(ISNA(RANK(U6,U$5:U$150)),\"\",RANK(U6,U$5:U$150))","v":1}]
[{"$nulls":7},{"$f":"IF(ISNA(VLOOKUP(I7,Totals!$AX$3:$AY$102,2,FALSE)),\"\",VLOOKUP(I7,Totals!$AX$3:$AY$102,2,FALSE))","v":8},{"$f":"IF(G7=G6,I6,IF(ISNA(RANK(G7,G$5:G$150)),\"\",RANK(G7,G$5:G$150)))","v":1},{"$nulls":5},{"$f":"IF(ISNA(VLOOKUP(P7,Totals!$AX$3:$AY$102,2,FALSE)),\"\",VLOOKUP(P7,Totals!$AX$3:$AY$102,2,FALSE))","v":8},1,{"$nulls":5},{"$f":"IF(ISNA(VLOOKUP(W7,Totals!$AX$3:$AY$102,2,FALSE)),\"\",VLOOKUP(W7,Totals!$AX$3:$AY$102,2,FALSE))","v":8},1]
[{"$nulls":7},{"$f":"IF(ISNA(VLOOKUP(I8,Totals!$AX$3:$AY$102,2,FALSE)),\"\",VLOOKUP(I8,Totals!$AX$3:$AY$102,2,FALSE))","v":8},1,{"$nulls":5},{"$f":"IF(ISNA(VLOOKUP(P8,Totals!$AX$3:$AY$102,2,FALSE)),\"\",VLOOKUP(P8,Totals!$AX$3:$AY$102,2,FALSE))","v":8},1,{"$nulls":5},{"$f":"IF(ISNA(VLOOKUP(W8,Totals!$AX$3:$AY$102,2,FALSE)),\"\",VLOOKUP(W8,Totals!$AX$3:$AY$102,2,FALSE))","v":8},1]
[{"$nulls":7},{"$f":"IF(ISNA(VLOOKUP(I9,Totals!$AX$3:$AY$102,2,FALSE)),\"\",VLOOKUP(I9,Totals!$AX$3:$AY$102,2,FALSE))","v":8},1,{"$nulls":5},{"$f":"IF(ISNA(VLOOKUP(P9,Totals!$AX$3:$AY$102,2,FALSE)),\"\",VLOOKUP(P9,Totals!$AX$3:$AY$102,2,FALSE))","v":8},1,{"$nulls":5},{"$f":"IF(ISNA(VLOOKUP(W9,Totals!$AX$3:$AY$102,2,FALSE)),\"\",VLOOKUP(W9,Totals!$AX$3:$AY$102,2,FALSE))","v":8},1]
[{"$nulls":7},{"$f":"IF(ISNA(VLOOKUP(I10,Totals!$AX$3:$AY$102,2,FALSE)),\"\",VLOOKUP(I10,Totals!$AX$3:$AY$102,2,FALSE))","v":8},1,{"$nulls":5},{"$f":"IF(ISNA(VLOOKUP(P10,Totals!$AX$3:$AY$102,2,FALSE)),\"\",VLOOKUP(P10,Totals!$AX$3:$AY$102,2,FALSE))","v":8},1,{"$nulls":5},{"$f":"IF(ISNA(VLOOKUP(W10,Totals!$AX$3:$AY$102,2,FALSE)),\"\",VLOOKUP(W10,Totals!$AX$3:$AY$102,2,FALSE))","v":8},1]
[{"$nulls":7},{"$f":"IF(ISNA(VLOOKUP(I11,Totals!$AX$3:$AY$102,2,FALSE)),\"\",VLOOKUP(I11,Totals!$AX$3:$AY$102,2,FALSE))","v":8},1,{"$nulls":5},{"$f":"IF(ISNA(VLOOKUP(P11,Totals!$AX$3:$AY$102,2,FALSE)),\"\",VLOOKUP(P11,Totals!$AX$3:$AY$102,2,FALSE))","v":8},1,{"$nulls":5},{"$f":"IF(ISNA(VLOOKUP(W11,Totals!$AX$3:$AY$102,2,FALSE)),\"\",VLOOKUP(W11,Totals!$AX$3:$AY$102,2,FALSE))","v":8},1]
[{"$nulls":7},{"$f":"IF(ISNA(VLOOKUP(I12,Totals!$AX$3:$AY$102,2,FALSE)),\"\",VLOOKUP(I12,Totals!$AX$3:$AY$102,2,FALSE))","v":8},1,{"$nulls":5},{"$f":"IF(ISNA(VLOOKUP(P12,Totals!$AX$3:$AY$102,2,FALSE)),\"\",VLOOKUP(P12,Totals!$AX$3:$AY$102,2,FALSE))","v":8},1,{"$nulls":5},{"$f":"IF(ISNA(VLOOKUP(W12,Totals!$AX$3:$AY$102,2,FALSE)),\"\",VLOOKUP(W12,Totals!$AX$3:$AY$102,2,FALSE))","v":8},1]
[{"$nulls":7},{"$f":"IF(ISNA(VLOOKUP(I13,Totals!$AX$3:$AY$102,2,FALSE)),\"\",VLOOKUP(I13,Totals!$AX$3:$AY$102,2,FALSE))","v":8},1,{"$nulls":5},{"$f":"IF(ISNA(VLOOKUP(P13,Totals!$AX$3:$AY$102,2,FALSE)),\"\",VLOOKUP(P13,Totals!$AX$3:$AY$102,2,FALSE))","v":8},1,{"$nulls":5},{"$f":"IF(ISNA(VLOOKUP(W13,Totals!$AX$3:$AY$102,2,FALSE)),\"\",VLOOKUP(W13,Totals!$AX$3:$AY$102,2,FALSE))","v":8},1]
[{"$nulls":7},{"$f":"IF(ISNA(VLOOKUP(I14,Totals!$AX$3:$AY$102,2,FALSE)),\"\",VLOOKUP(I14,Totals!$AX$3:$AY$102,2,FALSE))","v":8},1,{"$nulls":5},{"$f":"IF(ISNA(VLOOKUP(P14,Totals!$AX$3:$AY$102,2,FALSE)),\"\",VLOOKUP(P14,Totals!$AX$3:$AY$102,2,FALSE))","v":8},1,{"$nulls":5},{"$f":"IF(ISNA(VLOOKUP(W14,Totals!$AX$3:$AY$102,2,FALSE)),\"\",VLOOKUP(W14,Totals!$AX$3:$AY$102,2,FALSE))","v":8},1]
[{"$nulls":7},{"$f":"IF(ISNA(VLOOKUP(I15,Totals!$AX$3:$AY$102,2,FALSE)),\"\",VLOOKUP(I15,Totals!$AX$3:$AY$102,2,FALSE))","v":8},1,{"$nulls":5},{"$f":"IF(ISNA(VLOOKUP(P15,Totals!$AX$3:$AY$102,2,FALSE)),\"\",VLOOKUP(P15,Totals!$AX$3:$AY$102,2,FALSE))","v":8},1,{"$nulls":5},{"$f":"IF(ISNA(VLOOKUP(W15,Totals!$AX$3:$AY$102,2,FALSE)),\"\",VLOOKUP(W15,Totals!$AX$3:$AY$102,2,FALSE))","v":8},1]
[{"$nulls":7},{"$f":"IF(ISNA(VLOOKUP(I16,Totals!$AX$3:$AY$102,2,FALSE)),\"\",VLOOKUP(I16,Totals!$AX$3:$AY$102,2,FALSE))","v":8},1,{"$nulls":5},{"$f":"IF(ISNA(VLOOKUP(P16,Totals!$AX$3:$AY$102,2,FALSE)),\"\",VLOOKUP(P16,Totals!$AX$3:$AY$102,2,FALSE))","v":8},1,{"$nulls":5},{"$f":"IF(ISNA(VLOOKUP(W16,Totals!$AX$3:$AY$102,2,FALSE)),\"\",VLOOKUP(W16,Totals!$AX$3:$AY$102,2,FALSE))","v":8},1]
[{"$nulls":7},{"$f":"IF(ISNA(VLOOKUP(I17,Totals!$AX$3:$AY$102,2,FALSE)),\"\",VLOOKUP(I17,Totals!$AX$3:$AY$102,2,FALSE))","v":8},1,{"$nulls":5},{"$f":"IF(ISNA(VLOOKUP(P17,Totals!$AX$3:$AY$102,2,FALSE)),\"\",VLOOKUP(P17,Totals!$AX$3:$AY$102,2,FALSE))","v":8},1,{"$nulls":5},{"$f":"IF(ISNA(VLOOKUP(W17,Totals!$AX$3:$AY$102,2,FALSE)),\"\",VLOOKUP(W17,Totals!$AX$3:$AY$102,2,FALSE))","v":8},1]
[{"$nulls":7},{"$f":"IF(ISNA(VLOOKUP(I18,Totals!$AX$3:$AY$102,2,FALSE)),\"\",VLOOKUP(I18,Totals!$AX$3:$AY$102,2,FALSE))","v":8},1,{"$nulls":5},{"$f":"IF(ISNA(VLOOKUP(P18,Totals!$AX$3:$AY$102,2,FALSE)),\"\",VLOOKUP(P18,Totals!$AX$3:$AY$102,2,FALSE))","v":8},1,{"$nulls":5},{"$f":"IF(ISNA(VLOOKUP(W18,Totals!$AX$3:$AY$102,2,FALSE)),\"\",VLOOKUP(W18,Totals!$AX$3:$AY$102,2,FALSE))","v":8},1]
[{"$nulls":7},{"$f":"IF(ISNA(VLOOKUP(I19,Totals!$AX$3:$AY$102,2,FALSE)),\"\",VLOOKUP(I19,Totals!$AX$3:$AY$102,2,FALSE))","v":8},1,{"$nulls":5},{"$f":"IF(ISNA(VLOOKUP(P19,Totals!$AX$3:$AY$102,2,FALSE)),\"\",VLOOKUP(P19,Totals!$AX$3:$AY$102,2,FALSE))","v":8},1,{"$nulls":5},{"$f":"IF(ISNA(VLOOKUP(W19,Totals!$AX$3:$AY$102,2,FALSE)),\"\",VLOOKUP(W19,Totals!$AX$3:$AY$102,2,FALSE))","v":8},1]
[{"$nulls":7},{"$f":"IF(ISNA(VLOOKUP(I20,Totals!$AX$3:$AY$102,2,FALSE)),\"\",VLOOKUP(I20,Totals!$AX$3:$AY$102,2,FALSE))","v":8},1,{"$nulls":5},{"$f":"IF(ISNA(VLOOKUP(P20,Totals!$AX$3:$AY$102,2,FALSE)),\"\",VLOOKUP(P20,Totals!$AX$3:$AY$102,2,FALSE))","v":8},1,{"$nulls":5},{"$f":"IF(ISNA(VLOOKUP(W20,Totals!$AX$3:$AY$102,2,FALSE)),\"\",VLOOKUP(W20,Totals!$AX$3:$AY$102,2,FALSE))","v":8},1]
[{"$nulls":7},{"$f":"IF(ISNA(VLOOKUP(I21,Totals!$AX$3:$AY$102,2,FALSE)),\"\",VLOOKUP(I21,Totals!$AX$3:$AY$102,2,FALSE))","v":8},1,{"$nulls":5},{"$f":"IF(ISNA(VLOOKUP(P21,Totals!$AX$3:$AY$102,2,FALSE)),\"\",VLOOKUP(P21,Totals!$AX$3:$AY$102,2,FALSE))","v":8},1,{"$nulls":5},{"$f":"IF(ISNA(VLOOKUP(W21,Totals!$AX$3:$AY$102,2,FALSE)),\"\",VLOOKUP(W21,Totals!$AX$3:$AY$102,2,FALSE))","v":8},1]
[{"$nulls":7},{"$f":"IF(ISNA(VLOOKUP(I22,Totals!$AX$3:$AY$102,2,FALSE)),\"\",VLOOKUP(I22,Totals!$AX$3:$AY$102,2,FALSE))","v":8},1,{"$nulls":5},{"$f":"IF(ISNA(VLOOKUP(P22,Totals!$AX$3:$AY$102,2,FALSE)),\"\",VLOOKUP(P22,Totals!$AX$3:$AY$102,2,FALSE))","v":8},1,{"$nulls":5},{"$f":"IF(ISNA(VLOOKUP(W22,Totals!$AX$3:$AY$102,2,FALSE)),\"\",VLOOKUP(W22,Totals!$AX$3:$AY$102,2,FALSE))","v":8},1]
[{"$nulls":7},{"$f":"IF(ISNA(VLOOKUP(I23,Totals!$AX$3:$AY$102,2,FALSE)),\"\",VLOOKUP(I23,Totals!$AX$3:$AY$102,2,FALSE))","v":8},1,{"$nulls":5},{"$f":"IF(ISNA(VLOOKUP(P23,Totals!$AX$3:$AY$102,2,FALSE)),\"\",VLOOKUP(P23,Totals!$AX$3:$AY$102,2,FALSE))","v":8},1,{"$nulls":5},{"$f":"IF(ISNA(VLOOKUP(W23,Totals!$AX$3:$AY$102,2,FALSE)),\"\",VLOOKUP(W23,Totals!$AX$3:$AY$102,2,FALSE))","v":8},1]
[{"$nulls":7},{"$f":"IF(ISNA(VLOOKUP(I24,Totals!$AX$3:$AY$102,2,FALSE)),\"\",VLOOKUP(I24,Totals!$AX$3:$AY$102,2,FALSE))","v":8},1,{"$nulls":5},{"$f":"IF(ISNA(VLOOKUP(P24,Totals!$AX$3:$AY$102,2,FALSE)),\"\",VLOOKUP(P24,Totals!$AX$3:$AY$102,2,FALSE))","v":8},1,{"$nulls":5},{"$f":"IF(ISNA(VLOOKUP(W24,Totals!$AX$3:$AY$102,2,FALSE)),\"\",VLOOKUP(W24,Totals!$AX$3:$AY$102,2,FALSE))","v":8},1]
[{"$nulls":7},{"$f":"IF(ISNA(VLOOKUP(I25,Totals!$AX$3:$AY$102,2,FALSE)),\"\",VLOOKUP(I25,Totals!$AX$3:$AY$102,2,FALSE))","v":8},1,{"$nulls":5},{"$f":"IF(ISNA(VLOOKUP(P25,Totals!$AX$3:$AY$102,2,FALSE)),\"\",VLOOKUP(P25,Totals!$AX$3:$AY$102,2,FALSE))","v":8},1,{"$nulls":5},{"$f":"IF(ISNA(VLOOKUP(W25,Totals!$AX$3:$AY$102,2,FALSE)),\"\",VLOOKUP(W25,Totals!$AX$3:$AY$102,2,FALSE))","v":8},1]
[{"$nulls":7},{"$f":"IF(ISNA(VLOOKUP(I26,Totals!$AX$3:$AY$102,2,FALSE)),\"\",VLOOKUP(I26,Totals!$AX$3:$AY$102,2,FALSE))","v":8},1,{"$nulls":5},{"$f":"IF(ISNA(VLOOKUP(P26,Totals!$AX$3:$AY$102,2,FALSE)),\"\",VLOOKUP(P26,Totals!$AX$3:$AY$102,2,FALSE))","v":8},1,{"$nulls":5},{"$f":"IF(ISNA(VLOOKUP(W26,Totals!$AX$3:$AY$102,2,FALSE)),\"\",VLOOKUP(W26,Totals!$AX$3:$AY$102,2,FALSE))","v":8},1]
[{"$nulls":7},{"$f":"IF(ISNA(VLOOKUP(I27,Totals!$AX$3:$AY$102,2,FALSE)),\"\",VLOOKUP(I27,Totals!$AX$3:$AY$102,2,FALSE))","v":8},1,{"$nulls":5},{"$f":"IF(ISNA(VLOOKUP(P27,Totals!$AX$3:$AY$102,2,FALSE)),\"\",VLOOKUP(P27,Totals!$AX$3:$AY$102,2,FALSE))","v":8},1,{"$nulls":5},{"$f":"IF(ISNA(VLOOKUP(W27,Totals!$AX$3:$AY$102,2,FALSE)),\"\",VLOOKUP(W27,Totals!$AX$3:$AY$102,2,FALSE))","v":8},1]
[{"$nulls":7},{"$f":"IF(ISNA(VLOOKUP(I28,Totals!$AX$3:$AY$102,2,FALSE)),\"\",VLOOKUP(I28,Totals!$AX$3:$AY$102,2,FALSE))","v":8},1,{"$nulls":5},{"$f":"IF(ISNA(VLOOKUP(P28,Totals!$AX$3:$AY$102,2,FALSE)),\"\",VLOOKUP(P28,Totals!$AX$3:$AY$102,2,FALSE))","v":8},1,{"$nulls":5},{"$f":"IF(ISNA(VLOOKUP(W28,Totals!$AX$3:$AY$102,2,FALSE)),\"\",VLOOKUP(W28,Totals!$AX$3:$AY$102,2,FALSE))","v":8},1]
[{"$nulls":7},{"$f":"IF(ISNA(VLOOKUP(I29,Totals!$AX$3:$AY$102,2,FALSE)),\"\",VLOOKUP(I29,Totals!$AX$3:$AY$102,2,FALSE))","v":8},1,{"$nulls":5},{"$f":"IF(ISNA(VLOOKUP(P29,Totals!$AX$3:$AY$102,2,FALSE)),\"\",VLOOKUP(P29,Totals!$AX$3:$AY$102,2,FALSE))","v":8},1,{"$nulls":5},{"$f":"IF(ISNA(VLOOKUP(W29,Totals!$AX$3:$AY$102,2,FALSE)),\"\",VLOOKUP(W29,Totals!$AX$3:$AY$102,2,FALSE))","v":8},1]
[{"$nulls":7},{"$f":"IF(ISNA(VLOOKUP(I30,Totals!$AX$3:$AY$102,2,FALSE)),\"\",VLOOKUP(I30,Totals!$AX$3:$AY$102,2,FALSE))","v":8},1,{"$nulls":5},{"$f":"IF(ISNA(VLOOKUP(P30,Totals!$AX$3:$AY$102,2,FALSE)),\"\",VLOOKUP(P30,Totals!$AX$3:$AY$102,2,FALSE))","v":8},1,{"$nulls":5},{"$f":"IF(ISNA(VLOOKUP(W30,Totals!$AX$3:$AY$102,2,FALSE)),\"\",VLOOKUP(W30,Totals!$AX$3:$AY$102,2,FALSE))","v":8},1]
[{"$nulls":7},{"$f":"IF(ISNA(VLOOKUP(I31,Totals!$AX$3:$AY$102,2,FALSE)),\"\",VLOOKUP(I31,Totals!$AX$3:$AY$102,2,FALSE))","v":8},1,{"$nulls":5},{"$f":"IF(ISNA(VLOOKUP(P31,Totals!$AX$3:$AY$102,2,FALSE)),\"\",VLOOKUP(P31,Totals!$AX$3:$AY$102,2,FALSE))","v":8},1,{"$nulls":5},{"$f":"IF(ISNA(VLOOKUP(W31,Totals!$AX$3:$AY$102,2,FALSE)),\"\",VLOOKUP(W31,Totals!$AX$3:$AY$102,2,FALSE))","v":8},1]
[{"$nulls":7},{"$f":"IF(ISNA(VLOOKUP(I32,Totals!$AX$3:$AY$102,2,FALSE)),\"\",VLOOKUP(I32,Totals!$AX$3:$AY$102,2,FALSE))","v":8},1,{"$nulls":5},{"$f":"IF(ISNA(VLOOKUP(P32,Totals!$AX$3:$AY$102,2,FALSE)),\"\",VLOOKUP(P32,Totals!$AX$3:$AY$102,2,FALSE))","v":8},1,{"$nulls":5},{"$f":"IF(ISNA(VLOOKUP(W32,Totals!$AX$3:$AY$102,2,FALSE)),\"\",VLOOKUP(W32,Totals!$AX$3:$AY$102,2,FALSE))","v":8},1]
[{"$nulls":7},{"$f":"IF(ISNA(VLOOKUP(I33,Totals!$AX$3:$AY$102,2,FALSE)),\"\",VLOOKUP(I33,Totals!$AX$3:$AY$102,2,FALSE))","v":8},1,{"$nulls":5},{"$f":"IF(ISNA(VLOOKUP(P33,Totals!$AX$3:$AY$102,2,FALSE)),\"\",VLOOKUP(P33,Totals!$AX$3:$AY$102,2,FALSE))","v":8},1,{"$nulls":5},{"$f":"IF(ISNA(VLOOKUP(W33,Totals!$AX$3:$AY$102,2,FALSE)),\"\",VLOOKUP(W33,Totals!$AX$3:$AY$102,2,FALSE))","v":8},1]
[{"$nulls":7},{"$f":"IF(ISNA(VLOOKUP(I34,Totals!$AX$3:$AY$102,2,FALSE)),\"\",VLOOKUP(I34,Totals!$AX$3:$AY$102,2,FALSE))","v":8},1,{"$nulls":5},{"$f":"IF(ISNA(VLOOKUP(P34,Totals!$AX$3:$AY$102,2,FALSE)),\"\",VLOOKUP(P34,Totals!$AX$3:$AY$102,2,FALSE))","v":8},1,{"$nulls":5},{"$f":"IF(ISNA(VLOOKUP(W34,Totals!$AX$3:$AY$102,2,FALSE)),\"\",VLOOKUP(W34,Totals!$AX$3:$AY$102,2,FALSE))","v":8},1]
[{"$nulls":7},{"$f":"IF(ISNA(VLOOKUP(I35,Totals!$AX$3:$AY$102,2,FALSE)),\"\",VLOOKUP(I35,Totals!$AX$3:$AY$102,2,FALSE))","v":8},1,{"$nulls":5},{"$f":"IF(ISNA(VLOOKUP(P35,Totals!$AX$3:$AY$102,2,FALSE)),\"\",VLOOKUP(P35,Totals!$AX$3:$AY$102,2,FALSE))","v":8},1,{"$nulls":5},{"$f":"IF(ISNA(VLOOKUP(W35,Totals!$AX$3:$AY$102,2,FALSE)),\"\",VLOOKUP(W35,Totals!$AX$3:$AY$102,2,FALSE))","v":8},1]
[{"$nulls":7},{"$f":"IF(ISNA(VLOOKUP(I36,Totals!$AX$3:$AY$102,2,FALSE)),\"\",VLOOKUP(I36,Totals!$AX$3:$AY$102,2,FALSE))","v":8},1,{"$nulls":5},{"$f":"IF(ISNA(VLOOKUP(P36,Totals!$AX$3:$AY$102,2,FALSE)),\"\",VLOOKUP(P36,Totals!$AX$3:$AY$102,2,FALSE))","v":8},1,{"$nulls":5},{"$f":"IF(ISNA(VLOOKUP(W36,Totals!$AX$3:$AY$102,2,FALSE)),\"\",VLOOKUP(W36,Totals!$AX$3:$AY$102,2,FALSE))","v":8},1]
[{"$nulls":7},{"$f":"IF(ISNA(VLOOKUP(I37,Totals!$AX$3:$AY$102,2,FALSE)),\"\",VLOOKUP(I37,Totals!$AX$3:$AY$102,2,FALSE))","v":8},1,{"$nulls":5},{"$f":"IF(ISNA(VLOOKUP(P37,Totals!$AX$3:$AY$102,2,FALSE)),\"\",VLOOKUP(P37,Totals!$AX$3:$AY$102,2,FALSE))","v":8},1,{"$nulls":5},{"$f":"IF(ISNA(VLOOKUP(W37,Totals!$AX$3:$AY$102,2,FALSE)),\"\",VLOOKUP(W37,Totals!$AX$3:$AY$102,2,FALSE))","v":8},1]
[{"$nulls":7},{"$f":"IF(ISNA(VLOOKUP(I38,Totals!$AX$3:$AY$102,2,FALSE)),\"\",VLOOKUP(I38,Totals!$AX$3:$AY$102,2,FALSE))","v":8},{"$f":"IF(G38=G37,I37,IF(ISNA(RANK(G38,G$5:G$150)),\"\",RANK(G38,G$5:G$150)))","v":1},{"$nulls":5},{"$f":"IF(ISNA(VLOOKUP(P38,Totals!$AX$3:$AY$102,2,FALSE)),\"\",VLOOKUP(P38,Totals!$AX$3:$AY$102,2,FALSE))","v":8},1,{"$nulls":5},{"$f":"IF(ISNA(VLOOKUP(W38,Totals!$AX$3:$AY$102,2,FALSE)),\"\",VLOOKUP(W38,Totals!$AX$3:$AY$102,2,FALSE))","v":8},1]
[{"$nulls":7},{"$f":"IF(ISNA(VLOOKUP(I39,Totals!$AX$3:$AY$102,2,FALSE)),\"\",VLOOKUP(I39,Totals!$AX$3:$AY$102,2,FALSE))","v":8},1,{"$nulls":5},{"$f":"IF(ISNA(VLOOKUP(P39,Totals!$AX$3:$AY$102,2,FALSE)),\"\",VLOOKUP(P39,Totals!$AX$3:$AY$102,2,FALSE))","v":8},1,{"$nulls":5},{"$f":"IF(ISNA(VLOOKUP(W39,Totals!$AX$3:$AY$102,2,FALSE)),\"\",VLOOKUP(W39,Totals!$AX$3:$AY$102,2,FALSE))","v":8},1]
[{"$nulls":7},{"$f":"IF(ISNA(VLOOKUP(I40,Totals!$AX$3:$AY$102,2,FALSE)),\"\",VLOOKUP(I40,Totals!$AX$3:$AY$102,2,FALSE))","v":8},1,{"$nulls":5},{"$f":"IF(ISNA(VLOOKUP(P40,Totals!$AX$3:$AY$102,2,FALSE)),\"\",VLOOKUP(P40,Totals!$AX$3:$AY$102,2,FALSE))","v":8},1,{"$nulls":5},{"$f":"IF(ISNA(VLOOKUP(W40,Totals!$AX$3:$AY$102,2,FALSE)),\"\",VLOOKUP(W40,Totals!$AX$3:$AY$102,2,FALSE))","v":8},1]
[{"$nulls":7},{"$f":"IF(ISNA(VLOOKUP(I41,Totals!$AX$3:$AY$102,2,FALSE)),\"\",VLOOKUP(I41,Totals!$AX$3:$AY$102,2,FALSE))","v":8},1,{"$nulls":5},{"$f":"IF(ISNA(VLOOKUP(P41,Totals!$AX$3:$AY$102,2,FALSE)),\"\",VLOOKUP(P41,Totals!$AX$3:$AY$102,2,FALSE))","v":8},1,{"$nulls":5},{"$f":"IF(ISNA(VLOOKUP(W41,Totals!$AX$3:$AY$102,2,FALSE)),\"\",VLOOKUP(W41,Totals!$AX$3:$AY$102,2,FALSE))","v":8},1]
[{"$nulls":7},{"$f":"IF(ISNA(VLOOKUP(I42,Totals!$AX$3:$AY$102,2,FALSE)),\"\",VLOOKUP(I42,Totals!$AX$3:$AY$102,2,FALSE))","v":8},1,{"$nulls":5},{"$f":"IF(ISNA(VLOOKUP(P42,Totals!$AX$3:$AY$102,2,FALSE)),\"\",VLOOKUP(P42,Totals!$AX$3:$AY$102,2,FALSE))","v":8},1,{"$nulls":5},{"$f":"IF(ISNA(VLOOKUP(W42,Totals!$AX$3:$AY$102,2,FALSE)),\"\",VLOOKUP(W42,Totals!$AX$3:$AY$102,2,FALSE))","v":8},1]
[{"$nulls":7},{"$f":"IF(ISNA(VLOOKUP(I43,Totals!$AX$3:$AY$102,2,FALSE)),\"\",VLOOKUP(I43,Totals!$AX$3:$AY$102,2,FALSE))","v":8},1,{"$nulls":5},{"$f":"IF(ISNA(VLOOKUP(P43,Totals!$AX$3:$AY$102,2,FALSE)),\"\",VLOOKUP(P43,Totals!$AX$3:$AY$102,2,FALSE))","v":8},1,{"$nulls":5},{"$f":"IF(ISNA(VLOOKUP(W43,Totals!$AX$3:$AY$102,2,FALSE)),\"\",VLOOKUP(W43,Totals!$AX$3:$AY$102,2,FALSE))","v":8},1]
[{"$nulls":7},{"$f":"IF(ISNA(VLOOKUP(I44,Totals!$AX$3:$AY$102,2,FALSE)),\"\",VLOOKUP(I44,Totals!$AX$3:$AY$102,2,FALSE))","v":8},1,{"$nulls":5},{"$f":"IF(ISNA(VLOOKUP(P44,Totals!$AX$3:$AY$102,2,FALSE)),\"\",VLOOKUP(P44,Totals!$AX$3:$AY$102,2,FALSE))","v":8},1,{"$nulls":5},{"$f":"IF(ISNA(VLOOKUP(W44,Totals!$AX$3:$AY$102,2,FALSE)),\"\",VLOOKUP(W44,Totals!$AX$3:$AY$102,2,FALSE))","v":8},1]
[{"$nulls":7},{"$f":"IF(ISNA(VLOOKUP(I45,Totals!$AX$3:$AY$102,2,FALSE)),\"\",VLOOKUP(I45,Totals!$AX$3:$AY$102,2,FALSE))","v":8},1,{"$nulls":5},{"$f":"IF(ISNA(VLOOKUP(P45,Totals!$AX$3:$AY$102,2,FALSE)),\"\",VLOOKUP(P45,Totals!$AX$3:$AY$102,2,FALSE))","v":8},1,{"$nulls":5},{"$f":"IF(ISNA(VLOOKUP(W45,Totals!$AX$3:$AY$102,2,FALSE)),\"\",VLOOKUP(W45,Totals!$AX$3:$AY$102,2,FALSE))","v":8},1]
[{"$nulls":7},{"$f":"IF(ISNA(VLOOKUP(I46,Totals!$AX$3:$AY$102,2,FALSE)),\"\",VLOOKUP(I46,Totals!$AX$3:$AY$102,2,FALSE))","v":8},1,{"$nulls":5},{"$f":"IF(ISNA(VLOOKUP(P46,Totals!$AX$3:$AY$102,2,FALSE)),\"\",VLOOKUP(P46,Totals!$AX$3:$AY$102,2,FALSE))","v":8},1,{"$nulls":5},{"$f":"IF(ISNA(VLOOKUP(W46,Totals!$AX$3:$AY$102,2,FALSE)),\"\",VLOOKUP(W46,Totals!$AX$3:$AY$102,2,FALSE))","v":8},1]
[{"$nulls":7},{"$f":"IF(ISNA(VLOOKUP(I47,Totals!$AX$3:$AY$102,2,FALSE)),\"\",VLOOKUP(I47,Totals!$AX$3:$AY$102,2,FALSE))","v":8},1,{"$nulls":5},{"$f":"IF(ISNA(VLOOKUP(P47,Totals!$AX$3:$AY$102,2,FALSE)),\"\",VLOOKUP(P47,Totals!$AX$3:$AY$102,2,FALSE))","v":8},1,{"$nulls":5},{"$f":"IF(ISNA(VLOOKUP(W47,Totals!$AX$3:$AY$102,2,FALSE)),\"\",VLOOKUP(W47,Totals!$AX$3:$AY$102,2,FALSE))","v":8},1]
[{"$nulls":7},{"$f":"IF(ISNA(VLOOKUP(I48,Totals!$AX$3:$AY$102,2,FALSE)),\"\",VLOOKUP(I48,Totals!$AX$3:$AY$102,2,FALSE))","v":8},1,{"$nulls":5},{"$f":"IF(ISNA(VLOOKUP(P48,Totals!$AX$3:$AY$102,2,FALSE)),\"\",VLOOKUP(P48,Totals!$AX$3:$AY$102,2,FALSE))","v":8},1,{"$nulls":5},{"$f":"IF(ISNA(VLOOKUP(W48,Totals!$AX$3:$AY$102,2,FALSE)),\"\",VLOOKUP(W48,Totals!$AX$3:$AY$102,2,FALSE))","v":8},1]
[{"$nulls":7},{"$f":"IF(ISNA(VLOOKUP(I49,Totals!$AX$3:$AY$102,2,FALSE)),\"\",VLOOKUP(I49,Totals!$AX$3:$AY$102,2,FALSE))","v":8},1,{"$nulls":5},{"$f":"IF(ISNA(VLOOKUP(P49,Totals!$AX$3:$AY$102,2,FALSE)),\"\",VLOOKUP(P49,Totals!$AX$3:$AY$102,2,FALSE))","v":8},1,{"$nulls":5},{"$f":"IF(ISNA(VLOOKUP(W49,Totals!$AX$3:$AY$102,2,FALSE)),\"\",VLOOKUP(W49,Totals!$AX$3:$AY$102,2,FALSE))","v":8},1]
[{"$nulls":7},{"$f":"IF(ISNA(VLOOKUP(I50,Totals!$AX$3:$AY$102,2,FALSE)),\"\",VLOOKUP(I50,Totals!$AX$3:$AY$102,2,FALSE))","v":8},1,{"$nulls":5},{"$f":"IF(ISNA(VLOOKUP(P50,Totals!$AX$3:$AY$102,2,FALSE)),\"\",VLOOKUP(P50,Totals!$AX$3:$AY$102,2,FALSE))","v":8},1,{"$nulls":5},{"$f":"IF(ISNA(VLOOKUP(W50,Totals!$AX$3:$AY$102,2,FALSE)),\"\",VLOOKUP(W50,Totals!$AX$3:$AY$102,2,FALSE))","v":8},1]
[{"$nulls":7},{"$f":"IF(ISNA(VLOOKUP(I51,Totals!$AX$3:$AY$102,2,FALSE)),\"\",VLOOKUP(I51,Totals!$AX$3:$AY$102,2,FALSE))","v":8},1,{"$nulls":5},{"$f":"IF(ISNA(VLOOKUP(P51,Totals!$AX$3:$AY$102,2,FALSE)),\"\",VLOOKUP(P51,Totals!$AX$3:$AY$102,2,FALSE))","v":8},1,{"$nulls":5},{"$f":"IF(ISNA(VLOOKUP(W51,Totals!$AX$3:$AY$102,2,FALSE)),\"\",VLOOKUP(W51,Totals!$AX$3:$AY$102,2,FALSE))","v":8},1]
[{"$nulls":7},{"$f":"IF(ISNA(VLOOKUP(I52,Totals!$AX$3:$AY$102,2,FALSE)),\"\",VLOOKUP(I52,Totals!$AX$3:$AY$102,2,FALSE))","v":8},1,{"$nulls":5},{"$f":"IF(ISNA(VLOOKUP(P52,Totals!$AX$3:$AY$102,2,FALSE)),\"\",VLOOKUP(P52,Totals!$AX$3:$AY$102,2,FALSE))","v":8},1,{"$nulls":5},{"$f":"IF(ISNA(VLOOKUP(W52,Totals!$AX$3:$AY$102,2,FALSE)),\"\",VLOOKUP(W52,Totals!$AX$3:$AY$102,2,FALSE))","v":8},1]
[{"$nulls":7},{"$f":"IF(ISNA(VLOOKUP(I53,Totals!$AX$3:$AY$102,2,FALSE)),\"\",VLOOKUP(I53,Totals!$AX$3:$AY$102,2,FALSE))","v":8},1,{"$nulls":5},{"$f":"IF(ISNA(VLOOKUP(P53,Totals!$AX$3:$AY$102,2,FALSE)),\"\",VLOOKUP(P53,Totals!$AX$3:$AY$102,2,FALSE))","v":8},1,{"$nulls":5},{"$f":"IF(ISNA(VLOOKUP(W53,Totals!$AX$3:$AY$102,2,FALSE)),\"\",VLOOKUP(W53,Totals!$AX$3:$AY$102,2,FALSE))","v":8},1]
[{"$nulls":7},{"$f":"IF(ISNA(VLOOKUP(I54,Totals!$AX$3:$AY$102,2,FALSE)),\"\",VLOOKUP(I54,Totals!$AX$3:$AY$102,2,FALSE))","v":8},1,{"$nulls":5},{"$f":"IF(ISNA(VLOOKUP(P54,Totals!$AX$3:$AY$102,2,FALSE)),\"\",VLOOKUP(P54,Totals!$AX$3:$AY$102,2,FALSE))","v":8},1,{"$nulls":5},{"$f":"IF(ISNA(VLOOKUP(W54,Totals!$AX$3:$AY$102,2,FALSE)),\"\",VLOOKUP(W54,Totals!$AX$3:$AY$102,2,FALSE))","v":8},1]
[{"$nulls":7},{"$f":"IF(ISNA(VLOOKUP(I55,Totals!$AX$3:$AY$102,2,FALSE)),\"\",VLOOKUP(I55,Totals!$AX$3:$AY$102,2,FALSE))","v":8},1,{"$nulls":5},{"$f":"IF(ISNA(VLOOKUP(P55,Totals!$AX$3:$AY$102,2,FALSE)),\"\",VLOOKUP(P55,Totals!$AX$3:$AY$102,2,FALSE))","v":8},1,{"$nulls":5},{"$f":"IF(ISNA(VLOOKUP(W55,Totals!$AX$3:$AY$102,2,FALSE)),\"\",VLOOKUP(W55,Totals!$AX$3:$AY$102,2,FALSE))","v":8},1]
[{"$nulls":7},{"$f":"IF(ISNA(VLOOKUP(I56,Totals!$AX$3:$AY$102,2,FALSE)),\"\",VLOOKUP(I56,Totals!$AX$3:$AY$102,2,FALSE))","v":8},1,{"$nulls":5},{"$f":"IF(ISNA(VLOOKUP(P56,Totals!$AX$3:$AY$102,2,FALSE)),\"\",VLOOKUP(P56,Totals!$AX$3:$AY$102,2,FALSE))","v":8},1,{"$nulls":5},{"$f":"IF(ISNA(VLOOKUP(W56,Totals!$AX$3:$AY$102,2,FALSE)),\"\",VLOOKUP(W56,Totals!$AX$3:$AY$102,2,FALSE))","v":8},1]
[{"$nulls":7},{"$f":"IF(ISNA(VLOOKUP(I57,Totals!$AX$3:$AY$102,2,FALSE)),\"\",VLOOKUP(I57,Totals!$AX$3:$AY$102,2,FALSE))","v":8},1,{"$nulls":5},{"$f":"IF(ISNA(VLOOKUP(P57,Totals!$AX$3:$AY$102,2,FALSE)),\"\",VLOOKUP(P57,Totals!$AX$3:$AY$102,2,FALSE))","v":8},1,{"$nulls":5},{"$f":"IF(ISNA(VLOOKUP(W57,Totals!$AX$3:$AY$102,2,FALSE)),\"\",VLOOKUP(W57,Totals!$AX$3:$AY$102,2,FALSE))","v":8},1]
[{"$nulls":7},{"$f":"IF(ISNA(VLOOKUP(I58,Totals!$AX$3:$AY$102,2,FALSE)),\"\",VLOOKUP(I58,Totals!$AX$3:$AY$102,2,FALSE))","v":8},1,{"$nulls":5},{"$f":"IF(ISNA(VLOOKUP(P58,Totals!$AX$3:$AY$102,2,FALSE)),\"\",VLOOKUP(P58,Totals!$AX$3:$AY$102,2,FALSE))","v":8},1,{"$nulls":5},{"$f":"IF(ISNA(VLOOKUP(W58,Totals!$AX$3:$AY$102,2,FALSE)),\"\",VLOOKUP(W58,Totals!$AX$3:$AY$102,2,FALSE))","v":8},1]
[{"$nulls":7},{"$f":"IF(ISNA(VLOOKUP(I59,Totals!$AX$3:$AY$102,2,FALSE)),\"\",VLOOKUP(I59,Totals!$AX$3:$AY$102,2,FALSE))","v":8},1,{"$nulls":5},{"$f":"IF(ISNA(VLOOKUP(P59,Totals!$AX$3:$AY$102,2,FALSE)),\"\",VLOOKUP(P59,Totals!$AX$3:$AY$102,2,FALSE))","v":8},1,{"$nulls":5},{"$f":"IF(ISNA(VLOOKUP(W59,Totals!$AX$3:$AY$102,2,FALSE)),\"\",VLOOKUP(W59,Totals!$AX$3:$AY$102,2,FALSE))","v":8},1]
[{"$nulls":7},{"$f":"IF(ISNA(VLOOKUP(I60,Totals!$AX$3:$AY$102,2,FALSE)),\"\",VLOOKUP(I60,Totals!$AX$3:$AY$102,2,FALSE))","v":8},1,{"$nulls":5},{"$f":"IF(ISNA(VLOOKUP(P60,Totals!$AX$3:$AY$102,2,FALSE)),\"\",VLOOKUP(P60,Totals!$AX$3:$AY$102,2,FALSE))","v":8},1,{"$nulls":5},{"$f":"IF(ISNA(VLOOKUP(W60,Totals!$AX$3:$AY$102,2,FALSE)),\"\",VLOOKUP(W60,Totals!$AX$3:$AY$102,2,FALSE))","v":8},1]
[{"$nulls":7},{"$f":"IF(ISNA(VLOOKUP(I61,Totals!$AX$3:$AY$102,2,FALSE)),\"\",VLOOKUP(I61,Totals!$AX$3:$AY$102,2,FALSE))","v":8},1,{"$nulls":5},{"$f":"IF(ISNA(VLOOKUP(P61,Totals!$AX$3:$AY$102,2,FALSE)),\"\",VLOOKUP(P61,Totals!$AX$3:$AY$102,2,FALSE))","v":8},1,{"$nulls":5},{"$f":"IF(ISNA(VLOOKUP(W61,Totals!$AX$3:$AY$102,2,FALSE)),\"\",VLOOKUP(W61,Totals!$AX$3:$AY$102,2,FALSE))","v":8},1]
[{"$nulls":7},{"$f":"IF(ISNA(VLOOKUP(I62,Totals!$AX$3:$AY$102,2,FALSE)),\"\",VLOOKUP(I62,Totals!$AX$3:$AY$102,2,FALSE))","v":8},1,{"$nulls":5},{"$f":"IF(ISNA(VLOOKUP(P62,Totals!$AX$3:$AY$102,2,FALSE)),\"\",VLOOKUP(P62,Totals!$AX$3:$AY$102,2,FALSE))","v":8},1,{"$nulls":5},{"$f":"IF(ISNA(VLOOKUP(W62,Totals!$AX$3:$AY$102,2,FALSE)),\"\",VLOOKUP(W62,Totals!$AX$3:$AY$102,2,FALSE))","v":8},1]
[{"$nulls":7},{"$f":"IF(ISNA(VLOOKUP(I63,Totals!$AX$3:$AY$102,2,FALSE)),\"\",VLOOKUP(I63,Totals!$AX$3:$AY$102,2,FALSE))","v":8},1,{"$nulls":5},{"$f":"IF(ISNA(VLOOKUP(P63,Totals!$AX$3:$AY$102,2,FALSE)),\"\",VLOOKUP(P63,Totals!$AX$3:$AY$102,2,FALSE))","v":8},1,{"$nulls":5},{"$f":"IF(ISNA(VLOOKUP(W63,Totals!$AX$3:$AY$102,2,FALSE)),\"\",VLOOKUP(W63,Totals!$AX$3:$AY$102,2,FALSE))","v":8},1]
[{"$nulls":7},{"$f":"IF(ISNA(VLOOKUP(I64,Totals!$AX$3:$AY$102,2,FALSE)),\"\",VLOOKUP(I64,Totals!$AX$3:$AY$102,2,FALSE))","v":8},1,{"$nulls":5},{"$f":"IF(ISNA(VLOOKUP(P64,Totals!$AX$3:$AY$102,2,FALSE)),\"\",VLOOKUP(P64,Totals!$AX$3:$AY$102,2,FALSE))","v":8},1,{"$nulls":5},{"$f":"IF(ISNA(VLOOKUP(W64,Totals!$AX$3:$AY$102,2,FALSE)),\"\",VLOOKUP(W64,Totals!$AX$3:$AY$102,2,FALSE))","v":8},1]
[{"$nulls":7},{"$f":"IF(ISNA(VLOOKUP(I65,Totals!$AX$3:$AY$102,2,FALSE)),\"\",VLOOKUP(I65,Totals!$AX$3:$AY$102,2,FALSE))","v":8},1,{"$nulls":5},{"$f":"IF(ISNA(VLOOKUP(P65,Totals!$AX$3:$AY$102,2,FALSE)),\"\",VLOOKUP(P65,Totals!$AX$3:$AY$102,2,FALSE))","v":8},1,{"$nulls":5},{"$f":"IF(ISNA(VLOOKUP(W65,Totals!$AX$3:$AY$102,2,FALSE)),\"\",VLOOKUP(W65,Totals!$AX$3:$AY$102,2,FALSE))","v":8},1]
[{"$nulls":7},{"$f":"IF(ISNA(VLOOKUP(I66,Totals!$AX$3:$AY$102,2,FALSE)),\"\",VLOOKUP(I66,Totals!$AX$3:$AY$102,2,FALSE))","v":8},1,{"$nulls":5},{"$f":"IF(ISNA(VLOOKUP(P66,Totals!$AX$3:$AY$102,2,FALSE)),\"\",VLOOKUP(P66,Totals!$AX$3:$AY$102,2,FALSE))","v":8},1,{"$nulls":5},{"$f":"IF(ISNA(VLOOKUP(W66,Totals!$AX$3:$AY$102,2,FALSE)),\"\",VLOOKUP(W66,Totals!$AX$3:$AY$102,2,FALSE))","v":8},1]
[{"$nulls":7},{"$f":"IF(ISNA(VLOOKUP(I67,Totals!$AX$3:$AY$102,2,FALSE)),\"\",VLOOKUP(I67,Totals!$AX$3:$AY$102,2,FALSE))","v":8},1,{"$nulls":5},{"$f":"IF(ISNA(VLOOKUP(P67,Totals!$AX$3:$AY$102,2,FALSE)),\"\",VLOOKUP(P67,Totals!$AX$3:$AY$102,2,FALSE))","v":8},1,{"$nulls":5},{"$f":"IF(ISNA(VLOOKUP(W67,Totals!$AX$3:$AY$102,2,FALSE)),\"\",VLOOKUP(W67,Totals!$AX$3:$AY$102,2,FALSE))","v":8},1]
[{"$nulls":7},{"$f":"IF(ISNA(VLOOKUP(I68,Totals!$AX$3:$AY$102,2,FALSE)),\"\",VLOOKUP(I68,Totals!$AX$3:$AY$102,2,FALSE))","v":8},1,{"$nulls":5},{"$f":"IF(ISNA(VLOOKUP(P68,Totals!$AX$3:$AY$102,2,FALSE)),\"\",VLOOKUP(P68,Totals!$AX$3:$AY$102,2,FALSE))","v":8},1,{"$nulls":5},{"$f":"IF(ISNA(VLOOKUP(W68,Totals!$AX$3:$AY$102,2,FALSE)),\"\",VLOOKUP(W68,Totals!$AX$3:$AY$102,2,FALSE))","v":8},1]
[{"$nulls":7},{"$f":"IF(ISNA(VLOOKUP(I69,Totals!$AX$3:$AY$102,2,FALSE)),\"\",VLOOKUP(I69,Totals!$AX$3:$AY$102,2,FALSE))","v":8},1,{"$nulls":5},{"$f":"IF(ISNA(VLOOKUP(P69,Totals!$AX$3:$AY$102,2,FALSE)),\"\",VLOOKUP(P69,Totals!$AX$3:$AY$102,2,FALSE))","v":8},1,{"$nulls":5},{"$f":"IF(ISNA(VLOOKUP(W69,Totals!$AX$3:$AY$102,2,FALSE)),\"\",VLOOKUP(W69,Totals!$AX$3:$AY$102,2,FALSE))","v":8},1]
[{"$nulls":7},{"$f":"IF(ISNA(VLOOKUP(I70,Totals!$AX$3:$AY$102,2,FALSE)),\"\",VLOOKUP(I70,Totals!$AX$3:$AY$102,2,FALSE))","v":8},1,{"$nulls":5},{"$f":"IF(ISNA(VLOOKUP(P70,Totals!$AX$3:$AY$102,2,FALSE)),\"\",VLOOKUP(P70,Totals!$AX$3:$AY$102,2,FALSE))","v":8},{"$f":"IF(ISNA(RANK(N70,N$5:N$150)),\"\",RANK(N70,N$5:N$150))","v":1},{"$nulls":5},{"$f":"IF(ISNA(VLOOKUP(W70,Totals!$AX$3:$AY$102,2,FALSE)),\"\",VLOOKUP(W70,Totals!$AX$3:$AY$102,2,FALSE))","v":8},{"$f":"IF(ISNA(RANK(U70,U$5:U$150)),\"\",RANK(U70,U$5:U$150))","v":1}]
[{"$nulls":7},{"$f":"IF(ISNA(VLOOKUP(I71,Totals!$AX$3:$AY$102,2,FALSE)),\"\",VLOOKUP(I71,Totals!$AX$3:$AY$102,2,FALSE))","v":8},{"$f":"IF(G71=G70,I70,IF(ISNA(RANK(G71,G$5:G$150)),\"\",RANK(G71,G$5:G$150)))","v":1},{"$nulls":5},{"$f":"IF(ISNA(VLOOKUP(P71,Totals!$AX$3:$AY$102,2,FALSE)),\"\",VLOOKUP(P71,Totals!$AX$3:$AY$102,2,FALSE))","v":8},1,{"$nulls":5},{"$f":"IF(ISNA(VLOOKUP(W71,Totals!$AX$3:$AY$102,2,FALSE)),\"\",VLOOKUP(W71,Totals!$AX$3:$AY$102,2,FALSE))","v":8},1]
[{"$nulls":7},{"$f":"IF(ISNA(VLOOKUP(I72,Totals!$AX$3:$AY$102,2,FALSE)),\"\",VLOOKUP(I72,Totals!$AX$3:$AY$102,2,FALSE))","v":8},1,{"$nulls":5},{"$f":"IF(ISNA(VLOOKUP(P72,Totals!$AX$3:$AY$102,2,FALSE)),\"\",VLOOKUP(P72,Totals!$AX$3:$AY$102,2,FALSE))","v":8},1,{"$nulls":5},{"$f":"IF(ISNA(VLOOKUP(W72,Totals!$AX$3:$AY$102,2,FALSE)),\"\",VLOOKUP(W72,Totals!$AX$3:$AY$102,2,FALSE))","v":8},1]
[{"$nulls":7},{"$f":"IF(ISNA(VLOOKUP(I73,Totals!$AX$3:$AY$102,2,FALSE)),\"\",VLOOKUP(I73,Totals!$AX$3:$AY$102,2,FALSE))","v":8},1,{"$nulls":5},{"$f":"IF(ISNA(VLOOKUP(P73,Totals!$AX$3:$AY$102,2,FALSE)),\"\",VLOOKUP(P73,Totals!$AX$3:$AY$102,2,FALSE))","v":8},1,{"$nulls":5},{"$f":"IF(ISNA(VLOOKUP(W73,Totals!$AX$3:$AY$102,2,FALSE)),\"\",VLOOKUP(W73,Totals!$AX$3:$AY$102,2,FALSE))","v":8},1]
[{"$nulls":7},{"$f":"IF(ISNA(VLOOKUP(I74,Totals!$AX$3:$AY$102,2,FALSE)),\"\",VLOOKUP(I74,Totals!$AX$3:$AY$102,2,FALSE))","v":8},1,{"$nulls":5},{"$f":"IF(ISNA(VLOOKUP(P74,Totals!$AX$3:$AY$102,2,FALSE)),\"\",VLOOKUP(P74,Totals!$AX$3:$AY$102,2,FALSE))","v":8},1,{"$nulls":5},{"$f":"IF(ISNA(VLOOKUP(W74,Totals!$AX$3:$AY$102,2,FALSE)),\"\",VLOOKUP(W74,Totals!$AX$3:$AY$102,2,FALSE))","v":8},1]
[{"$nulls":7},{"$f":"IF(ISNA(VLOOKUP(I75,Totals!$AX$3:$AY$102,2,FALSE)),\"\",VLOOKUP(I75,Totals!$AX$3:$AY$102,2,FALSE))","v":8},1,{"$nulls":5},{"$f":"IF(ISNA(VLOOKUP(P75,Totals!$AX$3:$AY$102,2,FALSE)),\"\",VLOOKUP(P75,Totals!$AX$3:$AY$102,2,FALSE))","v":8},1,{"$nulls":5},{"$f":"IF(ISNA(VLOOKUP(W75,Totals!$AX$3:$AY$102,2,FALSE)),\"\",VLOOKUP(W75,Totals!$AX$3:$AY$102,2,FALSE))","v":8},1]
[{"$nulls":7},{"$f":"IF(ISNA(VLOOKUP(I76,Totals!$AX$3:$AY$102,2,FALSE)),\"\",VLOOKUP(I76,Totals!$AX$3:$AY$102,2,FALSE))","v":8},1,{"$nulls":5},{"$f":"IF(ISNA(VLOOKUP(P76,Totals!$AX$3:$AY$102,2,FALSE)),\"\",VLOOKUP(P76,Totals!$AX$3:$AY$102,2,FALSE))","v":8},1,{"$nulls":5},{"$f":"IF(ISNA(VLOOKUP(W76,Totals!$AX$3:$AY$102,2,FALSE)),\"\",VLOOKUP(W76,Totals!$AX$3:$AY$102,2,FALSE))","v":8},1]
[{"$nulls":7},{"$f":"IF(ISNA(VLOOKUP(I77,Totals!$AX$3:$AY$102,2,FALSE)),\"\",VLOOKUP(I77,Totals!$AX$3:$AY$102,2,FALSE))","v":8},1,{"$nulls":5},{"$f":"IF(ISNA(VLOOKUP(P77,Totals!$AX$3:$AY$102,2,FALSE)),\"\",VLOOKUP(P77,Totals!$AX$3:$AY$102,2,FALSE))","v":8},1,{"$nulls":5},{"$f":"IF(ISNA(VLOOKUP(W77,Totals!$AX$3:$AY$102,2,FALSE)),\"\",VLOOKUP(W77,Totals!$AX$3:$AY$102,2,FALSE))","v":8},1]
[{"$nulls":7},{"$f":"IF(ISNA(VLOOKUP(I78,Totals!$AX$3:$AY$102,2,FALSE)),\"\",VLOOKUP(I78,Totals!$AX$3:$AY$102,2,FALSE))","v":8},1,{"$nulls":5},{"$f":"IF(ISNA(VLOOKUP(P78,Totals!$AX$3:$AY$102,2,FALSE)),\"\",VLOOKUP(P78,Totals!$AX$3:$AY$102,2,FALSE))","v":8},1,{"$nulls":5},{"$f":"IF(ISNA(VLOOKUP(W78,Totals!$AX$3:$AY$102,2,FALSE)),\"\",VLOOKUP(W78,Totals!$AX$3:$AY$102,2,FALSE))","v":8},1]
[{"$nulls":7},{"$f":"IF(ISNA(VLOOKUP(I79,Totals!$AX$3:$AY$102,2,FALSE)),\"\",VLOOKUP(I79,Totals!$AX$3:$AY$102,2,FALSE))","v":8},1,{"$nulls":5},{"$f":"IF(ISNA(VLOOKUP(P79,Totals!$AX$3:$AY$102,2,FALSE)),\"\",VLOOKUP(P79,Totals!$AX$3:$AY$102,2,FALSE))","v":8},1,{"$nulls":5},{"$f":"IF(ISNA(VLOOKUP(W79,Totals!$AX$3:$AY$102,2,FALSE)),\"\",VLOOKUP(W79,Totals!$AX$3:$AY$102,2,FALSE))","v":8},1]
[{"$nulls":7},{"$f":"IF(ISNA(VLOOKUP(I80,Totals!$AX$3:$AY$102,2,FALSE)),\"\",VLOOKUP(I80,Totals!$AX$3:$AY$102,2,FALSE))","v":8},1,{"$nulls":5},{"$f":"IF(ISNA(VLOOKUP(P80,Totals!$AX$3:$AY$102,2,FALSE)),\"\",VLOOKUP(P80,Totals!$AX$3:$AY$102,2,FALSE))","v":8},1,{"$nulls":5},{"$f":"IF(ISNA(VLOOKUP(W80,Totals!$AX$3:$AY$102,2,FALSE)),\"\",VLOOKUP(W80,Totals!$AX$3:$AY$102,2,FALSE))","v":8},1]
[{"$nulls":7},{"$f":"IF(ISNA(VLOOKUP(I81,Totals!$AX$3:$AY$102,2,FALSE)),\"\",VLOOKUP(I81,Totals!$AX$3:$AY$102,2,FALSE))","v":8},1,{"$nulls":5},{"$f":"IF(ISNA(VLOOKUP(P81,Totals!$AX$3:$AY$102,2,FALSE)),\"\",VLOOKUP(P81,Totals!$AX$3:$AY$102,2,FALSE))","v":8},1,{"$nulls":5},{"$f":"IF(ISNA(VLOOKUP(W81,Totals!$AX$3:$AY$102,2,FALSE)),\"\",VLOOKUP(W81,Totals!$AX$3:$AY$102,2,FALSE))","v":8},1]
[{"$nulls":7},{"$f":"IF(ISNA(VLOOKUP(I82,Totals!$AX$3:$AY$102,2,FALSE)),\"\",VLOOKUP(I82,Totals!$AX$3:$AY$102,2,FALSE))","v":8},1,{"$nulls":5},{"$f":"IF(ISNA(VLOOKUP(P82,Totals!$AX$3:$AY$102,2,FALSE)),\"\",VLOOKUP(P82,Totals!$AX$3:$AY$102,2,FALSE))","v":8},1,{"$nulls":5},{"$f":"IF(ISNA(VLOOKUP(W82,Totals!$AX$3:$AY$102,2,FALSE)),\"\",VLOOKUP(W82,Totals!$AX$3:$AY$102,2,FALSE))","v":8},1]
[{"$nulls":7},{"$f":"IF(ISNA(VLOOKUP(I83,Totals!$AX$3:$AY$102,2,FALSE)),\"\",VLOOKUP(I83,Totals!$AX$3:$AY$102,2,FALSE))","v":8},1,{"$nulls":5},{"$f":"IF(ISNA(VLOOKUP(P83,Totals!$AX$3:$AY$102,2,FALSE)),\"\",VLOOKUP(P83,Totals!$AX$3:$AY$102,2,FALSE))","v":8},1,{"$nulls":5},{"$f":"IF(ISNA(VLOOKUP(W83,Totals!$AX$3:$AY$102,2,FALSE)),\"\",VLOOKUP(W83,Totals!$AX$3:$AY$102,2,FALSE))","v":8},1]
[{"$nulls":7},{"$f":"IF(ISNA(VLOOKUP(I84,Totals!$AX$3:$AY$102,2,FALSE)),\"\",VLOOKUP(I84,Totals!$AX$3:$AY$102,2,FALSE))","v":8},1,{"$nulls":5},{"$f":"IF(ISNA(VLOOKUP(P84,Totals!$AX$3:$AY$102,2,FALSE)),\"\",VLOOKUP(P84,Totals!$AX$3:$AY$102,2,FALSE))","v":8},1,{"$nulls":5},{"$f":"IF(ISNA(VLOOKUP(W84,Totals!$AX$3:$AY$102,2,FALSE)),\"\",VLOOKUP(W84,Totals!$AX$3:$AY$102,2,FALSE))","v":8},1]
[{"$nulls":7},{"$f":"IF(ISNA(VLOOKUP(I85,Totals!$AX$3:$AY$102,2,FALSE)),\"\",VLOOKUP(I85,Totals!$AX$3:$AY$102,2,FALSE))","v":8},1,{"$nulls":5},{"$f":"IF(ISNA(VLOOKUP(P85,Totals!$AX$3:$AY$102,2,FALSE)),\"\",VLOOKUP(P85,Totals!$AX$3:$AY$102,2,FALSE))","v":8},1,{"$nulls":5},{"$f":"IF(ISNA(VLOOKUP(W85,Totals!$AX$3:$AY$102,2,FALSE)),\"\",VLOOKUP(W85,Totals!$AX$3:$AY$102,2,FALSE))","v":8},1]
[{"$nulls":7},{"$f":"IF(ISNA(VLOOKUP(I86,Totals!$AX$3:$AY$102,2,FALSE)),\"\",VLOOKUP(I86,Totals!$AX$3:$AY$102,2,FALSE))","v":8},1,{"$nulls":5},{"$f":"IF(ISNA(VLOOKUP(P86,Totals!$AX$3:$AY$102,2,FALSE)),\"\",VLOOKUP(P86,Totals!$AX$3:$AY$102,2,FALSE))","v":8},1,{"$nulls":5},{"$f":"IF(ISNA(VLOOKUP(W86,Totals!$AX$3:$AY$102,2,FALSE)),\"\",VLOOKUP(W86,Totals!$AX$3:$AY$102,2,FALSE))","v":8},1]
[{"$nulls":7},{"$f":"IF(ISNA(VLOOKUP(I87,Totals!$AX$3:$AY$102,2,FALSE)),\"\",VLOOKUP(I87,Totals!$AX$3:$AY$102,2,FALSE))","v":8},1,{"$nulls":5},{"$f":"IF(ISNA(VLOOKUP(P87,Totals!$AX$3:$AY$102,2,FALSE)),\"\",VLOOKUP(P87,Totals!$AX$3:$AY$102,2,FALSE))","v":8},1,{"$nulls":5},{"$f":"IF(ISNA(VLOOKUP(W87,Totals!$AX$3:$AY$102,2,FALSE)),\"\",VLOOKUP(W87,Totals!$AX$3:$AY$102,2,FALSE))","v":8},1]
[{"$nulls":7},{"$f":"IF(ISNA(VLOOKUP(I88,Totals!$AX$3:$AY$102,2,FALSE)),\"\",VLOOKUP(I88,Totals!$AX$3:$AY$102,2,FALSE))","v":8},1,{"$nulls":5},{"$f":"IF(ISNA(VLOOKUP(P88,Totals!$AX$3:$AY$102,2,FALSE)),\"\",VLOOKUP(P88,Totals!$AX$3:$AY$102,2,FALSE))","v":8},1,{"$nulls":5},{"$f":"IF(ISNA(VLOOKUP(W88,Totals!$AX$3:$AY$102,2,FALSE)),\"\",VLOOKUP(W88,Totals!$AX$3:$AY$102,2,FALSE))","v":8},1]
[{"$nulls":7},{"$f":"IF(ISNA(VLOOKUP(I89,Totals!$AX$3:$AY$102,2,FALSE)),\"\",VLOOKUP(I89,Totals!$AX$3:$AY$102,2,FALSE))","v":8},1,{"$nulls":5},{"$f":"IF(ISNA(VLOOKUP(P89,Totals!$AX$3:$AY$102,2,FALSE)),\"\",VLOOKUP(P89,Totals!$AX$3:$AY$102,2,FALSE))","v":8},1,{"$nulls":5},{"$f":"IF(ISNA(VLOOKUP(W89,Totals!$AX$3:$AY$102,2,FALSE)),\"\",VLOOKUP(W89,Totals!$AX$3:$AY$102,2,FALSE))","v":8},1]
[{"$nulls":7},{"$f":"IF(ISNA(VLOOKUP(I90,Totals!$AX$3:$AY$102,2,FALSE)),\"\",VLOOKUP(I90,Totals!$AX$3:$AY$102,2,FALSE))","v":8},1,{"$nulls":5},{"$f":"IF(ISNA(VLOOKUP(P90,Totals!$AX$3:$AY$102,2,FALSE)),\"\",VLOOKUP(P90,Totals!$AX$3:$AY$102,2,FALSE))","v":8},1,{"$nulls":5},{"$f":"IF(ISNA(VLOOKUP(W90,Totals!$AX$3:$AY$102,2,FALSE)),\"\",VLOOKUP(W90,Totals!$AX$3:$AY$102,2,FALSE))","v":8},1]
[{"$nulls":7},{"$f":"IF(ISNA(VLOOKUP(I91,Totals!$AX$3:$AY$102,2,FALSE)),\"\",VLOOKUP(I91,Totals!$AX$3:$AY$102,2,FALSE))","v":8},1,{"$nulls":5},{"$f":"IF(ISNA(VLOOKUP(P91,Totals!$AX$3:$AY$102,2,FALSE)),\"\",VLOOKUP(P91,Totals!$AX$3:$AY$102,2,FALSE))","v":8},1,{"$nulls":5},{"$f":"IF(ISNA(VLOOKUP(W91,Totals!$AX$3:$AY$102,2,FALSE)),\"\",VLOOKUP(W91,Totals!$AX$3:$AY$102,2,FALSE))","v":8},1]
[{"$nulls":7},{"$f":"IF(ISNA(VLOOKUP(I92,Totals!$AX$3:$AY$102,2,FALSE)),\"\",VLOOKUP(I92,Totals!$AX$3:$AY$102,2,FALSE))","v":8},1,{"$nulls":5},{"$f":"IF(ISNA(VLOOKUP(P92,Totals!$AX$3:$AY$102,2,FALSE)),\"\",VLOOKUP(P92,Totals!$AX$3:$AY$102,2,FALSE))","v":8},1,{"$nulls":5},{"$f":"IF(ISNA(VLOOKUP(W92,Totals!$AX$3:$AY$102,2,FALSE)),\"\",VLOOKUP(W92,Totals!$AX$3:$AY$102,2,FALSE))","v":8},1]
[{"$nulls":7},{"$f":"IF(ISNA(VLOOKUP(I93,Totals!$AX$3:$AY$102,2,FALSE)),\"\",VLOOKUP(I93,Totals!$AX$3:$AY$102,2,FALSE))","v":8},1,{"$nulls":5},{"$f":"IF(ISNA(VLOOKUP(P93,Totals!$AX$3:$AY$102,2,FALSE)),\"\",VLOOKUP(P93,Totals!$AX$3:$AY$102,2,FALSE))","v":8},1,{"$nulls":5},{"$f":"IF(ISNA(VLOOKUP(W93,Totals!$AX$3:$AY$102,2,FALSE)),\"\",VLOOKUP(W93,Totals!$AX$3:$AY$102,2,FALSE))","v":8},1]
[{"$nulls":7},{"$f":"IF(ISNA(VLOOKUP(I94,Totals!$AX$3:$AY$102,2,FALSE)),\"\",VLOOKUP(I94,Totals!$AX$3:$AY$102,2,FALSE))","v":8},1,{"$nulls":5},{"$f":"IF(ISNA(VLOOKUP(P94,Totals!$AX$3:$AY$102,2,FALSE)),\"\",VLOOKUP(P94,Totals!$AX$3:$AY$102,2,FALSE))","v":8},1,{"$nulls":5},{"$f":"IF(ISNA(VLOOKUP(W94,Totals!$AX$3:$AY$102,2,FALSE)),\"\",VLOOKUP(W94,Totals!$AX$3:$AY$102,2,FALSE))","v":8},1]
[{"$nulls":7},{"$f":"IF(ISNA(VLOOKUP(I95,Totals!$AX$3:$AY$102,2,FALSE)),\"\",VLOOKUP(I95,Totals!$AX$3:$AY$102,2,FALSE))","v":8},1,{"$nulls":5},{"$f":"IF(ISNA(VLOOKUP(P95,Totals!$AX$3:$AY$102,2,FALSE)),\"\",VLOOKUP(P95,Totals!$AX$3:$AY$102,2,FALSE))","v":8},1,{"$nulls":5},{"$f":"IF(ISNA(VLOOKUP(W95,Totals!$AX$3:$AY$102,2,FALSE)),\"\",VLOOKUP(W95,Totals!$AX$3:$AY$102,2,FALSE))","v":8},1]
[{"$nulls":7},{"$f":"IF(ISNA(VLOOKUP(I96,Totals!$AX$3:$AY$102,2,FALSE)),\"\",VLOOKUP(I96,Totals!$AX$3:$AY$102,2,FALSE))","v":8},1,{"$nulls":5},{"$f":"IF(ISNA(VLOOKUP(P96,Totals!$AX$3:$AY$102,2,FALSE)),\"\",VLOOKUP(P96,Totals!$AX$3:$AY$102,2,FALSE))","v":8},1,{"$nulls":5},{"$f":"IF(ISNA(VLOOKUP(W96,Totals!$AX$3:$AY$102,2,FALSE)),\"\",VLOOKUP(W96,Totals!$AX$3:$AY$102,2,FALSE))","v":8},1]
[{"$nulls":7},{"$f":"IF(ISNA(VLOOKUP(I97,Totals!$AX$3:$AY$102,2,FALSE)),\"\",VLOOKUP(I97,Totals!$AX$3:$AY$102,2,FALSE))","v":8},1,{"$nulls":5},{"$f":"IF(ISNA(VLOOKUP(P97,Totals!$AX$3:$AY$102,2,FALSE)),\"\",VLOOKUP(P97,Totals!$AX$3:$AY$102,2,FALSE))","v":8},1,{"$nulls":5},{"$f":"IF(ISNA(VLOOKUP(W97,Totals!$AX$3:$AY$102,2,FALSE)),\"\",VLOOKUP(W97,Totals!$AX$3:$AY$102,2,FALSE))","v":8},1]
[{"$nulls":7},{"$f":"IF(ISNA(VLOOKUP(I98,Totals!$AX$3:$AY$102,2,FALSE)),\"\",VLOOKUP(I98,Totals!$AX$3:$AY$102,2,FALSE))","v":8},1,{"$nulls":5},{"$f":"IF(ISNA(VLOOKUP(P98,Totals!$AX$3:$AY$102,2,FALSE)),\"\",VLOOKUP(P98,Totals!$AX$3:$AY$102,2,FALSE))","v":8},1,{"$nulls":5},{"$f":"IF(ISNA(VLOOKUP(W98,Totals!$AX$3:$AY$102,2,FALSE)),\"\",VLOOKUP(W98,Totals!$AX$3:$AY$102,2,FALSE))","v":8},1]
[{"$nulls":7},{"$f":"IF(ISNA(VLOOKUP(I99,Totals!$AX$3:$AY$102,2,FALSE)),\"\",VLOOKUP(I99,Totals!$AX$3:$AY$102,2,FALSE))","v":8},1,{"$nulls":5},{"$f":"IF(ISNA(VLOOKUP(P99,Totals!$AX$3:$AY$102,2,FALSE)),\"\",VLOOKUP(P99,Totals!$AX$3:$AY$102,2,FALSE))","v":8},1,{"$nulls":5},{"$f":"IF(ISNA(VLOOKUP(W99,Totals!$AX$3:$AY$102,2,FALSE)),\"\",VLOOKUP(W99,Totals!$AX$3:$AY$102,2,FALSE))","v":8},1]
[{"$nulls":7},{"$f":"IF(ISNA(VLOOKUP(I100,Totals!$AX$3:$AY$102,2,FALSE)),\"\",VLOOKUP(I100,Totals!$AX$3:$AY$102,2,FALSE))","v":8},1,{"$nulls":5},{"$f":"IF(ISNA(VLOOKUP(P100,Totals!$AX$3:$AY$102,2,FALSE)),\"\",VLOOKUP(P100,Totals!$AX$3:$AY$102,2,FALSE))","v":8},1,{"$nulls":5},{"$f":"IF(ISNA(VLOOKUP(W100,Totals!$AX$3:$AY$102,2,FALSE)),\"\",VLOOKUP(W100,Totals!$AX$3:$AY$102,2,FALSE))","v":8},1]
[{"$nulls":7},{"$f":"IF(ISNA(VLOOKUP(I101,Totals!$AX$3:$AY$102,2,FALSE)),\"\",VLOOKUP(I101,Totals!$AX$3:$AY$102,2,FALSE))","v":8},1,{"$nulls":5},{"$f":"IF(ISNA(VLOOKUP(P101,Totals!$AX$3:$AY$102,2,FALSE)),\"\",VLOOKUP(P101,Totals!$AX$3:$AY$102,2,FALSE))","v":8},1,{"$nulls":5},{"$f":"IF(ISNA(VLOOKUP(W101,Totals!$AX$3:$AY$102,2,FALSE)),\"\",VLOOKUP(W101,Totals!$AX$3:$AY$102,2,FALSE))","v":8},1]
[{"$nulls":7},{"$f":"IF(ISNA(VLOOKUP(I102,Totals!$AX$3:$AY$102,2,FALSE)),\"\",VLOOKUP(I102,Totals!$AX$3:$AY$102,2,FALSE))","v":8},1,{"$nulls":5},{"$f":"IF(ISNA(VLOOKUP(P102,Totals!$AX$3:$AY$102,2,FALSE)),\"\",VLOOKUP(P102,Totals!$AX$3:$AY$102,2,FALSE))","v":8},1,{"$nulls":5},{"$f":"IF(ISNA(VLOOKUP(W102,Totals!$AX$3:$AY$102,2,FALSE)),\"\",VLOOKUP(W102,Totals!$AX$3:$AY$102,2,FALSE))","v":8},1]
[{"$nulls":7},{"$f":"IF(ISNA(VLOOKUP(I103,Totals!$AX$3:$AY$102,2,FALSE)),\"\",VLOOKUP(I103,Totals!$AX$3:$AY$102,2,FALSE))","v":8},1,{"$nulls":5},{"$f":"IF(ISNA(VLOOKUP(P103,Totals!$AX$3:$AY$102,2,FALSE)),\"\",VLOOKUP(P103,Totals!$AX$3:$AY$102,2,FALSE))","v":8},1,{"$nulls":5},{"$f":"IF(ISNA(VLOOKUP(W103,Totals!$AX$3:$AY$102,2,FALSE)),\"\",VLOOKUP(W103,Totals!$AX$3:$AY$102,2,FALSE))","v":8},1]
[{"$nulls":7},{"$f":"IF(ISNA(VLOOKUP(I104,Totals!$AX$3:$AY$102,2,FALSE)),\"\",VLOOKUP(I104,Totals!$AX$3:$AY$102,2,FALSE))","v":8},1,{"$nulls":5},{"$f":"IF(ISNA(VLOOKUP(P104,Totals!$AX$3:$AY$102,2,FALSE)),\"\",VLOOKUP(P104,Totals!$AX$3:$AY$102,2,FALSE))","v":8},1,{"$nulls":5},{"$f":"IF(ISNA(VLOOKUP(W104,Totals!$AX$3:$AY$102,2,FALSE)),\"\",VLOOKUP(W104,Totals!$AX$3:$AY$102,2,FALSE))","v":8},1]
[{"$nulls":7},{"$f":"IF(ISNA(VLOOKUP(I105,Totals!$AX$3:$AY$102,2,FALSE)),\"\",VLOOKUP(I105,Totals!$AX$3:$AY$102,2,FALSE))","v":8},1,{"$nulls":5},{"$f":"IF(ISNA(VLOOKUP(P105,Totals!$AX$3:$AY$102,2,FALSE)),\"\",VLOOKUP(P105,Totals!$AX$3:$AY$102,2,FALSE))","v":8},1,{"$nulls":5},{"$f":"IF(ISNA(VLOOKUP(W105,Totals!$AX$3:$AY$102,2,FALSE)),\"\",VLOOKUP(W105,Totals!$AX$3:$AY$102,2,FALSE))","v":8},1]
[{"$nulls":7},{"$f":"IF(ISNA(VLOOKUP(I106,Totals!$AX$3:$AY$102,2,FALSE)),\"\",VLOOKUP(I106,Totals!$AX$3:$AY$102,2,FALSE))","v":8},1,{"$nulls":5},{"$f":"IF(ISNA(VLOOKUP(P106,Totals!$AX$3:$AY$102,2,FALSE)),\"\",VLOOKUP(P106,Totals!$AX$3:$AY$102,2,FALSE))","v":8},1,{"$nulls":5},{"$f":"IF(ISNA(VLOOKUP(W106,Totals!$AX$3:$AY$102,2,FALSE)),\"\",VLOOKUP(W106,Totals!$AX$3:$AY$102,2,FALSE))","v":8},1]
[{"$nulls":7},{"$f":"IF(ISNA(VLOOKUP(I107,Totals!$AX$3:$AY$102,2,FALSE)),\"\",VLOOKUP(I107,Totals!$AX$3:$AY$102,2,FALSE))","v":8},1,{"$nulls":5},{"$f":"IF(ISNA(VLOOKUP(P107,Totals!$AX$3:$AY$102,2,FALSE)),\"\",VLOOKUP(P107,Totals!$AX$3:$AY$102,2,FALSE))","v":8},1,{"$nulls":5},{"$f":"IF(ISNA(VLOOKUP(W107,Totals!$AX$3:$AY$102,2,FALSE)),\"\",VLOOKUP(W107,Totals!$AX$3:$AY$102,2,FALSE))","v":8},1]
[{"$nulls":7},{"$f":"IF(ISNA(VLOOKUP(I108,Totals!$AX$3:$AY$102,2,FALSE)),\"\",VLOOKUP(I108,Totals!$AX$3:$AY$102,2,FALSE))","v":8},1,{"$nulls":5},{"$f":"IF(ISNA(VLOOKUP(P108,Totals!$AX$3:$AY$102,2,FALSE)),\"\",VLOOKUP(P108,Totals!$AX$3:$AY$102,2,FALSE))","v":8},1,{"$nulls":5},{"$f":"IF(ISNA(VLOOKUP(W108,Totals!$AX$3:$AY$102,2,FALSE)),\"\",VLOOKUP(W108,Totals!$AX$3:$AY$102,2,FALSE))","v":8},1]
[{"$nulls":7},{"$f":"IF(ISNA(VLOOKUP(I109,Totals!$AX$3:$AY$102,2,FALSE)),\"\",VLOOKUP(I109,Totals!$AX$3:$AY$102,2,FALSE))","v":8},1,{"$nulls":5},{"$f":"IF(ISNA(VLOOKUP(P109,Totals!$AX$3:$AY$102,2,FALSE)),\"\",VLOOKUP(P109,Totals!$AX$3:$AY$102,2,FALSE))","v":8},1,{"$nulls":5},{"$f":"IF(ISNA(VLOOKUP(W109,Totals!$AX$3:$AY$102,2,FALSE)),\"\",VLOOKUP(W109,Totals!$AX$3:$AY$102,2,FALSE))","v":8},1]
[{"$nulls":7},{"$f":"IF(ISNA(VLOOKUP(I110,Totals!$AX$3:$AY$102,2,FALSE)),\"\",VLOOKUP(I110,Totals!$AX$3:$AY$102,2,FALSE))","v":8},1,{"$nulls":5},{"$f":"IF(ISNA(VLOOKUP(P110,Totals!$AX$3:$AY$102,2,FALSE)),\"\",VLOOKUP(P110,Totals!$AX$3:$AY$102,2,FALSE))","v":8},1,{"$nulls":5},{"$f":"IF(ISNA(VLOOKUP(W110,Totals!$AX$3:$AY$102,2,FALSE)),\"\",VLOOKUP(W110,Totals!$AX$3:$AY$102,2,FALSE))","v":8},1]
[{"$nulls":7},{"$f":"IF(ISNA(VLOOKUP(I111,Totals!$AX$3:$AY$102,2,FALSE)),\"\",VLOOKUP(I111,Totals!$AX$3:$AY$102,2,FALSE))","v":8},1,{"$nulls":5},{"$f":"IF(ISNA(VLOOKUP(P111,Totals!$AX$3:$AY$102,2,FALSE)),\"\",VLOOKUP(P111,Totals!$AX$3:$AY$102,2,FALSE))","v":8},1,{"$nulls":5},{"$f":"IF(ISNA(VLOOKUP(W111,Totals!$AX$3:$AY$102,2,FALSE)),\"\",VLOOKUP(W111,Totals!$AX$3:$AY$102,2,FALSE))","v":8},1]
[{"$nulls":7},{"$f":"IF(ISNA(VLOOKUP(I112,Totals!$AX$3:$AY$102,2,FALSE)),\"\",VLOOKUP(I112,Totals!$AX$3:$AY$102,2,FALSE))","v":8},1,{"$nulls":5},{"$f":"IF(ISNA(VLOOKUP(P112,Totals!$AX$3:$AY$102,2,FALSE)),\"\",VLOOKUP(P112,Totals!$AX$3:$AY$102,2,FALSE))","v":8},1,{"$nulls":5},{"$f":"IF(ISNA(VLOOKUP(W112,Totals!$AX$3:$AY$102,2,FALSE)),\"\",VLOOKUP(W112,Totals!$AX$3:$AY$102,2,FALSE))","v":8},1]
[{"$nulls":7},{"$f":"IF(ISNA(VLOOKUP(I113,Totals!$AX$3:$AY$102,2,FALSE)),\"\",VLOOKUP(I113,Totals!$AX$3:$AY$102,2,FALSE))","v":8},1,{"$nulls":5},{"$f":"IF(ISNA(VLOOKUP(P113,Totals!$AX$3:$AY$102,2,FALSE)),\"\",VLOOKUP(P113,Totals!$AX$3:$AY$102,2,FALSE))","v":8},1,{"$nulls":5},{"$f":"IF(ISNA(VLOOKUP(W113,Totals!$AX$3:$AY$102,2,FALSE)),\"\",VLOOKUP(W113,Totals!$AX$3:$AY$102,2,FALSE))","v":8},1]
[{"$nulls":7},{"$f":"IF(ISNA(VLOOKUP(I114,Totals!$AX$3:$AY$102,2,FALSE)),\"\",VLOOKUP(I114,Totals!$AX$3:$AY$102,2,FALSE))","v":8},1,{"$nulls":5},{"$f":"IF(ISNA(VLOOKUP(P114,Totals!$AX$3:$AY$102,2,FALSE)),\"\",VLOOKUP(P114,Totals!$AX$3:$AY$102,2,FALSE))","v":8},1,{"$nulls":5},{"$f":"IF(ISNA(VLOOKUP(W114,Totals!$AX$3:$AY$102,2,FALSE)),\"\",VLOOKUP(W114,Totals!$AX$3:$AY$102,2,FALSE))","v":8},1]
[{"$nulls":7},{"$f":"IF(ISNA(VLOOKUP(I115,Totals!$AX$3:$AY$102,2,FALSE)),\"\",VLOOKUP(I115,Totals!$AX$3:$AY$102,2,FALSE))","v":8},1,{"$nulls":5},{"$f":"IF(ISNA(VLOOKUP(P115,Totals!$AX$3:$AY$102,2,FALSE)),\"\",VLOOKUP(P115,Totals!$AX$3:$AY$102,2,FALSE))","v":8},1,{"$nulls":5},{"$f":"IF(ISNA(VLOOKUP(W115,Totals!$AX$3:$AY$102,2,FALSE)),\"\",VLOOKUP(W115,Totals!$AX$3:$AY$102,2,FALSE))","v":8},1]
[{"$nulls":7},{"$f":"IF(ISNA(VLOOKUP(I116,Totals!$AX$3:$AY$102,2,FALSE)),\"\",VLOOKUP(I116,Totals!$AX$3:$AY$102,2,FALSE))","v":8},1,{"$nulls":5},{"$f":"IF(ISNA(VLOOKUP(P116,Totals!$AX$3:$AY$102,2,FALSE)),\"\",VLOOKUP(P116,Totals!$AX$3:$AY$102,2,FALSE))","v":8},1,{"$nulls":5},{"$f":"IF(ISNA(VLOOKUP(W116,Totals!$AX$3:$AY$102,2,FALSE)),\"\",VLOOKUP(W116,Totals!$AX$3:$AY$102,2,FALSE))","v":8},1]
[{"$nulls":7},{"$f":"IF(ISNA(VLOOKUP(I117,Totals!$AX$3:$AY$102,2,FALSE)),\"\",VLOOKUP(I117,Totals!$AX$3:$AY$102,2,FALSE))","v":8},1,{"$nulls":5},{"$f":"IF(ISNA(VLOOKUP(P117,Totals!$AX$3:$AY$102,2,FALSE)),\"\",VLOOKUP(P117,Totals!$AX$3:$AY$102,2,FALSE))","v":8},1,{"$nulls":5},{"$f":"IF(ISNA(VLOOKUP(W117,Totals!$AX$3:$AY$102,2,FALSE)),\"\",VLOOKUP(W117,Totals!$AX$3:$AY$102,2,FALSE))","v":8},1]
[{"$nulls":7},{"$f":"IF(ISNA(VLOOKUP(I118,Totals!$AX$3:$AY$102,2,FALSE)),\"\",VLOOKUP(I118,Totals!$AX$3:$AY$102,2,FALSE))","v":8},1,{"$nulls":5},{"$f":"IF(ISNA(VLOOKUP(P118,Totals!$AX$3:$AY$102,2,FALSE)),\"\",VLOOKUP(P118,Totals!$AX$3:$AY$102,2,FALSE))","v":8},1,{"$nulls":5},{"$f":"IF(ISNA(VLOOKUP(W118,Totals!$AX$3:$AY$102,2,FALSE)),\"\",VLOOKUP(W118,Totals!$AX$3:$AY$102,2,FALSE))","v":8},1]
[{"$nulls":7},{"$f":"IF(ISNA(VLOOKUP(I119,Totals!$AX$3:$AY$102,2,FALSE)),\"\",VLOOKUP(I119,Totals!$AX$3:$AY$102,2,FALSE))","v":8},1,{"$nulls":5},{"$f":"IF(ISNA(VLOOKUP(P119,Totals!$AX$3:$AY$102,2,FALSE)),\"\",VLOOKUP(P119,Totals!$AX$3:$AY$102,2,FALSE))","v":8},1,{"$nulls":5},{"$f":"IF(ISNA(VLOOKUP(W119,Totals!$AX$3:$AY$102,2,FALSE)),\"\",VLOOKUP(W119,Totals!$AX$3:$AY$102,2,FALSE))","v":8},1]
[{"$nulls":7},{"$f":"IF(ISNA(VLOOKUP(I120,Totals!$AX$3:$AY$102,2,FALSE)),\"\",VLOOKUP(I120,Totals!$AX$3:$AY$102,2,FALSE))","v":8},1,{"$nulls":5},{"$f":"IF(ISNA(VLOOKUP(P120,Totals!$AX$3:$AY$102,2,FALSE)),\"\",VLOOKUP(P120,Totals!$AX$3:$AY$102,2,FALSE))","v":8},1,{"$nulls":5},{"$f":"IF(ISNA(VLOOKUP(W120,Totals!$AX$3:$AY$102,2,FALSE)),\"\",VLOOKUP(W120,Totals!$AX$3:$AY$102,2,FALSE))","v":8},1]
[{"$nulls":7},{"$f":"IF(ISNA(VLOOKUP(I121,Totals!$AX$3:$AY$102,2,FALSE)),\"\",VLOOKUP(I121,Totals!$AX$3:$AY$102,2,FALSE))","v":8},1,{"$nulls":5},{"$f":"IF(ISNA(VLOOKUP(P121,Totals!$AX$3:$AY$102,2,FALSE)),\"\",VLOOKUP(P121,Totals!$AX$3:$AY$102,2,FALSE))","v":8},1,{"$nulls":5},{"$f":"IF(ISNA(VLOOKUP(W121,Totals!$AX$3:$AY$102,2,FALSE)),\"\",VLOOKUP(W121,Totals!$AX$3:$AY$102,2,FALSE))","v":8},1]
[{"$nulls":7},{"$f":"IF(ISNA(VLOOKUP(I122,Totals!$AX$3:$AY$102,2,FALSE)),\"\",VLOOKUP(I122,Totals!$AX$3:$AY$102,2,FALSE))","v":8},1,{"$nulls":5},{"$f":"IF(ISNA(VLOOKUP(P122,Totals!$AX$3:$AY$102,2,FALSE)),\"\",VLOOKUP(P122,Totals!$AX$3:$AY$102,2,FALSE))","v":8},1,{"$nulls":5},{"$f":"IF(ISNA(VLOOKUP(W122,Totals!$AX$3:$AY$102,2,FALSE)),\"\",VLOOKUP(W122,Totals!$AX$3:$AY$102,2,FALSE))","v":8},1]
[{"$nulls":7},{"$f":"IF(ISNA(VLOOKUP(I123,Totals!$AX$3:$AY$102,2,FALSE)),\"\",VLOOKUP(I123,Totals!$AX$3:$AY$102,2,FALSE))","v":8},1,{"$nulls":5},{"$f":"IF(ISNA(VLOOKUP(P123,Totals!$AX$3:$AY$102,2,FALSE)),\"\",VLOOKUP(P123,Totals!$AX$3:$AY$102,2,FALSE))","v":8},1,{"$nulls":5},{"$f":"IF(ISNA(VLOOKUP(W123,Totals!$AX$3:$AY$102,2,FALSE)),\"\",VLOOKUP(W123,Totals!$AX$3:$AY$102,2,FALSE))","v":8},1]
[{"$nulls":7},{"$f":"IF(ISNA(VLOOKUP(I124,Totals!$AX$3:$AY$102,2,FALSE)),\"\",VLOOKUP(I124,Totals!$AX$3:$AY$102,2,FALSE))","v":8},1,{"$nulls":5},{"$f":"IF(ISNA(VLOOKUP(P124,Totals!$AX$3:$AY$102,2,FALSE)),\"\",VLOOKUP(P124,Totals!$AX$3:$AY$102,2,FALSE))","v":8},1,{"$nulls":5},{"$f":"IF(ISNA(VLOOKUP(W124,Totals!$AX$3:$AY$102,2,FALSE)),\"\",VLOOKUP(W124,Totals!$AX$3:$AY$102,2,FALSE))","v":8},1]
[{"$nulls":7},{"$f":"IF(ISNA(VLOOKUP(I125,Totals!$AX$3:$AY$102,2,FALSE)),\"\",VLOOKUP(I125,Totals!$AX$3:$AY$102,2,FALSE))","v":8},1,{"$nulls":5},{"$f":"IF(ISNA(VLOOKUP(P125,Totals!$AX$3:$AY$102,2,FALSE)),\"\",VLOOKUP(P125,Totals!$AX$3:$AY$102,2,FALSE))","v":8},1,{"$nulls":5},{"$f":"IF(ISNA(VLOOKUP(W125,Totals!$AX$3:$AY$102,2,FALSE)),\"\",VLOOKUP(W125,Totals!$AX$3:$AY$102,2,FALSE))","v":8},1]
[{"$nulls":7},{"$f":"IF(ISNA(VLOOKUP(I126,Totals!$AX$3:$AY$102,2,FALSE)),\"\",VLOOKUP(I126,Totals!$AX$3:$AY$102,2,FALSE))","v":8},1,{"$nulls":5},{"$f":"IF(ISNA(VLOOKUP(P126,Totals!$AX$3:$AY$102,2,FALSE)),\"\",VLOOKUP(P126,Totals!$AX$3:$AY$102,2,FALSE))","v":8},1,{"$nulls":5},{"$f":"IF(ISNA(VLOOKUP(W126,Totals!$AX$3:$AY$102,2,FALSE)),\"\",VLOOKUP(W126,Totals!$AX$3:$AY$102,2,FALSE))","v":8},1]
[{"$nulls":7},{"$f":"IF(ISNA(VLOOKUP(I127,Totals!$AX$3:$AY$102,2,FALSE)),\"\",VLOOKUP(I127,Totals!$AX$3:$AY$102,2,FALSE))","v":8},1,{"$nulls":5},{"$f":"IF(ISNA(VLOOKUP(P127,Totals!$AX$3:$AY$102,2,FALSE)),\"\",VLOOKUP(P127,Totals!$AX$3:$AY$102,2,FALSE))","v":8},1,{"$nulls":5},{"$f":"IF(ISNA(VLOOKUP(W127,Totals!$AX$3:$AY$102,2,FALSE)),\"\",VLOOKUP(W127,Totals!$AX$3:$AY$102,2,FALSE))","v":8},1]
[{"$nulls":7},{"$f":"IF(ISNA(VLOOKUP(I128,Totals!$AX$3:$AY$102,2,FALSE)),\"\",VLOOKUP(I128,Totals!$AX$3:$AY$102,2,FALSE))","v":8},1,{"$nulls":5},{"$f":"IF(ISNA(VLOOKUP(P128,Totals!$AX$3:$AY$102,2,FALSE)),\"\",VLOOKUP(P128,Totals!$AX$3:$AY$102,2,FALSE))","v":8},1,{"$nulls":5},{"$f":"IF(ISNA(VLOOKUP(W128,Totals!$AX$3:$AY$102,2,FALSE)),\"\",VLOOKUP(W128,Totals!$AX$3:$AY$102,2,FALSE))","v":8},1]
[{"$nulls":7},{"$f":"IF(ISNA(VLOOKUP(I129,Totals!$AX$3:$AY$102,2,FALSE)),\"\",VLOOKUP(I129,Totals!$AX$3:$AY$102,2,FALSE))","v":8},1,{"$nulls":5},{"$f":"IF(ISNA(VLOOKUP(P129,Totals!$AX$3:$AY$102,2,FALSE)),\"\",VLOOKUP(P129,Totals!$AX$3:$AY$102,2,FALSE))","v":8},1,{"$nulls":5},{"$f":"IF(ISNA(VLOOKUP(W129,Totals!$AX$3:$AY$102,2,FALSE)),\"\",VLOOKUP(W129,Totals!$AX$3:$AY$102,2,FALSE))","v":8},1]
[{"$nulls":7},{"$f":"IF(ISNA(VLOOKUP(I130,Totals!$AX$3:$AY$102,2,FALSE)),\"\",VLOOKUP(I130,Totals!$AX$3:$AY$102,2,FALSE))","v":8},1,{"$nulls":5},{"$f":"IF(ISNA(VLOOKUP(P130,Totals!$AX$3:$AY$102,2,FALSE)),\"\",VLOOKUP(P130,Totals!$AX$3:$AY$102,2,FALSE))","v":8},1,{"$nulls":5},{"$f":"IF(ISNA(VLOOKUP(W130,Totals!$AX$3:$AY$102,2,FALSE)),\"\",VLOOKUP(W130,Totals!$AX$3:$AY$102,2,FALSE))","v":8},1]
[{"$nulls":7},{"$f":"IF(ISNA(VLOOKUP(I131,Totals!$AX$3:$AY$102,2,FALSE)),\"\",VLOOKUP(I131,Totals!$AX$3:$AY$102,2,FALSE))","v":8},1,{"$nulls":5},{"$f":"IF(ISNA(VLOOKUP(P131,Totals!$AX$3:$AY$102,2,FALSE)),\"\",VLOOKUP(P131,Totals!$AX$3:$AY$102,2,FALSE))","v":8},1,{"$nulls":5},{"$f":"IF(ISNA(VLOOKUP(W131,Totals!$AX$3:$AY$102,2,FALSE)),\"\",VLOOKUP(W131,Totals!$AX$3:$AY$102,2,FALSE))","v":8},1]
[{"$nulls":7},{"$f":"IF(ISNA(VLOOKUP(I132,Totals!$AX$3:$AY$102,2,FALSE)),\"\",VLOOKUP(I132,Totals!$AX$3:$AY$102,2,FALSE))","v":8},1,{"$nulls":5},{"$f":"IF(ISNA(VLOOKUP(P132,Totals!$AX$3:$AY$102,2,FALSE)),\"\",VLOOKUP(P132,Totals!$AX$3:$AY$102,2,FALSE))","v":8},1,{"$nulls":5},{"$f":"IF(ISNA(VLOOKUP(W132,Totals!$AX$3:$AY$102,2,FALSE)),\"\",VLOOKUP(W132,Totals!$AX$3:$AY$102,2,FALSE))","v":8},1]
[{"$nulls":7},{"$f":"IF(ISNA(VLOOKUP(I133,Totals!$AX$3:$AY$102,2,FALSE)),\"\",VLOOKUP(I133,Totals!$AX$3:$AY$102,2,FALSE))","v":8},1,{"$nulls":5},{"$f":"IF(ISNA(VLOOKUP(P133,Totals!$AX$3:$AY$102,2,FALSE)),\"\",VLOOKUP(P133,Totals!$AX$3:$AY$102,2,FALSE))","v":8},1,{"$nulls":5},{"$f":"IF(ISNA(VLOOKUP(W133,Totals!$AX$3:$AY$102,2,FALSE)),\"\",VLOOKUP(W133,Totals!$AX$3:$AY$102,2,FALSE))","v":8},1]
[{"$nulls":7},{"$f":"IF(ISNA(VLOOKUP(I134,Totals!$AX$3:$AY$102,2,FALSE)),\"\",VLOOKUP(I134,Totals!$AX$3:$AY$102,2,FALSE))","v":8},1,{"$nulls":5},{"$f":"IF(ISNA(VLOOKUP(P134,Totals!$AX$3:$AY$102,2,FALSE)),\"\",VLOOKUP(P134,Totals!$AX$3:$AY$102,2,FALSE))","v":8},{"$f":"IF(ISNA(RANK(N134,N$5:N$150)),\"\",RANK(N134,N$5:N$150))","v":1},{"$nulls":5},{"$f":"IF(ISNA(VLOOKUP(W134,Totals!$AX$3:$AY$102,2,FALSE)),\"\",VLOOKUP(W134,Totals!$AX$3:$AY$102,2,FALSE))","v":8},{"$f":"IF(ISNA(RANK(U134,U$5:U$150)),\"\",RANK(U134,U$5:U$150))","v":1}]
[{"$nulls":7},{"$f":"IF(ISNA(VLOOKUP(I135,Totals!$AX$3:$AY$102,2,FALSE)),\"\",VLOOKUP(I135,Totals!$AX$3:$AY$102,2,FALSE))","v":8},{"$f":"IF(G135=G134,I134,IF(ISNA(RANK(G135,G$5:G$150)),\"\",RANK(G135,G$5:G$150)))","v":1},{"$nulls":5},{"$f":"IF(ISNA(VLOOKUP(P135,Totals!$AX$3:$AY$102,2,FALSE)),\"\",VLOOKUP(P135,Totals!$AX$3:$AY$102,2,FALSE))","v":8},1,{"$nulls":5},{"$f":"IF(ISNA(VLOOKUP(W135,Totals!$AX$3:$AY$102,2,FALSE)),\"\",VLOOKUP(W135,Totals!$AX$3:$AY$102,2,FALSE))","v":8},1]
[{"$nulls":7},{"$f":"IF(ISNA(VLOOKUP(I136,Totals!$AX$3:$AY$102,2,FALSE)),\"\",VLOOKUP(I136,Totals!$AX$3:$AY$102,2,FALSE))","v":8},1,{"$nulls":5},{"$f":"IF(ISNA(VLOOKUP(P136,Totals!$AX$3:$AY$102,2,FALSE)),\"\",VLOOKUP(P136,Totals!$AX$3:$AY$102,2,FALSE))","v":8},1,{"$nulls":5},{"$f":"IF(ISNA(VLOOKUP(W136,Totals!$AX$3:$AY$102,2,FALSE)),\"\",VLOOKUP(W136,Totals!$AX$3:$AY$102,2,FALSE))","v":8},1]
[{"$nulls":7},{"$f":"IF(ISNA(VLOOKUP(I137,Totals!$AX$3:$AY$102,2,FALSE)),\"\",VLOOKUP(I137,Totals!$AX$3:$AY$102,2,FALSE))","v":8},1,{"$nulls":5},{"$f":"IF(ISNA(VLOOKUP(P137,Totals!$AX$3:$AY$102,2,FALSE)),\"\",VLOOKUP(P137,Totals!$AX$3:$AY$102,2,FALSE))","v":8},1,{"$nulls":5},{"$f":"IF(ISNA(VLOOKUP(W137,Totals!$AX$3:$AY$102,2,FALSE)),\"\",VLOOKUP(W137,Totals!$AX$3:$AY$102,2,FALSE))","v":8},1]
[{"$nulls":7},{"$f":"IF(ISNA(VLOOKUP(I138,Totals!$AX$3:$AY$102,2,FALSE)),\"\",VLOOKUP(I138,Totals!$AX$3:$AY$102,2,FALSE))","v":8},1,{"$nulls":5},{"$f":"IF(ISNA(VLOOKUP(P138,Totals!$AX$3:$AY$102,2,FALSE)),\"\",VLOOKUP(P138,Totals!$AX$3:$AY$102,2,FALSE))","v":8},1,{"$nulls":5},{"$f":"IF(ISNA(VLOOKUP(W138,Totals!$AX$3:$AY$102,2,FALSE)),\"\",VLOOKUP(W138,Totals!$AX$3:$AY$102,2,FALSE))","v":8},1]
[{"$nulls":7},{"$f":"IF(ISNA(VLOOKUP(I139,Totals!$AX$3:$AY$102,2,FALSE)),\"\",VLOOKUP(I139,Totals!$AX$3:$AY$102,2,FALSE))","v":8},1,{"$nulls":5},{"$f":"IF(ISNA(VLOOKUP(P139,Totals!$AX$3:$AY$102,2,FALSE)),\"\",VLOOKUP(P139,Totals!$AX$3:$AY$102,2,FALSE))","v":8},1,{"$nulls":5},{"$f":"IF(ISNA(VLOOKUP(W139,Totals!$AX$3:$AY$102,2,FALSE)),\"\",VLOOKUP(W139,Totals!$AX$3:$AY$102,2,FALSE))","v":8},1]
[{"$nulls":7},{"$f":"IF(ISNA(VLOOKUP(I140,Totals!$AX$3:$AY$102,2,FALSE)),\"\",VLOOKUP(I140,Totals!$AX$3:$AY$102,2,FALSE))","v":8},1,{"$nulls":5},{"$f":"IF(ISNA(VLOOKUP(P140,Totals!$AX$3:$AY$102,2,FALSE)),\"\",VLOOKUP(P140,Totals!$AX$3:$AY$102,2,FALSE))","v":8},1,{"$nulls":5},{"$f":"IF(ISNA(VLOOKUP(W140,Totals!$AX$3:$AY$102,2,FALSE)),\"\",VLOOKUP(W140,Totals!$AX$3:$AY$102,2,FALSE))","v":8},1]
[{"$nulls":7},{"$f":"IF(ISNA(VLOOKUP(I141,Totals!$AX$3:$AY$102,2,FALSE)),\"\",VLOOKUP(I141,Totals!$AX$3:$AY$102,2,FALSE))","v":8},1,{"$nulls":5},{"$f":"IF(ISNA(VLOOKUP(P141,Totals!$AX$3:$AY$102,2,FALSE)),\"\",VLOOKUP(P141,Totals!$AX$3:$AY$102,2,FALSE))","v":8},1,{"$nulls":5},{"$f":"IF(ISNA(VLOOKUP(W141,Totals!$AX$3:$AY$102,2,FALSE)),\"\",VLOOKUP(W141,Totals!$AX$3:$AY$102,2,FALSE))","v":8},1]
[{"$nulls":7},{"$f":"IF(ISNA(VLOOKUP(I142,Totals!$AX$3:$AY$102,2,FALSE)),\"\",VLOOKUP(I142,Totals!$AX$3:$AY$102,2,FALSE))","v":8},1,{"$nulls":5},{"$f":"IF(ISNA(VLOOKUP(P142,Totals!$AX$3:$AY$102,2,FALSE)),\"\",VLOOKUP(P142,Totals!$AX$3:$AY$102,2,FALSE))","v":8},1,{"$nulls":5},{"$f":"IF(ISNA(VLOOKUP(W142,Totals!$AX$3:$AY$102,2,FALSE)),\"\",VLOOKUP(W142,Totals!$AX$3:$AY$102,2,FALSE))","v":8},1]
[{"$nulls":7},{"$f":"IF(ISNA(VLOOKUP(I143,Totals!$AX$3:$AY$102,2,FALSE)),\"\",VLOOKUP(I143,Totals!$AX$3:$AY$102,2,FALSE))","v":8},1,{"$nulls":5},{"$f":"IF(ISNA(VLOOKUP(P143,Totals!$AX$3:$AY$102,2,FALSE)),\"\",VLOOKUP(P143,Totals!$AX$3:$AY$102,2,FALSE))","v":8},1,{"$nulls":5},{"$f":"IF(ISNA(VLOOKUP(W143,Totals!$AX$3:$AY$102,2,FALSE)),\"\",VLOOKUP(W143,Totals!$AX$3:$AY$102,2,FALSE))","v":8},1]
[{"$nulls":7},{"$f":"IF(ISNA(VLOOKUP(I144,Totals!$AX$3:$AY$102,2,FALSE)),\"\",VLOOKUP(I144,Totals!$AX$3:$AY$102,2,FALSE))","v":8},1,{"$nulls":5},{"$f":"IF(ISNA(VLOOKUP(P144,Totals!$AX$3:$AY$102,2,FALSE)),\"\",VLOOKUP(P144,Totals!$AX$3:$AY$102,2,FALSE))","v":8},1,{"$nulls":5},{"$f":"IF(ISNA(VLOOKUP(W144,Totals!$AX$3:$AY$102,2,FALSE)),\"\",VLOOKUP(W144,Totals!$AX$3:$AY$102,2,FALSE))","v":8},1]
[{"$nulls":7},{"$f":"IF(ISNA(VLOOKUP(I145,Totals!$AX$3:$AY$102,2,FALSE)),\"\",VLOOKUP(I145,Totals!$AX$3:$AY$102,2,FALSE))","v":8},1,{"$nulls":5},{"$f":"IF(ISNA(VLOOKUP(P145,Totals!$AX$3:$AY$102,2,FALSE)),\"\",VLOOKUP(P145,Totals!$AX$3:$AY$102,2,FALSE))","v":8},1,{"$nulls":5},{"$f":"IF(ISNA(VLOOKUP(W145,Totals!$AX$3:$AY$102,2,FALSE)),\"\",VLOOKUP(W145,Totals!$AX$3:$AY$102,2,FALSE))","v":8},1]
[{"$nulls":7},{"$f":"IF(ISNA(VLOOKUP(I146,Totals!$AX$3:$AY$102,2,FALSE)),\"\",VLOOKUP(I146,Totals!$AX$3:$AY$102,2,FALSE))","v":8},1,{"$nulls":5},{"$f":"IF(ISNA(VLOOKUP(P146,Totals!$AX$3:$AY$102,2,FALSE)),\"\",VLOOKUP(P146,Totals!$AX$3:$AY$102,2,FALSE))","v":8},1,{"$nulls":5},{"$f":"IF(ISNA(VLOOKUP(W146,Totals!$AX$3:$AY$102,2,FALSE)),\"\",VLOOKUP(W146,Totals!$AX$3:$AY$102,2,FALSE))","v":8},1]
[{"$nulls":7},{"$f":"IF(ISNA(VLOOKUP(I147,Totals!$AX$3:$AY$102,2,FALSE)),\"\",VLOOKUP(I147,Totals!$AX$3:$AY$102,2,FALSE))","v":8},1,{"$nulls":5},{"$f":"IF(ISNA(VLOOKUP(P147,Totals!$AX$3:$AY$102,2,FALSE)),\"\",VLOOKUP(P147,Totals!$AX$3:$AY$102,2,FALSE))","v":8},1,{"$nulls":5},{"$f":"IF(ISNA(VLOOKUP(W147,Totals!$AX$3:$AY$102,2,FALSE)),\"\",VLOOKUP(W147,Totals!$AX$3:$AY$102,2,FALSE))","v":8},1]
[{"$nulls":7},{"$f":"IF(ISNA(VLOOKUP(I148,Totals!$AX$3:$AY$102,2,FALSE)),\"\",VLOOKUP(I148,Totals!$AX$3:$AY$102,2,FALSE))","v":8},1,{"$nulls":5},{"$f":"IF(ISNA(VLOOKUP(P148,Totals!$AX$3:$AY$102,2,FALSE)),\"\",VLOOKUP(P148,Totals!$AX$3:$AY$102,2,FALSE))","v":8},1,{"$nulls":5},{"$f":"IF(ISNA(VLOOKUP(W148,Totals!$AX$3:$AY$102,2,FALSE)),\"\",VLOOKUP(W148,Totals!$AX$3:$AY$102,2,FALSE))","v":8},1]
[{"$nulls":7},{"$f":"IF(ISNA(VLOOKUP(I149,Totals!$AX$3:$AY$102,2,FALSE)),\"\",VLOOKUP(I149,Totals!$AX$3:$AY$102,2,FALSE))","v":8},1,{"$nulls":5},{"$f":"IF(ISNA(VLOOKUP(P149,Totals!$AX$3:$AY$102,2,FALSE)),\"\",VLOOKUP(P149,Totals!$AX$3:$AY$102,2,FALSE))","v":8},1,{"$nulls":5},{"$f":"IF(ISNA(VLOOKUP(W149,Totals!$AX$3:$AY$102,2,FALSE)),\"\",VLOOKUP(W149,Totals!$AX$3:$AY$102,2,FALSE))","v":8},1]
[{"$nulls":7},{"$f":"IF(ISNA(VLOOKUP(I150,Totals!$AX$3:$AY$102,2,FALSE)),\"\",VLOOKUP(I150,Totals!$AX$3:$AY$102,2,FALSE))","v":8},1,{"$nulls":5},{"$f":"IF(ISNA(VLOOKUP(P150,Totals!$AX$3:$AY$102,2,FALSE)),\"\",VLOOKUP(P150,Totals!$AX$3:$AY$102,2,FALSE))","v":8},1,{"$nulls":5},{"$f":"IF(ISNA(VLOOKUP(W150,Totals!$AX$3:$AY$102,2,FALSE)),\"\",VLOOKUP(W150,Totals!$AX$3:$AY$102,2,FALSE))","v":8},1]