{"text_format":"1","workbook":"xlsx","n_sheets":10,"sheets":["Student Entry","Fig 1 Ballet Leg","Fig 2 Barracuda","Fig 3 Neptunus","Fig 4 Walkover","Totals","Draw","Schools","Official Draw","Meet Results"],"not_rendered":{"charts":0,"images":1,"macros":1,"external_links":0,"defined_names":4,"comments":0,"pivot_tables":3},"unopened":[],"bounds":{"document_bytes":16777216,"sheet_cells":100000,"rows_first":2000,"rows_last":500,"rows_between":2000,"halvings":0,"cell_chars":16384,"cell_head_chars":4096},"cells_cut":0,"cells_raw":0,"read":"whole","date_system":"1900"}

{"sheet":"Student Entry","index":0,"n_rows":22,"n_cols":3,"rows_kept":22,"cut":false,"hidden":false,"merged":[[0,0,0,2]]}
["Student Entry"]
["School # 1 Name:","School # 2 Name:","School # 3 Name:"]
["Forest Lake","Osseo-Maple Grove"]
["Student Names:","Student Names:","Student Names:"]
["Paige Anderson","Heather Breidenbach"]
["Emma Armitage","Carolin LaBord"]
["Ariel Ball","Katelyn Molin"]
["Lizzy Hentges","Katherine Olsen"]
["Heidi Hyrkas","Alexandra Trudeau"]
["Johanna Livermore","Anneke DeLooze"]
["Ashlyn Mackowick","Allison Hannann"]
["Zoe Scholl","Haley Heiss"]
["Jenna Stockinger","Katherine Hildebrandt"]
["Kelly Sullivan","Emily Honnold"]
["Maggie Thompson","Rachel Knox"]
["Indy Walstrom","Ellery Mason"]
["Lydia Zimmerman","Madison Peters"]
["Mckinley Leavitt","Margo Prentice"]
["Rachel Milbauer","Zoe Waldron"]
["Ellie Thiele"]
["Rylie Sampson"]
["Alva Westher"]

{"sheet":"Fig 1 Ballet Leg","index":1,"n_rows":150,"n_cols":9,"rows_kept":150,"cut":false,"hidden":false,"merged":[]}
[null,"Figure #1:","101 R/L Ballet Leg, single, *right or *left"]
["#","Degree of Difficulty","Judge 1","Judge 2","Judge 3","Judge 4","Judge 5","Score","Penalty"]
[{"$f":"IF(Draw!E2=0,\"\",Draw!E2)","v":1},1.6,47,51,51,54,51,{"$f":"IF(A3=\"\",\"\",(IF(F3>0,(SUM(C3:G3)-MAX(C3:G3)-MIN(C3:G3))/3,SUM(C3:E3)/3))*B3/7.6)","v":10.736842105263159}]
[{"$f":"IF(Draw!E3=0,\"\",Draw!E3)","v":2},{"$f":"IF(A4=\"\",\"\",B$3)","v":1.6},50,53,53,54,53,{"$f":"IF(A4=\"\",\"\",(IF(F4>0,(SUM(C4:G4)-MAX(C4:G4)-MIN(C4:G4))/3,SUM(C4:E4)/3))*B4/7.6)","v":11.157894736842108}]
[{"$f":"IF(Draw!E4=0,\"\",Draw!E4)","v":3},1.6,49,46,48,49,49,10.245614035087721]
[{"$f":"IF(Draw!E5=0,\"\",Draw!E5)","v":4},{"$f":"IF(A6=\"\",\"\",B$3)","v":1.6},"x","x","x","x","x",0]
[{"$f":"IF(Draw!E6=0,\"\",Draw!E6)","v":5},1.6,52,50,50,51,52,{"$f":"IF(A7=\"\",\"\",(IF(F7>0,(SUM(C7:G7)-MAX(C7:G7)-MIN(C7:G7))/3,SUM(C7:E7)/3))*B7/7.6)","v":10.736842105263159}]
[{"$f":"IF(Draw!E7=0,\"\",Draw!E7)","v":6},1.6,45,47,45,47,46,9.6842105263157912]
[{"$f":"IF(Draw!E8=0,\"\",Draw!E8)","v":7},1.6,57,51,53,53,50,11.017543859649125]
[{"$f":"IF(Draw!E9=0,\"\",Draw!E9)","v":8},1.6,45,48,47,49,45,9.8245614035087723]
[{"$f":"IF(Draw!E10=0,\"\",Draw!E10)","v":9},1.6,50,47,48,50,51,10.385964912280702]
[{"$f":"IF(Draw!E11=0,\"\",Draw!E11)","v":10},1.6,51,53,54,53,53,11.157894736842108]
[{"$f":"IF(Draw!E12=0,\"\",Draw!E12)","v":11},1.6,49,45,45,46,46,9.6140350877192979]
[{"$f":"IF(Draw!E13=0,\"\",Draw!E13)","v":12},1.6,54,50,54,52,51,11.017543859649125]
[{"$f":"IF(Draw!E14=0,\"\",Draw!E14)","v":13},1.6,48,49,44,45,45,9.6842105263157912]
[{"$f":"IF(Draw!E15=0,\"\",Draw!E15)","v":14},1.6,5,44,46,47,48,9.6140350877192979]
[{"$f":"IF(Draw!E16=0,\"\",Draw!E16)","v":15},1.6,56,56,56,55,57,11.789473684210527]
[{"$f":"IF(Draw!E17=0,\"\",Draw!E17)","v":16},1.6,45,46,43,45,45,9.4736842105263168]
[{"$f":"IF(Draw!E18=0,\"\",Draw!E18)","v":17},1.6,50,54,50,50,53,10.736842105263159]
[{"$f":"IF(Draw!E19=0,\"\",Draw!E19)","v":18},1.6,"x","x","x","x","x",0]
[{"$f":"IF(Draw!E20=0,\"\",Draw!E20)","v":19},1.6,51,53,51,51,51,10.736842105263159]
[{"$f":"IF(Draw!E21=0,\"\",Draw!E21)","v":20},1.6,47,49,48,48,47,10.035087719298247]
[{"$f":"IF(Draw!E22=0,\"\",Draw!E22)","v":21},1.6,48,46,45,46,45,9.6140350877192979]
[{"$f":"IF(Draw!E23=0,\"\",Draw!E23)","v":22},1.6,46,46,43,44,44,9.4035087719298254]
[{"$f":"IF(Draw!E24=0,\"\",Draw!E24)","v":23},1.6,51,51,50,50,54,10.666666666666666]
[{"$f":"IF(Draw!E25=0,\"\",Draw!E25)","v":24},1.6,51,53,54,53,52,11.087719298245615]
[{"$f":"IF(Draw!E26=0,\"\",Draw!E26)","v":25},1.6,49,47,48,46,50,10.105263157894738]
[{"$f":"IF(Draw!E27=0,\"\",Draw!E27)","v":26},1.6,50,49,51,49,49,10.385964912280702]
[{"$f":"IF(Draw!E28=0,\"\",Draw!E28)","v":27},1.6,43,44,46,45,45,9.4035087719298254]
[{"$f":"IF(Draw!E29=0,\"\",Draw!E29)","v":28},1.6,"x","x","x","x","x",0]
[{"$f":"IF(Draw!E30=0,\"\",Draw!E30)","v":29},1.6,46,43,44,47,48,9.6140350877192979]
[{"$f":"IF(Draw!E31=0,\"\",Draw!E31)","v":30},1.6,50,52,45,49,47,10.245614035087721]
[{"$f":"IF(Draw!E32=0,\"\",Draw!E32)","v":31},1.6,51,49,44,50,48,10.315789473684212]
[{"$f":"IF(Draw!E33=0,\"\",Draw!E33)","v":32},1.6,43,40,40,42,43,8.7719298245614041]
[{"$f":"IF(Draw!E34=0,\"\",Draw!E34)","v":33},1.6,"x","x","x","x","x",0]
[{"$f":"IF(Draw!E35=0,\"\",Draw!E35)","v":""},"",null,null,null,null,null,""]
[{"$f":"IF(Draw!E36=0,\"\",Draw!E36)","v":""},"",null,null,null,null,null,""]
[{"$f":"IF(Draw!E37=0,\"\",Draw!E37)","v":""},"",null,null,null,null,null,""]
[{"$f":"IF(Draw!E38=0,\"\",Draw!E38)","v":""},"",null,null,null,null,null,""]
[{"$f":"IF(Draw!E39=0,\"\",Draw!E39)","v":""},"",null,null,null,null,null,""]
[{"$f":"IF(Draw!E40=0,\"\",Draw!E40)","v":""},"",null,null,null,null,null,""]
[{"$f":"IF(Draw!E41=0,\"\",Draw!E41)","v":""},"",null,null,null,null,null,""]
[{"$f":"IF(Draw!E42=0,\"\",Draw!E42)","v":""},"",null,null,null,null,null,""]
[{"$f":"IF(Draw!E43=0,\"\",Draw!E43)","v":""},"",null,null,null,null,null,""]
[{"$f":"IF(Draw!E44=0,\"\",Draw!E44)","v":""},"",null,null,null,null,null,""]
[{"$f":"IF(Draw!E45=0,\"\",Draw!E45)","v":""},"",null,null,null,null,null,""]
[{"$f":"IF(Draw!E46=0,\"\",Draw!E46)","v":""},"",null,null,null,null,null,""]
[{"$f":"IF(Draw!E47=0,\"\",Draw!E47)","v":""},"",null,null,null,null,null,""]
[{"$f":"IF(Draw!E48=0,\"\",Draw!E48)","v":""},"",null,null,null,null,null,""]
[{"$f":"IF(Draw!E49=0,\"\",Draw!E49)","v":""},"",null,null,null,null,null,""]
[{"$f":"IF(Draw!E50=0,\"\",Draw!E50)","v":""},"",null,null,null,null,null,""]
[{"$f":"IF(Draw!E51=0,\"\",Draw!E51)","v":""},"",null,null,null,null,null,""]
[{"$f":"IF(Draw!E52=0,\"\",Draw!E52)","v":""},"",null,null,null,null,null,""]
[{"$f":"IF(Draw!E53=0,\"\",Draw!E53)","v":""},"",null,null,null,null,null,""]
[{"$f":"IF(Draw!E54=0,\"\",Draw!E54)","v":""},"",null,null,null,null,null,""]
[{"$f":"IF(Draw!E55=0,\"\",Draw!E55)","v":""},"",null,null,null,null,null,""]
[{"$f":"IF(Draw!E56=0,\"\",Draw!E56)","v":""},"",null,null,null,null,null,""]
[{"$f":"IF(Draw!E57=0,\"\",Draw!E57)","v":""},"",null,null,null,null,null,""]
[{"$f":"IF(Draw!E58=0,\"\",Draw!E58)","v":""},"",null,null,null,null,null,""]
[{"$f":"IF(Draw!E59=0,\"\",Draw!E59)","v":""},"",null,null,null,null,null,""]
[{"$f":"IF(Draw!E60=0,\"\",Draw!E60)","v":""},"",null,null,null,null,null,""]
[{"$f":"IF(Draw!E61=0,\"\",Draw!E61)","v":""},"",null,null,null,null,null,""]
[{"$f":"IF(Draw!E62=0,\"\",Draw!E62)","v":""},"",null,null,null,null,null,""]
[{"$f":"IF(Draw!E63=0,\"\",Draw!E63)","v":""},"",null,null,null,null,null,""]
[{"$f":"IF(Draw!E64=0,\"\",Draw!E64)","v":""},"",null,null,null,null,null,""]
[{"$f":"IF(Draw!E65=0,\"\",Draw!E65)","v":""},"",null,null,null,null,null,""]
[{"$f":"IF(Draw!E66=0,\"\",Draw!E66)","v":""},"",null,null,null,null,null,""]
[{"$f":"IF(Draw!E67=0,\"\",Draw!E67)","v":""},"",null,null,null,null,null,""]
[{"$f":"IF(Draw!E68=0,\"\",Draw!E68)","v":""},"",null,null,null,null,null,""]
[{"$f":"IF(Draw!E69=0,\"\",Draw!E69)","v":""},{"$f":"IF(A70=\"\",\"\",B$3)","v":""},null,null,null,null,null,""]
[{"$f":"IF(Draw!E70=0,\"\",Draw!E70)","v":""},"",null,null,null,null,null,{"$f":"IF(A71=\"\",\"\",(IF(F71>0,(SUM(C71:G71)-MAX(C71:G71)-MIN(C71:G71))/3,SUM(C71:E71)/3))*B71/7.6)","v":""}]
[{"$f":"IF(Draw!E71=0,\"\",Draw!E71)","v":""},"",null,null,null,null,null,""]
[{"$f":"IF(Draw!E72=0,\"\",Draw!E72)","v":""},"",null,null,null,null,null,""]
[{"$f":"IF(Draw!E73=0,\"\",Draw!E73)","v":""},"",null,null,null,null,null,""]
[{"$f":"IF(Draw!E74=0,\"\",Draw!E74)","v":""},"",null,null,null,null,null,""]
[{"$f":"IF(Draw!E75=0,\"\",Draw!E75)","v":""},"",null,null,null,null,null,""]
[{"$f":"IF(Draw!E76=0,\"\",Draw!E76)","v":""},"",null,null,null,null,null,""]
[{"$f":"IF(Draw!E77=0,\"\",Draw!E77)","v":""},"",null,null,null,null,null,""]
[{"$f":"IF(Draw!E78=0,\"\",Draw!E78)","v":""},"",null,null,null,null,null,""]
[{"$f":"IF(Draw!E79=0,\"\",Draw!E79)","v":""},"",null,null,null,null,null,""]
[{"$f":"IF(Draw!E80=0,\"\",Draw!E80)","v":""},"",null,null,null,null,null,""]
[{"$f":"IF(Draw!E81=0,\"\",Draw!E81)","v":""},"",null,null,null,null,null,""]
[{"$f":"IF(Draw!E82=0,\"\",Draw!E82)","v":""},"",null,null,null,null,null,""]
[{"$f":"IF(Draw!E83=0,\"\",Draw!E83)","v":""},"",null,null,null,null,null,""]
[{"$f":"IF(Draw!E84=0,\"\",Draw!E84)","v":""},"",null,null,null,null,null,""]
[{"$f":"IF(Draw!E85=0,\"\",Draw!E85)","v":""},"",null,null,null,null,null,""]
[{"$f":"IF(Draw!E86=0,\"\",Draw!E86)","v":""},"",null,null,null,null,null,""]
[{"$f":"IF(Draw!E87=0,\"\",Draw!E87)","v":""},"",null,null,null,null,null,""]
[{"$f":"IF(Draw!E88=0,\"\",Draw!E88)","v":""},"",null,null,null,null,null,""]
[{"$f":"IF(Draw!E89=0,\"\",Draw!E89)","v":""},"",null,null,null,null,null,""]
[{"$f":"IF(Draw!E90=0,\"\",Draw!E90)","v":""},"",null,null,null,null,null,""]
[{"$f":"IF(Draw!E91=0,\"\",Draw!E91)","v":""},"",null,null,null,null,null,""]
[{"$f":"IF(Draw!E92=0,\"\",Draw!E92)","v":""},"",null,null,null,null,null,""]
[{"$f":"IF(Draw!E93=0,\"\",Draw!E93)","v":""},"",null,null,null,null,null,""]
[{"$f":"IF(Draw!E94=0,\"\",Draw!E94)","v":""},"",null,null,null,null,null,""]
[{"$f":"IF(Draw!E95=0,\"\",Draw!E95)","v":""},"",null,null,null,null,null,""]
[{"$f":"IF(Draw!E96=0,\"\",Draw!E96)","v":""},"",null,null,null,null,null,""]
[{"$f":"IF(Draw!E97=0,\"\",Draw!E97)","v":""},"",null,null,null,null,null,""]
[{"$f":"IF(Draw!E98=0,\"\",Draw!E98)","v":""},"",null,null,null,null,null,""]
[{"$f":"IF(Draw!E99=0,\"\",Draw!E99)","v":""},"",null,null,null,null,null,""]
[{"$f":"IF(Draw!E100=0,\"\",Draw!E100)","v":""},"",null,null,null,null,null,""]
[{"$f":"IF(Draw!E101=0,\"\",Draw!E101)","v":""},"",null,null,null,null,null,""]
[{"$f":"IF(Draw!E102=0,\"\",Draw!E102)","v":""},"",null,null,null,null,null,""]
[{"$f":"IF(Draw!E103=0,\"\",Draw!E103)","v":""},"",null,null,null,null,null,""]
[{"$f":"IF(Draw!E104=0,\"\",Draw!E104)","v":""},"",null,null,null,null,null,""]
[{"$f":"IF(Draw!E105=0,\"\",Draw!E105)","v":""},"",null,null,null,null,null,""]
[{"$f":"IF(Draw!E106=0,\"\",Draw!E106)","v":""},"",null,null,null,null,null,""]
[{"$f":"IF(Draw!E107=0,\"\",Draw!E107)","v":""},"",null,null,null,null,null,""]
[{"$f":"IF(Draw!E108=0,\"\",Draw!E108)","v":""},"",null,null,null,null,null,""]
[{"$f":"IF(Draw!E109=0,\"\",Draw!E109)","v":""},"",null,null,null,null,null,""]
[{"$f":"IF(Draw!E110=0,\"\",Draw!E110)","v":""},"",null,null,null,null,null,""]
[{"$f":"IF(Draw!E111=0,\"\",Draw!E111)","v":""},"",null,null,null,null,null,""]
[{"$f":"IF(Draw!E112=0,\"\",Draw!E112)","v":""},"",null,null,null,null,null,""]
[{"$f":"IF(Draw!E113=0,\"\",Draw!E113)","v":""},"",null,null,null,null,null,""]
[{"$f":"IF(Draw!E114=0,\"\",Draw!E114)","v":""},"",null,null,null,null,null,""]
[{"$f":"IF(Draw!E115=0,\"\",Draw!E115)","v":""},"",null,null,null,null,null,""]
[{"$f":"IF(Draw!E116=0,\"\",Draw!E116)","v":""},"",null,null,null,null,null,""]
[{"$f":"IF(Draw!E117=0,\"\",Draw!E117)","v":""},"",null,null,null,null,null,""]
[{"$f":"IF(Draw!E118=0,\"\",Draw!E118)","v":""},"",null,null,null,null,null,""]
[{"$f":"IF(Draw!E119=0,\"\",Draw!E119)","v":""},"",null,null,null,null,null,""]
[{"$f":"IF(Draw!E120=0,\"\",Draw!E120)","v":""},"",null,null,null,null,null,""]
[{"$f":"IF(Draw!E121=0,\"\",Draw!E121)","v":""},"",null,null,null,null,null,""]
[{"$f":"IF(Draw!E122=0,\"\",Draw!E122)","v":""},"",null,null,null,null,null,""]
[{"$f":"IF(Draw!E123=0,\"\",Draw!E123)","v":""},"",null,null,null,null,null,""]
[{"$f":"IF(Draw!E124=0,\"\",Draw!E124)","v":""},"",null,null,null,null,null,""]
[{"$f":"IF(Draw!E125=0,\"\",Draw!E125)","v":""},"",null,null,null,null,null,""]
[{"$f":"IF(Draw!E126=0,\"\",Draw!E126)","v":""},"",null,null,null,null,null,""]
[{"$f":"IF(Draw!E127=0,\"\",Draw!E127)","v":""},"",null,null,null,null,null,""]
[{"$f":"IF(Draw!E128=0,\"\",Draw!E128)","v":""},"",null,null,null,null,null,""]
[{"$f":"IF(Draw!E129=0,\"\",Draw!E129)","v":""},"",null,null,null,null,null,""]
[{"$f":"IF(Draw!E130=0,\"\",Draw!E130)","v":""},"",null,null,null,null,null,""]
[{"$f":"IF(Draw!E131=0,\"\",Draw!E131)","v":""},"",null,null,null,null,null,""]
[{"$f":"IF(Draw!E132=0,\"\",Draw!E132)","v":""},"",null,null,null,null,null,""]
[{"$f":"IF(Draw!E133=0,\"\",Draw!E133)","v":""},{"$f":"IF(A134=\"\",\"\",B$3)","v":""},null,null,null,null,null,""]
[{"$f":"IF(Draw!E134=0,\"\",Draw!E134)","v":""},"",null,null,null,null,null,{"$f":"IF(A135=\"\",\"\",(IF(F135>0,(SUM(C135:G135)-MAX(C135:G135)-MIN(C135:G135))/3,SUM(C135:E135)/3))*B135/7.6)","v":""}]
[{"$f":"IF(Draw!E135=0,\"\",Draw!E135)","v":""},"",null,null,null,null,null,""]
[{"$f":"IF(Draw!E136=0,\"\",Draw!E136)","v":""},"",null,null,null,null,null,""]
[{"$f":"IF(Draw!E137=0,\"\",Draw!E137)","v":""},"",null,null,null,null,null,""]
[{"$f":"IF(Draw!E138=0,\"\",Draw!E138)","v":""},"",null,null,null,null,null,""]
[{"$f":"IF(Draw!E139=0,\"\",Draw!E139)","v":""},"",null,null,null,null,null,""]
[{"$f":"IF(Draw!E140=0,\"\",Draw!E140)","v":""},"",null,null,null,null,null,""]
[{"$f":"IF(Draw!E141=0,\"\",Draw!E141)","v":""},"",null,null,null,null,null,""]
[{"$f":"IF(Draw!E142=0,\"\",Draw!E142)","v":""},"",null,null,null,null,null,""]
[{"$f":"IF(Draw!E143=0,\"\",Draw!E143)","v":""},"",null,null,null,null,null,""]
[{"$f":"IF(Draw!E144=0,\"\",Draw!E144)","v":""},"",null,null,null,null,null,""]
[{"$f":"IF(Draw!E145=0,\"\",Draw!E145)","v":""},"",null,null,null,null,null,""]
[{"$f":"IF(Draw!E146=0,\"\",Draw!E146)","v":""},"",null,null,null,null,null,""]
[{"$f":"IF(Draw!E147=0,\"\",Draw!E147)","v":""},"",null,null,null,null,null,""]
[{"$f":"IF(Draw!E148=0,\"\",Draw!E148)","v":""},"",null,null,null,null,null,""]
[{"$f":"IF(Draw!E149=0,\"\",Draw!E149)","v":""},"",null,null,null,null,null,""]

{"sheet":"Fig 2 Barracuda","index":2,"n_rows":150,"n_cols":9,"rows_kept":150,"cut":false,"hidden":false,"merged":[[0,2,0,6]]}
[null,"Figure #2:"," 301 Barracuda"]
["#","Degree of Difficulty","Judge 1","Judge 2","Judge 3","Judge 4","Judge 5","Score","Penalty"]
[{"$f":"IF(Draw!E2=0,\"\",Draw!E2)","v":1},2,54,55,53,54,51,{"$f":"(IF(F3>0,(SUM(C3:G3)-MAX(C3:G3)-MIN(C3:G3))/3,SUM(C3:E3)/3))*B3/7.6","v":14.12280701754386}]
[{"$f":"IF(Draw!E3=0,\"\",Draw!E3)","v":2},{"$f":"IF(A4=\"\",\"\",B$3)","v":2},43,41,41,41,41,{"$f":"IF(A4=\"\",\"\",(IF(F4>0,(SUM(C4:G4)-MAX(C4:G4)-MIN(C4:G4))/3,SUM(C4:E4)/3))*B4/7.6)","v":10.789473684210527}]
[{"$f":"IF(Draw!E4=0,\"\",Draw!E4)","v":3},2,47,39,44,44,48,{"$f":"IF(A5=\"\",\"\",(IF(F5>0,(SUM(C5:G5)-MAX(C5:G5)-MIN(C5:G5))/3,SUM(C5:E5)/3))*B5/7.6)","v":11.842105263157896}]
[{"$f":"IF(Draw!E5=0,\"\",Draw!E5)","v":4},{"$f":"IF(A6=\"\",\"\",B$3)","v":2},"x","x","x","x","x",{"$f":"IF(A6=\"\",\"\",(IF(F6>0,(SUM(C6:G6)-MAX(C6:G6)-MIN(C6:G6))/3,SUM(C6:E6)/3))*B6/7.6)","v":0}]
[{"$f":"IF(Draw!E6=0,\"\",Draw!E6)","v":5},2,52,49,48,46,47,12.631578947368421]
[{"$f":"IF(Draw!E7=0,\"\",Draw!E7)","v":6},2,45,41,42,39,48,11.228070175438596]
[{"$f":"IF(Draw!E8=0,\"\",Draw!E8)","v":7},2,49,53,46,48,50,12.894736842105264]
[{"$f":"IF(Draw!E9=0,\"\",Draw!E9)","v":8},2,44,38,38,39,39,10.175438596491228]
[{"$f":"IF(Draw!E10=0,\"\",Draw!E10)","v":9},2,46,47,43,45,47,12.105263157894738]
[{"$f":"IF(Draw!E11=0,\"\",Draw!E11)","v":10},2,55,55,57,57,54,14.649122807017545]
[{"$f":"IF(Draw!E12=0,\"\",Draw!E12)","v":11},2,50,50,50,54,45,13.157894736842106]
[{"$f":"IF(Draw!E13=0,\"\",Draw!E13)","v":12},2,47,52,49,48,46,12.631578947368421]
[{"$f":"IF(Draw!E14=0,\"\",Draw!E14)","v":13},2,34,36,37,34,30,9.1228070175438596]
[{"$f":"IF(Draw!E15=0,\"\",Draw!E15)","v":14},2,45,44,40,38,38,10.701754385964913]
[{"$f":"IF(Draw!E16=0,\"\",Draw!E16)","v":15},2,53,49,58,56,52,14.12280701754386]
[{"$f":"IF(Draw!E17=0,\"\",Draw!E17)","v":16},2,48,45,46,45,47,12.105263157894738]
[{"$f":"IF(Draw!E18=0,\"\",Draw!E18)","v":17},2,46,42,42,44,49,11.578947368421053]
[{"$f":"IF(Draw!E19=0,\"\",Draw!E19)","v":18},2,"x","x","x","x","x",0]
[{"$f":"IF(Draw!E20=0,\"\",Draw!E20)","v":19},2,45,42,44,44,38,11.403508771929825]
[{"$f":"IF(Draw!E21=0,\"\",Draw!E21)","v":20},2,43,40,38,39,37,10.263157894736842]
[{"$f":"IF(Draw!E22=0,\"\",Draw!E22)","v":21},2,46,50,48,51,49,12.894736842105264]
[{"$f":"IF(Draw!E23=0,\"\",Draw!E23)","v":22},2,42,35,34,38,40,9.9122807017543852]
[{"$f":"IF(Draw!E24=0,\"\",Draw!E24)","v":23},2,47,49,50,47,46,12.543859649122806]
[{"$f":"IF(Draw!E25=0,\"\",Draw!E25)","v":24},2,49,56,54,50,50,13.508771929824563]
[{"$f":"IF(Draw!E26=0,\"\",Draw!E26)","v":25},2,49,52,50,53,53,13.596491228070175]
[{"$f":"IF(Draw!E27=0,\"\",Draw!E27)","v":26},2,50,48,52,50,49,13.070175438596491]
[{"$f":"IF(Draw!E28=0,\"\",Draw!E28)","v":27},2,32,34,36,32,37,8.9473684210526319]
[{"$f":"IF(Draw!E29=0,\"\",Draw!E29)","v":28},2,"x","x","x","x","x",0]
[{"$f":"IF(Draw!E30=0,\"\",Draw!E30)","v":29},2,40,33,37,35,35,9.3859649122807021]
[{"$f":"IF(Draw!E31=0,\"\",Draw!E31)","v":30},2,37,39,40,34,36,9.8245614035087723]
[{"$f":"IF(Draw!E32=0,\"\",Draw!E32)","v":31},2,52,60,54,56,55,14.473684210526317]
[{"$f":"IF(Draw!E33=0,\"\",Draw!E33)","v":32},2,50,46,43,41,45,11.754385964912281]
[{"$f":"IF(Draw!E34=0,\"\",Draw!E34)","v":33},2,"x","x","x","x","x",0]
[{"$f":"IF(Draw!E35=0,\"\",Draw!E35)","v":""},"",null,null,null,null,null,""]
[{"$f":"IF(Draw!E36=0,\"\",Draw!E36)","v":""},"",null,null,null,null,null,""]
[{"$f":"IF(Draw!E37=0,\"\",Draw!E37)","v":""},"",null,null,null,null,null,""]
[{"$f":"IF(Draw!E38=0,\"\",Draw!E38)","v":""},"",null,null,null,null,null,""]
[{"$f":"IF(Draw!E39=0,\"\",Draw!E39)","v":""},"",null,null,null,null,null,""]
[{"$f":"IF(Draw!E40=0,\"\",Draw!E40)","v":""},"",null,null,null,null,null,""]
[{"$f":"IF(Draw!E41=0,\"\",Draw!E41)","v":""},"",null,null,null,null,null,""]
[{"$f":"IF(Draw!E42=0,\"\",Draw!E42)","v":""},"",null,null,null,null,null,""]
[{"$f":"IF(Draw!E43=0,\"\",Draw!E43)","v":""},"",null,null,null,null,null,""]
[{"$f":"IF(Draw!E44=0,\"\",Draw!E44)","v":""},"",null,null,null,null,null,""]
[{"$f":"IF(Draw!E45=0,\"\",Draw!E45)","v":""},"",null,null,null,null,null,""]
[{"$f":"IF(Draw!E46=0,\"\",Draw!E46)","v":""},"",null,null,null,null,null,""]
[{"$f":"IF(Draw!E47=0,\"\",Draw!E47)","v":""},"",null,null,null,null,null,""]
[{"$f":"IF(Draw!E48=0,\"\",Draw!E48)","v":""},"",null,null,null,null,null,""]
[{"$f":"IF(Draw!E49=0,\"\",Draw!E49)","v":""},"",null,null,null,null,null,""]
[{"$f":"IF(Draw!E50=0,\"\",Draw!E50)","v":""},"",null,null,null,null,null,""]
[{"$f":"IF(Draw!E51=0,\"\",Draw!E51)","v":""},"",null,null,null,null,null,""]
[{"$f":"IF(Draw!E52=0,\"\",Draw!E52)","v":""},"",null,null,null,null,null,""]
[{"$f":"IF(Draw!E53=0,\"\",Draw!E53)","v":""},"",null,null,null,null,null,""]
[{"$f":"IF(Draw!E54=0,\"\",Draw!E54)","v":""},"",null,null,null,null,null,""]
[{"$f":"IF(Draw!E55=0,\"\",Draw!E55)","v":""},"",null,null,null,null,null,""]
[{"$f":"IF(Draw!E56=0,\"\",Draw!E56)","v":""},"",null,null,null,null,null,""]
[{"$f":"IF(Draw!E57=0,\"\",Draw!E57)","v":""},"",null,null,null,null,null,""]
[{"$f":"IF(Draw!E58=0,\"\",Draw!E58)","v":""},"",null,null,null,null,null,""]
[{"$f":"IF(Draw!E59=0,\"\",Draw!E59)","v":""},"",null,null,null,null,null,""]
[{"$f":"IF(Draw!E60=0,\"\",Draw!E60)","v":""},"",null,null,null,null,null,""]
[{"$f":"IF(Draw!E61=0,\"\",Draw!E61)","v":""},"",null,null,null,null,null,""]
[{"$f":"IF(Draw!E62=0,\"\",Draw!E62)","v":""},"",null,null,null,null,null,""]
[{"$f":"IF(Draw!E63=0,\"\",Draw!E63)","v":""},"",null,null,null,null,null,""]
[{"$f":"IF(Draw!E64=0,\"\",Draw!E64)","v":""},"",null,null,null,null,null,""]
[{"$f":"IF(Draw!E65=0,\"\",Draw!E65)","v":""},"",null,null,null,null,null,""]
[{"$f":"IF(Draw!E66=0,\"\",Draw!E66)","v":""},"",null,null,null,null,null,""]
[{"$f":"IF(Draw!E67=0,\"\",Draw!E67)","v":""},"",null,null,null,null,null,""]
[{"$f":"IF(Draw!E68=0,\"\",Draw!E68)","v":""},"",null,null,null,null,null,""]
[{"$f":"IF(Draw!E69=0,\"\",Draw!E69)","v":""},{"$f":"IF(A70=\"\",\"\",B$3)","v":""},null,null,null,null,null,{"$f":"IF(A70=\"\",\"\",(IF(F70>0,(SUM(C70:G70)-MAX(C70:G70)-MIN(C70:G70))/3,SUM(C70:E70)/3))*B70/7.6)","v":""}]
[{"$f":"IF(Draw!E70=0,\"\",Draw!E70)","v":""},"",null,null,null,null,null,""]
[{"$f":"IF(Draw!E71=0,\"\",Draw!E71)","v":""},"",null,null,null,null,null,""]
[{"$f":"IF(Draw!E72=0,\"\",Draw!E72)","v":""},"",null,null,null,null,null,""]
[{"$f":"IF(Draw!E73=0,\"\",Draw!E73)","v":""},"",null,null,null,null,null,""]
[{"$f":"IF(Draw!E74=0,\"\",Draw!E74)","v":""},"",null,null,null,null,null,""]
[{"$f":"IF(Draw!E75=0,\"\",Draw!E75)","v":""},"",null,null,null,null,null,""]
[{"$f":"IF(Draw!E76=0,\"\",Draw!E76)","v":""},"",null,null,null,null,null,""]
[{"$f":"IF(Draw!E77=0,\"\",Draw!E77)","v":""},"",null,null,null,null,null,""]
[{"$f":"IF(Draw!E78=0,\"\",Draw!E78)","v":""},"",null,null,null,null,null,""]
[{"$f":"IF(Draw!E79=0,\"\",Draw!E79)","v":""},"",null,null,null,null,null,""]
[{"$f":"IF(Draw!E80=0,\"\",Draw!E80)","v":""},"",null,null,null,null,null,""]
[{"$f":"IF(Draw!E81=0,\"\",Draw!E81)","v":""},"",null,null,null,null,null,""]
[{"$f":"IF(Draw!E82=0,\"\",Draw!E82)","v":""},"",null,null,null,null,null,""]
[{"$f":"IF(Draw!E83=0,\"\",Draw!E83)","v":""},"",null,null,null,null,null,""]
[{"$f":"IF(Draw!E84=0,\"\",Draw!E84)","v":""},"",null,null,null,null,null,""]
[{"$f":"IF(Draw!E85=0,\"\",Draw!E85)","v":""},"",null,null,null,null,null,""]
[{"$f":"IF(Draw!E86=0,\"\",Draw!E86)","v":""},"",null,null,null,null,null,""]
[{"$f":"IF(Draw!E87=0,\"\",Draw!E87)","v":""},"",null,null,null,null,null,""]
[{"$f":"IF(Draw!E88=0,\"\",Draw!E88)","v":""},"",null,null,null,null,null,""]
[{"$f":"IF(Draw!E89=0,\"\",Draw!E89)","v":""},"",null,null,null,null,null,""]
[{"$f":"IF(Draw!E90=0,\"\",Draw!E90)","v":""},"",null,null,null,null,null,""]
[{"$f":"IF(Draw!E91=0,\"\",Draw!E91)","v":""},"",null,null,null,null,null,""]
[{"$f":"IF(Draw!E92=0,\"\",Draw!E92)","v":""},"",null,null,null,null,null,""]
[{"$f":"IF(Draw!E93=0,\"\",Draw!E93)","v":""},"",null,null,null,null,null,""]
[{"$f":"IF(Draw!E94=0,\"\",Draw!E94)","v":""},"",null,null,null,null,null,""]
[{"$f":"IF(Draw!E95=0,\"\",Draw!E95)","v":""},"",null,null,null,null,null,""]
[{"$f":"IF(Draw!E96=0,\"\",Draw!E96)","v":""},"",null,null,null,null,null,""]
[{"$f":"IF(Draw!E97=0,\"\",Draw!E97)","v":""},"",null,null,null,null,null,""]
[{"$f":"IF(Draw!E98=0,\"\",Draw!E98)","v":""},"",null,null,null,null,null,""]
[{"$f":"IF(Draw!E99=0,\"\",Draw!E99)","v":""},"",null,null,null,null,null,""]
[{"$f":"IF(Draw!E100=0,\"\",Draw!E100)","v":""},"",null,null,null,null,null,""]
[{"$f":"IF(Draw!E101=0,\"\",Draw!E101)","v":""},"",null,null,null,null,null,""]
[{"$f":"IF(Draw!E102=0,\"\",Draw!E102)","v":""},"",null,null,null,null,null,""]
[{"$f":"IF(Draw!E103=0,\"\",Draw!E103)","v":""},"",null,null,null,null,null,""]
[{"$f":"IF(Draw!E104=0,\"\",Draw!E104)","v":""},"",null,null,null,null,null,""]
[{"$f":"IF(Draw!E105=0,\"\",Draw!E105)","v":""},"",null,null,null,null,null,""]
[{"$f":"IF(Draw!E106=0,\"\",Draw!E106)","v":""},"",null,null,null,null,null,""]
[{"$f":"IF(Draw!E107=0,\"\",Draw!E107)","v":""},"",null,null,null,null,null,""]
[{"$f":"IF(Draw!E108=0,\"\",Draw!E108)","v":""},"",null,null,null,null,null,""]
[{"$f":"IF(Draw!E109=0,\"\",Draw!E109)","v":""},"",null,null,null,null,null,""]
[{"$f":"IF(Draw!E110=0,\"\",Draw!E110)","v":""},"",null,null,null,null,null,""]
[{"$f":"IF(Draw!E111=0,\"\",Draw!E111)","v":""},"",null,null,null,null,null,""]
[{"$f":"IF(Draw!E112=0,\"\",Draw!E112)","v":""},"",null,null,null,null,null,""]
[{"$f":"IF(Draw!E113=0,\"\",Draw!E113)","v":""},"",null,null,null,null,null,""]
[{"$f":"IF(Draw!E114=0,\"\",Draw!E114)","v":""},"",null,null,null,null,null,""]
[{"$f":"IF(Draw!E115=0,\"\",Draw!E115)","v":""},"",null,null,null,null,null,""]
[{"$f":"IF(Draw!E116=0,\"\",Draw!E116)","v":""},"",null,null,null,null,null,""]
[{"$f":"IF(Draw!E117=0,\"\",Draw!E117)","v":""},"",null,null,null,null,null,""]
[{"$f":"IF(Draw!E118=0,\"\",Draw!E118)","v":""},"",null,null,null,null,null,""]
[{"$f":"IF(Draw!E119=0,\"\",Draw!E119)","v":""},"",null,null,null,null,null,""]
[{"$f":"IF(Draw!E120=0,\"\",Draw!E120)","v":""},"",null,null,null,null,null,""]
[{"$f":"IF(Draw!E121=0,\"\",Draw!E121)","v":""},"",null,null,null,null,null,""]
[{"$f":"IF(Draw!E122=0,\"\",Draw!E122)","v":""},"",null,null,null,null,null,""]
[{"$f":"IF(Draw!E123=0,\"\",Draw!E123)","v":""},"",null,null,null,null,null,""]
[{"$f":"IF(Draw!E124=0,\"\",Draw!E124)","v":""},"",null,null,null,null,null,""]
[{"$f":"IF(Draw!E125=0,\"\",Draw!E125)","v":""},"",null,null,null,null,null,""]
[{"$f":"IF(Draw!E126=0,\"\",Draw!E126)","v":""},"",null,null,null,null,null,""]
[{"$f":"IF(Draw!E127=0,\"\",Draw!E127)","v":""},"",null,null,null,null,null,""]
[{"$f":"IF(Draw!E128=0,\"\",Draw!E128)","v":""},"",null,null,null,null,null,""]
[{"$f":"IF(Draw!E129=0,\"\",Draw!E129)","v":""},"",null,null,null,null,null,""]
[{"$f":"IF(Draw!E130=0,\"\",Draw!E130)","v":""},"",null,null,null,null,null,""]
[{"$f":"IF(Draw!E131=0,\"\",Draw!E131)","v":""},"",null,null,null,null,null,""]
[{"$f":"IF(Draw!E132=0,\"\",Draw!E132)","v":""},"",null,null,null,null,null,""]
[{"$f":"IF(Draw!E133=0,\"\",Draw!E133)","v":""},{"$f":"IF(A134=\"\",\"\",B$3)","v":""},null,null,null,null,null,{"$f":"IF(A134=\"\",\"\",(IF(F134>0,(SUM(C134:G134)-MAX(C134:G134)-MIN(C134:G134))/3,SUM(C134:E134)/3))*B134/7.6)","v":""}]
[{"$f":"IF(Draw!E134=0,\"\",Draw!E134)","v":""},"",null,null,null,null,null,""]
[{"$f":"IF(Draw!E135=0,\"\",Draw!E135)","v":""},"",null,null,null,null,null,""]
[{"$f":"IF(Draw!E136=0,\"\",Draw!E136)","v":""},"",null,null,null,null,null,""]
[{"$f":"IF(Draw!E137=0,\"\",Draw!E137)","v":""},"",null,null,null,null,null,""]
[{"$f":"IF(Draw!E138=0,\"\",Draw!E138)","v":""},"",null,null,null,null,null,""]
[{"$f":"IF(Draw!E139=0,\"\",Draw!E139)","v":""},"",null,null,null,null,null,""]
[{"$f":"IF(Draw!E140=0,\"\",Draw!E140)","v":""},"",null,null,null,null,null,""]
[{"$f":"IF(Draw!E141=0,\"\",Draw!E141)","v":""},"",null,null,null,null,null,""]
[{"$f":"IF(Draw!E142=0,\"\",Draw!E142)","v":""},"",null,null,null,null,null,""]
[{"$f":"IF(Draw!E143=0,\"\",Draw!E143)","v":""},"",null,null,null,null,null,""]
[{"$f":"IF(Draw!E144=0,\"\",Draw!E144)","v":""},"",null,null,null,null,null,""]
[{"$f":"IF(Draw!E145=0,\"\",Draw!E145)","v":""},"",null,null,null,null,null,""]
[{"$f":"IF(Draw!E146=0,\"\",Draw!E146)","v":""},"",null,null,null,null,null,""]
[{"$f":"IF(Draw!E147=0,\"\",Draw!E147)","v":""},"",null,null,null,null,null,""]
[{"$f":"IF(Draw!E148=0,\"\",Draw!E148)","v":""},"",null,null,null,null,null,""]
[{"$f":"IF(Draw!E149=0,\"\",Draw!E149)","v":""},"",null,null,null,null,null,""]

{"sheet":"Fig 3 Neptunus","index":3,"n_rows":150,"n_cols":9,"rows_kept":150,"cut":false,"hidden":false,"merged":[[0,2,0,6]]}
[null,"Figure #3:","344 Neptunus"]
["#","Degree of Difficulty","Judge 1","Judge 2","Judge 3","Judge 4","Judge 5","Score","Penalty"]
[{"$f":"IF(Draw!E2=0,\"\",Draw!E2)","v":1},1.8,50,49,46,null,null,{"$f":"(IF(F3>0,(SUM(C3:G3)-MAX(C3:G3)-MIN(C3:G3))/3,SUM(C3:E3)/3))*B3/7.6","v":11.447368421052632}]
[{"$f":"IF(Draw!E3=0,\"\",Draw!E3)","v":2},{"$f":"IF(A4=\"\",\"\",B$3)","v":1.8},47,44,38,null,null,{"$f":"IF(A4=\"\",\"\",(IF(F4>0,(SUM(C4:G4)-MAX(C4:G4)-MIN(C4:G4))/3,SUM(C4:E4)/3))*B4/7.6)","v":10.184210526315791}]
[{"$f":"IF(Draw!E4=0,\"\",Draw!E4)","v":3},1.8,40,46,35,null,null,{"$f":"IF(A5=\"\",\"\",(IF(F5>0,(SUM(C5:G5)-MAX(C5:G5)-MIN(C5:G5))/3,SUM(C5:E5)/3))*B5/7.6)","v":9.5526315789473699}]
[{"$f":"IF(Draw!E5=0,\"\",Draw!E5)","v":4},{"$f":"IF(A6=\"\",\"\",B$3)","v":1.8},"x","x","x","x","x",{"$f":"IF(A6=\"\",\"\",(IF(F6>0,(SUM(C6:G6)-MAX(C6:G6)-MIN(C6:G6))/3,SUM(C6:E6)/3))*B6/7.6)","v":0}]
[{"$f":"IF(Draw!E6=0,\"\",Draw!E6)","v":5},1.8,42,43,40,null,null,9.8684210526315788]
[{"$f":"IF(Draw!E7=0,\"\",Draw!E7)","v":6},1.8,45,44,38,null,null,10.026315789473685]
[{"$f":"IF(Draw!E8=0,\"\",Draw!E8)","v":7},1.8,47,49,47,null,null,11.289473684210526]
[{"$f":"IF(Draw!E9=0,\"\",Draw!E9)","v":8},1.8,46,41,40,null,null,10.026315789473685]
[{"$f":"IF(Draw!E10=0,\"\",Draw!E10)","v":9},1.8,49,52,47,null,null,11.684210526315791]
[{"$f":"IF(Draw!E11=0,\"\",Draw!E11)","v":10},1.8,55,56,50,null,null,12.710526315789474]
[{"$f":"IF(Draw!E12=0,\"\",Draw!E12)","v":11},1.8,48,50,46,null,null,11.368421052631581]
[{"$f":"IF(Draw!E13=0,\"\",Draw!E13)","v":12},1.8,50,51,43,null,null,11.368421052631581]
[{"$f":"IF(Draw!E14=0,\"\",Draw!E14)","v":13},1.8,38,39,39,null,null,9.1578947368421044]
[{"$f":"IF(Draw!E15=0,\"\",Draw!E15)","v":14},1.8,43,44,45,null,null,10.421052631578949]
[{"$f":"IF(Draw!E16=0,\"\",Draw!E16)","v":15},1.8,51,51,47,null,null,11.763157894736841]
[{"$f":"IF(Draw!E17=0,\"\",Draw!E17)","v":16},1.8,47,47,46,null,null,11.052631578947368]
[{"$f":"IF(Draw!E18=0,\"\",Draw!E18)","v":17},1.8,47,48,49,null,null,11.368421052631581]
[{"$f":"IF(Draw!E19=0,\"\",Draw!E19)","v":18},1.8,"x","x","x","x","x",0]
[{"$f":"IF(Draw!E20=0,\"\",Draw!E20)","v":19},1.8,48,45,40,null,null,10.500000000000002]
[{"$f":"IF(Draw!E21=0,\"\",Draw!E21)","v":20},1.8,40,37,37,null,null,9.0000000000000018]
[{"$f":"IF(Draw!E22=0,\"\",Draw!E22)","v":21},1.8,49,51,49,null,null,11.763157894736841]
[{"$f":"IF(Draw!E23=0,\"\",Draw!E23)","v":22},1.8,42,38,36,null,null,9.1578947368421044]
[{"$f":"IF(Draw!E24=0,\"\",Draw!E24)","v":23},1.8,45,50,43,null,null,10.894736842105264]
[{"$f":"IF(Draw!E25=0,\"\",Draw!E25)","v":24},1.8,46,47,44,null,null,10.815789473684211]
[{"$f":"IF(Draw!E26=0,\"\",Draw!E26)","v":25},1.8,50,47,45,null,null,11.210526315789474]
[{"$f":"IF(Draw!E27=0,\"\",Draw!E27)","v":26},1.8,48,49,46,null,null,11.289473684210526]
[{"$f":"IF(Draw!E28=0,\"\",Draw!E28)","v":27},1.8,45,46,38,null,null,10.184210526315791]
[{"$f":"IF(Draw!E29=0,\"\",Draw!E29)","v":28},1.8,"x","x","x",null,null,0]
[{"$f":"IF(Draw!E30=0,\"\",Draw!E30)","v":29},1.8,49,38,36,null,null,9.7105263157894743]
[{"$f":"IF(Draw!E31=0,\"\",Draw!E31)","v":30},1.8,45,44,47,null,null,10.736842105263159]
[{"$f":"IF(Draw!E32=0,\"\",Draw!E32)","v":31},1.8,56,52,50,null,null,12.473684210526317]
[{"$f":"IF(Draw!E33=0,\"\",Draw!E33)","v":32},1.8,40,39,37,null,null,9.1578947368421044]
[{"$f":"IF(Draw!E34=0,\"\",Draw!E34)","v":33},1.8,"x","x","x","x","x",0]
[{"$f":"IF(Draw!E35=0,\"\",Draw!E35)","v":""},"",null,null,null,null,null,""]
[{"$f":"IF(Draw!E36=0,\"\",Draw!E36)","v":""},"",null,null,null,null,null,""]
[{"$f":"IF(Draw!E37=0,\"\",Draw!E37)","v":""},"",null,null,null,null,null,""]
[{"$f":"IF(Draw!E38=0,\"\",Draw!E38)","v":""},"",null,null,null,null,null,""]
[{"$f":"IF(Draw!E39=0,\"\",Draw!E39)","v":""},"",null,null,null,null,null,""]
[{"$f":"IF(Draw!E40=0,\"\",Draw!E40)","v":""},"",null,null,null,null,null,""]
[{"$f":"IF(Draw!E41=0,\"\",Draw!E41)","v":""},"",null,null,null,null,null,""]
[{"$f":"IF(Draw!E42=0,\"\",Draw!E42)","v":""},"",null,null,null,null,null,""]
[{"$f":"IF(Draw!E43=0,\"\",Draw!E43)","v":""},"",null,null,null,null,null,""]
[{"$f":"IF(Draw!E44=0,\"\",Draw!E44)","v":""},"",null,null,null,null,null,""]
[{"$f":"IF(Draw!E45=0,\"\",Draw!E45)","v":""},"",null,null,null,null,null,""]
[{"$f":"IF(Draw!E46=0,\"\",Draw!E46)","v":""},"",null,null,null,null,null,""]
[{"$f":"IF(Draw!E47=0,\"\",Draw!E47)","v":""},"",null,null,null,null,null,""]
[{"$f":"IF(Draw!E48=0,\"\",Draw!E48)","v":""},"",null,null,null,null,null,""]
[{"$f":"IF(Draw!E49=0,\"\",Draw!E49)","v":""},"",null,null,null,null,null,""]
[{"$f":"IF(Draw!E50=0,\"\",Draw!E50)","v":""},"",null,null,null,null,null,""]
[{"$f":"IF(Draw!E51=0,\"\",Draw!E51)","v":""},"",null,null,null,null,null,""]
[{"$f":"IF(Draw!E52=0,\"\",Draw!E52)","v":""},"",null,null,null,null,null,""]
[{"$f":"IF(Draw!E53=0,\"\",Draw!E53)","v":""},"",null,null,null,null,null,""]
[{"$f":"IF(Draw!E54=0,\"\",Draw!E54)","v":""},"",null,null,null,null,null,""]
[{"$f":"IF(Draw!E55=0,\"\",Draw!E55)","v":""},"",null,null,null,null,null,""]
[{"$f":"IF(Draw!E56=0,\"\",Draw!E56)","v":""},"",null,null,null,null,null,""]
[{"$f":"IF(Draw!E57=0,\"\",Draw!E57)","v":""},"",null,null,null,null,null,""]
[{"$f":"IF(Draw!E58=0,\"\",Draw!E58)","v":""},"",null,null,null,null,null,""]
[{"$f":"IF(Draw!E59=0,\"\",Draw!E59)","v":""},"",null,null,null,null,null,""]
[{"$f":"IF(Draw!E60=0,\"\",Draw!E60)","v":""},"",null,null,null,null,null,""]
[{"$f":"IF(Draw!E61=0,\"\",Draw!E61)","v":""},"",null,null,null,null,null,""]
[{"$f":"IF(Draw!E62=0,\"\",Draw!E62)","v":""},"",null,null,null,null,null,""]
[{"$f":"IF(Draw!E63=0,\"\",Draw!E63)","v":""},"",null,null,null,null,null,""]
[{"$f":"IF(Draw!E64=0,\"\",Draw!E64)","v":""},"",null,null,null,null,null,""]
[{"$f":"IF(Draw!E65=0,\"\",Draw!E65)","v":""},"",null,null,null,null,null,""]
[{"$f":"IF(Draw!E66=0,\"\",Draw!E66)","v":""},"",null,null,null,null,null,""]
[{"$f":"IF(Draw!E67=0,\"\",Draw!E67)","v":""},"",null,null,null,null,null,""]
[{"$f":"IF(Draw!E68=0,\"\",Draw!E68)","v":""},"",null,null,null,null,null,""]
[{"$f":"IF(Draw!E69=0,\"\",Draw!E69)","v":""},{"$f":"IF(A70=\"\",\"\",B$3)","v":""},null,null,null,null,null,{"$f":"IF(A70=\"\",\"\",(IF(F70>0,(SUM(C70:G70)-MAX(C70:G70)-MIN(C70:G70))/3,SUM(C70:E70)/3))*B70/7.6)","v":""}]
[{"$f":"IF(Draw!E70=0,\"\",Draw!E70)","v":""},"",null,null,null,null,null,""]
[{"$f":"IF(Draw!E71=0,\"\",Draw!E71)","v":""},"",null,null,null,null,null,""]
[{"$f":"IF(Draw!E72=0,\"\",Draw!E72)","v":""},"",null,null,null,null,null,""]
[{"$f":"IF(Draw!E73=0,\"\",Draw!E73)","v":""},"",null,null,null,null,null,""]
[{"$f":"IF(Draw!E74=0,\"\",Draw!E74)","v":""},"",null,null,null,null,null,""]
[{"$f":"IF(Draw!E75=0,\"\",Draw!E75)","v":""},"",null,null,null,null,null,""]
[{"$f":"IF(Draw!E76=0,\"\",Draw!E76)","v":""},"",null,null,null,null,null,""]
[{"$f":"IF(Draw!E77=0,\"\",Draw!E77)","v":""},"",null,null,null,null,null,""]
[{"$f":"IF(Draw!E78=0,\"\",Draw!E78)","v":""},"",null,null,null,null,null,""]
[{"$f":"IF(Draw!E79=0,\"\",Draw!E79)","v":""},"",null,null,null,null,null,""]
[{"$f":"IF(Draw!E80=0,\"\",Draw!E80)","v":""},"",null,null,null,null,null,""]
[{"$f":"IF(Draw!E81=0,\"\",Draw!E81)","v":""},"",null,null,null,null,null,""]
[{"$f":"IF(Draw!E82=0,\"\",Draw!E82)","v":""},"",null,null,null,null,null,""]
[{"$f":"IF(Draw!E83=0,\"\",Draw!E83)","v":""},"",null,null,null,null,null,""]
[{"$f":"IF(Draw!E84=0,\"\",Draw!E84)","v":""},"",null,null,null,null,null,""]
[{"$f":"IF(Draw!E85=0,\"\",Draw!E85)","v":""},"",null,null,null,null,null,""]
[{"$f":"IF(Draw!E86=0,\"\",Draw!E86)","v":""},"",null,null,null,null,null,""]
[{"$f":"IF(Draw!E87=0,\"\",Draw!E87)","v":""},"",null,null,null,null,null,""]
[{"$f":"IF(Draw!E88=0,\"\",Draw!E88)","v":""},"",null,null,null,null,null,""]
[{"$f":"IF(Draw!E89=0,\"\",Draw!E89)","v":""},"",null,null,null,null,null,""]
[{"$f":"IF(Draw!E90=0,\"\",Draw!E90)","v":""},"",null,null,null,null,null,""]
[{"$f":"IF(Draw!E91=0,\"\",Draw!E91)","v":""},"",null,null,null,null,null,""]
[{"$f":"IF(Draw!E92=0,\"\",Draw!E92)","v":""},"",null,null,null,null,null,""]
[{"$f":"IF(Draw!E93=0,\"\",Draw!E93)","v":""},"",null,null,null,null,null,""]
[{"$f":"IF(Draw!E94=0,\"\",Draw!E94)","v":""},"",null,null,null,null,null,""]
[{"$f":"IF(Draw!E95=0,\"\",Draw!E95)","v":""},"",null,null,null,null,null,""]
[{"$f":"IF(Draw!E96=0,\"\",Draw!E96)","v":""},"",null,null,null,null,null,""]
[{"$f":"IF(Draw!E97=0,\"\",Draw!E97)","v":""},"",null,null,null,null,null,""]
[{"$f":"IF(Draw!E98=0,\"\",Draw!E98)","v":""},"",null,null,null,null,null,""]
[{"$f":"IF(Draw!E99=0,\"\",Draw!E99)","v":""},"",null,null,null,null,null,""]
[{"$f":"IF(Draw!E100=0,\"\",Draw!E100)","v":""},"",null,null,null,null,null,""]
[{"$f":"IF(Draw!E101=0,\"\",Draw!E101)","v":""},"",null,null,null,null,null,""]
[{"$f":"IF(Draw!E102=0,\"\",Draw!E102)","v":""},"",null,null,null,null,null,""]
[{"$f":"IF(Draw!E103=0,\"\",Draw!E103)","v":""},"",null,null,null,null,null,""]
[{"$f":"IF(Draw!E104=0,\"\",Draw!E104)","v":""},"",null,null,null,null,null,""]
[{"$f":"IF(Draw!E105=0,\"\",Draw!E105)","v":""},"",null,null,null,null,null,""]
[{"$f":"IF(Draw!E106=0,\"\",Draw!E106)","v":""},"",null,null,null,null,null,""]
[{"$f":"IF(Draw!E107=0,\"\",Draw!E107)","v":""},"",null,null,null,null,null,""]
[{"$f":"IF(Draw!E108=0,\"\",Draw!E108)","v":""},"",null,null,null,null,null,""]
[{"$f":"IF(Draw!E109=0,\"\",Draw!E109)","v":""},"",null,null,null,null,null,""]
[{"$f":"IF(Draw!E110=0,\"\",Draw!E110)","v":""},"",null,null,null,null,null,""]
[{"$f":"IF(Draw!E111=0,\"\",Draw!E111)","v":""},"",null,null,null,null,null,""]
[{"$f":"IF(Draw!E112=0,\"\",Draw!E112)","v":""},"",null,null,null,null,null,""]
[{"$f":"IF(Draw!E113=0,\"\",Draw!E113)","v":""},"",null,null,null,null,null,""]
[{"$f":"IF(Draw!E114=0,\"\",Draw!E114)","v":""},"",null,null,null,null,null,""]
[{"$f":"IF(Draw!E115=0,\"\",Draw!E115)","v":""},"",null,null,null,null,null,""]
[{"$f":"IF(Draw!E116=0,\"\",Draw!E116)","v":""},"",null,null,null,null,null,""]
[{"$f":"IF(Draw!E117=0,\"\",Draw!E117)","v":""},"",null,null,null,null,null,""]
[{"$f":"IF(Draw!E118=0,\"\",Draw!E118)","v":""},"",null,null,null,null,null,""]
[{"$f":"IF(Draw!E119=0,\"\",Draw!E119)","v":""},"",null,null,null,null,null,""]
[{"$f":"IF(Draw!E120=0,\"\",Draw!E120)","v":""},"",null,null,null,null,null,""]
[{"$f":"IF(Draw!E121=0,\"\",Draw!E121)","v":""},"",null,null,null,null,null,""]
[{"$f":"IF(Draw!E122=0,\"\",Draw!E122)","v":""},"",null,null,null,null,null,""]
[{"$f":"IF(Draw!E123=0,\"\",Draw!E123)","v":""},"",null,null,null,null,null,""]
[{"$f":"IF(Draw!E124=0,\"\",Draw!E124)","v":""},"",null,null,null,null,null,""]
[{"$f":"IF(Draw!E125=0,\"\",Draw!E125)","v":""},"",null,null,null,null,null,""]
[{"$f":"IF(Draw!E126=0,\"\",Draw!E126)","v":""},"",null,null,null,null,null,""]
[{"$f":"IF(Draw!E127=0,\"\",Draw!E127)","v":""},"",null,null,null,null,null,""]
[{"$f":"IF(Draw!E128=0,\"\",Draw!E128)","v":""},"",null,null,null,null,null,""]
[{"$f":"IF(Draw!E129=0,\"\",Draw!E129)","v":""},"",null,null,null,null,null,""]
[{"$f":"IF(Draw!E130=0,\"\",Draw!E130)","v":""},"",null,null,null,null,null,""]
[{"$f":"IF(Draw!E131=0,\"\",Draw!E131)","v":""},"",null,null,null,null,null,""]
[{"$f":"IF(Draw!E132=0,\"\",Draw!E132)","v":""},"",null,null,null,null,null,""]
[{"$f":"IF(Draw!E133=0,\"\",Draw!E133)","v":""},{"$f":"IF(A134=\"\",\"\",B$3)","v":""},null,null,null,null,null,{"$f":"IF(A134=\"\",\"\",(IF(F134>0,(SUM(C134:G134)-MAX(C134:G134)-MIN(C134:G134))/3,SUM(C134:E134)/3))*B134/7.6)","v":""}]
[{"$f":"IF(Draw!E134=0,\"\",Draw!E134)","v":""},"",null,null,null,null,null,""]
[{"$f":"IF(Draw!E135=0,\"\",Draw!E135)","v":""},"",null,null,null,null,null,""]
[{"$f":"IF(Draw!E136=0,\"\",Draw!E136)","v":""},"",null,null,null,null,null,""]
[{"$f":"IF(Draw!E137=0,\"\",Draw!E137)","v":""},"",null,null,null,null,null,""]
[{"$f":"IF(Draw!E138=0,\"\",Draw!E138)","v":""},"",null,null,null,null,null,""]
[{"$f":"IF(Draw!E139=0,\"\",Draw!E139)","v":""},"",null,null,null,null,null,""]
[{"$f":"IF(Draw!E140=0,\"\",Draw!E140)","v":""},"",null,null,null,null,null,""]
[{"$f":"IF(Draw!E141=0,\"\",Draw!E141)","v":""},"",null,null,null,null,null,""]
[{"$f":"IF(Draw!E142=0,\"\",Draw!E142)","v":""},"",null,null,null,null,null,""]
[{"$f":"IF(Draw!E143=0,\"\",Draw!E143)","v":""},"",null,null,null,null,null,""]
[{"$f":"IF(Draw!E144=0,\"\",Draw!E144)","v":""},"",null,null,null,null,null,""]
[{"$f":"IF(Draw!E145=0,\"\",Draw!E145)","v":""},"",null,null,null,null,null,""]
[{"$f":"IF(Draw!E146=0,\"\",Draw!E146)","v":""},"",null,null,null,null,null,""]
[{"$f":"IF(Draw!E147=0,\"\",Draw!E147)","v":""},"",null,null,null,null,null,""]
[{"$f":"IF(Draw!E148=0,\"\",Draw!E148)","v":""},"",null,null,null,null,null,""]
[{"$f":"IF(Draw!E149=0,\"\",Draw!E149)","v":""},"",null,null,null,null,null,""]

{"sheet":"Fig 4 Walkover","index":4,"n_rows":150,"n_cols":10,"rows_kept":150,"cut":false,"hidden":false,"merged":[[0,3,0,7]]}
[null,"Figure #4:",null,"360 Walkover Front"]
["#","Degree of Difficulty","Figure","Judge 1","Judge 2","Judge 3","Judge 4","Judge 5","Score","Penalty"]
[{"$f":"IF(Draw!E2=0,\"\",Draw!E2)","v":1},2.1,null,52,53,52,null,null,{"$f":"(IF(G3>0,(SUM(D3:H3)-MAX(D3:H3)-MIN(D3:H3))/3,SUM(D3:F3)/3))*B3/7.6","v":14.460526315789474}]
[{"$f":"IF(Draw!E3=0,\"\",Draw!E3)","v":2},{"$f":"IF(A4=\"\",\"\",B$3)","v":2.1},null,53,54,53,null,null,{"$f":"IF(B4=\"\",\"\",(IF(G4>0,(SUM(D4:H4)-MAX(D4:H4)-MIN(D4:H4))/3,SUM(D4:F4)/3))*B4/7.6)","v":14.736842105263161}]
[{"$f":"IF(Draw!E4=0,\"\",Draw!E4)","v":3},2.1,null,50,48,51,null,null,{"$f":"IF(B5=\"\",\"\",(IF(G5>0,(SUM(D5:H5)-MAX(D5:H5)-MIN(D5:H5))/3,SUM(D5:F5)/3))*B5/7.6)","v":13.723684210526317}]
[{"$f":"IF(Draw!E5=0,\"\",Draw!E5)","v":4},{"$f":"IF(A6=\"\",\"\",B$3)","v":2.1},null,"x","x","x","x","x",0]
[{"$f":"IF(Draw!E6=0,\"\",Draw!E6)","v":5},2.1,null,46,48,46,null,null,{"$f":"IF(B7=\"\",\"\",(IF(G7>0,(SUM(D7:H7)-MAX(D7:H7)-MIN(D7:H7))/3,SUM(D7:F7)/3))*B7/7.6)","v":12.894736842105264}]
[{"$f":"IF(Draw!E7=0,\"\",Draw!E7)","v":6},2.1,null,43,43,44,null,null,11.973684210526319]
[{"$f":"IF(Draw!E8=0,\"\",Draw!E8)","v":7},2.1,null,52,53,52,null,null,14.460526315789474]
[{"$f":"IF(Draw!E9=0,\"\",Draw!E9)","v":8},2.1,null,49,48,48,null,null,13.35526315789474]
[{"$f":"IF(Draw!E10=0,\"\",Draw!E10)","v":9},2.1,null,53,53,48,null,null,14.184210526315791]
[{"$f":"IF(Draw!E11=0,\"\",Draw!E11)","v":10},2.1,null,51,53,52,null,null,14.368421052631581]
[{"$f":"IF(Draw!E12=0,\"\",Draw!E12)","v":11},2.1,null,53,54,54,null,null,14.828947368421053]
[{"$f":"IF(Draw!E13=0,\"\",Draw!E13)","v":12},2.1,null,54,51,51,null,null,14.368421052631581]
[{"$f":"IF(Draw!E14=0,\"\",Draw!E14)","v":13},2.1,null,42,30,38,null,null,10.131578947368421]
[{"$f":"IF(Draw!E15=0,\"\",Draw!E15)","v":14},2.1,null,40,46,40,null,null,11.605263157894738]
[{"$f":"IF(Draw!E16=0,\"\",Draw!E16)","v":15},2.1,null,54,55,53,null,null,14.921052631578949]
[{"$f":"IF(Draw!E17=0,\"\",Draw!E17)","v":16},2.1,null,48,47,44,null,null,12.80263157894737]
[{"$f":"IF(Draw!E18=0,\"\",Draw!E18)","v":17},2.1,null,52,50,52,null,null,14.184210526315791]
[{"$f":"IF(Draw!E19=0,\"\",Draw!E19)","v":18},2.1,null,"x","x","x","x","x",0]
[{"$f":"IF(Draw!E20=0,\"\",Draw!E20)","v":19},2.1,null,49,50,51,null,null,13.815789473684211]
[{"$f":"IF(Draw!E21=0,\"\",Draw!E21)","v":20},2.1,null,45,45,47,null,null,12.618421052631581]
[{"$f":"IF(Draw!E22=0,\"\",Draw!E22)","v":21},2.1,null,51,52,52,null,null,14.276315789473685]
[{"$f":"IF(Draw!E23=0,\"\",Draw!E23)","v":22},2.1,null,44,42,44,null,null,11.973684210526319]
[{"$f":"IF(Draw!E24=0,\"\",Draw!E24)","v":23},2.1,null,53,52,50,null,null,14.276315789473685]
[{"$f":"IF(Draw!E25=0,\"\",Draw!E25)","v":24},2.1,null,50,50,50,null,null,13.815789473684211]
[{"$f":"IF(Draw!E26=0,\"\",Draw!E26)","v":25},2.1,null,53,52,49,null,null,14.184210526315791]
[{"$f":"IF(Draw!E27=0,\"\",Draw!E27)","v":26},2.1,null,47,48,50,null,null,13.35526315789474]
[{"$f":"IF(Draw!E28=0,\"\",Draw!E28)","v":27},2.1,null,49,47,48,null,null,13.263157894736844]
[{"$f":"IF(Draw!E29=0,\"\",Draw!E29)","v":28},2.1,null,"x","x","x",null,null,0]
[{"$f":"IF(Draw!E30=0,\"\",Draw!E30)","v":29},2.1,null,47,47,43,null,null,12.618421052631581]
[{"$f":"IF(Draw!E31=0,\"\",Draw!E31)","v":30},2.1,null,45,41,45,null,null,12.065789473684211]
[{"$f":"IF(Draw!E32=0,\"\",Draw!E32)","v":31},2.1,null,54,53,54,null,null,14.828947368421053]
[{"$f":"IF(Draw!E33=0,\"\",Draw!E33)","v":32},2.1,null,49,45,45,null,null,12.80263157894737]
[{"$f":"IF(Draw!E34=0,\"\",Draw!E34)","v":33},2.1,null,"x","x","x","x","x",0]
[{"$f":"IF(Draw!E35=0,\"\",Draw!E35)","v":""},"",null,null,null,null,null,null,""]
[{"$f":"IF(Draw!E36=0,\"\",Draw!E36)","v":""},"",null,null,null,null,null,null,""]
[{"$f":"IF(Draw!E37=0,\"\",Draw!E37)","v":""},"",null,null,null,null,null,null,""]
[{"$f":"IF(Draw!E38=0,\"\",Draw!E38)","v":""},"",null,null,null,null,null,null,""]
[{"$f":"IF(Draw!E39=0,\"\",Draw!E39)","v":""},"",null,null,null,null,null,null,""]
[{"$f":"IF(Draw!E40=0,\"\",Draw!E40)","v":""},"",null,null,null,null,null,null,""]
[{"$f":"IF(Draw!E41=0,\"\",Draw!E41)","v":""},"",null,null,null,null,null,null,""]
[{"$f":"IF(Draw!E42=0,\"\",Draw!E42)","v":""},"",null,null,null,null,null,null,""]
[{"$f":"IF(Draw!E43=0,\"\",Draw!E43)","v":""},"",null,null,null,null,null,null,""]
[{"$f":"IF(Draw!E44=0,\"\",Draw!E44)","v":""},"",null,null,null,null,null,null,""]
[{"$f":"IF(Draw!E45=0,\"\",Draw!E45)","v":""},"",null,null,null,null,null,null,""]
[{"$f":"IF(Draw!E46=0,\"\",Draw!E46)","v":""},"",null,null,null,null,null,null,""]
[{"$f":"IF(Draw!E47=0,\"\",Draw!E47)","v":""},"",null,null,null,null,null,null,""]
[{"$f":"IF(Draw!E48=0,\"\",Draw!E48)","v":""},"",null,null,null,null,null,null,""]
[{"$f":"IF(Draw!E49=0,\"\",Draw!E49)","v":""},"",null,null,null,null,null,null,""]
[{"$f":"IF(Draw!E50=0,\"\",Draw!E50)","v":""},"",null,null,null,null,null,null,""]
[{"$f":"IF(Draw!E51=0,\"\",Draw!E51)","v":""},"",null,null,null,null,null,null,""]
[{"$f":"IF(Draw!E52=0,\"\",Draw!E52)","v":""},"",null,null,null,null,null,null,""]
[{"$f":"IF(Draw!E53=0,\"\",Draw!E53)","v":""},"",null,null,null,null,null,null,""]
[{"$f":"IF(Draw!E54=0,\"\",Draw!E54)","v":""},"",null,null,null,null,null,null,""]
[{"$f":"IF(Draw!E55=0,\"\",Draw!E55)","v":""},"",null,null,null,null,null,null,""]
[{"$f":"IF(Draw!E56=0,\"\",Draw!E56)","v":""},"",null,null,null,null,null,null,""]
[{"$f":"IF(Draw!E57=0,\"\",Draw!E57)","v":""},"",null,null,null,null,null,null,""]
[{"$f":"IF(Draw!E58=0,\"\",Draw!E58)","v":""},"",null,null,null,null,null,null,""]
[{"$f":"IF(Draw!E59=0,\"\",Draw!E59)","v":""},"",null,null,null,null,null,null,""]
[{"$f":"IF(Draw!E60=0,\"\",Draw!E60)","v":""},"",null,null,null,null,null,null,""]
[{"$f":"IF(Draw!E61=0,\"\",Draw!E61)","v":""},"",null,null,null,null,null,null,""]
[{"$f":"IF(Draw!E62=0,\"\",Draw!E62)","v":""},"",null,null,null,null,null,null,""]
[{"$f":"IF(Draw!E63=0,\"\",Draw!E63)","v":""},"",null,null,null,null,null,null,""]
[{"$f":"IF(Draw!E64=0,\"\",Draw!E64)","v":""},"",null,null,null,null,null,null,""]
[{"$f":"IF(Draw!E65=0,\"\",Draw!E65)","v":""},"",null,null,null,null,null,null,""]
[{"$f":"IF(Draw!E66=0,\"\",Draw!E66)","v":""},"",null,null,null,null,null,null,""]
[{"$f":"IF(Draw!E67=0,\"\",Draw!E67)","v":""},"",null,null,null,null,null,null,""]
[{"$f":"IF(Draw!E68=0,\"\",Draw!E68)","v":""},"",null,null,null,null,null,null,""]
[{"$f":"IF(Draw!E69=0,\"\",Draw!E69)","v":""},{"$f":"IF(A70=\"\",\"\",B$3)","v":""},null,null,null,null,null,null,""]
[{"$f":"IF(Draw!E70=0,\"\",Draw!E70)","v":""},"",null,null,null,null,null,null,{"$f":"IF(B71=\"\",\"\",(IF(G71>0,(SUM(D71:H71)-MAX(D71:H71)-MIN(D71:H71))/3,SUM(D71:F71)/3))*B71/7.6)","v":""}]
[{"$f":"IF(Draw!E71=0,\"\",Draw!E71)","v":""},"",null,null,null,null,null,null,""]
[{"$f":"IF(Draw!E72=0,\"\",Draw!E72)","v":""},"",null,null,null,null,null,null,""]
[{"$f":"IF(Draw!E73=0,\"\",Draw!E73)","v":""},"",null,null,null,null,null,null,""]
[{"$f":"IF(Draw!E74=0,\"\",Draw!E74)","v":""},"",null,null,null,null,null,null,""]
[{"$f":"IF(Draw!E75=0,\"\",Draw!E75)","v":""},"",null,null,null,null,null,null,""]
[{"$f":"IF(Draw!E76=0,\"\",Draw!E76)","v":""},"",null,null,null,null,null,null,""]
[{"$f":"IF(Draw!E77=0,\"\",Draw!E77)","v":""},"",null,null,null,null,null,null,""]
[{"$f":"IF(Draw!E78=0,\"\",Draw!E78)","v":""},"",null,null,null,null,null,null,""]
[{"$f":"IF(Draw!E79=0,\"\",Draw!E79)","v":""},"",null,null,null,null,null,null,""]
[{"$f":"IF(Draw!E80=0,\"\",Draw!E80)","v":""},"",null,null,null,null,null,null,""]
[{"$f":"IF(Draw!E81=0,\"\",Draw!E81)","v":""},"",null,null,null,null,null,null,""]
[{"$f":"IF(Draw!E82=0,\"\",Draw!E82)","v":""},"",null,null,null,null,null,null,""]
[{"$f":"IF(Draw!E83=0,\"\",Draw!E83)","v":""},"",null,null,null,null,null,null,""]
[{"$f":"IF(Draw!E84=0,\"\",Draw!E84)","v":""},"",null,null,null,null,null,null,""]
[{"$f":"IF(Draw!E85=0,\"\",Draw!E85)","v":""},"",null,null,null,null,null,null,""]
[{"$f":"IF(Draw!E86=0,\"\",Draw!E86)","v":""},"",null,null,null,null,null,null,""]
[{"$f":"IF(Draw!E87=0,\"\",Draw!E87)","v":""},"",null,null,null,null,null,null,""]
[{"$f":"IF(Draw!E88=0,\"\",Draw!E88)","v":""},"",null,null,null,null,null,null,""]
[{"$f":"IF(Draw!E89=0,\"\",Draw!E89)","v":""},"",null,null,null,null,null,null,""]
[{"$f":"IF(Draw!E90=0,\"\",Draw!E90)","v":""},"",null,null,null,null,null,null,""]
[{"$f":"IF(Draw!E91=0,\"\",Draw!E91)","v":""},"",null,null,null,null,null,null,""]
[{"$f":"IF(Draw!E92=0,\"\",Draw!E92)","v":""},"",null,null,null,null,null,null,""]
[{"$f":"IF(Draw!E93=0,\"\",Draw!E93)","v":""},"",null,null,null,null,null,null,""]
[{"$f":"IF(Draw!E94=0,\"\",Draw!E94)","v":""},"",null,null,null,null,null,null,""]
[{"$f":"IF(Draw!E95=0,\"\",Draw!E95)","v":""},"",null,null,null,null,null,null,""]
[{"$f":"IF(Draw!E96=0,\"\",Draw!E96)","v":""},"",null,null,null,null,null,null,""]
[{"$f":"IF(Draw!E97=0,\"\",Draw!E97)","v":""},"",null,null,null,null,null,null,""]
[{"$f":"IF(Draw!E98=0,\"\",Draw!E98)","v":""},"",null,null,null,null,null,null,""]
[{"$f":"IF(Draw!E99=0,\"\",Draw!E99)","v":""},"",null,null,null,null,null,null,""]
[{"$f":"IF(Draw!E100=0,\"\",Draw!E100)","v":""},"",null,null,null,null,null,null,""]
[{"$f":"IF(Draw!E101=0,\"\",Draw!E101)","v":""},"",null,null,null,null,null,null,""]
[{"$f":"IF(Draw!E102=0,\"\",Draw!E102)","v":""},"",null,null,null,null,null,null,""]
[{"$f":"IF(Draw!E103=0,\"\",Draw!E103)","v":""},"",null,null,null,null,null,null,""]
[{"$f":"IF(Draw!E104=0,\"\",Draw!E104)","v":""},"",null,null,null,null,null,null,""]
[{"$f":"IF(Draw!E105=0,\"\",Draw!E105)","v":""},"",null,null,null,null,null,null,""]
[{"$f":"IF(Draw!E106=0,\"\",Draw!E106)","v":""},"",null,null,null,null,null,null,""]
[{"$f":"IF(Draw!E107=0,\"\",Draw!E107)","v":""},"",null,null,null,null,null,null,""]
[{"$f":"IF(Draw!E108=0,\"\",Draw!E108)","v":""},"",null,null,null,null,null,null,""]
[{"$f":"IF(Draw!E109=0,\"\",Draw!E109)","v":""},"",null,null,null,null,null,null,""]
[{"$f":"IF(Draw!E110=0,\"\",Draw!E110)","v":""},"",null,null,null,null,null,null,""]
[{"$f":"IF(Draw!E111=0,\"\",Draw!E111)","v":""},"",null,null,null,null,null,null,""]
[{"$f":"IF(Draw!E112=0,\"\",Draw!E112)","v":""},"",null,null,null,null,null,null,""]
[{"$f":"IF(Draw!E113=0,\"\",Draw!E113)","v":""},"",null,null,null,null,null,null,""]
[{"$f":"IF(Draw!E114=0,\"\",Draw!E114)","v":""},"",null,null,null,null,null,null,""]
[{"$f":"IF(Draw!E115=0,\"\",Draw!E115)","v":""},"",null,null,null,null,null,null,""]
[{"$f":"IF(Draw!E116=0,\"\",Draw!E116)","v":""},"",null,null,null,null,null,null,""]
[{"$f":"IF(Draw!E117=0,\"\",Draw!E117)","v":""},"",null,null,null,null,null,null,""]
[{"$f":"IF(Draw!E118=0,\"\",Draw!E118)","v":""},"",null,null,null,null,null,null,""]
[{"$f":"IF(Draw!E119=0,\"\",Draw!E119)","v":""},"",null,null,null,null,null,null,""]
[{"$f":"IF(Draw!E120=0,\"\",Draw!E120)","v":""},"",null,null,null,null,null,null,""]
[{"$f":"IF(Draw!E121=0,\"\",Draw!E121)","v":""},"",null,null,null,null,null,null,""]
[{"$f":"IF(Draw!E122=0,\"\",Draw!E122)","v":""},"",null,null,null,null,null,null,""]
[{"$f":"IF(Draw!E123=0,\"\",Draw!E123)","v":""},"",null,null,null,null,null,null,""]
[{"$f":"IF(Draw!E124=0,\"\",Draw!E124)","v":""},"",null,null,null,null,null,null,""]
[{"$f":"IF(Draw!E125=0,\"\",Draw!E125)","v":""},"",null,null,null,null,null,null,""]
[{"$f":"IF(Draw!E126=0,\"\",Draw!E126)","v":""},"",null,null,null,null,null,null,""]
[{"$f":"IF(Draw!E127=0,\"\",Draw!E127)","v":""},"",null,null,null,null,null,null,""]
[{"$f":"IF(Draw!E128=0,\"\",Draw!E128)","v":""},"",null,null,null,null,null,null,""]
[{"$f":"IF(Draw!E129=0,\"\",Draw!E129)","v":""},"",null,null,null,null,null,null,""]
[{"$f":"IF(Draw!E130=0,\"\",Draw!E130)","v":""},"",null,null,null,null,null,null,""]
[{"$f":"IF(Draw!E131=0,\"\",Draw!E131)","v":""},"",null,null,null,null,null,null,""]
[{"$f":"IF(Draw!E132=0,\"\",Draw!E132)","v":""},"",null,null,null,null,null,null,""]
[{"$f":"IF(Draw!E133=0,\"\",Draw!E133)","v":""},{"$f":"IF(A134=\"\",\"\",B$3)","v":""},null,null,null,null,null,null,""]
[{"$f":"IF(Draw!E134=0,\"\",Draw!E134)","v":""},"",null,null,null,null,null,null,{"$f":"IF(B135=\"\",\"\",(IF(G135>0,(SUM(D135:H135)-MAX(D135:H135)-MIN(D135:H135))/3,SUM(D135:F135)/3))*B135/7.6)","v":""}]
[{"$f":"IF(Draw!E135=0,\"\",Draw!E135)","v":""},"",null,null,null,null,null,null,""]
[{"$f":"IF(Draw!E136=0,\"\",Draw!E136)","v":""},"",null,null,null,null,null,null,""]
[{"$f":"IF(Draw!E137=0,\"\",Draw!E137)","v":""},"",null,null,null,null,null,null,""]
[{"$f":"IF(Draw!E138=0,\"\",Draw!E138)","v":""},"",null,null,null,null,null,null,""]
[{"$f":"IF(Draw!E139=0,\"\",Draw!E139)","v":""},"",null,null,null,null,null,null,""]
[{"$f":"IF(Draw!E140=0,\"\",Draw!E140)","v":""},"",null,null,null,null,null,null,""]
[{"$f":"IF(Draw!E141=0,\"\",Draw!E141)","v":""},"",null,null,null,null,null,null,""]
[{"$f":"IF(Draw!E142=0,\"\",Draw!E142)","v":""},"",null,null,null,null,null,null,""]
[{"$f":"IF(Draw!E143=0,\"\",Draw!E143)","v":""},"",null,null,null,null,null,null,""]
[{"$f":"IF(Draw!E144=0,\"\",Draw!E144)","v":""},"",null,null,null,null,null,null,""]
[{"$f":"IF(Draw!E145=0,\"\",Draw!E145)","v":""},"",null,null,null,null,null,null,""]
[{"$f":"IF(Draw!E146=0,\"\",Draw!E146)","v":""},"",null,null,null,null,null,null,""]
[{"$f":"IF(Draw!E147=0,\"\",Draw!E147)","v":""},"",null,null,null,null,null,null,""]
[{"$f":"IF(Draw!E148=0,\"\",Draw!E148)","v":""},"",null,null,null,null,null,null,""]
[{"$f":"IF(Draw!E149=0,\"\",Draw!E149)","v":""},"",null,null,null,null,null,null,""]

{"sheet":"Totals","index":5,"n_rows":151,"n_cols":51,"rows_kept":151,"cut":false,"hidden":false,"merged":[]}
["#","Swimmer","School","Total Score","Place","Figure 1","Figure 2","Figure 3","Figure 4","Penalties","Score"]
[{"$f":"IF(Draw!E5=0,\"\",Draw!E5)","v":4},"Carolin LaBord","Osseo-Maple Grove",{"$f":"IF($A2=\"\",\"\",SUM(F2:I2)-J2)","v":0},{"$f":"IF($A2=\"\",\"\",RANK(D2,D$2:D$150))","v":30},{"$f":"IF($A2=\"\",\"\",'Fig 1 Ballet Leg'!H6)","v":0},{"$f":"IF($A2=\"\",\"\",'Fig 2 Barracuda'!H6)","v":0},{"$f":"IF($A2=\"\",\"\",'Fig 3 Neptunus'!H6)","v":0},{"$f":"IF($A2=\"\",\"\",'Fig 4 Walkover'!I6)","v":0},{"$f":"IF($A2=\"\",\"\",'Fig 1 Ballet Leg'!I6+'Fig 2 Barracuda'!I6+'Fig 3 Neptunus'!I6+'Fig 4 Walkover'!J6)","v":0},{"$f":"IF($A2=\"\",\"\",IF(A2=\"\",\"\",VLOOKUP(E2,AX$3:AY$102,2,FALSE)))","v":0}]
[{"$f":"IF(Draw!E19=0,\"\",Draw!E19)","v":18},"Allison Hannann","Osseo-Maple Grove",{"$f":"IF($A3=\"\",\"\",SUM(F3:I3)-J3)","v":0},{"$f":"IF($A3=\"\",\"\",RANK(D3,D$2:D$150))","v":30},{"$f":"IF($A3=\"\",\"\",'Fig 1 Ballet Leg'!H20)","v":0},{"$f":"IF($A3=\"\",\"\",'Fig 2 Barracuda'!H20)","v":0},{"$f":"IF($A3=\"\",\"\",'Fig 3 Neptunus'!H20)","v":0},{"$f":"IF($A3=\"\",\"\",'Fig 4 Walkover'!I20)","v":0},{"$f":"IF($A3=\"\",\"\",'Fig 1 Ballet Leg'!I20+'Fig 2 Barracuda'!I20+'Fig 3 Neptunus'!I20+'Fig 4 Walkover'!J20)","v":0},{"$f":"IF($A3=\"\",\"\",IF(A3=\"\",\"\",VLOOKUP(E3,AX$3:AY$102,2,FALSE)))","v":0},null,null,null,null,null,null,null,null,null,null,null,null,null,null,null,null,null,null,null,null,null,null,null,null,null,null,null,null,null,null,null,null,null,null,null,null,null,null,1,8]
[{"$f":"IF(Draw!E29=0,\"\",Draw!E29)","v":28},"Rachel Knox","Osseo-Maple Grove",{"$f":"IF($A4=\"\",\"\",SUM(F4:I4)-J4)","v":0},{"$f":"IF($A4=\"\",\"\",RANK(D4,D$2:D$150))","v":30},{"$f":"IF($A4=\"\",\"\",'Fig 1 Ballet Leg'!H30)","v":0},{"$f":"IF($A4=\"\",\"\",'Fig 2 Barracuda'!H30)","v":0},{"$f":"IF($A4=\"\",\"\",'Fig 3 Neptunus'!H30)","v":0},{"$f":"IF($A4=\"\",\"\",'Fig 4 Walkover'!I30)","v":0},{"$f":"IF($A4=\"\",\"\",'Fig 1 Ballet Leg'!I30+'Fig 2 Barracuda'!I30+'Fig 3 Neptunus'!I30+'Fig 4 Walkover'!J30)","v":0},{"$f":"IF($A4=\"\",\"\",IF(A4=\"\",\"\",VLOOKUP(E4,AX$3:AY$102,2,FALSE)))","v":0},null,null,null,null,null,null,null,null,null,null,null,null,null,null,null,null,null,null,null,null,null,null,null,null,null,null,null,null,null,null,null,null,null,null,null,null,null,null,2,6]
[{"$f":"IF(Draw!E34=0,\"\",Draw!E34)","v":33},"Anneke DeLooze","Osseo-Maple Grove",{"$f":"IF($A5=\"\",\"\",SUM(F5:I5)-J5)","v":0},{"$f":"IF($A5=\"\",\"\",RANK(D5,D$2:D$150))","v":30},{"$f":"IF($A5=\"\",\"\",'Fig 1 Ballet Leg'!H35)","v":0},{"$f":"IF($A5=\"\",\"\",'Fig 2 Barracuda'!H35)","v":0},{"$f":"IF($A5=\"\",\"\",'Fig 3 Neptunus'!H35)","v":0},{"$f":"IF($A5=\"\",\"\",'Fig 4 Walkover'!I35)","v":0},{"$f":"IF($A5=\"\",\"\",'Fig 1 Ballet Leg'!I35+'Fig 2 Barracuda'!I35+'Fig 3 Neptunus'!I35+'Fig 4 Walkover'!J35)","v":0},{"$f":"IF($A5=\"\",\"\",IF(A5=\"\",\"\",VLOOKUP(E5,AX$3:AY$102,2,FALSE)))","v":0},null,null,null,null,null,null,null,null,null,null,null,null,null,null,null,null,null,null,null,null,null,null,null,null,null,null,null,null,null,null,null,null,null,null,null,null,null,null,3,5]
[{"$f":"IF(Draw!E14=0,\"\",Draw!E14)","v":13},"Rachel Milbauer","Forest Lake",{"$f":"IF($A6=\"\",\"\",SUM(F6:I6)-J6)","v":38.096491228070178},{"$f":"IF($A6=\"\",\"\",RANK(D6,D$2:D$150))","v":29},{"$f":"IF($A6=\"\",\"\",'Fig 1 Ballet Leg'!H15)","v":9.6842105263157912},{"$f":"IF($A6=\"\",\"\",'Fig 2 Barracuda'!H15)","v":9.1228070175438596},{"$f":"IF($A6=\"\",\"\",'Fig 3 Neptunus'!H15)","v":9.1578947368421044},{"$f":"IF($A6=\"\",\"\",'Fig 4 Walkover'!I15)","v":10.131578947368421},{"$f":"IF($A6=\"\",\"\",'Fig 1 Ballet Leg'!I15+'Fig 2 Barracuda'!I15+'Fig 3 Neptunus'!I15+'Fig 4 Walkover'!J15)","v":0},{"$f":"IF($A6=\"\",\"\",IF(A6=\"\",\"\",VLOOKUP(E6,AX$3:AY$102,2,FALSE)))","v":0},null,null,null,null,null,null,null,null,null,null,null,null,null,null,null,null,null,null,null,null,null,null,null,null,null,null,null,null,null,null,null,null,null,null,null,null,null,null,4,4]
[{"$f":"IF(Draw!E23=0,\"\",Draw!E23)","v":22},"Kelly Sullivan","Forest Lake",{"$f":"IF($A7=\"\",\"\",SUM(F7:I7)-J7)","v":40.44736842105263},{"$f":"IF($A7=\"\",\"\",RANK(D7,D$2:D$150))","v":28},{"$f":"IF($A7=\"\",\"\",'Fig 1 Ballet Leg'!H24)","v":9.4035087719298254},{"$f":"IF($A7=\"\",\"\",'Fig 2 Barracuda'!H24)","v":9.9122807017543852},{"$f":"IF($A7=\"\",\"\",'Fig 3 Neptunus'!H24)","v":9.1578947368421044},{"$f":"IF($A7=\"\",\"\",'Fig 4 Walkover'!I24)","v":11.973684210526319},{"$f":"IF($A7=\"\",\"\",'Fig 1 Ballet Leg'!I24+'Fig 2 Barracuda'!I24+'Fig 3 Neptunus'!I24+'Fig 4 Walkover'!J24)","v":0},{"$f":"IF($A7=\"\",\"\",IF(A7=\"\",\"\",VLOOKUP(E7,AX$3:AY$102,2,FALSE)))","v":0},null,null,null,null,null,null,null,null,null,null,null,null,null,null,null,null,null,null,null,null,null,null,null,null,null,null,null,null,null,null,null,null,null,null,null,null,null,null,5,3]
[{"$f":"IF(Draw!E30=0,\"\",Draw!E30)","v":29},"Emma Armitage","Forest Lake",{"$f":"IF($A8=\"\",\"\",SUM(F8:I8)-J8)","v":41.328947368421055},{"$f":"IF($A8=\"\",\"\",RANK(D8,D$2:D$150))","v":27},{"$f":"IF($A8=\"\",\"\",'Fig 1 Ballet Leg'!H31)","v":9.6140350877192979},{"$f":"IF($A8=\"\",\"\",'Fig 2 Barracuda'!H31)","v":9.3859649122807021},{"$f":"IF($A8=\"\",\"\",'Fig 3 Neptunus'!H31)","v":9.7105263157894743},{"$f":"IF($A8=\"\",\"\",'Fig 4 Walkover'!I31)","v":12.618421052631581},{"$f":"IF($A8=\"\",\"\",'Fig 1 Ballet Leg'!I31+'Fig 2 Barracuda'!I31+'Fig 3 Neptunus'!I31+'Fig 4 Walkover'!J31)","v":0},{"$f":"IF($A8=\"\",\"\",IF(A8=\"\",\"\",VLOOKUP(E8,AX$3:AY$102,2,FALSE)))","v":0},null,null,null,null,null,null,null,null,null,null,null,null,null,null,null,null,null,null,null,null,null,null,null,null,null,null,null,null,null,null,null,null,null,null,null,null,null,null,6,2]
[{"$f":"IF(Draw!E28=0,\"\",Draw!E28)","v":27},"Emily Honnold","Osseo-Maple Grove",{"$f":"IF($A9=\"\",\"\",SUM(F9:I9)-J9)","v":41.798245614035096},{"$f":"IF($A9=\"\",\"\",RANK(D9,D$2:D$150))","v":26},{"$f":"IF($A9=\"\",\"\",'Fig 1 Ballet Leg'!H29)","v":9.4035087719298254},{"$f":"IF($A9=\"\",\"\",'Fig 2 Barracuda'!H29)","v":8.9473684210526319},{"$f":"IF($A9=\"\",\"\",'Fig 3 Neptunus'!H29)","v":10.184210526315791},{"$f":"IF($A9=\"\",\"\",'Fig 4 Walkover'!I29)","v":13.263157894736844},{"$f":"IF($A9=\"\",\"\",'Fig 1 Ballet Leg'!I29+'Fig 2 Barracuda'!I29+'Fig 3 Neptunus'!I29+'Fig 4 Walkover'!J29)","v":0},{"$f":"IF($A9=\"\",\"\",IF(A9=\"\",\"\",VLOOKUP(E9,AX$3:AY$102,2,FALSE)))","v":0},null,null,null,null,null,null,null,null,null,null,null,null,null,null,null,null,null,null,null,null,null,null,null,null,null,null,null,null,null,null,null,null,null,null,null,null,null,null,7,1]
[{"$f":"IF(Draw!E21=0,\"\",Draw!E21)","v":20},"Lizzy Hentges","Forest Lake",{"$f":"IF($A10=\"\",\"\",SUM(F10:I10)-J10)","v":41.916666666666671},{"$f":"IF($A10=\"\",\"\",RANK(D10,D$2:D$150))","v":25},{"$f":"IF($A10=\"\",\"\",'Fig 1 Ballet Leg'!H22)","v":10.035087719298247},{"$f":"IF($A10=\"\",\"\",'Fig 2 Barracuda'!H22)","v":10.263157894736842},{"$f":"IF($A10=\"\",\"\",'Fig 3 Neptunus'!H22)","v":9.0000000000000018},{"$f":"IF($A10=\"\",\"\",'Fig 4 Walkover'!I22)","v":12.618421052631581},{"$f":"IF($A10=\"\",\"\",'Fig 1 Ballet Leg'!I22+'Fig 2 Barracuda'!I22+'Fig 3 Neptunus'!I22+'Fig 4 Walkover'!J22)","v":0},{"$f":"IF($A10=\"\",\"\",IF(A10=\"\",\"\",VLOOKUP(E10,AX$3:AY$102,2,FALSE)))","v":0},null,null,null,null,null,null,null,null,null,null,null,null,null,null,null,null,null,null,null,null,null,null,null,null,null,null,null,null,null,null,null,null,null,null,null,null,null,null,8,0]
[{"$f":"IF(Draw!E15=0,\"\",Draw!E15)","v":14},"Ashlyn Mackowick","Forest Lake",{"$f":"IF($A11=\"\",\"\",SUM(F11:I11)-J11)","v":42.342105263157897},{"$f":"IF($A11=\"\",\"\",RANK(D11,D$2:D$150))","v":24},{"$f":"IF($A11=\"\",\"\",'Fig 1 Ballet Leg'!H16)","v":9.6140350877192979},{"$f":"IF($A11=\"\",\"\",'Fig 2 Barracuda'!H16)","v":10.701754385964913},{"$f":"IF($A11=\"\",\"\",'Fig 3 Neptunus'!H16)","v":10.421052631578949},{"$f":"IF($A11=\"\",\"\",'Fig 4 Walkover'!I16)","v":11.605263157894738},{"$f":"IF($A11=\"\",\"\",'Fig 1 Ballet Leg'!I16+'Fig 2 Barracuda'!I16+'Fig 3 Neptunus'!I16+'Fig 4 Walkover'!J16)","v":0},{"$f":"IF($A11=\"\",\"\",IF(A11=\"\",\"\",VLOOKUP(E11,AX$3:AY$102,2,FALSE)))","v":0},null,null,null,null,null,null,null,null,null,null,null,null,null,null,null,null,null,null,null,null,null,null,null,null,null,null,null,null,null,null,null,null,null,null,null,null,null,null,9,0]
[{"$f":"IF(Draw!E33=0,\"\",Draw!E33)","v":32},"Maggie Thompson","Forest Lake",{"$f":"IF($A12=\"\",\"\",SUM(F12:I12)-J12)","v":42.486842105263158},{"$f":"IF($A12=\"\",\"\",RANK(D12,D$2:D$150))","v":23},{"$f":"IF($A12=\"\",\"\",'Fig 1 Ballet Leg'!H34)","v":8.7719298245614041},{"$f":"IF($A12=\"\",\"\",'Fig 2 Barracuda'!H34)","v":11.754385964912281},{"$f":"IF($A12=\"\",\"\",'Fig 3 Neptunus'!H34)","v":9.1578947368421044},{"$f":"IF($A12=\"\",\"\",'Fig 4 Walkover'!I34)","v":12.80263157894737},{"$f":"IF($A12=\"\",\"\",'Fig 1 Ballet Leg'!I34+'Fig 2 Barracuda'!I34+'Fig 3 Neptunus'!I34+'Fig 4 Walkover'!J34)","v":0},{"$f":"IF($A12=\"\",\"\",IF(A12=\"\",\"\",VLOOKUP(E12,AX$3:AY$102,2,FALSE)))","v":0},null,null,null,null,null,null,null,null,null,null,null,null,null,null,null,null,null,null,null,null,null,null,null,null,null,null,null,null,null,null,null,null,null,null,null,null,null,null,10,0]
[{"$f":"IF(Draw!E31=0,\"\",Draw!E31)","v":30},"Johanna Livermore","Forest Lake",{"$f":"IF($A13=\"\",\"\",SUM(F13:I13)-J13)","v":42.872807017543863},{"$f":"IF($A13=\"\",\"\",RANK(D13,D$2:D$150))","v":22},{"$f":"IF($A13=\"\",\"\",'Fig 1 Ballet Leg'!H32)","v":10.245614035087721},{"$f":"IF($A13=\"\",\"\",'Fig 2 Barracuda'!H32)","v":9.8245614035087723},{"$f":"IF($A13=\"\",\"\",'Fig 3 Neptunus'!H32)","v":10.736842105263159},{"$f":"IF($A13=\"\",\"\",'Fig 4 Walkover'!I32)","v":12.065789473684211},{"$f":"IF($A13=\"\",\"\",'Fig 1 Ballet Leg'!I32+'Fig 2 Barracuda'!I32+'Fig 3 Neptunus'!I32+'Fig 4 Walkover'!J32)","v":0},{"$f":"IF($A13=\"\",\"\",IF(A13=\"\",\"\",VLOOKUP(E13,AX$3:AY$102,2,FALSE)))","v":0},null,null,null,null,null,null,null,null,null,null,null,null,null,null,null,null,null,null,null,null,null,null,null,null,null,null,null,null,null,null,null,null,null,null,null,null,null,null,11,0]
[{"$f":"IF(Draw!E7=0,\"\",Draw!E7)","v":6},"Zoe Scholl","Forest Lake",{"$f":"IF($A14=\"\",\"\",SUM(F14:I14)-J14)","v":42.912280701754391},{"$f":"IF($A14=\"\",\"\",RANK(D14,D$2:D$150))","v":21},{"$f":"IF($A14=\"\",\"\",'Fig 1 Ballet Leg'!H8)","v":9.6842105263157912},{"$f":"IF($A14=\"\",\"\",'Fig 2 Barracuda'!H8)","v":11.228070175438596},{"$f":"IF($A14=\"\",\"\",'Fig 3 Neptunus'!H8)","v":10.026315789473685},{"$f":"IF($A14=\"\",\"\",'Fig 4 Walkover'!I8)","v":11.973684210526319},{"$f":"IF($A14=\"\",\"\",'Fig 1 Ballet Leg'!I8+'Fig 2 Barracuda'!I8+'Fig 3 Neptunus'!I8+'Fig 4 Walkover'!J8)","v":0},{"$f":"IF($A14=\"\",\"\",IF(A14=\"\",\"\",VLOOKUP(E14,AX$3:AY$102,2,FALSE)))","v":0},null,null,null,null,null,null,null,null,null,null,null,null,null,null,null,null,null,null,null,null,null,null,null,null,null,null,null,null,null,null,null,null,null,null,null,null,null,null,12,0]
[{"$f":"IF(Draw!E9=0,\"\",Draw!E9)","v":8},"Lydia Zimmerman","Forest Lake",{"$f":"IF($A15=\"\",\"\",SUM(F15:I15)-J15)","v":43.381578947368425},{"$f":"IF($A15=\"\",\"\",RANK(D15,D$2:D$150))","v":20},{"$f":"IF($A15=\"\",\"\",'Fig 1 Ballet Leg'!H10)","v":9.8245614035087723},{"$f":"IF($A15=\"\",\"\",'Fig 2 Barracuda'!H10)","v":10.175438596491228},{"$f":"IF($A15=\"\",\"\",'Fig 3 Neptunus'!H10)","v":10.026315789473685},{"$f":"IF($A15=\"\",\"\",'Fig 4 Walkover'!I10)","v":13.35526315789474},{"$f":"IF($A15=\"\",\"\",'Fig 1 Ballet Leg'!I10+'Fig 2 Barracuda'!I10+'Fig 3 Neptunus'!I10+'Fig 4 Walkover'!J10)","v":0},{"$f":"IF($A15=\"\",\"\",IF(A15=\"\",\"\",VLOOKUP(E15,AX$3:AY$102,2,FALSE)))","v":0},null,null,null,null,null,null,null,null,null,null,null,null,null,null,null,null,null,null,null,null,null,null,null,null,null,null,null,null,null,null,null,null,null,null,null,null,null,null,13,0]
[{"$f":"IF(Draw!E4=0,\"\",Draw!E4)","v":3},"Katherine Hildebrandt","Osseo-Maple Grove",{"$f":"IF($A16=\"\",\"\",SUM(F16:I16)-J16)","v":45.364035087719301},{"$f":"IF($A16=\"\",\"\",RANK(D16,D$2:D$150))","v":19},{"$f":"IF($A16=\"\",\"\",'Fig 1 Ballet Leg'!H5)","v":10.245614035087721},{"$f":"IF($A16=\"\",\"\",'Fig 2 Barracuda'!H5)","v":11.842105263157896},{"$f":"IF($A16=\"\",\"\",'Fig 3 Neptunus'!H5)","v":9.5526315789473699},{"$f":"IF($A16=\"\",\"\",'Fig 4 Walkover'!I5)","v":13.723684210526317},{"$f":"IF($A16=\"\",\"\",'Fig 1 Ballet Leg'!I5+'Fig 2 Barracuda'!I5+'Fig 3 Neptunus'!I5+'Fig 4 Walkover'!J5)","v":0},{"$f":"IF($A16=\"\",\"\",IF(A16=\"\",\"\",VLOOKUP(E16,AX$3:AY$102,2,FALSE)))","v":0},null,null,null,null,null,null,null,null,null,null,null,null,null,null,null,null,null,null,null,null,null,null,null,null,null,null,null,null,null,null,null,null,null,null,null,null,null,null,14,0]
[{"$f":"IF(Draw!E17=0,\"\",Draw!E17)","v":16},"Ellie Thiele","Forest Lake",{"$f":"IF($A17=\"\",\"\",SUM(F17:I17)-J17)","v":45.434210526315795},{"$f":"IF($A17=\"\",\"\",RANK(D17,D$2:D$150))","v":18},{"$f":"IF($A17=\"\",\"\",'Fig 1 Ballet Leg'!H18)","v":9.4736842105263168},{"$f":"IF($A17=\"\",\"\",'Fig 2 Barracuda'!H18)","v":12.105263157894738},{"$f":"IF($A17=\"\",\"\",'Fig 3 Neptunus'!H18)","v":11.052631578947368},{"$f":"IF($A17=\"\",\"\",'Fig 4 Walkover'!I18)","v":12.80263157894737},{"$f":"IF($A17=\"\",\"\",'Fig 1 Ballet Leg'!I18+'Fig 2 Barracuda'!I18+'Fig 3 Neptunus'!I18+'Fig 4 Walkover'!J18)","v":0},{"$f":"IF($A17=\"\",\"\",IF(A17=\"\",\"\",VLOOKUP(E17,AX$3:AY$102,2,FALSE)))","v":0},null,null,null,null,null,null,null,null,null,null,null,null,null,null,null,null,null,null,null,null,null,null,null,null,null,null,null,null,null,null,null,null,null,null,null,null,null,null,15,0]
[{"$f":"IF(Draw!E6=0,\"\",Draw!E6)","v":5},"Indy Walstrom","Forest Lake",{"$f":"IF($A18=\"\",\"\",SUM(F18:I18)-J18)","v":46.131578947368425},{"$f":"IF($A18=\"\",\"\",RANK(D18,D$2:D$150))","v":17},{"$f":"IF($A18=\"\",\"\",'Fig 1 Ballet Leg'!H7)","v":10.736842105263159},{"$f":"IF($A18=\"\",\"\",'Fig 2 Barracuda'!H7)","v":12.631578947368421},{"$f":"IF($A18=\"\",\"\",'Fig 3 Neptunus'!H7)","v":9.8684210526315788},{"$f":"IF($A18=\"\",\"\",'Fig 4 Walkover'!I7)","v":12.894736842105264},{"$f":"IF($A18=\"\",\"\",'Fig 1 Ballet Leg'!I7+'Fig 2 Barracuda'!I7+'Fig 3 Neptunus'!I7+'Fig 4 Walkover'!J7)","v":0},{"$f":"IF($A18=\"\",\"\",IF(A18=\"\",\"\",VLOOKUP(E18,AX$3:AY$102,2,FALSE)))","v":0},null,null,null,null,null,null,null,null,null,null,null,null,null,null,null,null,null,null,null,null,null,null,null,null,null,null,null,null,null,null,null,null,null,null,null,null,null,null,16,0]
[{"$f":"IF(Draw!E20=0,\"\",Draw!E20)","v":19},"Rylie Sampson","Forest Lake",{"$f":"IF($A19=\"\",\"\",SUM(F19:I19)-J19)","v":46.456140350877199},{"$f":"IF($A19=\"\",\"\",RANK(D19,D$2:D$150))","v":16},{"$f":"IF($A19=\"\",\"\",'Fig 1 Ballet Leg'!H21)","v":10.736842105263159},{"$f":"IF($A19=\"\",\"\",'Fig 2 Barracuda'!H21)","v":11.403508771929825},{"$f":"IF($A19=\"\",\"\",'Fig 3 Neptunus'!H21)","v":10.500000000000002},{"$f":"IF($A19=\"\",\"\",'Fig 4 Walkover'!I21)","v":13.815789473684211},{"$f":"IF($A19=\"\",\"\",'Fig 1 Ballet Leg'!I21+'Fig 2 Barracuda'!I21+'Fig 3 Neptunus'!I21+'Fig 4 Walkover'!J21)","v":0},{"$f":"IF($A19=\"\",\"\",IF(A19=\"\",\"\",VLOOKUP(E19,AX$3:AY$102,2,FALSE)))","v":0},null,null,null,null,null,null,null,null,null,null,null,null,null,null,null,null,null,null,null,null,null,null,null,null,null,null,null,null,null,null,null,null,null,null,null,null,null,null,17,0]
[{"$f":"IF(Draw!E3=0,\"\",Draw!E3)","v":2},"Ellery Mason","Osseo-Maple Grove",{"$f":"IF($A20=\"\",\"\",SUM(F20:I20)-J20)","v":46.868421052631589},{"$f":"IF($A20=\"\",\"\",RANK(D20,D$2:D$150))","v":15},{"$f":"IF($A20=\"\",\"\",'Fig 1 Ballet Leg'!H4)","v":11.157894736842108},{"$f":"IF($A20=\"\",\"\",'Fig 2 Barracuda'!H4)","v":10.789473684210527},{"$f":"IF($A20=\"\",\"\",'Fig 3 Neptunus'!H4)","v":10.184210526315791},{"$f":"IF($A20=\"\",\"\",'Fig 4 Walkover'!I4)","v":14.736842105263161},{"$f":"IF($A20=\"\",\"\",'Fig 1 Ballet Leg'!I4+'Fig 2 Barracuda'!I4+'Fig 3 Neptunus'!I4+'Fig 4 Walkover'!J4)","v":0},{"$f":"IF($A20=\"\",\"\",IF(A20=\"\",\"\",VLOOKUP(E20,AX$3:AY$102,2,FALSE)))","v":0},null,null,null,null,null,null,null,null,null,null,null,null,null,null,null,null,null,null,null,null,null,null,null,null,null,null,null,null,null,null,null,null,null,null,null,null,null,null,18,0]
[{"$f":"IF(Draw!E18=0,\"\",Draw!E18)","v":17},"Ariel Ball","Forest Lake",{"$f":"IF($A21=\"\",\"\",SUM(F21:I21)-J21)","v":47.868421052631589},{"$f":"IF($A21=\"\",\"\",RANK(D21,D$2:D$150))","v":14},{"$f":"IF($A21=\"\",\"\",'Fig 1 Ballet Leg'!H19)","v":10.736842105263159},{"$f":"IF($A21=\"\",\"\",'Fig 2 Barracuda'!H19)","v":11.578947368421053},{"$f":"IF($A21=\"\",\"\",'Fig 3 Neptunus'!H19)","v":11.368421052631581},{"$f":"IF($A21=\"\",\"\",'Fig 4 Walkover'!I19)","v":14.184210526315791},{"$f":"IF($A21=\"\",\"\",'Fig 1 Ballet Leg'!I19+'Fig 2 Barracuda'!I19+'Fig 3 Neptunus'!I19+'Fig 4 Walkover'!J19)","v":0},{"$f":"IF($A21=\"\",\"\",IF(A21=\"\",\"\",VLOOKUP(E21,AX$3:AY$102,2,FALSE)))","v":0},null,null,null,null,null,null,null,null,null,null,null,null,null,null,null,null,null,null,null,null,null,null,null,null,null,null,null,null,null,null,null,null,null,null,null,null,null,null,19,0]
[{"$f":"IF(Draw!E27=0,\"\",Draw!E27)","v":26},"Alva Westher","Forest Lake",{"$f":"IF($A22=\"\",\"\",SUM(F22:I22)-J22)","v":48.100877192982459},{"$f":"IF($A22=\"\",\"\",RANK(D22,D$2:D$150))","v":13},{"$f":"IF($A22=\"\",\"\",'Fig 1 Ballet Leg'!H28)","v":10.385964912280702},{"$f":"IF($A22=\"\",\"\",'Fig 2 Barracuda'!H28)","v":13.070175438596491},{"$f":"IF($A22=\"\",\"\",'Fig 3 Neptunus'!H28)","v":11.289473684210526},{"$f":"IF($A22=\"\",\"\",'Fig 4 Walkover'!I28)","v":13.35526315789474},{"$f":"IF($A22=\"\",\"\",'Fig 1 Ballet Leg'!I28+'Fig 2 Barracuda'!I28+'Fig 3 Neptunus'!I28+'Fig 4 Walkover'!J28)","v":0},{"$f":"IF($A22=\"\",\"\",IF(A22=\"\",\"\",VLOOKUP(E22,AX$3:AY$102,2,FALSE)))","v":0},null,null,null,null,null,null,null,null,null,null,null,null,null,null,null,null,null,null,null,null,null,null,null,null,null,null,null,null,null,null,null,null,null,null,null,null,null,null,20,0]
[{"$f":"IF(Draw!E10=0,\"\",Draw!E10)","v":9},"Margo Prentice","Osseo-Maple Grove",{"$f":"IF($A23=\"\",\"\",SUM(F23:I23)-J23)","v":48.359649122807028},{"$f":"IF($A23=\"\",\"\",RANK(D23,D$2:D$150))","v":12},{"$f":"IF($A23=\"\",\"\",'Fig 1 Ballet Leg'!H11)","v":10.385964912280702},{"$f":"IF($A23=\"\",\"\",'Fig 2 Barracuda'!H11)","v":12.105263157894738},{"$f":"IF($A23=\"\",\"\",'Fig 3 Neptunus'!H11)","v":11.684210526315791},{"$f":"IF($A23=\"\",\"\",'Fig 4 Walkover'!I11)","v":14.184210526315791},{"$f":"IF($A23=\"\",\"\",'Fig 1 Ballet Leg'!I11+'Fig 2 Barracuda'!I11+'Fig 3 Neptunus'!I11+'Fig 4 Walkover'!J11)","v":0},{"$f":"IF($A23=\"\",\"\",IF(A23=\"\",\"\",VLOOKUP(E23,AX$3:AY$102,2,FALSE)))","v":0},null,null,null,null,null,null,null,null,null,null,null,null,null,null,null,null,null,null,null,null,null,null,null,null,null,null,null,null,null,null,null,null,null,null,null,null,null,null,21,0]
[{"$f":"IF(Draw!E24=0,\"\",Draw!E24)","v":23},"Haley Heiss","Osseo-Maple Grove",{"$f":"IF($A24=\"\",\"\",SUM(F24:I24)-J24)","v":48.381578947368425},{"$f":"IF($A24=\"\",\"\",RANK(D24,D$2:D$150))","v":11},{"$f":"IF($A24=\"\",\"\",'Fig 1 Ballet Leg'!H25)","v":10.666666666666666},{"$f":"IF($A24=\"\",\"\",'Fig 2 Barracuda'!H25)","v":12.543859649122806},{"$f":"IF($A24=\"\",\"\",'Fig 3 Neptunus'!H25)","v":10.894736842105264},{"$f":"IF($A24=\"\",\"\",'Fig 4 Walkover'!I25)","v":14.276315789473685},{"$f":"IF($A24=\"\",\"\",'Fig 1 Ballet Leg'!I25+'Fig 2 Barracuda'!I25+'Fig 3 Neptunus'!I25+'Fig 4 Walkover'!J25)","v":0},{"$f":"IF($A24=\"\",\"\",IF(A24=\"\",\"\",VLOOKUP(E24,AX$3:AY$102,2,FALSE)))","v":0},null,null,null,null,null,null,null,null,null,null,null,null,null,null,null,null,null,null,null,null,null,null,null,null,null,null,null,null,null,null,null,null,null,null,null,null,null,null,22,0]
[{"$f":"IF(Draw!E22=0,\"\",Draw!E22)","v":21},"Heidi Hyrkas","Forest Lake",{"$f":"IF($A25=\"\",\"\",SUM(F25:I25)-J25)","v":48.548245614035089},{"$f":"IF($A25=\"\",\"\",RANK(D25,D$2:D$150))","v":10},{"$f":"IF($A25=\"\",\"\",'Fig 1 Ballet Leg'!H23)","v":9.6140350877192979},{"$f":"IF($A25=\"\",\"\",'Fig 2 Barracuda'!H23)","v":12.894736842105264},{"$f":"IF($A25=\"\",\"\",'Fig 3 Neptunus'!H23)","v":11.763157894736841},{"$f":"IF($A25=\"\",\"\",'Fig 4 Walkover'!I23)","v":14.276315789473685},{"$f":"IF($A25=\"\",\"\",'Fig 1 Ballet Leg'!I23+'Fig 2 Barracuda'!I23+'Fig 3 Neptunus'!I23+'Fig 4 Walkover'!J23)","v":0},{"$f":"IF($A25=\"\",\"\",IF(A25=\"\",\"\",VLOOKUP(E25,AX$3:AY$102,2,FALSE)))","v":0},null,null,null,null,null,null,null,null,null,null,null,null,null,null,null,null,null,null,null,null,null,null,null,null,null,null,null,null,null,null,null,null,null,null,null,null,null,null,23,0]
[{"$f":"IF(Draw!E12=0,\"\",Draw!E12)","v":11},"Heather Breidenbach","Osseo-Maple Grove",{"$f":"IF($A26=\"\",\"\",SUM(F26:I26)-J26)","v":48.969298245614041},{"$f":"IF($A26=\"\",\"\",RANK(D26,D$2:D$150))","v":9},{"$f":"IF($A26=\"\",\"\",'Fig 1 Ballet Leg'!H13)","v":9.6140350877192979},{"$f":"IF($A26=\"\",\"\",'Fig 2 Barracuda'!H13)","v":13.157894736842106},{"$f":"IF($A26=\"\",\"\",'Fig 3 Neptunus'!H13)","v":11.368421052631581},{"$f":"IF($A26=\"\",\"\",'Fig 4 Walkover'!I13)","v":14.828947368421053},{"$f":"IF($A26=\"\",\"\",'Fig 1 Ballet Leg'!I13+'Fig 2 Barracuda'!I13+'Fig 3 Neptunus'!I13+'Fig 4 Walkover'!J13)","v":0},{"$f":"IF($A26=\"\",\"\",IF(A26=\"\",\"\",VLOOKUP(E26,AX$3:AY$102,2,FALSE)))","v":0},null,null,null,null,null,null,null,null,null,null,null,null,null,null,null,null,null,null,null,null,null,null,null,null,null,null,null,null,null,null,null,null,null,null,null,null,null,null,24,0]
[{"$f":"IF(Draw!E26=0,\"\",Draw!E26)","v":25},"Madison Peters","Osseo-Maple Grove",{"$f":"IF($A27=\"\",\"\",SUM(F27:I27)-J27)","v":49.096491228070178},{"$f":"IF($A27=\"\",\"\",RANK(D27,D$2:D$150))","v":8},{"$f":"IF($A27=\"\",\"\",'Fig 1 Ballet Leg'!H27)","v":10.105263157894738},{"$f":"IF($A27=\"\",\"\",'Fig 2 Barracuda'!H27)","v":13.596491228070175},{"$f":"IF($A27=\"\",\"\",'Fig 3 Neptunus'!H27)","v":11.210526315789474},{"$f":"IF($A27=\"\",\"\",'Fig 4 Walkover'!I27)","v":14.184210526315791},{"$f":"IF($A27=\"\",\"\",'Fig 1 Ballet Leg'!I27+'Fig 2 Barracuda'!I27+'Fig 3 Neptunus'!I27+'Fig 4 Walkover'!J27)","v":0},{"$f":"IF($A27=\"\",\"\",IF(A27=\"\",\"\",VLOOKUP(E27,AX$3:AY$102,2,FALSE)))","v":0},null,null,null,null,null,null,null,null,null,null,null,null,null,null,null,null,null,null,null,null,null,null,null,null,null,null,null,null,null,null,null,null,null,null,null,null,null,null,25,0]
[{"$f":"IF(Draw!E25=0,\"\",Draw!E25)","v":24},"Katelyn Molin","Osseo-Maple Grove",{"$f":"IF($A28=\"\",\"\",SUM(F28:I28)-J28)","v":49.228070175438603},{"$f":"IF($A28=\"\",\"\",RANK(D28,D$2:D$150))","v":7},{"$f":"IF($A28=\"\",\"\",'Fig 1 Ballet Leg'!H26)","v":11.087719298245615},{"$f":"IF($A28=\"\",\"\",'Fig 2 Barracuda'!H26)","v":13.508771929824563},{"$f":"IF($A28=\"\",\"\",'Fig 3 Neptunus'!H26)","v":10.815789473684211},{"$f":"IF($A28=\"\",\"\",'Fig 4 Walkover'!I26)","v":13.815789473684211},{"$f":"IF($A28=\"\",\"\",'Fig 1 Ballet Leg'!I26+'Fig 2 Barracuda'!I26+'Fig 3 Neptunus'!I26+'Fig 4 Walkover'!J26)","v":0},{"$f":"IF($A28=\"\",\"\",IF(A28=\"\",\"\",VLOOKUP(E28,AX$3:AY$102,2,FALSE)))","v":1},null,null,null,null,null,null,null,null,null,null,null,null,null,null,null,null,null,null,null,null,null,null,null,null,null,null,null,null,null,null,null,null,null,null,null,null,null,null,26,0]
[{"$f":"IF(Draw!E13=0,\"\",Draw!E13)","v":12},"Katherine Olsen","Osseo-Maple Grove",{"$f":"IF($A29=\"\",\"\",SUM(F29:I29)-J29)","v":49.385964912280713},{"$f":"IF($A29=\"\",\"\",RANK(D29,D$2:D$150))","v":6},{"$f":"IF($A29=\"\",\"\",'Fig 1 Ballet Leg'!H14)","v":11.017543859649125},{"$f":"IF($A29=\"\",\"\",'Fig 2 Barracuda'!H14)","v":12.631578947368421},{"$f":"IF($A29=\"\",\"\",'Fig 3 Neptunus'!H14)","v":11.368421052631581},{"$f":"IF($A29=\"\",\"\",'Fig 4 Walkover'!I14)","v":14.368421052631581},{"$f":"IF($A29=\"\",\"\",'Fig 1 Ballet Leg'!I14+'Fig 2 Barracuda'!I14+'Fig 3 Neptunus'!I14+'Fig 4 Walkover'!J14)","v":0},{"$f":"IF($A29=\"\",\"\",IF(A29=\"\",\"\",VLOOKUP(E29,AX$3:AY$102,2,FALSE)))","v":2},null,null,null,null,null,null,null,null,null,null,null,null,null,null,null,null,null,null,null,null,null,null,null,null,null,null,null,null,null,null,null,null,null,null,null,null,null,null,27,0]
[{"$f":"IF(Draw!E8=0,\"\",Draw!E8)","v":7},"Alexandra Trudeau","Osseo-Maple Grove",{"$f":"IF($A30=\"\",\"\",SUM(F30:I30)-J30)","v":49.662280701754391},{"$f":"IF($A30=\"\",\"\",RANK(D30,D$2:D$150))","v":5},{"$f":"IF($A30=\"\",\"\",'Fig 1 Ballet Leg'!H9)","v":11.017543859649125},{"$f":"IF($A30=\"\",\"\",'Fig 2 Barracuda'!H9)","v":12.894736842105264},{"$f":"IF($A30=\"\",\"\",'Fig 3 Neptunus'!H9)","v":11.289473684210526},{"$f":"IF($A30=\"\",\"\",'Fig 4 Walkover'!I9)","v":14.460526315789474},{"$f":"IF($A30=\"\",\"\",'Fig 1 Ballet Leg'!I9+'Fig 2 Barracuda'!I9+'Fig 3 Neptunus'!I9+'Fig 4 Walkover'!J9)","v":0},{"$f":"IF($A30=\"\",\"\",IF(A30=\"\",\"\",VLOOKUP(E30,AX$3:AY$102,2,FALSE)))","v":3},null,null,null,null,null,null,null,null,null,null,null,null,null,null,null,null,null,null,null,null,null,null,null,null,null,null,null,null,null,null,null,null,null,null,null,null,null,null,28,0]
[{"$f":"IF(Draw!E2=0,\"\",Draw!E2)","v":1},"Jenna Stockinger","Forest Lake",{"$f":"IF($A31=\"\",\"\",SUM(F31:I31)-J31)","v":50.767543859649123},{"$f":"IF($A31=\"\",\"\",RANK(D31,D$2:D$150))","v":4},{"$f":"IF($A31=\"\",\"\",'Fig 1 Ballet Leg'!H3)","v":10.736842105263159},{"$f":"IF($A31=\"\",\"\",'Fig 2 Barracuda'!H3)","v":14.12280701754386},{"$f":"IF($A31=\"\",\"\",'Fig 3 Neptunus'!H3)","v":11.447368421052632},{"$f":"IF($A31=\"\",\"\",'Fig 4 Walkover'!I3)","v":14.460526315789474},{"$f":"IF($A31=\"\",\"\",'Fig 1 Ballet Leg'!I3+'Fig 2 Barracuda'!I3+'Fig 3 Neptunus'!I3+'Fig 4 Walkover'!J3)","v":0},{"$f":"IF($A31=\"\",\"\",IF(A31=\"\",\"\",VLOOKUP(E31,AX$3:AY$102,2,FALSE)))","v":4},null,null,null,null,null,null,null,null,null,null,null,null,null,null,null,null,null,null,null,null,null,null,null,null,null,null,null,null,null,null,null,null,null,null,null,null,null,null,29,0]
[{"$f":"IF(Draw!E32=0,\"\",Draw!E32)","v":31},"Mckinley Leavitt","Forest Lake",{"$f":"IF($A32=\"\",\"\",SUM(F32:I32)-J32)","v":52.092105263157897},{"$f":"IF($A32=\"\",\"\",RANK(D32,D$2:D$150))","v":3},{"$f":"IF($A32=\"\",\"\",'Fig 1 Ballet Leg'!H33)","v":10.315789473684212},{"$f":"IF($A32=\"\",\"\",'Fig 2 Barracuda'!H33)","v":14.473684210526317},{"$f":"IF($A32=\"\",\"\",'Fig 3 Neptunus'!H33)","v":12.473684210526317},{"$f":"IF($A32=\"\",\"\",'Fig 4 Walkover'!I33)","v":14.828947368421053},{"$f":"IF($A32=\"\",\"\",'Fig 1 Ballet Leg'!I33+'Fig 2 Barracuda'!I33+'Fig 3 Neptunus'!I33+'Fig 4 Walkover'!J33)","v":0},{"$f":"IF($A32=\"\",\"\",IF(A32=\"\",\"\",VLOOKUP(E32,AX$3:AY$102,2,FALSE)))","v":5},null,null,null,null,null,null,null,null,null,null,null,null,null,null,null,null,null,null,null,null,null,null,null,null,null,null,null,null,null,null,null,null,null,null,null,null,null,null,30,0]
[{"$f":"IF(Draw!E16=0,\"\",Draw!E16)","v":15},"Zoe Waldron","Osseo-Maple Grove",{"$f":"IF($A33=\"\",\"\",SUM(F33:I33)-J33)","v":52.596491228070178},{"$f":"IF($A33=\"\",\"\",RANK(D33,D$2:D$150))","v":2},{"$f":"IF($A33=\"\",\"\",'Fig 1 Ballet Leg'!H17)","v":11.789473684210527},{"$f":"IF($A33=\"\",\"\",'Fig 2 Barracuda'!H17)","v":14.12280701754386},{"$f":"IF($A33=\"\",\"\",'Fig 3 Neptunus'!H17)","v":11.763157894736841},{"$f":"IF($A33=\"\",\"\",'Fig 4 Walkover'!I17)","v":14.921052631578949},{"$f":"IF($A33=\"\",\"\",'Fig 1 Ballet Leg'!I17+'Fig 2 Barracuda'!I17+'Fig 3 Neptunus'!I17+'Fig 4 Walkover'!J17)","v":0},{"$f":"IF($A33=\"\",\"\",IF(A33=\"\",\"\",VLOOKUP(E33,AX$3:AY$102,2,FALSE)))","v":6},null,null,null,null,null,null,null,null,null,null,null,null,null,null,null,null,null,null,null,null,null,null,null,null,null,null,null,null,null,null,null,null,null,null,null,null,null,null,31,0]
[{"$f":"IF(Draw!E11=0,\"\",Draw!E11)","v":10},"Paige Anderson","Forest Lake",{"$f":"IF($A34=\"\",\"\",SUM(F34:I34)-J34)","v":52.885964912280706},{"$f":"IF($A34=\"\",\"\",RANK(D34,D$2:D$150))","v":1},{"$f":"IF($A34=\"\",\"\",'Fig 1 Ballet Leg'!H12)","v":11.157894736842108},{"$f":"IF($A34=\"\",\"\",'Fig 2 Barracuda'!H12)","v":14.649122807017545},{"$f":"IF($A34=\"\",\"\",'Fig 3 Neptunus'!H12)","v":12.710526315789474},{"$f":"IF($A34=\"\",\"\",'Fig 4 Walkover'!I12)","v":14.368421052631581},{"$f":"IF($A34=\"\",\"\",'Fig 1 Ballet Leg'!I12+'Fig 2 Barracuda'!I12+'Fig 3 Neptunus'!I12+'Fig 4 Walkover'!J12)","v":0},{"$f":"IF($A34=\"\",\"\",IF(A34=\"\",\"\",VLOOKUP(E34,AX$3:AY$102,2,FALSE)))","v":8},null,null,null,null,null,null,null,null,null,null,null,null,null,null,null,null,null,null,null,null,null,null,null,null,null,null,null,null,null,null,null,null,null,null,null,null,null,null,32,0]
[{"$f":"IF(Draw!E35=0,\"\",Draw!E35)","v":""},null,null,{"$f":"IF($A35=\"\",\"\",SUM(F35:I35)-J35)","v":""},{"$f":"IF($A35=\"\",\"\",RANK(D35,D$2:D$150))","v":""},{"$f":"IF($A35=\"\",\"\",'Fig 1 Ballet Leg'!H36)","v":""},{"$f":"IF($A35=\"\",\"\",'Fig 2 Barracuda'!H36)","v":""},{"$f":"IF($A35=\"\",\"\",'Fig 3 Neptunus'!H36)","v":""},{"$f":"IF($A35=\"\",\"\",'Fig 4 Walkover'!I36)","v":""},{"$f":"IF($A35=\"\",\"\",'Fig 1 Ballet Leg'!I36+'Fig 2 Barracuda'!I36+'Fig 3 Neptunus'!I36+'Fig 4 Walkover'!J36)","v":""},{"$f":"IF($A35=\"\",\"\",IF(A35=\"\",\"\",VLOOKUP(E35,AX$3:AY$102,2,FALSE)))","v":""},null,null,null,null,null,null,null,null,null,null,null,null,null,null,null,null,null,null,null,null,null,null,null,null,null,null,null,null,null,null,null,null,null,null,null,null,null,null,33,0]
[{"$f":"IF(Draw!E36=0,\"\",Draw!E36)","v":""},null,null,"","",{"$f":"IF($A36=\"\",\"\",'Fig 1 Ballet Leg'!H37)","v":""},{"$f":"IF($A36=\"\",\"\",'Fig 2 Barracuda'!H37)","v":""},{"$f":"IF($A36=\"\",\"\",'Fig 3 Neptunus'!H37)","v":""},{"$f":"IF($A36=\"\",\"\",'Fig 4 Walkover'!I37)","v":""},{"$f":"IF($A36=\"\",\"\",'Fig 1 Ballet Leg'!I37+'Fig 2 Barracuda'!I37+'Fig 3 Neptunus'!I37+'Fig 4 Walkover'!J37)","v":""},"",null,null,null,null,null,null,null,null,null,null,null,null,null,null,null,null,null,null,null,null,null,null,null,null,null,null,null,null,null,null,null,null,null,null,null,null,null,null,34,0]
[{"$f":"IF(Draw!E37=0,\"\",Draw!E37)","v":""},null,null,"","",{"$f":"IF($A37=\"\",\"\",'Fig 1 Ballet Leg'!H38)","v":""},{"$f":"IF($A37=\"\",\"\",'Fig 2 Barracuda'!H38)","v":""},{"$f":"IF($A37=\"\",\"\",'Fig 3 Neptunus'!H38)","v":""},{"$f":"IF($A37=\"\",\"\",'Fig 4 Walkover'!I38)","v":""},{"$f":"IF($A37=\"\",\"\",'Fig 1 Ballet Leg'!I38+'Fig 2 Barracuda'!I38+'Fig 3 Neptunus'!I38+'Fig 4 Walkover'!J38)","v":""},"",null,null,null,null,null,null,null,null,null,null,null,null,null,null,null,null,null,null,null,null,null,null,null,null,null,null,null,null,null,null,null,null,null,null,null,null,null,null,35,0]
[{"$f":"IF(Draw!E38=0,\"\",Draw!E38)","v":""},null,null,"","",{"$f":"IF($A38=\"\",\"\",'Fig 1 Ballet Leg'!H39)","v":""},{"$f":"IF($A38=\"\",\"\",'Fig 2 Barracuda'!H39)","v":""},{"$f":"IF($A38=\"\",\"\",'Fig 3 Neptunus'!H39)","v":""},{"$f":"IF($A38=\"\",\"\",'Fig 4 Walkover'!I39)","v":""},{"$f":"IF($A38=\"\",\"\",'Fig 1 Ballet Leg'!I39+'Fig 2 Barracuda'!I39+'Fig 3 Neptunus'!I39+'Fig 4 Walkover'!J39)","v":""},"",null,null,null,null,null,null,null,null,null,null,null,null,null,null,null,null,null,null,null,null,null,null,null,null,null,null,null,null,null,null,null,null,null,null,null,null,null,null,36,0]
[{"$f":"IF(Draw!E39=0,\"\",Draw!E39)","v":""},null,null,"","",{"$f":"IF($A39=\"\",\"\",'Fig 1 Ballet Leg'!H40)","v":""},{"$f":"IF($A39=\"\",\"\",'Fig 2 Barracuda'!H40)","v":""},{"$f":"IF($A39=\"\",\"\",'Fig 3 Neptunus'!H40)","v":""},{"$f":"IF($A39=\"\",\"\",'Fig 4 Walkover'!I40)","v":""},{"$f":"IF($A39=\"\",\"\",'Fig 1 Ballet Leg'!I40+'Fig 2 Barracuda'!I40+'Fig 3 Neptunus'!I40+'Fig 4 Walkover'!J40)","v":""},"",null,null,null,null,null,null,null,null,null,null,null,null,null,null,null,null,null,null,null,null,null,null,null,null,null,null,null,null,null,null,null,null,null,null,null,null,null,null,37,0]
[{"$f":"IF(Draw!E40=0,\"\",Draw!E40)","v":""},null,null,"","",{"$f":"IF($A40=\"\",\"\",'Fig 1 Ballet Leg'!H41)","v":""},{"$f":"IF($A40=\"\",\"\",'Fig 2 Barracuda'!H41)","v":""},{"$f":"IF($A40=\"\",\"\",'Fig 3 Neptunus'!H41)","v":""},{"$f":"IF($A40=\"\",\"\",'Fig 4 Walkover'!I41)","v":""},{"$f":"IF($A40=\"\",\"\",'Fig 1 Ballet Leg'!I41+'Fig 2 Barracuda'!I41+'Fig 3 Neptunus'!I41+'Fig 4 Walkover'!J41)","v":""},"",null,null,null,null,null,null,null,null,null,null,null,null,null,null,null,null,null,null,null,null,null,null,null,null,null,null,null,null,null,null,null,null,null,null,null,null,null,null,38,0]
[{"$f":"IF(Draw!E41=0,\"\",Draw!E41)","v":""},null,null,"","",{"$f":"IF($A41=\"\",\"\",'Fig 1 Ballet Leg'!H42)","v":""},{"$f":"IF($A41=\"\",\"\",'Fig 2 Barracuda'!H42)","v":""},{"$f":"IF($A41=\"\",\"\",'Fig 3 Neptunus'!H42)","v":""},{"$f":"IF($A41=\"\",\"\",'Fig 4 Walkover'!I42)","v":""},{"$f":"IF($A41=\"\",\"\",'Fig 1 Ballet Leg'!I42+'Fig 2 Barracuda'!I42+'Fig 3 Neptunus'!I42+'Fig 4 Walkover'!J42)","v":""},"",null,null,null,null,null,null,null,null,null,null,null,null,null,null,null,null,null,null,null,null,null,null,null,null,null,null,null,null,null,null,null,null,null,null,null,null,null,null,39,0]
[{"$f":"IF(Draw!E42=0,\"\",Draw!E42)","v":""},null,null,"","",{"$f":"IF($A42=\"\",\"\",'Fig 1 Ballet Leg'!H43)","v":""},{"$f":"IF($A42=\"\",\"\",'Fig 2 Barracuda'!H43)","v":""},{"$f":"IF($A42=\"\",\"\",'Fig 3 Neptunus'!H43)","v":""},{"$f":"IF($A42=\"\",\"\",'Fig 4 Walkover'!I43)","v":""},{"$f":"IF($A42=\"\",\"\",'Fig 1 Ballet Leg'!I43+'Fig 2 Barracuda'!I43+'Fig 3 Neptunus'!I43+'Fig 4 Walkover'!J43)","v":""},"",null,null,null,null,null,null,null,null,null,null,null,null,null,null,null,null,null,null,null,null,null,null,null,null,null,null,null,null,null,null,null,null,null,null,null,null,null,null,40,0]
[{"$f":"IF(Draw!E43=0,\"\",Draw!E43)","v":""},null,null,"","",{"$f":"IF($A43=\"\",\"\",'Fig 1 Ballet Leg'!H44)","v":""},{"$f":"IF($A43=\"\",\"\",'Fig 2 Barracuda'!H44)","v":""},{"$f":"IF($A43=\"\",\"\",'Fig 3 Neptunus'!H44)","v":""},{"$f":"IF($A43=\"\",\"\",'Fig 4 Walkover'!I44)","v":""},{"$f":"IF($A43=\"\",\"\",'Fig 1 Ballet Leg'!I44+'Fig 2 Barracuda'!I44+'Fig 3 Neptunus'!I44+'Fig 4 Walkover'!J44)","v":""},"",null,null,null,null,null,null,null,null,null,null,null,null,null,null,null,null,null,null,null,null,null,null,null,null,null,null,null,null,null,null,null,null,null,null,null,null,null,null,41,0]
[{"$f":"IF(Draw!E44=0,\"\",Draw!E44)","v":""},null,null,"","",{"$f":"IF($A44=\"\",\"\",'Fig 1 Ballet Leg'!H45)","v":""},{"$f":"IF($A44=\"\",\"\",'Fig 2 Barracuda'!H45)","v":""},{"$f":"IF($A44=\"\",\"\",'Fig 3 Neptunus'!H45)","v":""},{"$f":"IF($A44=\"\",\"\",'Fig 4 Walkover'!I45)","v":""},{"$f":"IF($A44=\"\",\"\",'Fig 1 Ballet Leg'!I45+'Fig 2 Barracuda'!I45+'Fig 3 Neptunus'!I45+'Fig 4 Walkover'!J45)","v":""},"",null,null,null,null,null,null,null,null,null,null,null,null,null,null,null,null,null,null,null,null,null,null,null,null,null,null,null,null,null,null,null,null,null,null,null,null,null,null,42,0]
[{"$f":"IF(Draw!E45=0,\"\",Draw!E45)","v":""},null,null,"","",{"$f":"IF($A45=\"\",\"\",'Fig 1 Ballet Leg'!H46)","v":""},{"$f":"IF($A45=\"\",\"\",'Fig 2 Barracuda'!H46)","v":""},{"$f":"IF($A45=\"\",\"\",'Fig 3 Neptunus'!H46)","v":""},{"$f":"IF($A45=\"\",\"\",'Fig 4 Walkover'!I46)","v":""},{"$f":"IF($A45=\"\",\"\",'Fig 1 Ballet Leg'!I46+'Fig 2 Barracuda'!I46+'Fig 3 Neptunus'!I46+'Fig 4 Walkover'!J46)","v":""},"",null,null,null,null,null,null,null,null,null,null,null,null,null,null,null,null,null,null,null,null,null,null,null,null,null,null,null,null,null,null,null,null,null,null,null,null,null,null,43,0]
[{"$f":"IF(Draw!E46=0,\"\",Draw!E46)","v":""},null,null,"","",{"$f":"IF($A46=\"\",\"\",'Fig 1 Ballet Leg'!H47)","v":""},{"$f":"IF($A46=\"\",\"\",'Fig 2 Barracuda'!H47)","v":""},{"$f":"IF($A46=\"\",\"\",'Fig 3 Neptunus'!H47)","v":""},{"$f":"IF($A46=\"\",\"\",'Fig 4 Walkover'!I47)","v":""},{"$f":"IF($A46=\"\",\"\",'Fig 1 Ballet Leg'!I47+'Fig 2 Barracuda'!I47+'Fig 3 Neptunus'!I47+'Fig 4 Walkover'!J47)","v":""},"",null,null,null,null,null,null,null,null,null,null,null,null,null,null,null,null,null,null,null,null,null,null,null,null,null,null,null,null,null,null,null,null,null,null,null,null,null,null,44,0]
[{"$f":"IF(Draw!E47=0,\"\",Draw!E47)","v":""},null,null,"","",{"$f":"IF($A47=\"\",\"\",'Fig 1 Ballet Leg'!H48)","v":""},{"$f":"IF($A47=\"\",\"\",'Fig 2 Barracuda'!H48)","v":""},{"$f":"IF($A47=\"\",\"\",'Fig 3 Neptunus'!H48)","v":""},{"$f":"IF($A47=\"\",\"\",'Fig 4 Walkover'!I48)","v":""},{"$f":"IF($A47=\"\",\"\",'Fig 1 Ballet Leg'!I48+'Fig 2 Barracuda'!I48+'Fig 3 Neptunus'!I48+'Fig 4 Walkover'!J48)","v":""},"",null,null,null,null,null,null,null,null,null,null,null,null,null,null,null,null,null,null,null,null,null,null,null,null,null,null,null,null,null,null,null,null,null,null,null,null,null,null,45,0]
[{"$f":"IF(Draw!E48=0,\"\",Draw!E48)","v":""},null,null,"","",{"$f":"IF($A48=\"\",\"\",'Fig 1 Ballet Leg'!H49)","v":""},{"$f":"IF($A48=\"\",\"\",'Fig 2 Barracuda'!H49)","v":""},{"$f":"IF($A48=\"\",\"\",'Fig 3 Neptunus'!H49)","v":""},{"$f":"IF($A48=\"\",\"\",'Fig 4 Walkover'!I49)","v":""},{"$f":"IF($A48=\"\",\"\",'Fig 1 Ballet Leg'!I49+'Fig 2 Barracuda'!I49+'Fig 3 Neptunus'!I49+'Fig 4 Walkover'!J49)","v":""},"",null,null,null,null,null,null,null,null,null,null,null,null,null,null,null,null,null,null,null,null,null,null,null,null,null,null,null,null,null,null,null,null,null,null,null,null,null,null,46,0]
[{"$f":"IF(Draw!E49=0,\"\",Draw!E49)","v":""},null,null,"","",{"$f":"IF($A49=\"\",\"\",'Fig 1 Ballet Leg'!H50)","v":""},{"$f":"IF($A49=\"\",\"\",'Fig 2 Barracuda'!H50)","v":""},{"$f":"IF($A49=\"\",\"\",'Fig 3 Neptunus'!H50)","v":""},{"$f":"IF($A49=\"\",\"\",'Fig 4 Walkover'!I50)","v":""},{"$f":"IF($A49=\"\",\"\",'Fig 1 Ballet Leg'!I50+'Fig 2 Barracuda'!I50+'Fig 3 Neptunus'!I50+'Fig 4 Walkover'!J50)","v":""},"",null,null,null,null,null,null,null,null,null,null,null,null,null,null,null,null,null,null,null,null,null,null,null,null,null,null,null,null,null,null,null,null,null,null,null,null,null,null,47,0]
[{"$f":"IF(Draw!E50=0,\"\",Draw!E50)","v":""},null,null,"","",{"$f":"IF($A50=\"\",\"\",'Fig 1 Ballet Leg'!H51)","v":""},{"$f":"IF($A50=\"\",\"\",'Fig 2 Barracuda'!H51)","v":""},{"$f":"IF($A50=\"\",\"\",'Fig 3 Neptunus'!H51)","v":""},{"$f":"IF($A50=\"\",\"\",'Fig 4 Walkover'!I51)","v":""},{"$f":"IF($A50=\"\",\"\",'Fig 1 Ballet Leg'!I51+'Fig 2 Barracuda'!I51+'Fig 3 Neptunus'!I51+'Fig 4 Walkover'!J51)","v":""},"",null,null,null,null,null,null,null,null,null,null,null,null,null,null,null,null,null,null,null,null,null,null,null,null,null,null,null,null,null,null,null,null,null,null,null,null,null,null,48,0]
[{"$f":"IF(Draw!E51=0,\"\",Draw!E51)","v":""},null,null,"","",{"$f":"IF($A51=\"\",\"\",'Fig 1 Ballet Leg'!H52)","v":""},{"$f":"IF($A51=\"\",\"\",'Fig 2 Barracuda'!H52)","v":""},{"$f":"IF($A51=\"\",\"\",'Fig 3 Neptunus'!H52)","v":""},{"$f":"IF($A51=\"\",\"\",'Fig 4 Walkover'!I52)","v":""},{"$f":"IF($A51=\"\",\"\",'Fig 1 Ballet Leg'!I52+'Fig 2 Barracuda'!I52+'Fig 3 Neptunus'!I52+'Fig 4 Walkover'!J52)","v":""},"",null,null,null,null,null,null,null,null,null,null,null,null,null,null,null,null,null,null,null,null,null,null,null,null,null,null,null,null,null,null,null,null,null,null,null,null,null,null,49,0]
[{"$f":"IF(Draw!E52=0,\"\",Draw!E52)","v":""},null,null,"","",{"$f":"IF($A52=\"\",\"\",'Fig 1 Ballet Leg'!H53)","v":""},{"$f":"IF($A52=\"\",\"\",'Fig 2 Barracuda'!H53)","v":""},{"$f":"IF($A52=\"\",\"\",'Fig 3 Neptunus'!H53)","v":""},{"$f":"IF($A52=\"\",\"\",'Fig 4 Walkover'!I53)","v":""},{"$f":"IF($A52=\"\",\"\",'Fig 1 Ballet Leg'!I53+'Fig 2 Barracuda'!I53+'Fig 3 Neptunus'!I53+'Fig 4 Walkover'!J53)","v":""},"",null,null,null,null,null,null,null,null,null,null,null,null,null,null,null,null,null,null,null,null,null,null,null,null,null,null,null,null,null,null,null,null,null,null,null,null,null,null,50,0]
[{"$f":"IF(Draw!E53=0,\"\",Draw!E53)","v":""},null,null,"","",{"$f":"IF($A53=\"\",\"\",'Fig 1 Ballet Leg'!H54)","v":""},{"$f":"IF($A53=\"\",\"\",'Fig 2 Barracuda'!H54)","v":""},{"$f":"IF($A53=\"\",\"\",'Fig 3 Neptunus'!H54)","v":""},{"$f":"IF($A53=\"\",\"\",'Fig 4 Walkover'!I54)","v":""},{"$f":"IF($A53=\"\",\"\",'Fig 1 Ballet Leg'!I54+'Fig 2 Barracuda'!I54+'Fig 3 Neptunus'!I54+'Fig 4 Walkover'!J54)","v":""},"",null,null,null,null,null,null,null,null,null,null,null,null,null,null,null,null,null,null,null,null,null,null,null,null,null,null,null,null,null,null,null,null,null,null,null,null,null,null,51,0]
[{"$f":"IF(Draw!E54=0,\"\",Draw!E54)","v":""},null,null,"","",{"$f":"IF($A54=\"\",\"\",'Fig 1 Ballet Leg'!H55)","v":""},{"$f":"IF($A54=\"\",\"\",'Fig 2 Barracuda'!H55)","v":""},{"$f":"IF($A54=\"\",\"\",'Fig 3 Neptunus'!H55)","v":""},{"$f":"IF($A54=\"\",\"\",'Fig 4 Walkover'!I55)","v":""},{"$f":"IF($A54=\"\",\"\",'Fig 1 Ballet Leg'!I55+'Fig 2 Barracuda'!I55+'Fig 3 Neptunus'!I55+'Fig 4 Walkover'!J55)","v":""},"",null,null,null,null,null,null,null,null,null,null,null,null,null,null,null,null,null,null,null,null,null,null,null,null,null,null,null,null,null,null,null,null,null,null,null,null,null,null,52,0]
[{"$f":"IF(Draw!E55=0,\"\",Draw!E55)","v":""},null,null,"","",{"$f":"IF($A55=\"\",\"\",'Fig 1 Ballet Leg'!H56)","v":""},{"$f":"IF($A55=\"\",\"\",'Fig 2 Barracuda'!H56)","v":""},{"$f":"IF($A55=\"\",\"\",'Fig 3 Neptunus'!H56)","v":""},{"$f":"IF($A55=\"\",\"\",'Fig 4 Walkover'!I56)","v":""},{"$f":"IF($A55=\"\",\"\",'Fig 1 Ballet Leg'!I56+'Fig 2 Barracuda'!I56+'Fig 3 Neptunus'!I56+'Fig 4 Walkover'!J56)","v":""},"",null,null,null,null,null,null,null,null,null,null,null,null,null,null,null,null,null,null,null,null,null,null,null,null,null,null,null,null,null,null,null,null,null,null,null,null,null,null,53,0]
[{"$f":"IF(Draw!E56=0,\"\",Draw!E56)","v":""},null,null,"","",{"$f":"IF($A56=\"\",\"\",'Fig 1 Ballet Leg'!H57)","v":""},{"$f":"IF($A56=\"\",\"\",'Fig 2 Barracuda'!H57)","v":""},{"$f":"IF($A56=\"\",\"\",'Fig 3 Neptunus'!H57)","v":""},{"$f":"IF($A56=\"\",\"\",'Fig 4 Walkover'!I57)","v":""},{"$f":"IF($A56=\"\",\"\",'Fig 1 Ballet Leg'!I57+'Fig 2 Barracuda'!I57+'Fig 3 Neptunus'!I57+'Fig 4 Walkover'!J57)","v":""},"",null,null,null,null,null,null,null,null,null,null,null,null,null,null,null,null,null,null,null,null,null,null,null,null,null,null,null,null,null,null,null,null,null,null,null,null,null,null,54,0]
[{"$f":"IF(Draw!E57=0,\"\",Draw!E57)","v":""},null,null,"","",{"$f":"IF($A57=\"\",\"\",'Fig 1 Ballet Leg'!H58)","v":""},{"$f":"IF($A57=\"\",\"\",'Fig 2 Barracuda'!H58)","v":""},{"$f":"IF($A57=\"\",\"\",'Fig 3 Neptunus'!H58)","v":""},{"$f":"IF($A57=\"\",\"\",'Fig 4 Walkover'!I58)","v":""},{"$f":"IF($A57=\"\",\"\",'Fig 1 Ballet Leg'!I58+'Fig 2 Barracuda'!I58+'Fig 3 Neptunus'!I58+'Fig 4 Walkover'!J58)","v":""},"",null,null,null,null,null,null,null,null,null,null,null,null,null,null,null,null,null,null,null,null,null,null,null,null,null,null,null,null,null,null,null,null,null,null,null,null,null,null,55,0]
[{"$f":"IF(Draw!E58=0,\"\",Draw!E58)","v":""},null,null,"","",{"$f":"IF($A58=\"\",\"\",'Fig 1 Ballet Leg'!H59)","v":""},{"$f":"IF($A58=\"\",\"\",'Fig 2 Barracuda'!H59)","v":""},{"$f":"IF($A58=\"\",\"\",'Fig 3 Neptunus'!H59)","v":""},{"$f":"IF($A58=\"\",\"\",'Fig 4 Walkover'!I59)","v":""},{"$f":"IF($A58=\"\",\"\",'Fig 1 Ballet Leg'!I59+'Fig 2 Barracuda'!I59+'Fig 3 Neptunus'!I59+'Fig 4 Walkover'!J59)","v":""},"",null,null,null,null,null,null,null,null,null,null,null,null,null,null,null,null,null,null,null,null,null,null,null,null,null,null,null,null,null,null,null,null,null,null,null,null,null,null,56,0]
[{"$f":"IF(Draw!E59=0,\"\",Draw!E59)","v":""},null,null,"","",{"$f":"IF($A59=\"\",\"\",'Fig 1 Ballet Leg'!H60)","v":""},{"$f":"IF($A59=\"\",\"\",'Fig 2 Barracuda'!H60)","v":""},{"$f":"IF($A59=\"\",\"\",'Fig 3 Neptunus'!H60)","v":""},{"$f":"IF($A59=\"\",\"\",'Fig 4 Walkover'!I60)","v":""},{"$f":"IF($A59=\"\",\"\",'Fig 1 Ballet Leg'!I60+'Fig 2 Barracuda'!I60+'Fig 3 Neptunus'!I60+'Fig 4 Walkover'!J60)","v":""},"",null,null,null,null,null,null,null,null,null,null,null,null,null,null,null,null,null,null,null,null,null,null,null,null,null,null,null,null,null,null,null,null,null,null,null,null,null,null,57,0]
[{"$f":"IF(Draw!E60=0,\"\",Draw!E60)","v":""},null,null,"","",{"$f":"IF($A60=\"\",\"\",'Fig 1 Ballet Leg'!H61)","v":""},{"$f":"IF($A60=\"\",\"\",'Fig 2 Barracuda'!H61)","v":""},{"$f":"IF($A60=\"\",\"\",'Fig 3 Neptunus'!H61)","v":""},{"$f":"IF($A60=\"\",\"\",'Fig 4 Walkover'!I61)","v":""},{"$f":"IF($A60=\"\",\"\",'Fig 1 Ballet Leg'!I61+'Fig 2 Barracuda'!I61+'Fig 3 Neptunus'!I61+'Fig 4 Walkover'!J61)","v":""},"",null,null,null,null,null,null,null,null,null,null,null,null,null,null,null,null,null,null,null,null,null,null,null,null,null,null,null,null,null,null,null,null,null,null,null,null,null,null,58,0]
[{"$f":"IF(Draw!E61=0,\"\",Draw!E61)","v":""},null,null,"","",{"$f":"IF($A61=\"\",\"\",'Fig 1 Ballet Leg'!H62)","v":""},{"$f":"IF($A61=\"\",\"\",'Fig 2 Barracuda'!H62)","v":""},{"$f":"IF($A61=\"\",\"\",'Fig 3 Neptunus'!H62)","v":""},{"$f":"IF($A61=\"\",\"\",'Fig 4 Walkover'!I62)","v":""},{"$f":"IF($A61=\"\",\"\",'Fig 1 Ballet Leg'!I62+'Fig 2 Barracuda'!I62+'Fig 3 Neptunus'!I62+'Fig 4 Walkover'!J62)","v":""},"",null,null,null,null,null,null,null,null,null,null,null,null,null,null,null,null,null,null,null,null,null,null,null,null,null,null,null,null,null,null,null,null,null,null,null,null,null,null,59,0]
[{"$f":"IF(Draw!E62=0,\"\",Draw!E62)","v":""},null,null,"","",{"$f":"IF($A62=\"\",\"\",'Fig 1 Ballet Leg'!H63)","v":""},{"$f":"IF($A62=\"\",\"\",'Fig 2 Barracuda'!H63)","v":""},{"$f":"IF($A62=\"\",\"\",'Fig 3 Neptunus'!H63)","v":""},{"$f":"IF($A62=\"\",\"\",'Fig 4 Walkover'!I63)","v":""},{"$f":"IF($A62=\"\",\"\",'Fig 1 Ballet Leg'!I63+'Fig 2 Barracuda'!I63+'Fig 3 Neptunus'!I63+'Fig 4 Walkover'!J63)","v":""},"",null,null,null,null,null,null,null,null,null,null,null,null,null,null,null,null,null,null,null,null,null,null,null,null,null,null,null,null,null,null,null,null,null,null,null,null,null,null,60,0]
[{"$f":"IF(Draw!E63=0,\"\",Draw!E63)","v":""},null,null,"","",{"$f":"IF($A63=\"\",\"\",'Fig 1 Ballet Leg'!H64)","v":""},{"$f":"IF($A63=\"\",\"\",'Fig 2 Barracuda'!H64)","v":""},{"$f":"IF($A63=\"\",\"\",'Fig 3 Neptunus'!H64)","v":""},{"$f":"IF($A63=\"\",\"\",'Fig 4 Walkover'!I64)","v":""},{"$f":"IF($A63=\"\",\"\",'Fig 1 Ballet Leg'!I64+'Fig 2 Barracuda'!I64+'Fig 3 Neptunus'!I64+'Fig 4 Walkover'!J64)","v":""},"",null,null,null,null,null,null,null,null,null,null,null,null,null,null,null,null,null,null,null,null,null,null,null,null,null,null,null,null,null,null,null,null,null,null,null,null,null,null,61,0]
[{"$f":"IF(Draw!E64=0,\"\",Draw!E64)","v":""},null,null,"","",{"$f":"IF($A64=\"\",\"\",'Fig 1 Ballet Leg'!H65)","v":""},{"$f":"IF($A64=\"\",\"\",'Fig 2 Barracuda'!H65)","v":""},{"$f":"IF($A64=\"\",\"\",'Fig 3 Neptunus'!H65)","v":""},{"$f":"IF($A64=\"\",\"\",'Fig 4 Walkover'!I65)","v":""},{"$f":"IF($A64=\"\",\"\",'Fig 1 Ballet Leg'!I65+'Fig 2 Barracuda'!I65+'Fig 3 Neptunus'!I65+'Fig 4 Walkover'!J65)","v":""},"",null,null,null,null,null,null,null,null,null,null,null,null,null,null,null,null,null,null,null,null,null,null,null,null,null,null,null,null,null,null,null,null,null,null,null,null,null,null,62,0]
[{"$f":"IF(Draw!E65=0,\"\",Draw!E65)","v":""},null,null,"","",{"$f":"IF($A65=\"\",\"\",'Fig 1 Ballet Leg'!H66)","v":""},{"$f":"IF($A65=\"\",\"\",'Fig 2 Barracuda'!H66)","v":""},{"$f":"IF($A65=\"\",\"\",'Fig 3 Neptunus'!H66)","v":""},{"$f":"IF($A65=\"\",\"\",'Fig 4 Walkover'!I66)","v":""},{"$f":"IF($A65=\"\",\"\",'Fig 1 Ballet Leg'!I66+'Fig 2 Barracuda'!I66+'Fig 3 Neptunus'!I66+'Fig 4 Walkover'!J66)","v":""},"",null,null,null,null,null,null,null,null,null,null,null,null,null,null,null,null,null,null,null,null,null,null,null,null,null,null,null,null,null,null,null,null,null,null,null,null,null,null,63,0]
[{"$f":"IF(Draw!E66=0,\"\",Draw!E66)","v":""},null,null,"","",{"$f":"IF($A66=\"\",\"\",'Fig 1 Ballet Leg'!H67)","v":""},{"$f":"IF($A66=\"\",\"\",'Fig 2 Barracuda'!H67)","v":""},{"$f":"IF($A66=\"\",\"\",'Fig 3 Neptunus'!H67)","v":""},{"$f":"IF($A66=\"\",\"\",'Fig 4 Walkover'!I67)","v":""},{"$f":"IF($A66=\"\",\"\",'Fig 1 Ballet Leg'!I67+'Fig 2 Barracuda'!I67+'Fig 3 Neptunus'!I67+'Fig 4 Walkover'!J67)","v":""},"",null,null,null,null,null,null,null,null,null,null,null,null,null,null,null,null,null,null,null,null,null,null,null,null,null,null,null,null,null,null,null,null,null,null,null,null,null,null,64,0]
[{"$f":"IF(Draw!E67=0,\"\",Draw!E67)","v":""},null,null,"","",{"$f":"IF($A67=\"\",\"\",'Fig 1 Ballet Leg'!H68)","v":""},{"$f":"IF($A67=\"\",\"\",'Fig 2 Barracuda'!H68)","v":""},{"$f":"IF($A67=\"\",\"\",'Fig 3 Neptunus'!H68)","v":""},{"$f":"IF($A67=\"\",\"\",'Fig 4 Walkover'!I68)","v":""},{"$f":"IF($A67=\"\",\"\",'Fig 1 Ballet Leg'!I68+'Fig 2 Barracuda'!I68+'Fig 3 Neptunus'!I68+'Fig 4 Walkover'!J68)","v":""},"",null,null,null,null,null,null,null,null,null,null,null,null,null,null,null,null,null,null,null,null,null,null,null,null,null,null,null,null,null,null,null,null,null,null,null,null,null,null,65,0]
[{"$f":"IF(Draw!E68=0,\"\",Draw!E68)","v":""},null,null,"","",{"$f":"IF($A68=\"\",\"\",'Fig 1 Ballet Leg'!H69)","v":""},{"$f":"IF($A68=\"\",\"\",'Fig 2 Barracuda'!H69)","v":""},{"$f":"IF($A68=\"\",\"\",'Fig 3 Neptunus'!H69)","v":""},{"$f":"IF($A68=\"\",\"\",'Fig 4 Walkover'!I69)","v":""},{"$f":"IF($A68=\"\",\"\",'Fig 1 Ballet Leg'!I69+'Fig 2 Barracuda'!I69+'Fig 3 Neptunus'!I69+'Fig 4 Walkover'!J69)","v":""},"",null,null,null,null,null,null,null,null,null,null,null,null,null,null,null,null,null,null,null,null,null,null,null,null,null,null,null,null,null,null,null,null,null,null,null,null,null,null,66,0]
[{"$f":"IF(Draw!E69=0,\"\",Draw!E69)","v":""},null,null,{"$f":"IF($A69=\"\",\"\",SUM(F69:I69)-J69)","v":""},{"$f":"IF($A69=\"\",\"\",RANK(D69,D$2:D$150))","v":""},{"$f":"IF($A69=\"\",\"\",'Fig 1 Ballet Leg'!H70)","v":""},{"$f":"IF($A69=\"\",\"\",'Fig 2 Barracuda'!H70)","v":""},{"$f":"IF($A69=\"\",\"\",'Fig 3 Neptunus'!H70)","v":""},{"$f":"IF($A69=\"\",\"\",'Fig 4 Walkover'!I70)","v":""},{"$f":"IF($A69=\"\",\"\",'Fig 1 Ballet Leg'!I70+'Fig 2 Barracuda'!I70+'Fig 3 Neptunus'!I70+'Fig 4 Walkover'!J70)","v":""},{"$f":"IF($A69=\"\",\"\",IF(A69=\"\",\"\",VLOOKUP(E69,AX$3:AY$102,2,FALSE)))","v":""},null,null,null,null,null,null,null,null,null,null,null,null,null,null,null,null,null,null,null,null,null,null,null,null,null,null,null,null,null,null,null,null,null,null,null,null,null,null,67,0]
[{"$f":"IF(Draw!E70=0,\"\",Draw!E70)","v":""},null,null,"","",{"$f":"IF($A70=\"\",\"\",'Fig 1 Ballet Leg'!H71)","v":""},{"$f":"IF($A70=\"\",\"\",'Fig 2 Barracuda'!H71)","v":""},{"$f":"IF($A70=\"\",\"\",'Fig 3 Neptunus'!H71)","v":""},{"$f":"IF($A70=\"\",\"\",'Fig 4 Walkover'!I71)","v":""},{"$f":"IF($A70=\"\",\"\",'Fig 1 Ballet Leg'!I71+'Fig 2 Barracuda'!I71+'Fig 3 Neptunus'!I71+'Fig 4 Walkover'!J71)","v":""},"",null,null,null,null,null,null,null,null,null,null,null,null,null,null,null,null,null,null,null,null,null,null,null,null,null,null,null,null,null,null,null,null,null,null,null,null,null,null,68,0]
[{"$f":"IF(Draw!E71=0,\"\",Draw!E71)","v":""},null,null,"","",{"$f":"IF($A71=\"\",\"\",'Fig 1 Ballet Leg'!H72)","v":""},{"$f":"IF($A71=\"\",\"\",'Fig 2 Barracuda'!H72)","v":""},{"$f":"IF($A71=\"\",\"\",'Fig 3 Neptunus'!H72)","v":""},{"$f":"IF($A71=\"\",\"\",'Fig 4 Walkover'!I72)","v":""},{"$f":"IF($A71=\"\",\"\",'Fig 1 Ballet Leg'!I72+'Fig 2 Barracuda'!I72+'Fig 3 Neptunus'!I72+'Fig 4 Walkover'!J72)","v":""},"",null,null,null,null,null,null,null,null,null,null,null,null,null,null,null,null,null,null,null,null,null,null,null,null,null,null,null,null,null,null,null,null,null,null,null,null,null,null,69,0]
[{"$f":"IF(Draw!E72=0,\"\",Draw!E72)","v":""},null,null,"","",{"$f":"IF($A72=\"\",\"\",'Fig 1 Ballet Leg'!H73)","v":""},{"$f":"IF($A72=\"\",\"\",'Fig 2 Barracuda'!H73)","v":""},{"$f":"IF($A72=\"\",\"\",'Fig 3 Neptunus'!H73)","v":""},{"$f":"IF($A72=\"\",\"\",'Fig 4 Walkover'!I73)","v":""},{"$f":"IF($A72=\"\",\"\",'Fig 1 Ballet Leg'!I73+'Fig 2 Barracuda'!I73+'Fig 3 Neptunus'!I73+'Fig 4 Walkover'!J73)","v":""},"",null,null,null,null,null,null,null,null,null,null,null,null,null,null,null,null,null,null,null,null,null,null,null,null,null,null,null,null,null,null,null,null,null,null,null,null,null,null,70,0]
[{"$f":"IF(Draw!E73=0,\"\",Draw!E73)","v":""},null,null,"","",{"$f":"IF($A73=\"\",\"\",'Fig 1 Ballet Leg'!H74)","v":""},{"$f":"IF($A73=\"\",\"\",'Fig 2 Barracuda'!H74)","v":""},{"$f":"IF($A73=\"\",\"\",'Fig 3 Neptunus'!H74)","v":""},{"$f":"IF($A73=\"\",\"\",'Fig 4 Walkover'!I74)","v":""},{"$f":"IF($A73=\"\",\"\",'Fig 1 Ballet Leg'!I74+'Fig 2 Barracuda'!I74+'Fig 3 Neptunus'!I74+'Fig 4 Walkover'!J74)","v":""},"",null,null,null,null,null,null,null,null,null,null,null,null,null,null,null,null,null,null,null,null,null,null,null,null,null,null,null,null,null,null,null,null,null,null,null,null,null,null,71,0]
[{"$f":"IF(Draw!E74=0,\"\",Draw!E74)","v":""},null,null,"","",{"$f":"IF($A74=\"\",\"\",'Fig 1 Ballet Leg'!H75)","v":""},{"$f":"IF($A74=\"\",\"\",'Fig 2 Barracuda'!H75)","v":""},{"$f":"IF($A74=\"\",\"\",'Fig 3 Neptunus'!H75)","v":""},{"$f":"IF($A74=\"\",\"\",'Fig 4 Walkover'!I75)","v":""},{"$f":"IF($A74=\"\",\"\",'Fig 1 Ballet Leg'!I75+'Fig 2 Barracuda'!I75+'Fig 3 Neptunus'!I75+'Fig 4 Walkover'!J75)","v":""},"",null,null,null,null,null,null,null,null,null,null,null,null,null,null,null,null,null,null,null,null,null,null,null,null,null,null,null,null,null,null,null,null,null,null,null,null,null,null,72,0]
[{"$f":"IF(Draw!E75=0,\"\",Draw!E75)","v":""},null,null,"","",{"$f":"IF($A75=\"\",\"\",'Fig 1 Ballet Leg'!H76)","v":""},{"$f":"IF($A75=\"\",\"\",'Fig 2 Barracuda'!H76)","v":""},{"$f":"IF($A75=\"\",\"\",'Fig 3 Neptunus'!H76)","v":""},{"$f":"IF($A75=\"\",\"\",'Fig 4 Walkover'!I76)","v":""},{"$f":"IF($A75=\"\",\"\",'Fig 1 Ballet Leg'!I76+'Fig 2 Barracuda'!I76+'Fig 3 Neptunus'!I76+'Fig 4 Walkover'!J76)","v":""},"",null,null,null,null,null,null,null,null,null,null,null,null,null,null,null,null,null,null,null,null,null,null,null,null,null,null,null,null,null,null,null,null,null,null,null,null,null,null,73,0]
[{"$f":"IF(Draw!E76=0,\"\",Draw!E76)","v":""},null,null,"","",{"$f":"IF($A76=\"\",\"\",'Fig 1 Ballet Leg'!H77)","v":""},{"$f":"IF($A76=\"\",\"\",'Fig 2 Barracuda'!H77)","v":""},{"$f":"IF($A76=\"\",\"\",'Fig 3 Neptunus'!H77)","v":""},{"$f":"IF($A76=\"\",\"\",'Fig 4 Walkover'!I77)","v":""},{"$f":"IF($A76=\"\",\"\",'Fig 1 Ballet Leg'!I77+'Fig 2 Barracuda'!I77+'Fig 3 Neptunus'!I77+'Fig 4 Walkover'!J77)","v":""},"",null,null,null,null,null,null,null,null,null,null,null,null,null,null,null,null,null,null,null,null,null,null,null,null,null,null,null,null,null,null,null,null,null,null,null,null,null,null,74,0]
[{"$f":"IF(Draw!E77=0,\"\",Draw!E77)","v":""},null,null,"","",{"$f":"IF($A77=\"\",\"\",'Fig 1 Ballet Leg'!H78)","v":""},{"$f":"IF($A77=\"\",\"\",'Fig 2 Barracuda'!H78)","v":""},{"$f":"IF($A77=\"\",\"\",'Fig 3 Neptunus'!H78)","v":""},{"$f":"IF($A77=\"\",\"\",'Fig 4 Walkover'!I78)","v":""},{"$f":"IF($A77=\"\",\"\",'Fig 1 Ballet Leg'!I78+'Fig 2 Barracuda'!I78+'Fig 3 Neptunus'!I78+'Fig 4 Walkover'!J78)","v":""},"",null,null,null,null,null,null,null,null,null,null,null,null,null,null,null,null,null,null,null,null,null,null,null,null,null,null,null,null,null,null,null,null,null,null,null,null,null,null,75,0]
[{"$f":"IF(Draw!E78=0,\"\",Draw!E78)","v":""},null,null,"","",{"$f":"IF($A78=\"\",\"\",'Fig 1 Ballet Leg'!H79)","v":""},{"$f":"IF($A78=\"\",\"\",'Fig 2 Barracuda'!H79)","v":""},{"$f":"IF($A78=\"\",\"\",'Fig 3 Neptunus'!H79)","v":""},{"$f":"IF($A78=\"\",\"\",'Fig 4 Walkover'!I79)","v":""},{"$f":"IF($A78=\"\",\"\",'Fig 1 Ballet Leg'!I79+'Fig 2 Barracuda'!I79+'Fig 3 Neptunus'!I79+'Fig 4 Walkover'!J79)","v":""},"",null,null,null,null,null,null,null,null,null,null,null,null,null,null,null,null,null,null,null,null,null,null,null,null,null,null,null,null,null,null,null,null,null,null,null,null,null,null,76,0]
[{"$f":"IF(Draw!E79=0,\"\",Draw!E79)","v":""},null,null,"","",{"$f":"IF($A79=\"\",\"\",'Fig 1 Ballet Leg'!H80)","v":""},{"$f":"IF($A79=\"\",\"\",'Fig 2 Barracuda'!H80)","v":""},{"$f":"IF($A79=\"\",\"\",'Fig 3 Neptunus'!H80)","v":""},{"$f":"IF($A79=\"\",\"\",'Fig 4 Walkover'!I80)","v":""},{"$f":"IF($A79=\"\",\"\",'Fig 1 Ballet Leg'!I80+'Fig 2 Barracuda'!I80+'Fig 3 Neptunus'!I80+'Fig 4 Walkover'!J80)","v":""},"",null,null,null,null,null,null,null,null,null,null,null,null,null,null,null,null,null,null,null,null,null,null,null,null,null,null,null,null,null,null,null,null,null,null,null,null,null,null,77,0]
[{"$f":"IF(Draw!E80=0,\"\",Draw!E80)","v":""},null,null,"","",{"$f":"IF($A80=\"\",\"\",'Fig 1 Ballet Leg'!H81)","v":""},{"$f":"IF($A80=\"\",\"\",'Fig 2 Barracuda'!H81)","v":""},{"$f":"IF($A80=\"\",\"\",'Fig 3 Neptunus'!H81)","v":""},{"$f":"IF($A80=\"\",\"\",'Fig 4 Walkover'!I81)","v":""},{"$f":"IF($A80=\"\",\"\",'Fig 1 Ballet Leg'!I81+'Fig 2 Barracuda'!I81+'Fig 3 Neptunus'!I81+'Fig 4 Walkover'!J81)","v":""},"",null,null,null,null,null,null,null,null,null,null,null,null,null,null,null,null,null,null,null,null,null,null,null,null,null,null,null,null,null,null,null,null,null,null,null,null,null,null,78,0]
[{"$f":"IF(Draw!E81=0,\"\",Draw!E81)","v":""},null,null,"","",{"$f":"IF($A81=\"\",\"\",'Fig 1 Ballet Leg'!H82)","v":""},{"$f":"IF($A81=\"\",\"\",'Fig 2 Barracuda'!H82)","v":""},{"$f":"IF($A81=\"\",\"\",'Fig 3 Neptunus'!H82)","v":""},{"$f":"IF($A81=\"\",\"\",'Fig 4 Walkover'!I82)","v":""},{"$f":"IF($A81=\"\",\"\",'Fig 1 Ballet Leg'!I82+'Fig 2 Barracuda'!I82+'Fig 3 Neptunus'!I82+'Fig 4 Walkover'!J82)","v":""},"",null,null,null,null,null,null,null,null,null,null,null,null,null,null,null,null,null,null,null,null,null,null,null,null,null,null,null,null,null,null,null,null,null,null,null,null,null,null,79,0]
[{"$f":"IF(Draw!E82=0,\"\",Draw!E82)","v":""},null,null,"","",{"$f":"IF($A82=\"\",\"\",'Fig 1 Ballet Leg'!H83)","v":""},{"$f":"IF($A82=\"\",\"\",'Fig 2 Barracuda'!H83)","v":""},{"$f":"IF($A82=\"\",\"\",'Fig 3 Neptunus'!H83)","v":""},{"$f":"IF($A82=\"\",\"\",'Fig 4 Walkover'!I83)","v":""},{"$f":"IF($A82=\"\",\"\",'Fig 1 Ballet Leg'!I83+'Fig 2 Barracuda'!I83+'Fig 3 Neptunus'!I83+'Fig 4 Walkover'!J83)","v":""},"",null,null,null,null,null,null,null,null,null,null,null,null,null,null,null,null,null,null,null,null,null,null,null,null,null,null,null,null,null,null,null,null,null,null,null,null,null,null,80,0]
[{"$f":"IF(Draw!E83=0,\"\",Draw!E83)","v":""},null,null,"","",{"$f":"IF($A83=\"\",\"\",'Fig 1 Ballet Leg'!H84)","v":""},{"$f":"IF($A83=\"\",\"\",'Fig 2 Barracuda'!H84)","v":""},{"$f":"IF($A83=\"\",\"\",'Fig 3 Neptunus'!H84)","v":""},{"$f":"IF($A83=\"\",\"\",'Fig 4 Walkover'!I84)","v":""},{"$f":"IF($A83=\"\",\"\",'Fig 1 Ballet Leg'!I84+'Fig 2 Barracuda'!I84+'Fig 3 Neptunus'!I84+'Fig 4 Walkover'!J84)","v":""},"",null,null,null,null,null,null,null,null,null,null,null,null,null,null,null,null,null,null,null,null,null,null,null,null,null,null,null,null,null,null,null,null,null,null,null,null,null,null,81,0]
[{"$f":"IF(Draw!E84=0,\"\",Draw!E84)","v":""},null,null,"","",{"$f":"IF($A84=\"\",\"\",'Fig 1 Ballet Leg'!H85)","v":""},{"$f":"IF($A84=\"\",\"\",'Fig 2 Barracuda'!H85)","v":""},{"$f":"IF($A84=\"\",\"\",'Fig 3 Neptunus'!H85)","v":""},{"$f":"IF($A84=\"\",\"\",'Fig 4 Walkover'!I85)","v":""},{"$f":"IF($A84=\"\",\"\",'Fig 1 Ballet Leg'!I85+'Fig 2 Barracuda'!I85+'Fig 3 Neptunus'!I85+'Fig 4 Walkover'!J85)","v":""},"",null,null,null,null,null,null,null,null,null,null,null,null,null,null,null,null,null,null,null,null,null,null,null,null,null,null,null,null,null,null,null,null,null,null,null,null,null,null,82,0]
[{"$f":"IF(Draw!E85=0,\"\",Draw!E85)","v":""},null,null,"","",{"$f":"IF($A85=\"\",\"\",'Fig 1 Ballet Leg'!H86)","v":""},{"$f":"IF($A85=\"\",\"\",'Fig 2 Barracuda'!H86)","v":""},{"$f":"IF($A85=\"\",\"\",'Fig 3 Neptunus'!H86)","v":""},{"$f":"IF($A85=\"\",\"\",'Fig 4 Walkover'!I86)","v":""},{"$f":"IF($A85=\"\",\"\",'Fig 1 Ballet Leg'!I86+'Fig 2 Barracuda'!I86+'Fig 3 Neptunus'!I86+'Fig 4 Walkover'!J86)","v":""},"",null,null,null,null,null,null,null,null,null,null,null,null,null,null,null,null,null,null,null,null,null,null,null,null,null,null,null,null,null,null,null,null,null,null,null,null,null,null,83,0]
[{"$f":"IF(Draw!E86=0,\"\",Draw!E86)","v":""},null,null,"","",{"$f":"IF($A86=\"\",\"\",'Fig 1 Ballet Leg'!H87)","v":""},{"$f":"IF($A86=\"\",\"\",'Fig 2 Barracuda'!H87)","v":""},{"$f":"IF($A86=\"\",\"\",'Fig 3 Neptunus'!H87)","v":""},{"$f":"IF($A86=\"\",\"\",'Fig 4 Walkover'!I87)","v":""},{"$f":"IF($A86=\"\",\"\",'Fig 1 Ballet Leg'!I87+'Fig 2 Barracuda'!I87+'Fig 3 Neptunus'!I87+'Fig 4 Walkover'!J87)","v":""},"",null,null,null,null,null,null,null,null,null,null,null,null,null,null,null,null,null,null,null,null,null,null,null,null,null,null,null,null,null,null,null,null,null,null,null,null,null,null,84,0]
[{"$f":"IF(Draw!E87=0,\"\",Draw!E87)","v":""},null,null,"","",{"$f":"IF($A87=\"\",\"\",'Fig 1 Ballet Leg'!H88)","v":""},{"$f":"IF($A87=\"\",\"\",'Fig 2 Barracuda'!H88)","v":""},{"$f":"IF($A87=\"\",\"\",'Fig 3 Neptunus'!H88)","v":""},{"$f":"IF($A87=\"\",\"\",'Fig 4 Walkover'!I88)","v":""},{"$f":"IF($A87=\"\",\"\",'Fig 1 Ballet Leg'!I88+'Fig 2 Barracuda'!I88+'Fig 3 Neptunus'!I88+'Fig 4 Walkover'!J88)","v":""},"",null,null,null,null,null,null,null,null,null,null,null,null,null,null,null,null,null,null,null,null,null,null,null,null,null,null,null,null,null,null,null,null,null,null,null,null,null,null,85,0]
[{"$f":"IF(Draw!E88=0,\"\",Draw!E88)","v":""},null,null,"","",{"$f":"IF($A88=\"\",\"\",'Fig 1 Ballet Leg'!H89)","v":""},{"$f":"IF($A88=\"\",\"\",'Fig 2 Barracuda'!H89)","v":""},{"$f":"IF($A88=\"\",\"\",'Fig 3 Neptunus'!H89)","v":""},{"$f":"IF($A88=\"\",\"\",'Fig 4 Walkover'!I89)","v":""},{"$f":"IF($A88=\"\",\"\",'Fig 1 Ballet Leg'!I89+'Fig 2 Barracuda'!I89+'Fig 3 Neptunus'!I89+'Fig 4 Walkover'!J89)","v":""},"",null,null,null,null,null,null,null,null,null,null,null,null,null,null,null,null,null,null,null,null,null,null,null,null,null,null,null,null,null,null,null,null,null,null,null,null,null,null,86,0]
[{"$f":"IF(Draw!E89=0,\"\",Draw!E89)","v":""},null,null,"","",{"$f":"IF($A89=\"\",\"\",'Fig 1 Ballet Leg'!H90)","v":""},{"$f":"IF($A89=\"\",\"\",'Fig 2 Barracuda'!H90)","v":""},{"$f":"IF($A89=\"\",\"\",'Fig 3 Neptunus'!H90)","v":""},{"$f":"IF($A89=\"\",\"\",'Fig 4 Walkover'!I90)","v":""},{"$f":"IF($A89=\"\",\"\",'Fig 1 Ballet Leg'!I90+'Fig 2 Barracuda'!I90+'Fig 3 Neptunus'!I90+'Fig 4 Walkover'!J90)","v":""},"",null,null,null,null,null,null,null,null,null,null,null,null,null,null,null,null,null,null,null,null,null,null,null,null,null,null,null,null,null,null,null,null,null,null,null,null,null,null,87,0]
[{"$f":"IF(Draw!E90=0,\"\",Draw!E90)","v":""},null,null,"","",{"$f":"IF($A90=\"\",\"\",'Fig 1 Ballet Leg'!H91)","v":""},{"$f":"IF($A90=\"\",\"\",'Fig 2 Barracuda'!H91)","v":""},{"$f":"IF($A90=\"\",\"\",'Fig 3 Neptunus'!H91)","v":""},{"$f":"IF($A90=\"\",\"\",'Fig 4 Walkover'!I91)","v":""},{"$f":"IF($A90=\"\",\"\",'Fig 1 Ballet Leg'!I91+'Fig 2 Barracuda'!I91+'Fig 3 Neptunus'!I91+'Fig 4 Walkover'!J91)","v":""},"",null,null,null,null,null,null,null,null,null,null,null,null,null,null,null,null,null,null,null,null,null,null,null,null,null,null,null,null,null,null,null,null,null,null,null,null,null,null,88,0]
[{"$f":"IF(Draw!E91=0,\"\",Draw!E91)","v":""},null,null,"","",{"$f":"IF($A91=\"\",\"\",'Fig 1 Ballet Leg'!H92)","v":""},{"$f":"IF($A91=\"\",\"\",'Fig 2 Barracuda'!H92)","v":""},{"$f":"IF($A91=\"\",\"\",'Fig 3 Neptunus'!H92)","v":""},{"$f":"IF($A91=\"\",\"\",'Fig 4 Walkover'!I92)","v":""},{"$f":"IF($A91=\"\",\"\",'Fig 1 Ballet Leg'!I92+'Fig 2 Barracuda'!I92+'Fig 3 Neptunus'!I92+'Fig 4 Walkover'!J92)","v":""},"",null,null,null,null,null,null,null,null,null,null,null,null,null,null,null,null,null,null,null,null,null,null,null,null,null,null,null,null,null,null,null,null,null,null,null,null,null,null,89,0]
[{"$f":"IF(Draw!E92=0,\"\",Draw!E92)","v":""},null,null,"","",{"$f":"IF($A92=\"\",\"\",'Fig 1 Ballet Leg'!H93)","v":""},{"$f":"IF($A92=\"\",\"\",'Fig 2 Barracuda'!H93)","v":""},{"$f":"IF($A92=\"\",\"\",'Fig 3 Neptunus'!H93)","v":""},{"$f":"IF($A92=\"\",\"\",'Fig 4 Walkover'!I93)","v":""},{"$f":"IF($A92=\"\",\"\",'Fig 1 Ballet Leg'!I93+'Fig 2 Barracuda'!I93+'Fig 3 Neptunus'!I93+'Fig 4 Walkover'!J93)","v":""},"",null,null,null,null,null,null,null,null,null,null,null,null,null,null,null,null,null,null,null,null,null,null,null,null,null,null,null,null,null,null,null,null,null,null,null,null,null,null,90,0]
[{"$f":"IF(Draw!E93=0,\"\",Draw!E93)","v":""},null,null,"","",{"$f":"IF($A93=\"\",\"\",'Fig 1 Ballet Leg'!H94)","v":""},{"$f":"IF($A93=\"\",\"\",'Fig 2 Barracuda'!H94)","v":""},{"$f":"IF($A93=\"\",\"\",'Fig 3 Neptunus'!H94)","v":""},{"$f":"IF($A93=\"\",\"\",'Fig 4 Walkover'!I94)","v":""},{"$f":"IF($A93=\"\",\"\",'Fig 1 Ballet Leg'!I94+'Fig 2 Barracuda'!I94+'Fig 3 Neptunus'!I94+'Fig 4 Walkover'!J94)","v":""},"",null,null,null,null,null,null,null,null,null,null,null,null,null,null,null,null,null,null,null,null,null,null,null,null,null,null,null,null,null,null,null,null,null,null,null,null,null,null,91,0]
[{"$f":"IF(Draw!E94=0,\"\",Draw!E94)","v":""},null,null,"","",{"$f":"IF($A94=\"\",\"\",'Fig 1 Ballet Leg'!H95)","v":""},{"$f":"IF($A94=\"\",\"\",'Fig 2 Barracuda'!H95)","v":""},{"$f":"IF($A94=\"\",\"\",'Fig 3 Neptunus'!H95)","v":""},{"$f":"IF($A94=\"\",\"\",'Fig 4 Walkover'!I95)","v":""},{"$f":"IF($A94=\"\",\"\",'Fig 1 Ballet Leg'!I95+'Fig 2 Barracuda'!I95+'Fig 3 Neptunus'!I95+'Fig 4 Walkover'!J95)","v":""},"",null,null,null,null,null,null,null,null,null,null,null,null,null,null,null,null,null,null,null,null,null,null,null,null,null,null,null,null,null,null,null,null,null,null,null,null,null,null,92,0]
[{"$f":"IF(Draw!E95=0,\"\",Draw!E95)","v":""},null,null,"","",{"$f":"IF($A95=\"\",\"\",'Fig 1 Ballet Leg'!H96)","v":""},{"$f":"IF($A95=\"\",\"\",'Fig 2 Barracuda'!H96)","v":""},{"$f":"IF($A95=\"\",\"\",'Fig 3 Neptunus'!H96)","v":""},{"$f":"IF($A95=\"\",\"\",'Fig 4 Walkover'!I96)","v":""},{"$f":"IF($A95=\"\",\"\",'Fig 1 Ballet Leg'!I96+'Fig 2 Barracuda'!I96+'Fig 3 Neptunus'!I96+'Fig 4 Walkover'!J96)","v":""},"",null,null,null,null,null,null,null,null,null,null,null,null,null,null,null,null,null,null,null,null,null,null,null,null,null,null,null,null,null,null,null,null,null,null,null,null,null,null,93,0]
[{"$f":"IF(Draw!E96=0,\"\",Draw!E96)","v":""},null,null,"","",{"$f":"IF($A96=\"\",\"\",'Fig 1 Ballet Leg'!H97)","v":""},{"$f":"IF($A96=\"\",\"\",'Fig 2 Barracuda'!H97)","v":""},{"$f":"IF($A96=\"\",\"\",'Fig 3 Neptunus'!H97)","v":""},{"$f":"IF($A96=\"\",\"\",'Fig 4 Walkover'!I97)","v":""},{"$f":"IF($A96=\"\",\"\",'Fig 1 Ballet Leg'!I97+'Fig 2 Barracuda'!I97+'Fig 3 Neptunus'!I97+'Fig 4 Walkover'!J97)","v":""},"",null,null,null,null,null,null,null,null,null,null,null,null,null,null,null,null,null,null,null,null,null,null,null,null,null,null,null,null,null,null,null,null,null,null,null,null,null,null,94,0]
[{"$f":"IF(Draw!E97=0,\"\",Draw!E97)","v":""},null,null,"","",{"$f":"IF($A97=\"\",\"\",'Fig 1 Ballet Leg'!H98)","v":""},{"$f":"IF($A97=\"\",\"\",'Fig 2 Barracuda'!H98)","v":""},{"$f":"IF($A97=\"\",\"\",'Fig 3 Neptunus'!H98)","v":""},{"$f":"IF($A97=\"\",\"\",'Fig 4 Walkover'!I98)","v":""},{"$f":"IF($A97=\"\",\"\",'Fig 1 Ballet Leg'!I98+'Fig 2 Barracuda'!I98+'Fig 3 Neptunus'!I98+'Fig 4 Walkover'!J98)","v":""},"",null,null,null,null,null,null,null,null,null,null,null,null,null,null,null,null,null,null,null,null,null,null,null,null,null,null,null,null,null,null,null,null,null,null,null,null,null,null,95,0]
[{"$f":"IF(Draw!E98=0,\"\",Draw!E98)","v":""},null,null,"","",{"$f":"IF($A98=\"\",\"\",'Fig 1 Ballet Leg'!H99)","v":""},{"$f":"IF($A98=\"\",\"\",'Fig 2 Barracuda'!H99)","v":""},{"$f":"IF($A98=\"\",\"\",'Fig 3 Neptunus'!H99)","v":""},{"$f":"IF($A98=\"\",\"\",'Fig 4 Walkover'!I99)","v":""},{"$f":"IF($A98=\"\",\"\",'Fig 1 Ballet Leg'!I99+'Fig 2 Barracuda'!I99+'Fig 3 Neptunus'!I99+'Fig 4 Walkover'!J99)","v":""},"",null,null,null,null,null,null,null,null,null,null,null,null,null,null,null,null,null,null,null,null,null,null,null,null,null,null,null,null,null,null,null,null,null,null,null,null,null,null,96,0]
[{"$f":"IF(Draw!E99=0,\"\",Draw!E99)","v":""},null,null,"","",{"$f":"IF($A99=\"\",\"\",'Fig 1 Ballet Leg'!H100)","v":""},{"$f":"IF($A99=\"\",\"\",'Fig 2 Barracuda'!H100)","v":""},{"$f":"IF($A99=\"\",\"\",'Fig 3 Neptunus'!H100)","v":""},{"$f":"IF($A99=\"\",\"\",'Fig 4 Walkover'!I100)","v":""},{"$f":"IF($A99=\"\",\"\",'Fig 1 Ballet Leg'!I100+'Fig 2 Barracuda'!I100+'Fig 3 Neptunus'!I100+'Fig 4 Walkover'!J100)","v":""},"",null,null,null,null,null,null,null,null,null,null,null,null,null,null,null,null,null,null,null,null,null,null,null,null,null,null,null,null,null,null,null,null,null,null,null,null,null,null,97,0]
[{"$f":"IF(Draw!E100=0,\"\",Draw!E100)","v":""},null,null,"","",{"$f":"IF($A100=\"\",\"\",'Fig 1 Ballet Leg'!H101)","v":""},{"$f":"IF($A100=\"\",\"\",'Fig 2 Barracuda'!H101)","v":""},{"$f":"IF($A100=\"\",\"\",'Fig 3 Neptunus'!H101)","v":""},{"$f":"IF($A100=\"\",\"\",'Fig 4 Walkover'!I101)","v":""},{"$f":"IF($A100=\"\",\"\",'Fig 1 Ballet Leg'!I101+'Fig 2 Barracuda'!I101+'Fig 3 Neptunus'!I101+'Fig 4 Walkover'!J101)","v":""},"",null,null,null,null,null,null,null,null,null,null,null,null,null,null,null,null,null,null,null,null,null,null,null,null,null,null,null,null,null,null,null,null,null,null,null,null,null,null,98,0]
[{"$f":"IF(Draw!E101=0,\"\",Draw!E101)","v":""},null,null,"","",{"$f":"IF($A101=\"\",\"\",'Fig 1 Ballet Leg'!H102)","v":""},{"$f":"IF($A101=\"\",\"\",'Fig 2 Barracuda'!H102)","v":""},{"$f":"IF($A101=\"\",\"\",'Fig 3 Neptunus'!H102)","v":""},{"$f":"IF($A101=\"\",\"\",'Fig 4 Walkover'!I102)","v":""},{"$f":"IF($A101=\"\",\"\",'Fig 1 Ballet Leg'!I102+'Fig 2 Barracuda'!I102+'Fig 3 Neptunus'!I102+'Fig 4 Walkover'!J102)","v":""},"",null,null,null,null,null,null,null,null,null,null,null,null,null,null,null,null,null,null,null,null,null,null,null,null,null,null,null,null,null,null,null,null,null,null,null,null,null,null,99,0]
[{"$f":"IF(Draw!E102=0,\"\",Draw!E102)","v":""},null,null,"","",{"$f":"IF($A102=\"\",\"\",'Fig 1 Ballet Leg'!H103)","v":""},{"$f":"IF($A102=\"\",\"\",'Fig 2 Barracuda'!H103)","v":""},{"$f":"IF($A102=\"\",\"\",'Fig 3 Neptunus'!H103)","v":""},{"$f":"IF($A102=\"\",\"\",'Fig 4 Walkover'!I103)","v":""},{"$f":"IF($A102=\"\",\"\",'Fig 1 Ballet Leg'!I103+'Fig 2 Barracuda'!I103+'Fig 3 Neptunus'!I103+'Fig 4 Walkover'!J103)","v":""},"",null,null,null,null,null,null,null,null,null,null,null,null,null,null,null,null,null,null,null,null,null,null,null,null,null,null,null,null,null,null,null,null,null,null,null,null,null,null,100,0]
[{"$f":"IF(Draw!E103=0,\"\",Draw!E103)","v":""},null,null,"","",{"$f":"IF($A103=\"\",\"\",'Fig 1 Ballet Leg'!H104)","v":""},{"$f":"IF($A103=\"\",\"\",'Fig 2 Barracuda'!H104)","v":""},{"$f":"IF($A103=\"\",\"\",'Fig 3 Neptunus'!H104)","v":""},{"$f":"IF($A103=\"\",\"\",'Fig 4 Walkover'!I104)","v":""},{"$f":"IF($A103=\"\",\"\",'Fig 1 Ballet Leg'!I104+'Fig 2 Barracuda'!I104+'Fig 3 Neptunus'!I104+'Fig 4 Walkover'!J104)","v":""},""]
[{"$f":"IF(Draw!E104=0,\"\",Draw!E104)","v":""},null,null,"","",{"$f":"IF($A104=\"\",\"\",'Fig 1 Ballet Leg'!H105)","v":""},{"$f":"IF($A104=\"\",\"\",'Fig 2 Barracuda'!H105)","v":""},{"$f":"IF($A104=\"\",\"\",'Fig 3 Neptunus'!H105)","v":""},{"$f":"IF($A104=\"\",\"\",'Fig 4 Walkover'!I105)","v":""},{"$f":"IF($A104=\"\",\"\",'Fig 1 Ballet Leg'!I105+'Fig 2 Barracuda'!I105+'Fig 3 Neptunus'!I105+'Fig 4 Walkover'!J105)","v":""},""]
[{"$f":"IF(Draw!E105=0,\"\",Draw!E105)","v":""},null,null,"","",{"$f":"IF($A105=\"\",\"\",'Fig 1 Ballet Leg'!H106)","v":""},{"$f":"IF($A105=\"\",\"\",'Fig 2 Barracuda'!H106)","v":""},{"$f":"IF($A105=\"\",\"\",'Fig 3 Neptunus'!H106)","v":""},{"$f":"IF($A105=\"\",\"\",'Fig 4 Walkover'!I106)","v":""},{"$f":"IF($A105=\"\",\"\",'Fig 1 Ballet Leg'!I106+'Fig 2 Barracuda'!I106+'Fig 3 Neptunus'!I106+'Fig 4 Walkover'!J106)","v":""},""]
[{"$f":"IF(Draw!E106=0,\"\",Draw!E106)","v":""},null,null,"","",{"$f":"IF($A106=\"\",\"\",'Fig 1 Ballet Leg'!H107)","v":""},{"$f":"IF($A106=\"\",\"\",'Fig 2 Barracuda'!H107)","v":""},{"$f":"IF($A106=\"\",\"\",'Fig 3 Neptunus'!H107)","v":""},{"$f":"IF($A106=\"\",\"\",'Fig 4 Walkover'!I107)","v":""},{"$f":"IF($A106=\"\",\"\",'Fig 1 Ballet Leg'!I107+'Fig 2 Barracuda'!I107+'Fig 3 Neptunus'!I107+'Fig 4 Walkover'!J107)","v":""},""]
[{"$f":"IF(Draw!E107=0,\"\",Draw!E107)","v":""},null,null,"","",{"$f":"IF($A107=\"\",\"\",'Fig 1 Ballet Leg'!H108)","v":""},{"$f":"IF($A107=\"\",\"\",'Fig 2 Barracuda'!H108)","v":""},{"$f":"IF($A107=\"\",\"\",'Fig 3 Neptunus'!H108)","v":""},{"$f":"IF($A107=\"\",\"\",'Fig 4 Walkover'!I108)","v":""},{"$f":"IF($A107=\"\",\"\",'Fig 1 Ballet Leg'!I108+'Fig 2 Barracuda'!I108+'Fig 3 Neptunus'!I108+'Fig 4 Walkover'!J108)","v":""},""]
[{"$f":"IF(Draw!E108=0,\"\",Draw!E108)","v":""},null,null,"","",{"$f":"IF($A108=\"\",\"\",'Fig 1 Ballet Leg'!H109)","v":""},{"$f":"IF($A108=\"\",\"\",'Fig 2 Barracuda'!H109)","v":""},{"$f":"IF($A108=\"\",\"\",'Fig 3 Neptunus'!H109)","v":""},{"$f":"IF($A108=\"\",\"\",'Fig 4 Walkover'!I109)","v":""},{"$f":"IF($A108=\"\",\"\",'Fig 1 Ballet Leg'!I109+'Fig 2 Barracuda'!I109+'Fig 3 Neptunus'!I109+'Fig 4 Walkover'!J109)","v":""},""]
[{"$f":"IF(Draw!E109=0,\"\",Draw!E109)","v":""},null,null,"","",{"$f":"IF($A109=\"\",\"\",'Fig 1 Ballet Leg'!H110)","v":""},{"$f":"IF($A109=\"\",\"\",'Fig 2 Barracuda'!H110)","v":""},{"$f":"IF($A109=\"\",\"\",'Fig 3 Neptunus'!H110)","v":""},{"$f":"IF($A109=\"\",\"\",'Fig 4 Walkover'!I110)","v":""},{"$f":"IF($A109=\"\",\"\",'Fig 1 Ballet Leg'!I110+'Fig 2 Barracuda'!I110+'Fig 3 Neptunus'!I110+'Fig 4 Walkover'!J110)","v":""},""]
[{"$f":"IF(Draw!E110=0,\"\",Draw!E110)","v":""},null,null,"","",{"$f":"IF($A110=\"\",\"\",'Fig 1 Ballet Leg'!H111)","v":""},{"$f":"IF($A110=\"\",\"\",'Fig 2 Barracuda'!H111)","v":""},{"$f":"IF($A110=\"\",\"\",'Fig 3 Neptunus'!H111)","v":""},{"$f":"IF($A110=\"\",\"\",'Fig 4 Walkover'!I111)","v":""},{"$f":"IF($A110=\"\",\"\",'Fig 1 Ballet Leg'!I111+'Fig 2 Barracuda'!I111+'Fig 3 Neptunus'!I111+'Fig 4 Walkover'!J111)","v":""},""]
[{"$f":"IF(Draw!E111=0,\"\",Draw!E111)","v":""},null,null,"","",{"$f":"IF($A111=\"\",\"\",'Fig 1 Ballet Leg'!H112)","v":""},{"$f":"IF($A111=\"\",\"\",'Fig 2 Barracuda'!H112)","v":""},{"$f":"IF($A111=\"\",\"\",'Fig 3 Neptunus'!H112)","v":""},{"$f":"IF($A111=\"\",\"\",'Fig 4 Walkover'!I112)","v":""},{"$f":"IF($A111=\"\",\"\",'Fig 1 Ballet Leg'!I112+'Fig 2 Barracuda'!I112+'Fig 3 Neptunus'!I112+'Fig 4 Walkover'!J112)","v":""},""]
[{"$f":"IF(Draw!E112=0,\"\",Draw!E112)","v":""},null,null,"","",{"$f":"IF($A112=\"\",\"\",'Fig 1 Ballet Leg'!H113)","v":""},{"$f":"IF($A112=\"\",\"\",'Fig 2 Barracuda'!H113)","v":""},{"$f":"IF($A112=\"\",\"\",'Fig 3 Neptunus'!H113)","v":""},{"$f":"IF($A112=\"\",\"\",'Fig 4 Walkover'!I113)","v":""},{"$f":"IF($A112=\"\",\"\",'Fig 1 Ballet Leg'!I113+'Fig 2 Barracuda'!I113+'Fig 3 Neptunus'!I113+'Fig 4 Walkover'!J113)","v":""},""]
[{"$f":"IF(Draw!E113=0,\"\",Draw!E113)","v":""},null,null,"","",{"$f":"IF($A113=\"\",\"\",'Fig 1 Ballet Leg'!H114)","v":""},{"$f":"IF($A113=\"\",\"\",'Fig 2 Barracuda'!H114)","v":""},{"$f":"IF($A113=\"\",\"\",'Fig 3 Neptunus'!H114)","v":""},{"$f":"IF($A113=\"\",\"\",'Fig 4 Walkover'!I114)","v":""},{"$f":"IF($A113=\"\",\"\",'Fig 1 Ballet Leg'!I114+'Fig 2 Barracuda'!I114+'Fig 3 Neptunus'!I114+'Fig 4 Walkover'!J114)","v":""},""]
[{"$f":"IF(Draw!E114=0,\"\",Draw!E114)","v":""},null,null,"","",{"$f":"IF($A114=\"\",\"\",'Fig 1 Ballet Leg'!H115)","v":""},{"$f":"IF($A114=\"\",\"\",'Fig 2 Barracuda'!H115)","v":""},{"$f":"IF($A114=\"\",\"\",'Fig 3 Neptunus'!H115)","v":""},{"$f":"IF($A114=\"\",\"\",'Fig 4 Walkover'!I115)","v":""},{"$f":"IF($A114=\"\",\"\",'Fig 1 Ballet Leg'!I115+'Fig 2 Barracuda'!I115+'Fig 3 Neptunus'!I115+'Fig 4 Walkover'!J115)","v":""},""]
[{"$f":"IF(Draw!E115=0,\"\",Draw!E115)","v":""},null,null,"","",{"$f":"IF($A115=\"\",\"\",'Fig 1 Ballet Leg'!H116)","v":""},{"$f":"IF($A115=\"\",\"\",'Fig 2 Barracuda'!H116)","v":""},{"$f":"IF($A115=\"\",\"\",'Fig 3 Neptunus'!H116)","v":""},{"$f":"IF($A115=\"\",\"\",'Fig 4 Walkover'!I116)","v":""},{"$f":"IF($A115=\"\",\"\",'Fig 1 Ballet Leg'!I116+'Fig 2 Barracuda'!I116+'Fig 3 Neptunus'!I116+'Fig 4 Walkover'!J116)","v":""},""]
[{"$f":"IF(Draw!E116=0,\"\",Draw!E116)","v":""},null,null,"","",{"$f":"IF($A116=\"\",\"\",'Fig 1 Ballet Leg'!H117)","v":""},{"$f":"IF($A116=\"\",\"\",'Fig 2 Barracuda'!H117)","v":""},{"$f":"IF($A116=\"\",\"\",'Fig 3 Neptunus'!H117)","v":""},{"$f":"IF($A116=\"\",\"\",'Fig 4 Walkover'!I117)","v":""},{"$f":"IF($A116=\"\",\"\",'Fig 1 Ballet Leg'!I117+'Fig 2 Barracuda'!I117+'Fig 3 Neptunus'!I117+'Fig 4 Walkover'!J117)","v":""},""]
[{"$f":"IF(Draw!E117=0,\"\",Draw!E117)","v":""},null,null,"","",{"$f":"IF($A117=\"\",\"\",'Fig 1 Ballet Leg'!H118)","v":""},{"$f":"IF($A117=\"\",\"\",'Fig 2 Barracuda'!H118)","v":""},{"$f":"IF($A117=\"\",\"\",'Fig 3 Neptunus'!H118)","v":""},{"$f":"IF($A117=\"\",\"\",'Fig 4 Walkover'!I118)","v":""},{"$f":"IF($A117=\"\",\"\",'Fig 1 Ballet Leg'!I118+'Fig 2 Barracuda'!I118+'Fig 3 Neptunus'!I118+'Fig 4 Walkover'!J118)","v":""},""]
[{"$f":"IF(Draw!E118=0,\"\",Draw!E118)","v":""},null,null,"","",{"$f":"IF($A118=\"\",\"\",'Fig 1 Ballet Leg'!H119)","v":""},{"$f":"IF($A118=\"\",\"\",'Fig 2 Barracuda'!H119)","v":""},{"$f":"IF($A118=\"\",\"\",'Fig 3 Neptunus'!H119)","v":""},{"$f":"IF($A118=\"\",\"\",'Fig 4 Walkover'!I119)","v":""},{"$f":"IF($A118=\"\",\"\",'Fig 1 Ballet Leg'!I119+'Fig 2 Barracuda'!I119+'Fig 3 Neptunus'!I119+'Fig 4 Walkover'!J119)","v":""},""]
[{"$f":"IF(Draw!E119=0,\"\",Draw!E119)","v":""},null,null,"","",{"$f":"IF($A119=\"\",\"\",'Fig 1 Ballet Leg'!H120)","v":""},{"$f":"IF($A119=\"\",\"\",'Fig 2 Barracuda'!H120)","v":""},{"$f":"IF($A119=\"\",\"\",'Fig 3 Neptunus'!H120)","v":""},{"$f":"IF($A119=\"\",\"\",'Fig 4 Walkover'!I120)","v":""},{"$f":"IF($A119=\"\",\"\",'Fig 1 Ballet Leg'!I120+'Fig 2 Barracuda'!I120+'Fig 3 Neptunus'!I120+'Fig 4 Walkover'!J120)","v":""},""]
[{"$f":"IF(Draw!E120=0,\"\",Draw!E120)","v":""},null,null,"","",{"$f":"IF($A120=\"\",\"\",'Fig 1 Ballet Leg'!H121)","v":""},{"$f":"IF($A120=\"\",\"\",'Fig 2 Barracuda'!H121)","v":""},{"$f":"IF($A120=\"\",\"\",'Fig 3 Neptunus'!H121)","v":""},{"$f":"IF($A120=\"\",\"\",'Fig 4 Walkover'!I121)","v":""},{"$f":"IF($A120=\"\",\"\",'Fig 1 Ballet Leg'!I121+'Fig 2 Barracuda'!I121+'Fig 3 Neptunus'!I121+'Fig 4 Walkover'!J121)","v":""},""]
[{"$f":"IF(Draw!E121=0,\"\",Draw!E121)","v":""},null,null,"","",{"$f":"IF($A121=\"\",\"\",'Fig 1 Ballet Leg'!H122)","v":""},{"$f":"IF($A121=\"\",\"\",'Fig 2 Barracuda'!H122)","v":""},{"$f":"IF($A121=\"\",\"\",'Fig 3 Neptunus'!H122)","v":""},{"$f":"IF($A121=\"\",\"\",'Fig 4 Walkover'!I122)","v":""},{"$f":"IF($A121=\"\",\"\",'Fig 1 Ballet Leg'!I122+'Fig 2 Barracuda'!I122+'Fig 3 Neptunus'!I122+'Fig 4 Walkover'!J122)","v":""},""]
[{"$f":"IF(Draw!E122=0,\"\",Draw!E122)","v":""},null,null,"","",{"$f":"IF($A122=\"\",\"\",'Fig 1 Ballet Leg'!H123)","v":""},{"$f":"IF($A122=\"\",\"\",'Fig 2 Barracuda'!H123)","v":""},{"$f":"IF($A122=\"\",\"\",'Fig 3 Neptunus'!H123)","v":""},{"$f":"IF($A122=\"\",\"\",'Fig 4 Walkover'!I123)","v":""},{"$f":"IF($A122=\"\",\"\",'Fig 1 Ballet Leg'!I123+'Fig 2 Barracuda'!I123+'Fig 3 Neptunus'!I123+'Fig 4 Walkover'!J123)","v":""},""]
[{"$f":"IF(Draw!E123=0,\"\",Draw!E123)","v":""},null,null,"","",{"$f":"IF($A123=\"\",\"\",'Fig 1 Ballet Leg'!H124)","v":""},{"$f":"IF($A123=\"\",\"\",'Fig 2 Barracuda'!H124)","v":""},{"$f":"IF($A123=\"\",\"\",'Fig 3 Neptunus'!H124)","v":""},{"$f":"IF($A123=\"\",\"\",'Fig 4 Walkover'!I124)","v":""},{"$f":"IF($A123=\"\",\"\",'Fig 1 Ballet Leg'!I124+'Fig 2 Barracuda'!I124+'Fig 3 Neptunus'!I124+'Fig 4 Walkover'!J124)","v":""},""]
[{"$f":"IF(Draw!E124=0,\"\",Draw!E124)","v":""},null,null,"","",{"$f":"IF($A124=\"\",\"\",'Fig 1 Ballet Leg'!H125)","v":""},{"$f":"IF($A124=\"\",\"\",'Fig 2 Barracuda'!H125)","v":""},{"$f":"IF($A124=\"\",\"\",'Fig 3 Neptunus'!H125)","v":""},{"$f":"IF($A124=\"\",\"\",'Fig 4 Walkover'!I125)","v":""},{"$f":"IF($A124=\"\",\"\",'Fig 1 Ballet Leg'!I125+'Fig 2 Barracuda'!I125+'Fig 3 Neptunus'!I125+'Fig 4 Walkover'!J125)","v":""},""]
[{"$f":"IF(Draw!E125=0,\"\",Draw!E125)","v":""},null,null,"","",{"$f":"IF($A125=\"\",\"\",'Fig 1 Ballet Leg'!H126)","v":""},{"$f":"IF($A125=\"\",\"\",'Fig 2 Barracuda'!H126)","v":""},{"$f":"IF($A125=\"\",\"\",'Fig 3 Neptunus'!H126)","v":""},{"$f":"IF($A125=\"\",\"\",'Fig 4 Walkover'!I126)","v":""},{"$f":"IF($A125=\"\",\"\",'Fig 1 Ballet Leg'!I126+'Fig 2 Barracuda'!I126+'Fig 3 Neptunus'!I126+'Fig 4 Walkover'!J126)","v":""},""]
[{"$f":"IF(Draw!E126=0,\"\",Draw!E126)","v":""},null,null,"","",{"$f":"IF($A126=\"\",\"\",'Fig 1 Ballet Leg'!H127)","v":""},{"$f":"IF($A126=\"\",\"\",'Fig 2 Barracuda'!H127)","v":""},{"$f":"IF($A126=\"\",\"\",'Fig 3 Neptunus'!H127)","v":""},{"$f":"IF($A126=\"\",\"\",'Fig 4 Walkover'!I127)","v":""},{"$f":"IF($A126=\"\",\"\",'Fig 1 Ballet Leg'!I127+'Fig 2 Barracuda'!I127+'Fig 3 Neptunus'!I127+'Fig 4 Walkover'!J127)","v":""},""]
[{"$f":"IF(Draw!E127=0,\"\",Draw!E127)","v":""},null,null,"","",{"$f":"IF($A127=\"\",\"\",'Fig 1 Ballet Leg'!H128)","v":""},{"$f":"IF($A127=\"\",\"\",'Fig 2 Barracuda'!H128)","v":""},{"$f":"IF($A127=\"\",\"\",'Fig 3 Neptunus'!H128)","v":""},{"$f":"IF($A127=\"\",\"\",'Fig 4 Walkover'!I128)","v":""},{"$f":"IF($A127=\"\",\"\",'Fig 1 Ballet Leg'!I128+'Fig 2 Barracuda'!I128+'Fig 3 Neptunus'!I128+'Fig 4 Walkover'!J128)","v":""},""]
[{"$f":"IF(Draw!E128=0,\"\",Draw!E128)","v":""},null,null,"","",{"$f":"IF($A128=\"\",\"\",'Fig 1 Ballet Leg'!H129)","v":""},{"$f":"IF($A128=\"\",\"\",'Fig 2 Barracuda'!H129)","v":""},{"$f":"IF($A128=\"\",\"\",'Fig 3 Neptunus'!H129)","v":""},{"$f":"IF($A128=\"\",\"\",'Fig 4 Walkover'!I129)","v":""},{"$f":"IF($A128=\"\",\"\",'Fig 1 Ballet Leg'!I129+'Fig 2 Barracuda'!I129+'Fig 3 Neptunus'!I129+'Fig 4 Walkover'!J129)","v":""},""]
[{"$f":"IF(Draw!E129=0,\"\",Draw!E129)","v":""},null,null,"","",{"$f":"IF($A129=\"\",\"\",'Fig 1 Ballet Leg'!H130)","v":""},{"$f":"IF($A129=\"\",\"\",'Fig 2 Barracuda'!H130)","v":""},{"$f":"IF($A129=\"\",\"\",'Fig 3 Neptunus'!H130)","v":""},{"$f":"IF($A129=\"\",\"\",'Fig 4 Walkover'!I130)","v":""},{"$f":"IF($A129=\"\",\"\",'Fig 1 Ballet Leg'!I130+'Fig 2 Barracuda'!I130+'Fig 3 Neptunus'!I130+'Fig 4 Walkover'!J130)","v":""},""]
[{"$f":"IF(Draw!E130=0,\"\",Draw!E130)","v":""},null,null,"","",{"$f":"IF($A130=\"\",\"\",'Fig 1 Ballet Leg'!H131)","v":""},{"$f":"IF($A130=\"\",\"\",'Fig 2 Barracuda'!H131)","v":""},{"$f":"IF($A130=\"\",\"\",'Fig 3 Neptunus'!H131)","v":""},{"$f":"IF($A130=\"\",\"\",'Fig 4 Walkover'!I131)","v":""},{"$f":"IF($A130=\"\",\"\",'Fig 1 Ballet Leg'!I131+'Fig 2 Barracuda'!I131+'Fig 3 Neptunus'!I131+'Fig 4 Walkover'!J131)","v":""},""]
[{"$f":"IF(Draw!E131=0,\"\",Draw!E131)","v":""},null,null,"","",{"$f":"IF($A131=\"\",\"\",'Fig 1 Ballet Leg'!H132)","v":""},{"$f":"IF($A131=\"\",\"\",'Fig 2 Barracuda'!H132)","v":""},{"$f":"IF($A131=\"\",\"\",'Fig 3 Neptunus'!H132)","v":""},{"$f":"IF($A131=\"\",\"\",'Fig 4 Walkover'!I132)","v":""},{"$f":"IF($A131=\"\",\"\",'Fig 1 Ballet Leg'!I132+'Fig 2 Barracuda'!I132+'Fig 3 Neptunus'!I132+'Fig 4 Walkover'!J132)","v":""},""]
[{"$f":"IF(Draw!E132=0,\"\",Draw!E132)","v":""},null,null,"","",{"$f":"IF($A132=\"\",\"\",'Fig 1 Ballet Leg'!H133)","v":""},{"$f":"IF($A132=\"\",\"\",'Fig 2 Barracuda'!H133)","v":""},{"$f":"IF($A132=\"\",\"\",'Fig 3 Neptunus'!H133)","v":""},{"$f":"IF($A132=\"\",\"\",'Fig 4 Walkover'!I133)","v":""},{"$f":"IF($A132=\"\",\"\",'Fig 1 Ballet Leg'!I133+'Fig 2 Barracuda'!I133+'Fig 3 Neptunus'!I133+'Fig 4 Walkover'!J133)","v":""},""]
[{"$f":"IF(Draw!E133=0,\"\",Draw!E133)","v":""},null,null,{"$f":"IF($A133=\"\",\"\",SUM(F133:I133)-J133)","v":""},{"$f":"IF($A133=\"\",\"\",RANK(D133,D$2:D$150))","v":""},{"$f":"IF($A133=\"\",\"\",'Fig 1 Ballet Leg'!H134)","v":""},{"$f":"IF($A133=\"\",\"\",'Fig 2 Barracuda'!H134)","v":""},{"$f":"IF($A133=\"\",\"\",'Fig 3 Neptunus'!H134)","v":""},{"$f":"IF($A133=\"\",\"\",'Fig 4 Walkover'!I134)","v":""},{"$f":"IF($A133=\"\",\"\",'Fig 1 Ballet Leg'!I134+'Fig 2 Barracuda'!I134+'Fig 3 Neptunus'!I134+'Fig 4 Walkover'!J134)","v":""},{"$f":"IF($A133=\"\",\"\",IF(A133=\"\",\"\",VLOOKUP(E133,AX$3:AY$102,2,FALSE)))","v":""}]
[{"$f":"IF(Draw!E134=0,\"\",Draw!E134)","v":""},null,null,"","",{"$f":"IF($A134=\"\",\"\",'Fig 1 Ballet Leg'!H135)","v":""},{"$f":"IF($A134=\"\",\"\",'Fig 2 Barracuda'!H135)","v":""},{"$f":"IF($A134=\"\",\"\",'Fig 3 Neptunus'!H135)","v":""},{"$f":"IF($A134=\"\",\"\",'Fig 4 Walkover'!I135)","v":""},{"$f":"IF($A134=\"\",\"\",'Fig 1 Ballet Leg'!I135+'Fig 2 Barracuda'!I135+'Fig 3 Neptunus'!I135+'Fig 4 Walkover'!J135)","v":""},""]
[{"$f":"IF(Draw!E135=0,\"\",Draw!E135)","v":""},null,null,"","",{"$f":"IF($A135=\"\",\"\",'Fig 1 Ballet Leg'!H136)","v":""},{"$f":"IF($A135=\"\",\"\",'Fig 2 Barracuda'!H136)","v":""},{"$f":"IF($A135=\"\",\"\",'Fig 3 Neptunus'!H136)","v":""},{"$f":"IF($A135=\"\",\"\",'Fig 4 Walkover'!I136)","v":""},{"$f":"IF($A135=\"\",\"\",'Fig 1 Ballet Leg'!I136+'Fig 2 Barracuda'!I136+'Fig 3 Neptunus'!I136+'Fig 4 Walkover'!J136)","v":""},""]
[{"$f":"IF(Draw!E136=0,\"\",Draw!E136)","v":""},null,null,"","",{"$f":"IF($A136=\"\",\"\",'Fig 1 Ballet Leg'!H137)","v":""},{"$f":"IF($A136=\"\",\"\",'Fig 2 Barracuda'!H137)","v":""},{"$f":"IF($A136=\"\",\"\",'Fig 3 Neptunus'!H137)","v":""},{"$f":"IF($A136=\"\",\"\",'Fig 4 Walkover'!I137)","v":""},{"$f":"IF($A136=\"\",\"\",'Fig 1 Ballet Leg'!I137+'Fig 2 Barracuda'!I137+'Fig 3 Neptunus'!I137+'Fig 4 Walkover'!J137)","v":""},""]
[{"$f":"IF(Draw!E137=0,\"\",Draw!E137)","v":""},null,null,"","",{"$f":"IF($A137=\"\",\"\",'Fig 1 Ballet Leg'!H138)","v":""},{"$f":"IF($A137=\"\",\"\",'Fig 2 Barracuda'!H138)","v":""},{"$f":"IF($A137=\"\",\"\",'Fig 3 Neptunus'!H138)","v":""},{"$f":"IF($A137=\"\",\"\",'Fig 4 Walkover'!I138)","v":""},{"$f":"IF($A137=\"\",\"\",'Fig 1 Ballet Leg'!I138+'Fig 2 Barracuda'!I138+'Fig 3 Neptunus'!I138+'Fig 4 Walkover'!J138)","v":""},""]
[{"$f":"IF(Draw!E138=0,\"\",Draw!E138)","v":""},null,null,"","",{"$f":"IF($A138=\"\",\"\",'Fig 1 Ballet Leg'!H139)","v":""},{"$f":"IF($A138=\"\",\"\",'Fig 2 Barracuda'!H139)","v":""},{"$f":"IF($A138=\"\",\"\",'Fig 3 Neptunus'!H139)","v":""},{"$f":"IF($A138=\"\",\"\",'Fig 4 Walkover'!I139)","v":""},{"$f":"IF($A138=\"\",\"\",'Fig 1 Ballet Leg'!I139+'Fig 2 Barracuda'!I139+'Fig 3 Neptunus'!I139+'Fig 4 Walkover'!J139)","v":""},""]
[{"$f":"IF(Draw!E139=0,\"\",Draw!E139)","v":""},null,null,"","",{"$f":"IF($A139=\"\",\"\",'Fig 1 Ballet Leg'!H140)","v":""},{"$f":"IF($A139=\"\",\"\",'Fig 2 Barracuda'!H140)","v":""},{"$f":"IF($A139=\"\",\"\",'Fig 3 Neptunus'!H140)","v":""},{"$f":"IF($A139=\"\",\"\",'Fig 4 Walkover'!I140)","v":""},{"$f":"IF($A139=\"\",\"\",'Fig 1 Ballet Leg'!I140+'Fig 2 Barracuda'!I140+'Fig 3 Neptunus'!I140+'Fig 4 Walkover'!J140)","v":""},""]
[{"$f":"IF(Draw!E140=0,\"\",Draw!E140)","v":""},null,null,"","",{"$f":"IF($A140=\"\",\"\",'Fig 1 Ballet Leg'!H141)","v":""},{"$f":"IF($A140=\"\",\"\",'Fig 2 Barracuda'!H141)","v":""},{"$f":"IF($A140=\"\",\"\",'Fig 3 Neptunus'!H141)","v":""},{"$f":"IF($A140=\"\",\"\",'Fig 4 Walkover'!I141)","v":""},{"$f":"IF($A140=\"\",\"\",'Fig 1 Ballet Leg'!I141+'Fig 2 Barracuda'!I141+'Fig 3 Neptunus'!I141+'Fig 4 Walkover'!J141)","v":""},""]
[{"$f":"IF(Draw!E141=0,\"\",Draw!E141)","v":""},null,null,"","",{"$f":"IF($A141=\"\",\"\",'Fig 1 Ballet Leg'!H142)","v":""},{"$f":"IF($A141=\"\",\"\",'Fig 2 Barracuda'!H142)","v":""},{"$f":"IF($A141=\"\",\"\",'Fig 3 Neptunus'!H142)","v":""},{"$f":"IF($A141=\"\",\"\",'Fig 4 Walkover'!I142)","v":""},{"$f":"IF($A141=\"\",\"\",'Fig 1 Ballet Leg'!I142+'Fig 2 Barracuda'!I142+'Fig 3 Neptunus'!I142+'Fig 4 Walkover'!J142)","v":""},""]
[{"$f":"IF(Draw!E142=0,\"\",Draw!E142)","v":""},null,null,"","",{"$f":"IF($A142=\"\",\"\",'Fig 1 Ballet Leg'!H143)","v":""},{"$f":"IF($A142=\"\",\"\",'Fig 2 Barracuda'!H143)","v":""},{"$f":"IF($A142=\"\",\"\",'Fig 3 Neptunus'!H143)","v":""},{"$f":"IF($A142=\"\",\"\",'Fig 4 Walkover'!I143)","v":""},{"$f":"IF($A142=\"\",\"\",'Fig 1 Ballet Leg'!I143+'Fig 2 Barracuda'!I143+'Fig 3 Neptunus'!I143+'Fig 4 Walkover'!J143)","v":""},""]
[{"$f":"IF(Draw!E143=0,\"\",Draw!E143)","v":""},null,null,"","",{"$f":"IF($A143=\"\",\"\",'Fig 1 Ballet Leg'!H144)","v":""},{"$f":"IF($A143=\"\",\"\",'Fig 2 Barracuda'!H144)","v":""},{"$f":"IF($A143=\"\",\"\",'Fig 3 Neptunus'!H144)","v":""},{"$f":"IF($A143=\"\",\"\",'Fig 4 Walkover'!I144)","v":""},{"$f":"IF($A143=\"\",\"\",'Fig 1 Ballet Leg'!I144+'Fig 2 Barracuda'!I144+'Fig 3 Neptunus'!I144+'Fig 4 Walkover'!J144)","v":""},""]
[{"$f":"IF(Draw!E144=0,\"\",Draw!E144)","v":""},null,null,"","",{"$f":"IF($A144=\"\",\"\",'Fig 1 Ballet Leg'!H145)","v":""},{"$f":"IF($A144=\"\",\"\",'Fig 2 Barracuda'!H145)","v":""},{"$f":"IF($A144=\"\",\"\",'Fig 3 Neptunus'!H145)","v":""},{"$f":"IF($A144=\"\",\"\",'Fig 4 Walkover'!I145)","v":""},{"$f":"IF($A144=\"\",\"\",'Fig 1 Ballet Leg'!I145+'Fig 2 Barracuda'!I145+'Fig 3 Neptunus'!I145+'Fig 4 Walkover'!J145)","v":""},""]
[{"$f":"IF(Draw!E145=0,\"\",Draw!E145)","v":""},null,null,"","",{"$f":"IF($A145=\"\",\"\",'Fig 1 Ballet Leg'!H146)","v":""},{"$f":"IF($A145=\"\",\"\",'Fig 2 Barracuda'!H146)","v":""},{"$f":"IF($A145=\"\",\"\",'Fig 3 Neptunus'!H146)","v":""},{"$f":"IF($A145=\"\",\"\",'Fig 4 Walkover'!I146)","v":""},{"$f":"IF($A145=\"\",\"\",'Fig 1 Ballet Leg'!I146+'Fig 2 Barracuda'!I146+'Fig 3 Neptunus'!I146+'Fig 4 Walkover'!J146)","v":""},""]
[{"$f":"IF(Draw!E146=0,\"\",Draw!E146)","v":""},null,null,"","",{"$f":"IF($A146=\"\",\"\",'Fig 1 Ballet Leg'!H147)","v":""},{"$f":"IF($A146=\"\",\"\",'Fig 2 Barracuda'!H147)","v":""},{"$f":"IF($A146=\"\",\"\",'Fig 3 Neptunus'!H147)","v":""},{"$f":"IF($A146=\"\",\"\",'Fig 4 Walkover'!I147)","v":""},{"$f":"IF($A146=\"\",\"\",'Fig 1 Ballet Leg'!I147+'Fig 2 Barracuda'!I147+'Fig 3 Neptunus'!I147+'Fig 4 Walkover'!J147)","v":""},""]
[{"$f":"IF(Draw!E147=0,\"\",Draw!E147)","v":""},null,null,"","",{"$f":"IF($A147=\"\",\"\",'Fig 1 Ballet Leg'!H148)","v":""},{"$f":"IF($A147=\"\",\"\",'Fig 2 Barracuda'!H148)","v":""},{"$f":"IF($A147=\"\",\"\",'Fig 3 Neptunus'!H148)","v":""},{"$f":"IF($A147=\"\",\"\",'Fig 4 Walkover'!I148)","v":""},{"$f":"IF($A147=\"\",\"\",'Fig 1 Ballet Leg'!I148+'Fig 2 Barracuda'!I148+'Fig 3 Neptunus'!I148+'Fig 4 Walkover'!J148)","v":""},""]
[{"$f":"IF(Draw!E148=0,\"\",Draw!E148)","v":""},null,null,"","",{"$f":"IF($A148=\"\",\"\",'Fig 1 Ballet Leg'!H149)","v":""},{"$f":"IF($A148=\"\",\"\",'Fig 2 Barracuda'!H149)","v":""},{"$f":"IF($A148=\"\",\"\",'Fig 3 Neptunus'!H149)","v":""},{"$f":"IF($A148=\"\",\"\",'Fig 4 Walkover'!I149)","v":""},{"$f":"IF($A148=\"\",\"\",'Fig 1 Ballet Leg'!I149+'Fig 2 Barracuda'!I149+'Fig 3 Neptunus'!I149+'Fig 4 Walkover'!J149)","v":""},""]
[{"$f":"IF(Draw!E149=0,\"\",Draw!E149)","v":""},null,null,"","",{"$f":"IF($A149=\"\",\"\",'Fig 1 Ballet Leg'!H150)","v":""},{"$f":"IF($A149=\"\",\"\",'Fig 2 Barracuda'!H150)","v":""},{"$f":"IF($A149=\"\",\"\",'Fig 3 Neptunus'!H150)","v":""},{"$f":"IF($A149=\"\",\"\",'Fig 4 Walkover'!I150)","v":""},{"$f":"IF($A149=\"\",\"\",'Fig 1 Ballet Leg'!I150+'Fig 2 Barracuda'!I150+'Fig 3 Neptunus'!I150+'Fig 4 Walkover'!J150)","v":""},""]
[{"$f":"IF(Draw!E150=0,\"\",Draw!E150)","v":""},null,null,"","",{"$f":"IF($A150=\"\",\"\",'Fig 1 Ballet Leg'!H151)","v":""},{"$f":"IF($A150=\"\",\"\",'Fig 2 Barracuda'!H151)","v":""},{"$f":"IF($A150=\"\",\"\",'Fig 3 Neptunus'!H151)","v":""},{"$f":"IF($A150=\"\",\"\",'Fig 4 Walkover'!I151)","v":""},{"$f":"IF($A150=\"\",\"\",'Fig 1 Ballet Leg'!I151+'Fig 2 Barracuda'!I151+'Fig 3 Neptunus'!I151+'Fig 4 Walkover'!J151)","v":""},""]
[null,null,null,null,null,null,null,null,null,null,{"$f":"IF($A151=\"\",\"\",IF(A151=\"\",\"\",VLOOKUP(E151,AX$3:AY$102,2,FALSE)))","v":""}]

{"sheet":"Draw","index":6,"n_rows":151,"n_cols":16,"rows_kept":151,"cut":false,"hidden":true,"merged":[]}
[1,"Bloomington",{"$f":"RAND()","v":0.57858918687150573},null,null,null,"School","Name","Draw #","Name","School"]
["Jenna Stockinger","Forest Lake",{"$f":"RAND()","v":2.014990781985071E-2},{"$f":"IF(ISNA(RANK(C2,C$2:C$150,1)),\"\",RANK(C2,C$2:C$150,1))","v":2},{"$f":"IF(B2<>\"\",F2,\"\")","v":1},1,{"$f":"B2","v":"Forest Lake"},{"$f":"A2","v":"Jenna Stockinger"},{"$f":"E2","v":1},{"$f":"IF(ISNA(VLOOKUP(I2,D$2:H$150,5,FALSE)),\"\",VLOOKUP(I2,D$2:H$150,5,FALSE))","v":"Madison Peters"},{"$f":"IF(ISNA(VLOOKUP(I2,D$2:G$150,4,FALSE)),\"\",VLOOKUP(I2,D$2:G$150,4,FALSE))","v":"Osseo-Maple Grove"},null,null,1,"Jenna Stockinger","Forest Lake"]
["Ellery Mason","Osseo-Maple Grove",0.39893861425029808,{"$f":"IF(ISNA(RANK(C3,C$2:C$150,1)),\"\",RANK(C3,C$2:C$150,1))","v":14},{"$f":"IF(B3<>\"\",F3,\"\")","v":2},2,{"$f":"B3","v":"Osseo-Maple Grove"},{"$f":"A3","v":"Ellery Mason"},{"$f":"E3","v":2},{"$f":"IF(ISNA(VLOOKUP(I3,D$2:H$150,5,FALSE)),\"\",VLOOKUP(I3,D$2:H$150,5,FALSE))","v":"Jenna Stockinger"},{"$f":"IF(ISNA(VLOOKUP(I3,D$2:G$150,4,FALSE)),\"\",VLOOKUP(I3,D$2:G$150,4,FALSE))","v":"Forest Lake"},null,null,2,"Ellery Mason","Osseo-Maple Grove"]
["Katherine Hildebrandt","Osseo-Maple Grove",0.32821894260372186,12,3,3,"Osseo-Maple Grove","Katherine Hildebrandt",3,"Katelyn Molin","Osseo-Maple Grove",null,null,3,"Katherine Hildebrandt","Osseo-Maple Grove"]
["Carolin LaBord","Osseo-Maple Grove",0.97192638945512244,30,4,4,"Osseo-Maple Grove","Carolin LaBord",4,"","",null,null,4,"Carolin LaBord","Osseo-Maple Grove"]
["Indy Walstrom","Forest Lake",0.44141604796158318,17,5,5,"Forest Lake","Indy Walstrom",5,"","",null,null,5,"Indy Walstrom","Forest Lake"]
["Zoe Scholl","Forest Lake",0.42104314836922008,15,6,6,"Forest Lake","Zoe Scholl",6,"Lizzy Hentges","Forest Lake",null,null,6,"Zoe Scholl","Forest Lake"]
["Alexandra Trudeau","Osseo-Maple Grove",0.43358858681488599,16,7,7,"Osseo-Maple Grove","Alexandra Trudeau",7,"Margo Prentice","Osseo-Maple Grove",null,null,7,"Alexandra Trudeau","Osseo-Maple Grove"]
["Lydia Zimmerman","Forest Lake",0.74844755376771877,25,8,8,"Forest Lake","Lydia Zimmerman",8,"Rachel Milbauer","Forest Lake",null,null,8,"Lydia Zimmerman","Forest Lake"]
["Margo Prentice","Osseo-Maple Grove",0.20838046161556933,7,9,9,"Osseo-Maple Grove","Margo Prentice",9,"","",null,null,9,"Margo Prentice","Osseo-Maple Grove"]
["Paige Anderson","Forest Lake",0.45567529746283397,18,10,10,"Forest Lake","Paige Anderson",10,"Allison Hannann","Osseo-Maple Grove",null,null,10,"Paige Anderson","Forest Lake"]
["Heather Breidenbach","Osseo-Maple Grove",0.57672602775591086,21,11,11,"Osseo-Maple Grove","Heather Breidenbach",11,"Ariel Ball","Forest Lake",null,null,11,"Heather Breidenbach","Osseo-Maple Grove"]
["Katherine Olsen","Osseo-Maple Grove",0.99709940590928581,33,12,12,"Osseo-Maple Grove","Katherine Olsen",12,"Katherine Hildebrandt","Osseo-Maple Grove",null,null,12,"Katherine Olsen","Osseo-Maple Grove"]
["Rachel Milbauer","Forest Lake",0.2158014480032544,8,13,13,"Forest Lake","Rachel Milbauer",13,"Ellie Thiele","Forest Lake",null,null,13,"Rachel Milbauer","Forest Lake"]
["Ashlyn Mackowick","Forest Lake",0.98062969957238977,31,14,14,"Forest Lake","Ashlyn Mackowick",14,"Ellery Mason","Osseo-Maple Grove",null,null,14,"Ashlyn Mackowick","Forest Lake"]
["Zoe Waldron","Osseo-Maple Grove",0.99187326377349239,32,15,15,"Osseo-Maple Grove","Zoe Waldron",15,"Zoe Scholl","Forest Lake",null,null,15,"Zoe Waldron","Osseo-Maple Grove"]
["Ellie Thiele","Forest Lake",0.34204660785564478,13,16,16,"Forest Lake","Ellie Thiele",16,"Alexandra Trudeau","Osseo-Maple Grove",null,null,16,"Ellie Thiele","Forest Lake"]
["Ariel Ball","Forest Lake",0.26538680715109531,11,17,17,"Forest Lake","Ariel Ball",17,"Indy Walstrom","Forest Lake",null,null,17,"Ariel Ball","Forest Lake"]
["Allison Hannann","Osseo-Maple Grove",0.25589970949739838,10,18,18,"Osseo-Maple Grove","Allison Hannann",18,"Paige Anderson","Forest Lake",null,null,18,"Allison Hannann","Osseo-Maple Grove"]
["Rylie Sampson","Forest Lake",0.6142284235087071,23,19,19,"Forest Lake","Rylie Sampson",19,"Johanna Livermore","Forest Lake",null,null,19,"Rylie Sampson","Forest Lake"]
["Lizzy Hentges","Forest Lake",0.18237993224121574,6,20,20,"Forest Lake","Lizzy Hentges",20,"Emily Honnold","Osseo-Maple Grove",null,null,20,"Lizzy Hentges","Forest Lake"]
["Heidi Hyrkas","Forest Lake",0.9386995151895694,29,21,21,"Forest Lake","Heidi Hyrkas",21,"Heather Breidenbach","Osseo-Maple Grove",null,null,21,"Heidi Hyrkas","Forest Lake"]
["Kelly Sullivan","Forest Lake",0.68555858759305266,24,22,22,"Forest Lake","Kelly Sullivan",22,"Rachel Knox","Osseo-Maple Grove",null,null,22,"Kelly Sullivan","Forest Lake"]
["Haley Heiss","Osseo-Maple Grove",0.91938817978046528,28,23,23,"Osseo-Maple Grove","Haley Heiss",23,"Rylie Sampson","Forest Lake",null,null,23,"Haley Heiss","Osseo-Maple Grove"]
["Katelyn Molin","Osseo-Maple Grove",4.3042039976850299E-2,3,24,24,"Osseo-Maple Grove","Katelyn Molin",24,"Kelly Sullivan","Forest Lake",null,null,24,"Katelyn Molin","Osseo-Maple Grove"]
["Madison Peters","Osseo-Maple Grove",1.4189400067666225E-2,1,25,25,"Osseo-Maple Grove","Madison Peters",25,"Lydia Zimmerman","Forest Lake",null,null,25,"Madison Peters","Osseo-Maple Grove"]
["Alva Westher","Forest Lake",0.78415776378312396,26,26,26,"Forest Lake","Alva Westher",26,"Alva Westher","Forest Lake",null,null,26,"Alva Westher","Forest Lake"]
["Emily Honnold","Osseo-Maple Grove",0.55744945226486353,20,27,27,"Osseo-Maple Grove","Emily Honnold",27,"Emma Armitage","Forest Lake",null,null,27,"Emily Honnold","Osseo-Maple Grove"]
["Rachel Knox","Osseo-Maple Grove",0.5776265427596381,22,28,28,"Osseo-Maple Grove","Rachel Knox",28,"Haley Heiss","Osseo-Maple Grove",null,null,28,"Rachel Knox","Osseo-Maple Grove"]
["Emma Armitage","Forest Lake",0.81955049531357727,27,29,29,"Forest Lake","Emma Armitage",29,"Heidi Hyrkas","Forest Lake",null,null,29,"Emma Armitage","Forest Lake"]
["Johanna Livermore","Forest Lake",0.51373177322329566,19,30,30,"Forest Lake","Johanna Livermore",30,"Carolin LaBord","Osseo-Maple Grove",null,null,30,"Johanna Livermore","Forest Lake"]
["Mckinley Leavitt","Forest Lake",0.23614225026356117,null,{"$f":"IF(B32<>\"\",F32,\"\")","v":31},31,"Forest Lake","Mckinley Leavitt",31,"Ashlyn Mackowick","Forest Lake",null,null,31,"Mckinley Leavitt","Forest Lake"]
["Maggie Thompson","Forest Lake",0.13668700077784579,null,32,32,"Forest Lake","Maggie Thompson",32,"Zoe Waldron","Osseo-Maple Grove",null,null,32,"Maggie Thompson","Forest Lake"]
["Anneke DeLooze","Osseo-Maple Grove",0.1748071369407419,null,33,33,"Osseo-Maple Grove","Anneke DeLooze",33,"Katherine Olsen","Osseo-Maple Grove",null,null,33,"Anneke DeLooze","Osseo-Maple Grove"]
[null,null,null,null,"",34,0,0,"",0,0,null,null,""]
[null,null,null,null,"",35,0,0,"",0,0,null,null,""]
[null,null,null,null,"",36,0,0,"",0,0,null,null,""]
[null,null,null,null,"",37,0,0,"",0,0,null,null,""]
[null,null,null,null,"",38,0,0,"",0,0,null,null,""]
[null,null,null,null,"",39,0,0,"",0,0,null,null,""]
[null,null,null,null,"",40,0,0,"",0,0,null,null,""]
[null,null,null,null,"",41,0,0,"",0,0,null,null,""]
[null,null,null,null,"",42,0,0,"",0,0,null,null,""]
[null,null,null,null,"",43,0,0,"",0,0,null,null,""]
[null,null,null,null,"",44,0,0,"",0,0,null,null,""]
[null,null,null,null,"",45,0,0,"",0,0,null,null,""]
[null,null,null,null,"",46,0,0,"",0,0,null,null,""]
[null,null,null,null,"",47,0,0,"",0,0,null,null,""]
[null,null,null,null,"",48,0,0,"",0,0,null,null,""]
[null,null,null,null,"",49,0,0,"",0,0,null,null,""]
[null,null,null,null,"",50,0,0,"",0,0,null,null,""]
[null,null,null,null,"",51,0,0,"",0,0,null,null,""]
[null,null,null,null,"",52,0,0,"",0,0,null,null,""]
[null,null,null,null,"",53,0,0,"",0,0,null,null,""]
[null,null,null,null,"",54,0,0,"",0,0,null,null,""]
[null,null,null,null,"",55,0,0,"",0,0,null,null,""]
[null,null,null,null,"",56,0,0,"",0,0,null,null,""]
[null,null,null,null,"",57,0,0,"",0,0,null,null,""]
[null,null,null,null,"",58,0,0,"",0,0,null,null,""]
[null,null,null,null,"",59,0,0,"",0,0,null,null,""]
[null,null,null,null,"",60,0,0,"",0,0,null,null,""]
[null,null,null,null,"",61,0,0,"",0,0,null,null,""]
[null,null,null,null,"",62,0,0,"",0,0,null,null,""]
[null,null,null,null,"",63,0,0,"",0,0,null,null,""]
[null,null,null,null,"",64,0,0,"",0,0,null,null,""]
[null,null,null,null,"",65,0,0,"",0,0,null,null,""]
[null,null,null,null,"",66,{"$f":"B67","v":0},{"$f":"A67","v":0},{"$f":"E67","v":""},{"$f":"IF(ISNA(VLOOKUP(I67,D$2:H$150,5,FALSE)),\"\",VLOOKUP(I67,D$2:H$150,5,FALSE))","v":0},{"$f":"IF(ISNA(VLOOKUP(I67,D$2:G$150,4,FALSE)),\"\",VLOOKUP(I67,D$2:G$150,4,FALSE))","v":0},null,null,""]
[null,null,null,null,"",67,0,0,"",0,0,null,null,""]
[null,null,null,null,"",68,0,0,"",0,0,null,null,""]
[null,null,null,null,"",69,0,0,"",0,0,null,null,""]
[null,null,null,null,"",70,0,0,"",0,0,null,null,""]
[null,null,null,null,"",71,0,0,"",0,0,null,null,""]
[null,null,null,null,"",72,0,0,"",0,0,null,null,""]
[null,null,null,null,"",73,0,0,"",0,0,null,null,""]
[null,null,null,null,"",74,0,0,"",0,0,null,null,""]
[null,null,null,null,"",75,0,0,"",0,0,null,null,""]
[null,null,null,null,"",76,0,0,"",0,0,null,null,""]
[null,null,null,null,"",77,0,0,"",0,0,null,null,""]
[null,null,null,null,"",78,0,0,"",0,0,null,null,""]
[null,null,null,null,"",79,0,0,"",0,0,null,null,""]
[null,null,null,null,"",80,0,0,"",0,0,null,null,""]
[null,null,null,null,"",81,0,0,"",0,0,null,null,""]
[null,null,null,null,"",82,0,0,"",0,0,null,null,""]
[null,null,null,null,"",83,0,0,"",0,0,null,null,""]
[null,null,null,null,"",84,0,0,"",0,0,null,null,""]
[null,null,null,null,"",85,0,0,"",0,0,null,null,""]
[null,null,null,null,"",86,0,0,"",0,0,null,null,""]
[null,null,null,null,"",87,0,0,"",0,0,null,null,""]
[null,null,null,null,"",88,0,0,"",0,0,null,null,""]
[null,null,null,null,"",89,0,0,"",0,0,null,null,""]
[null,null,null,null,"",90,0,0,"",0,0,null,null,""]
[null,null,null,null,"",91,0,0,"",0,0,null,null,""]
[null,null,null,null,"",92,0,0,"",0,0,null,null,""]
[null,null,null,null,"",93,0,0,"",0,0,null,null,""]
[null,null,null,null,"",94,{"$f":"B95","v":0},{"$f":"A95","v":0},{"$f":"E95","v":""},0,0,null,null,""]
[null,null,null,null,{"$f":"IF(B96<>\"\",F96,\"\")","v":""},95,0,0,"",0,0,null,null,""]
[null,null,null,null,"",96,0,0,"",0,0,null,null,""]
[null,null,null,null,"",97,0,0,"",0,0,null,null,""]
[null,null,null,null,"",98,0,0,"",0,0,null,null,""]
[null,null,null,null,"",99,0,0,"",0,0,null,null,""]
[null,null,null,null,"",100,0,0,"",0,0,null,null,""]
[null,null,null,null,"",101,0,0,"",0,0,null,null,""]
[null,null,null,null,"",102,0,0,"",0,0,null,null,""]
[null,null,null,null,"",103,0,0,"",0,0,null,null,""]
[null,null,null,null,"",104,0,0,"",0,0,null,null,""]
[null,null,null,null,"",105,0,0,"",0,0,null,null,""]
[null,null,null,null,"",106,0,0,"",0,0,null,null,""]
[null,null,null,null,"",107,0,0,"",0,0,null,null,""]
[null,null,null,null,"",108,0,0,"",0,0,null,null,""]
[null,null,null,null,"",109,0,0,"",0,0,null,null,""]
[null,null,null,null,"",110,0,0,"",0,0,null,null,""]
[null,null,null,null,"",111,0,0,"",0,0,null,null,""]
[null,null,null,null,"",112,0,0,"",0,0,null,null,""]
[null,null,null,null,"",113,0,0,"",0,0,null,null,""]
[null,null,null,null,"",114,0,0,"",0,0,null,null,""]
[null,null,null,null,"",115,0,0,"",0,0,null,null,""]
[null,null,null,null,"",116,0,0,"",0,0,null,null,""]
[null,null,null,null,"",117,0,0,"",0,0,null,null,""]
[null,null,null,null,"",118,0,0,"",0,0,null,null,""]
[null,null,null,null,"",119,0,0,"",0,0,null,null,""]
[null,null,null,null,"",120,0,0,"",0,0,null,null,""]
[null,null,null,null,"",121,0,0,"",0,0,null,null,""]
[null,null,null,null,"",122,0,0,"",0,0,null,null,""]
[null,null,null,null,"",123,0,0,"",0,0,null,null,""]
[null,null,null,null,"",124,0,0,"",0,0,null,null,""]
[null,null,null,null,"",125,0,0,"",0,0,null,null,""]
[null,null,null,null,"",126,0,0,"",0,0,null,null,""]
[null,null,null,null,"",127,0,0,"",0,0,null,null,""]
[null,null,null,null,"",128,0,0,"",0,0,null,null,""]
[null,null,null,null,"",129,0,0,"",0,0,null,null,""]
[null,null,null,null,"",130,0,0,"",{"$f":"IF(ISNA(VLOOKUP(I131,D$2:H$150,5,FALSE)),\"\",VLOOKUP(I131,D$2:H$150,5,FALSE))","v":0},{"$f":"IF(ISNA(VLOOKUP(I131,D$2:G$150,4,FALSE)),\"\",VLOOKUP(I131,D$2:G$150,4,FALSE))","v":0},null,null,""]
[null,null,null,null,"",131,0,0,"",0,0,null,null,""]
[null,null,null,null,"",132,0,0,"",0,0,null,null,""]
[null,null,null,null,"",133,0,0,"",0,0,null,null,""]
[null,null,null,{"$f":"IF(ISNA(RANK(C135,C$2:C$150,1)),\"\",RANK(C135,C$2:C$150,1))","v":""},"",134,0,0,"",0,0,null,null,""]
[null,null,null,"","",135,0,0,"",0,0,null,null,""]
[null,null,null,"","",136,0,0,"",0,0,null,null,""]
[null,null,null,"","",137,0,0,"",0,0,null,null,""]
[null,null,null,"","",138,0,0,"",0,0,null,null,""]
[null,null,null,"","",139,0,0,"",0,0,null,null,""]
[null,null,null,"","",140,0,0,"",0,0,null,null,""]
[null,null,null,"","",141,0,0,"",0,0,null,null,""]
[null,null,null,"","",142,0,0,"",0,0,null,null,""]
[null,null,null,"","",143,0,0,"",0,0,null,null,""]
[null,null,null,"","",144,0,0,"",0,0,null,null,""]
[null,null,null,"","",145,0,0,"",0,0,null,null,""]
[null,null,null,"","",146,0,0,"",0,0,null,null,""]
[null,null,null,"","",147,0,0,"",0,0,null,null,""]
[null,null,null,"","",148,0,0,"",0,0,null,null,""]
[null,null,null,"","",149,0,0,"",0,0,null,null,""]
[null,null,null,null,""]

{"sheet":"Schools","index":7,"n_rows":14,"n_cols":1,"rows_kept":14,"cut":false,"hidden":true,"merged":[]}
["List of Schools:"]
["Bloomington"]
["Columbia Heights"]
["Eden Prairie"]
["Edina"]
["Forest Lake"]
["Hopkins"]
["Itasca"]
["Osseo-Maple Grove"]
["Prior Lake"]
["Richfield"]
["St. Louis Park"]
["Stillwater"]
["Wayzata"]

{"sheet":"Official Draw","index":8,"n_rows":151,"n_cols":4,"rows_kept":151,"cut":false,"hidden":false,"merged":[]}
[]
[null,{"$f":"Draw!I1","v":"Draw #"},{"$f":"Draw!J1","v":"Name"},{"$f":"Draw!K1","v":"School"}]
[null,{"$f":"Draw!N2","v":1},{"$f":"Draw!O2","v":"Jenna Stockinger"},{"$f":"Draw!P2","v":"Forest Lake"}]
[null,{"$f":"Draw!N3","v":2},{"$f":"Draw!O3","v":"Ellery Mason"},{"$f":"Draw!P3","v":"Osseo-Maple Grove"}]
[null,{"$f":"Draw!N4","v":3},{"$f":"Draw!O4","v":"Katherine Hildebrandt"},{"$f":"Draw!P4","v":"Osseo-Maple Grove"}]
[null,{"$f":"Draw!N5","v":4},{"$f":"Draw!O5","v":"Carolin LaBord"},{"$f":"Draw!P5","v":"Osseo-Maple Grove"}]
[null,{"$f":"Draw!N6","v":5},{"$f":"Draw!O6","v":"Indy Walstrom"},{"$f":"Draw!P6","v":"Forest Lake"}]
[null,{"$f":"Draw!N7","v":6},{"$f":"Draw!O7","v":"Zoe Scholl"},{"$f":"Draw!P7","v":"Forest Lake"}]
[null,{"$f":"Draw!N8","v":7},{"$f":"Draw!O8","v":"Alexandra Trudeau"},{"$f":"Draw!P8","v":"Osseo-Maple Grove"}]
[null,{"$f":"Draw!N9","v":8},{"$f":"Draw!O9","v":"Lydia Zimmerman"},{"$f":"Draw!P9","v":"Forest Lake"}]
[null,{"$f":"Draw!N10","v":9},{"$f":"Draw!O10","v":"Margo Prentice"},{"$f":"Draw!P10","v":"Osseo-Maple Grove"}]
[null,{"$f":"Draw!N11","v":10},{"$f":"Draw!O11","v":"Paige Anderson"},{"$f":"Draw!P11","v":"Forest Lake"}]
[null,{"$f":"Draw!N12","v":11},{"$f":"Draw!O12","v":"Heather Breidenbach"},{"$f":"Draw!P12","v":"Osseo-Maple Grove"}]
[null,{"$f":"Draw!N13","v":12},{"$f":"Draw!O13","v":"Katherine Olsen"},{"$f":"Draw!P13","v":"Osseo-Maple Grove"}]
[null,{"$f":"Draw!N14","v":13},{"$f":"Draw!O14","v":"Rachel Milbauer"},{"$f":"Draw!P14","v":"Forest Lake"}]
[null,{"$f":"Draw!N15","v":14},{"$f":"Draw!O15","v":"Ashlyn Mackowick"},{"$f":"Draw!P15","v":"Forest Lake"}]
[null,{"$f":"Draw!N16","v":15},{"$f":"Draw!O16","v":"Zoe Waldron"},{"$f":"Draw!P16","v":"Osseo-Maple Grove"}]
[null,{"$f":"Draw!N17","v":16},{"$f":"Draw!O17","v":"Ellie Thiele"},{"$f":"Draw!P17","v":"Forest Lake"}]
[null,{"$f":"Draw!N18","v":17},{"$f":"Draw!O18","v":"Ariel Ball"},{"$f":"Draw!P18","v":"Forest Lake"}]
[null,{"$f":"Draw!N19","v":18},{"$f":"Draw!O19","v":"Allison Hannann"},{"$f":"Draw!P19","v":"Osseo-Maple Grove"}]
[null,{"$f":"Draw!N20","v":19},{"$f":"Draw!O20","v":"Rylie Sampson"},{"$f":"Draw!P20","v":"Forest Lake"}]
[null,{"$f":"Draw!N21","v":20},{"$f":"Draw!O21","v":"Lizzy Hentges"},{"$f":"Draw!P21","v":"Forest Lake"}]
[null,{"$f":"Draw!N22","v":21},{"$f":"Draw!O22","v":"Heidi Hyrkas"},{"$f":"Draw!P22","v":"Forest Lake"}]
[null,{"$f":"Draw!N23","v":22},{"$f":"Draw!O23","v":"Kelly Sullivan"},{"$f":"Draw!P23","v":"Forest Lake"}]
[null,{"$f":"Draw!N24","v":23},{"$f":"Draw!O24","v":"Haley Heiss"},{"$f":"Draw!P24","v":"Osseo-Maple Grove"}]
[null,{"$f":"Draw!N25","v":24},{"$f":"Draw!O25","v":"Katelyn Molin"},{"$f":"Draw!P25","v":"Osseo-Maple Grove"}]
[null,{"$f":"Draw!N26","v":25},{"$f":"Draw!O26","v":"Madison Peters"},{"$f":"Draw!P26","v":"Osseo-Maple Grove"}]
[null,{"$f":"Draw!N27","v":26},{"$f":"Draw!O27","v":"Alva Westher"},{"$f":"Draw!P27","v":"Forest Lake"}]
[null,{"$f":"Draw!N28","v":27},{"$f":"Draw!O28","v":"Emily Honnold"},{"$f":"Draw!P28","v":"Osseo-Maple Grove"}]
[null,{"$f":"Draw!N29","v":28},{"$f":"Draw!O29","v":"Rachel Knox"},{"$f":"Draw!P29","v":"Osseo-Maple Grove"}]
[null,{"$f":"Draw!N30","v":29},{"$f":"Draw!O30","v":"Emma Armitage"},{"$f":"Draw!P30","v":"Forest Lake"}]
[null,{"$f":"Draw!N31","v":30},{"$f":"Draw!O31","v":"Johanna Livermore"},{"$f":"Draw!P31","v":"Forest Lake"}]
[null,{"$f":"Draw!N32","v":31},{"$f":"Draw!O32","v":"Mckinley Leavitt"},{"$f":"Draw!P32","v":"Forest Lake"}]
[null,{"$f":"Draw!N33","v":32},{"$f":"Draw!O33","v":"Maggie Thompson"},{"$f":"Draw!P33","v":"Forest Lake"}]
[null,{"$f":"Draw!N34","v":33},{"$f":"Draw!O34","v":"Anneke DeLooze"},{"$f":"Draw!P34","v":"Osseo-Maple Grove"}]
[null,{"$f":"Draw!N35","v":""},{"$f":"Draw!O35","v":0},{"$f":"Draw!P35","v":0}]
[null,{"$f":"Draw!N36","v":""},{"$f":"Draw!O36","v":0},{"$f":"Draw!P36","v":0}]
[null,{"$f":"Draw!N37","v":""},{"$f":"Draw!O37","v":0},{"$f":"Draw!P37","v":0}]
[null,{"$f":"Draw!N38","v":""},{"$f":"Draw!O38","v":0},{"$f":"Draw!P38","v":0}]
[null,{"$f":"Draw!N39","v":""},{"$f":"Draw!O39","v":0},{"$f":"Draw!P39","v":0}]
[null,{"$f":"Draw!N40","v":""},{"$f":"Draw!O40","v":0},{"$f":"Draw!P40","v":0}]
[null,{"$f":"Draw!N41","v":""},{"$f":"Draw!O41","v":0},{"$f":"Draw!P41","v":0}]
[null,{"$f":"Draw!N42","v":""},{"$f":"Draw!O42","v":0},{"$f":"Draw!P42","v":0}]
[null,{"$f":"Draw!N43","v":""},{"$f":"Draw!O43","v":0},{"$f":"Draw!P43","v":0}]
[null,{"$f":"Draw!N44","v":""},{"$f":"Draw!O44","v":0},{"$f":"Draw!P44","v":0}]
[null,{"$f":"Draw!N45","v":""},{"$f":"Draw!O45","v":0},{"$f":"Draw!P45","v":0}]
[null,{"$f":"Draw!N46","v":""},{"$f":"Draw!O46","v":0},{"$f":"Draw!P46","v":0}]
[null,{"$f":"Draw!N47","v":""},{"$f":"Draw!O47","v":0},{"$f":"Draw!P47","v":0}]
[null,{"$f":"Draw!N48","v":""},{"$f":"Draw!O48","v":0},{"$f":"Draw!P48","v":0}]
[null,{"$f":"Draw!N49","v":""},{"$f":"Draw!O49","v":0},{"$f":"Draw!P49","v":0}]
[null,{"$f":"Draw!N50","v":""},{"$f":"Draw!O50","v":0},{"$f":"Draw!P50","v":0}]
[null,{"$f":"Draw!N51","v":""},{"$f":"Draw!O51","v":0},{"$f":"Draw!P51","v":0}]
[null,{"$f":"Draw!N52","v":""},{"$f":"Draw!O52","v":0},{"$f":"Draw!P52","v":0}]
[null,{"$f":"Draw!N53","v":""},{"$f":"Draw!O53","v":0},{"$f":"Draw!P53","v":0}]
[null,{"$f":"Draw!N54","v":""},{"$f":"Draw!O54","v":0},{"$f":"Draw!P54","v":0}]
[null,{"$f":"Draw!N55","v":""},{"$f":"Draw!O55","v":0},{"$f":"Draw!P55","v":0}]
[null,{"$f":"Draw!N56","v":""},{"$f":"Draw!O56","v":0},{"$f":"Draw!P56","v":0}]
[null,{"$f":"Draw!N57","v":""},{"$f":"Draw!O57","v":0},{"$f":"Draw!P57","v":0}]
[null,{"$f":"Draw!N58","v":""},{"$f":"Draw!O58","v":0},{"$f":"Draw!P58","v":0}]
[null,{"$f":"Draw!N59","v":""},{"$f":"Draw!O59","v":0},{"$f":"Draw!P59","v":0}]
[null,{"$f":"Draw!N60","v":""},{"$f":"Draw!O60","v":0},{"$f":"Draw!P60","v":0}]
[null,{"$f":"Draw!N61","v":""},{"$f":"Draw!O61","v":0},{"$f":"Draw!P61","v":0}]
[null,{"$f":"Draw!N62","v":""},{"$f":"Draw!O62","v":0},{"$f":"Draw!P62","v":0}]
[null,{"$f":"Draw!N63","v":""},{"$f":"Draw!O63","v":0},{"$f":"Draw!P63","v":0}]
[null,{"$f":"Draw!N64","v":""},{"$f":"Draw!O64","v":0},{"$f":"Draw!P64","v":0}]
[null,{"$f":"Draw!N65","v":""},{"$f":"Draw!O65","v":0},{"$f":"Draw!P65","v":0}]
[null,{"$f":"Draw!N66","v":""},{"$f":"Draw!O66","v":0},{"$f":"Draw!P66","v":0}]
[null,{"$f":"Draw!N67","v":""},{"$f":"Draw!O67","v":0},{"$f":"Draw!P67","v":0}]
[null,{"$f":"Draw!N68","v":""},{"$f":"Draw!O68","v":0},{"$f":"Draw!P68","v":0}]
[null,{"$f":"Draw!N69","v":""},{"$f":"Draw!O69","v":0},{"$f":"Draw!P69","v":0}]
[null,{"$f":"Draw!N70","v":""},{"$f":"Draw!O70","v":0},{"$f":"Draw!P70","v":0}]
[null,{"$f":"Draw!N71","v":""},{"$f":"Draw!O71","v":0},{"$f":"Draw!P71","v":0}]
[null,{"$f":"Draw!N72","v":""},{"$f":"Draw!O72","v":0},{"$f":"Draw!P72","v":0}]
[null,{"$f":"Draw!N73","v":""},{"$f":"Draw!O73","v":0},{"$f":"Draw!P73","v":0}]
[null,{"$f":"Draw!N74","v":""},{"$f":"Draw!O74","v":0},{"$f":"Draw!P74","v":0}]
[null,{"$f":"Draw!N75","v":""},{"$f":"Draw!O75","v":0},{"$f":"Draw!P75","v":0}]
[null,{"$f":"Draw!N76","v":""},{"$f":"Draw!O76","v":0},{"$f":"Draw!P76","v":0}]
[null,{"$f":"Draw!N77","v":""},{"$f":"Draw!O77","v":0},{"$f":"Draw!P77","v":0}]
[null,{"$f":"Draw!N78","v":""},{"$f":"Draw!O78","v":0},{"$f":"Draw!P78","v":0}]
[null,{"$f":"Draw!N79","v":""},{"$f":"Draw!O79","v":0},{"$f":"Draw!P79","v":0}]
[null,{"$f":"Draw!N80","v":""},{"$f":"Draw!O80","v":0},{"$f":"Draw!P80","v":0}]
[null,{"$f":"Draw!N81","v":""},{"$f":"Draw!O81","v":0},{"$f":"Draw!P81","v":0}]
[null,{"$f":"Draw!N82","v":""},{"$f":"Draw!O82","v":0},{"$f":"Draw!P82","v":0}]
[null,{"$f":"Draw!N83","v":""},{"$f":"Draw!O83","v":0},{"$f":"Draw!P83","v":0}]
[null,{"$f":"Draw!N84","v":""},{"$f":"Draw!O84","v":0},{"$f":"Draw!P84","v":0}]
[null,{"$f":"Draw!N85","v":""},{"$f":"Draw!O85","v":0},{"$f":"Draw!P85","v":0}]
[null,{"$f":"Draw!N86","v":""},{"$f":"Draw!O86","v":0},{"$f":"Draw!P86","v":0}]
[null,{"$f":"Draw!N87","v":""},{"$f":"Draw!O87","v":0},{"$f":"Draw!P87","v":0}]
[null,{"$f":"Draw!N88","v":""},{"$f":"Draw!O88","v":0},{"$f":"Draw!P88","v":0}]
[null,{"$f":"Draw!N89","v":""},{"$f":"Draw!O89","v":0},{"$f":"Draw!P89","v":0}]
[null,{"$f":"Draw!N90","v":""},{"$f":"Draw!O90","v":0},{"$f":"Draw!P90","v":0}]
[null,{"$f":"Draw!N91","v":""},{"$f":"Draw!O91","v":0},{"$f":"Draw!P91","v":0}]
[null,{"$f":"Draw!N92","v":""},{"$f":"Draw!O92","v":0},{"$f":"Draw!P92","v":0}]
[null,{"$f":"Draw!N93","v":""},{"$f":"Draw!O93","v":0},{"$f":"Draw!P93","v":0}]
[null,{"$f":"Draw!N94","v":""},{"$f":"Draw!O94","v":0},{"$f":"Draw!P94","v":0}]
[null,{"$f":"Draw!N95","v":""},{"$f":"Draw!O95","v":0},{"$f":"Draw!P95","v":0}]
[null,{"$f":"Draw!N96","v":""},{"$f":"Draw!O96","v":0},{"$f":"Draw!P96","v":0}]
[null,{"$f":"Draw!N97","v":""},{"$f":"Draw!O97","v":0},{"$f":"Draw!P97","v":0}]
[null,{"$f":"Draw!N98","v":""},{"$f":"Draw!O98","v":0},{"$f":"Draw!P98","v":0}]
[null,{"$f":"Draw!N99","v":""},{"$f":"Draw!O99","v":0},{"$f":"Draw!P99","v":0}]
[null,{"$f":"Draw!N100","v":""},{"$f":"Draw!O100","v":0},{"$f":"Draw!P100","v":0}]
[null,{"$f":"Draw!N101","v":""},{"$f":"Draw!O101","v":0},{"$f":"Draw!P101","v":0}]
[null,{"$f":"Draw!N102","v":""},{"$f":"Draw!O102","v":0},{"$f":"Draw!P102","v":0}]
[null,{"$f":"Draw!N103","v":""},{"$f":"Draw!O103","v":0},{"$f":"Draw!P103","v":0}]
[null,{"$f":"Draw!N104","v":""},{"$f":"Draw!O104","v":0},{"$f":"Draw!P104","v":0}]
[null,{"$f":"Draw!N105","v":""},{"$f":"Draw!O105","v":0},{"$f":"Draw!P105","v":0}]
[null,{"$f":"Draw!N106","v":""},{"$f":"Draw!O106","v":0},{"$f":"Draw!P106","v":0}]
[null,{"$f":"Draw!N107","v":""},{"$f":"Draw!O107","v":0},{"$f":"Draw!P107","v":0}]
[null,{"$f":"Draw!N108","v":""},{"$f":"Draw!O108","v":0},{"$f":"Draw!P108","v":0}]
[null,{"$f":"Draw!N109","v":""},{"$f":"Draw!O109","v":0},{"$f":"Draw!P109","v":0}]
[null,{"$f":"Draw!N110","v":""},{"$f":"Draw!O110","v":0},{"$f":"Draw!P110","v":0}]
[null,{"$f":"Draw!N111","v":""},{"$f":"Draw!O111","v":0},{"$f":"Draw!P111","v":0}]
[null,{"$f":"Draw!N112","v":""},{"$f":"Draw!O112","v":0},{"$f":"Draw!P112","v":0}]
[null,{"$f":"Draw!N113","v":""},{"$f":"Draw!O113","v":0},{"$f":"Draw!P113","v":0}]
[null,{"$f":"Draw!N114","v":""},{"$f":"Draw!O114","v":0},{"$f":"Draw!P114","v":0}]
[null,{"$f":"Draw!N115","v":""},{"$f":"Draw!O115","v":0},{"$f":"Draw!P115","v":0}]
[null,{"$f":"Draw!N116","v":""},{"$f":"Draw!O116","v":0},{"$f":"Draw!P116","v":0}]
[null,{"$f":"Draw!N117","v":""},{"$f":"Draw!O117","v":0},{"$f":"Draw!P117","v":0}]
[null,{"$f":"Draw!N118","v":""},{"$f":"Draw!O118","v":0},{"$f":"Draw!P118","v":0}]
[null,{"$f":"Draw!N119","v":""},{"$f":"Draw!O119","v":0},{"$f":"Draw!P119","v":0}]
[null,{"$f":"Draw!N120","v":""},{"$f":"Draw!O120","v":0},{"$f":"Draw!P120","v":0}]
[null,{"$f":"Draw!N121","v":""},{"$f":"Draw!O121","v":0},{"$f":"Draw!P121","v":0}]
[null,{"$f":"Draw!N122","v":""},{"$f":"Draw!O122","v":0},{"$f":"Draw!P122","v":0}]
[null,{"$f":"Draw!N123","v":""},{"$f":"Draw!O123","v":0},{"$f":"Draw!P123","v":0}]
[null,{"$f":"Draw!N124","v":""},{"$f":"Draw!O124","v":0},{"$f":"Draw!P124","v":0}]
[null,{"$f":"Draw!N125","v":""},{"$f":"Draw!O125","v":0},{"$f":"Draw!P125","v":0}]
[null,{"$f":"Draw!N126","v":""},{"$f":"Draw!O126","v":0},{"$f":"Draw!P126","v":0}]
[null,{"$f":"Draw!N127","v":""},{"$f":"Draw!O127","v":0},{"$f":"Draw!P127","v":0}]
[null,{"$f":"Draw!N128","v":""},{"$f":"Draw!O128","v":0},{"$f":"Draw!P128","v":0}]
[null,{"$f":"Draw!N129","v":""},{"$f":"Draw!O129","v":0},{"$f":"Draw!P129","v":0}]
[null,{"$f":"Draw!N130","v":""},{"$f":"Draw!O130","v":0},{"$f":"Draw!P130","v":0}]
[null,{"$f":"Draw!N131","v":""},{"$f":"Draw!O131","v":0},{"$f":"Draw!P131","v":0}]
[null,{"$f":"Draw!N132","v":""},{"$f":"Draw!O132","v":0},{"$f":"Draw!P132","v":0}]
[null,{"$f":"Draw!N133","v":""},{"$f":"Draw!O133","v":0},{"$f":"Draw!P133","v":0}]
[null,{"$f":"Draw!N134","v":""},{"$f":"Draw!O134","v":0},{"$f":"Draw!P134","v":0}]
[null,{"$f":"Draw!N135","v":""},{"$f":"Draw!O135","v":0},{"$f":"Draw!P135","v":0}]
[null,{"$f":"Draw!N136","v":""},{"$f":"Draw!O136","v":0},{"$f":"Draw!P136","v":0}]
[null,{"$f":"Draw!N137","v":""},{"$f":"Draw!O137","v":0},{"$f":"Draw!P137","v":0}]
[null,{"$f":"Draw!N138","v":""},{"$f":"Draw!O138","v":0},{"$f":"Draw!P138","v":0}]
[null,{"$f":"Draw!N139","v":""},{"$f":"Draw!O139","v":0},{"$f":"Draw!P139","v":0}]
[null,{"$f":"Draw!N140","v":""},{"$f":"Draw!O140","v":0},{"$f":"Draw!P140","v":0}]
[null,{"$f":"Draw!N141","v":""},{"$f":"Draw!O141","v":0},{"$f":"Draw!P141","v":0}]
[null,{"$f":"Draw!N142","v":""},{"$f":"Draw!O142","v":0},{"$f":"Draw!P142","v":0}]
[null,{"$f":"Draw!N143","v":""},{"$f":"Draw!O143","v":0},{"$f":"Draw!P143","v":0}]
[null,{"$f":"Draw!N144","v":""},{"$f":"Draw!O144","v":0},{"$f":"Draw!P144","v":0}]
[null,{"$f":"Draw!N145","v":""},{"$f":"Draw!O145","v":0},{"$f":"Draw!P145","v":0}]
[null,{"$f":"Draw!N146","v":""},{"$f":"Draw!O146","v":0},{"$f":"Draw!P146","v":0}]
[null,{"$f":"Draw!N147","v":""},{"$f":"Draw!O147","v":0},{"$f":"Draw!P147","v":0}]
[null,{"$f":"Draw!N148","v":""},{"$f":"Draw!O148","v":0},{"$f":"Draw!P148","v":0}]
[null,{"$f":"Draw!N149","v":""},{"$f":"Draw!O149","v":0},{"$f":"Draw!P149","v":0}]
[null,{"$f":"Draw!N150","v":""},{"$f":"Draw!O150","v":0},{"$f":"Draw!P150","v":0}]

{"sheet":"Meet Results","index":9,"n_rows":150,"n_cols":23,"rows_kept":150,"cut":false,"hidden":false,"merged":[]}
[]
[null,null,null,"Forest Lake",{"$f":"SUMIF($F5:$G24,D2,$H5:$H24)","v":17},"Osseo-Maple Grove",{"$f":"SUMIF($F5:$G24,F2,$H5:$H24)","v":12},null,null,null,"Edina",{"$f":"SUMIF($M5:$N24,K2,$O5:$O24)","v":0},"Edina",{"$f":"SUMIF($M5:$N24,M2,$O5:$O24)","v":0},null,null,null,"Edina",{"$f":"SUMIF($T5:$U24,R2,$V5:$V24)","v":0},"Edina",{"$f":"SUMIF($T5:$U24,T2,$V5:$V24)","v":0}]
[null,null,null," Total Score",null,null,null,null,null,null," Total Score",null,null,null,null,null,null," Total Score"]
[null,null,null,"#","Swimmer","School","Total","SCORE","PLACE",null,"#","Swimmer","School","Total","SCORE","PLACE",null,"#","Swimmer","School","Total","SCORE","PLACE"]
[null,null,null,10,"Paige Anderson","Forest Lake",52.885964912280706,{"$f":"IF(ISNA(VLOOKUP(I5,Totals!$AX$3:$AY$102,2,FALSE)),\"\",VLOOKUP(I5,Totals!$AX$3:$AY$102,2,FALSE))","v":8},{"$f":"IF(ISNA(RANK(G5,G$5:G$150)),\"\",RANK(G5,G$5:G$150))","v":1},null,10,"Paige Anderson","Forest Lake",52.885964912280706,{"$f":"IF(ISNA(VLOOKUP(P5,Totals!$AX$3:$AY$102,2,FALSE)),\"\",VLOOKUP(P5,Totals!$AX$3:$AY$102,2,FALSE))","v":8},{"$f":"IF(ISNA(RANK(N5,N$5:N$150)),\"\",RANK(N5,N$5:N$150))","v":1},null,10,"Paige Anderson","Forest Lake",52.885964912280706,{"$f":"IF(ISNA(VLOOKUP(W5,Totals!$AX$3:$AY$102,2,FALSE)),\"\",VLOOKUP(W5,Totals!$AX$3:$AY$102,2,FALSE))","v":8},{"$f":"IF(ISNA(RANK(U5,U$5:U$150)),\"\",RANK(U5,U$5:U$150))","v":1}]
[null,null,null,15,"Zoe Waldron","Osseo-Maple Grove",52.596491228070178,{"$f":"IF(ISNA(VLOOKUP(I6,Totals!$AX$3:$AY$102,2,FALSE)),\"\",VLOOKUP(I6,Totals!$AX$3:$AY$102,2,FALSE))","v":6},{"$f":"IF(G6=G5,I5,IF(ISNA(RANK(G6,G$5:G$150)),\"\",RANK(G6,G$5:G$150)))","v":2},null,15,"Zoe Waldron","Osseo-Maple Grove",52.596491228070178,{"$f":"IF(ISNA(VLOOKUP(P6,Totals!$AX$3:$AY$102,2,FALSE)),\"\",VLOOKUP(P6,Totals!$AX$3:$AY$102,2,FALSE))","v":6},{"$f":"IF(ISNA(RANK(N6,N$5:N$150)),\"\",RANK(N6,N$5:N$150))","v":2},null,15,"Zoe Waldron","Osseo-Maple Grove",52.596491228070178,{"$f":"IF(ISNA(VLOOKUP(W6,Totals!$AX$3:$AY$102,2,FALSE)),\"\",VLOOKUP(W6,Totals!$AX$3:$AY$102,2,FALSE))","v":6},{"$f":"IF(ISNA(RANK(U6,U$5:U$150)),\"\",RANK(U6,U$5:U$150))","v":2}]
[null,null,null,31,"Mckinley Leavitt","Forest Lake",52.092105263157897,{"$f":"IF(ISNA(VLOOKUP(I7,Totals!$AX$3:$AY$102,2,FALSE)),\"\",VLOOKUP(I7,Totals!$AX$3:$AY$102,2,FALSE))","v":5},{"$f":"IF(G7=G6,I6,IF(ISNA(RANK(G7,G$5:G$150)),\"\",RANK(G7,G$5:G$150)))","v":3},null,31,"Mckinley Leavitt","Forest Lake",52.092105263157897,{"$f":"IF(ISNA(VLOOKUP(P7,Totals!$AX$3:$AY$102,2,FALSE)),\"\",VLOOKUP(P7,Totals!$AX$3:$AY$102,2,FALSE))","v":5},3,null,31,"Mckinley Leavitt","Forest Lake",52.092105263157897,{"$f":"IF(ISNA(VLOOKUP(W7,Totals!$AX$3:$AY$102,2,FALSE)),\"\",VLOOKUP(W7,Totals!$AX$3:$AY$102,2,FALSE))","v":5},3]
[null,null,null,1,"Jenna Stockinger","Forest Lake",50.767543859649123,{"$f":"IF(ISNA(VLOOKUP(I8,Totals!$AX$3:$AY$102,2,FALSE)),\"\",VLOOKUP(I8,Totals!$AX$3:$AY$102,2,FALSE))","v":4},4,null,1,"Jenna Stockinger","Forest Lake",50.767543859649123,{"$f":"IF(ISNA(VLOOKUP(P8,Totals!$AX$3:$AY$102,2,FALSE)),\"\",VLOOKUP(P8,Totals!$AX$3:$AY$102,2,FALSE))","v":4},4,null,1,"Jenna Stockinger","Forest Lake",50.767543859649123,{"$f":"IF(ISNA(VLOOKUP(W8,Totals!$AX$3:$AY$102,2,FALSE)),\"\",VLOOKUP(W8,Totals!$AX$3:$AY$102,2,FALSE))","v":4},4]
[null,null,null,7,"Alexandra Trudeau","Osseo-Maple Grove",49.662280701754391,{"$f":"IF(ISNA(VLOOKUP(I9,Totals!$AX$3:$AY$102,2,FALSE)),\"\",VLOOKUP(I9,Totals!$AX$3:$AY$102,2,FALSE))","v":3},5,null,7,"Alexandra Trudeau","Osseo-Maple Grove",49.662280701754391,{"$f":"IF(ISNA(VLOOKUP(P9,Totals!$AX$3:$AY$102,2,FALSE)),\"\",VLOOKUP(P9,Totals!$AX$3:$AY$102,2,FALSE))","v":3},5,null,7,"Alexandra Trudeau","Osseo-Maple Grove",49.662280701754391,{"$f":"IF(ISNA(VLOOKUP(W9,Totals!$AX$3:$AY$102,2,FALSE)),\"\",VLOOKUP(W9,Totals!$AX$3:$AY$102,2,FALSE))","v":3},5]
[null,null,null,12,"Katherine Olsen","Osseo-Maple Grove",49.385964912280713,{"$f":"IF(ISNA(VLOOKUP(I10,Totals!$AX$3:$AY$102,2,FALSE)),\"\",VLOOKUP(I10,Totals!$AX$3:$AY$102,2,FALSE))","v":2},6,null,12,"Katherine Olsen","Osseo-Maple Grove",49.385964912280713,{"$f":"IF(ISNA(VLOOKUP(P10,Totals!$AX$3:$AY$102,2,FALSE)),\"\",VLOOKUP(P10,Totals!$AX$3:$AY$102,2,FALSE))","v":2},6,null,12,"Katherine Olsen","Osseo-Maple Grove",49.385964912280713,{"$f":"IF(ISNA(VLOOKUP(W10,Totals!$AX$3:$AY$102,2,FALSE)),\"\",VLOOKUP(W10,Totals!$AX$3:$AY$102,2,FALSE))","v":2},6]
[null,null,null,24,"Katelyn Molin","Osseo-Maple Grove",49.228070175438603,{"$f":"IF(ISNA(VLOOKUP(I11,Totals!$AX$3:$AY$102,2,FALSE)),\"\",VLOOKUP(I11,Totals!$AX$3:$AY$102,2,FALSE))","v":1},7,null,24,"Katelyn Molin","Osseo-Maple Grove",49.228070175438603,{"$f":"IF(ISNA(VLOOKUP(P11,Totals!$AX$3:$AY$102,2,FALSE)),\"\",VLOOKUP(P11,Totals!$AX$3:$AY$102,2,FALSE))","v":1},7,null,24,"Katelyn Molin","Osseo-Maple Grove",49.228070175438603,{"$f":"IF(ISNA(VLOOKUP(W11,Totals!$AX$3:$AY$102,2,FALSE)),\"\",VLOOKUP(W11,Totals!$AX$3:$AY$102,2,FALSE))","v":1},7]
[null,null,null,25,"Madison Peters","Osseo-Maple Grove",49.096491228070178,{"$f":"IF(ISNA(VLOOKUP(I12,Totals!$AX$3:$AY$102,2,FALSE)),\"\",VLOOKUP(I12,Totals!$AX$3:$AY$102,2,FALSE))","v":0},8,null,25,"Madison Peters","Osseo-Maple Grove",49.096491228070178,{"$f":"IF(ISNA(VLOOKUP(P12,Totals!$AX$3:$AY$102,2,FALSE)),\"\",VLOOKUP(P12,Totals!$AX$3:$AY$102,2,FALSE))","v":0},8,null,25,"Madison Peters","Osseo-Maple Grove",49.096491228070178,{"$f":"IF(ISNA(VLOOKUP(W12,Totals!$AX$3:$AY$102,2,FALSE)),\"\",VLOOKUP(W12,Totals!$AX$3:$AY$102,2,FALSE))","v":0},8]
[null,null,null,11,"Heather Breidenbach","Osseo-Maple Grove",48.969298245614041,{"$f":"IF(ISNA(VLOOKUP(I13,Totals!$AX$3:$AY$102,2,FALSE)),\"\",VLOOKUP(I13,Totals!$AX$3:$AY$102,2,FALSE))","v":0},9,null,11,"Heather Breidenbach","Osseo-Maple Grove",48.969298245614041,{"$f":"IF(ISNA(VLOOKUP(P13,Totals!$AX$3:$AY$102,2,FALSE)),\"\",VLOOKUP(P13,Totals!$AX$3:$AY$102,2,FALSE))","v":0},9,null,11,"Heather Breidenbach","Osseo-Maple Grove",48.969298245614041,{"$f":"IF(ISNA(VLOOKUP(W13,Totals!$AX$3:$AY$102,2,FALSE)),\"\",VLOOKUP(W13,Totals!$AX$3:$AY$102,2,FALSE))","v":0},9]
[null,null,null,21,"Heidi Hyrkas","Forest Lake",48.548245614035089,{"$f":"IF(ISNA(VLOOKUP(I14,Totals!$AX$3:$AY$102,2,FALSE)),\"\",VLOOKUP(I14,Totals!$AX$3:$AY$102,2,FALSE))","v":0},10,null,21,"Heidi Hyrkas","Forest Lake",48.548245614035089,{"$f":"IF(ISNA(VLOOKUP(P14,Totals!$AX$3:$AY$102,2,FALSE)),\"\",VLOOKUP(P14,Totals!$AX$3:$AY$102,2,FALSE))","v":0},10,null,21,"Heidi Hyrkas","Forest Lake",48.548245614035089,{"$f":"IF(ISNA(VLOOKUP(W14,Totals!$AX$3:$AY$102,2,FALSE)),\"\",VLOOKUP(W14,Totals!$AX$3:$AY$102,2,FALSE))","v":0},10]
[null,null,null,23,"Haley Heiss","Osseo-Maple Grove",48.381578947368425,{"$f":"IF(ISNA(VLOOKUP(I15,Totals!$AX$3:$AY$102,2,FALSE)),\"\",VLOOKUP(I15,Totals!$AX$3:$AY$102,2,FALSE))","v":0},11,null,23,"Haley Heiss","Osseo-Maple Grove",48.381578947368425,{"$f":"IF(ISNA(VLOOKUP(P15,Totals!$AX$3:$AY$102,2,FALSE)),\"\",VLOOKUP(P15,Totals!$AX$3:$AY$102,2,FALSE))","v":0},11,null,23,"Haley Heiss","Osseo-Maple Grove",48.381578947368425,{"$f":"IF(ISNA(VLOOKUP(W15,Totals!$AX$3:$AY$102,2,FALSE)),\"\",VLOOKUP(W15,Totals!$AX$3:$AY$102,2,FALSE))","v":0},11]
[null,null,null,9,"Margo Prentice","Osseo-Maple Grove",48.359649122807028,{"$f":"IF(ISNA(VLOOKUP(I16,Totals!$AX$3:$AY$102,2,FALSE)),\"\",VLOOKUP(I16,Totals!$AX$3:$AY$102,2,FALSE))","v":0},12,null,9,"Margo Prentice","Osseo-Maple Grove",48.359649122807028,{"$f":"IF(ISNA(VLOOKUP(P16,Totals!$AX$3:$AY$102,2,FALSE)),\"\",VLOOKUP(P16,Totals!$AX$3:$AY$102,2,FALSE))","v":0},12,null,9,"Margo Prentice","Osseo-Maple Grove",48.359649122807028,{"$f":"IF(ISNA(VLOOKUP(W16,Totals!$AX$3:$AY$102,2,FALSE)),\"\",VLOOKUP(W16,Totals!$AX$3:$AY$102,2,FALSE))","v":0},12]
[null,null,null,26,"Alva Westher","Forest Lake",48.100877192982459,{"$f":"IF(ISNA(VLOOKUP(I17,Totals!$AX$3:$AY$102,2,FALSE)),\"\",VLOOKUP(I17,Totals!$AX$3:$AY$102,2,FALSE))","v":0},13,null,26,"Alva Westher","Forest Lake",48.100877192982459,{"$f":"IF(ISNA(VLOOKUP(P17,Totals!$AX$3:$AY$102,2,FALSE)),\"\",VLOOKUP(P17,Totals!$AX$3:$AY$102,2,FALSE))","v":0},13,null,26,"Alva Westher","Forest Lake",48.100877192982459,{"$f":"IF(ISNA(VLOOKUP(W17,Totals!$AX$3:$AY$102,2,FALSE)),\"\",VLOOKUP(W17,Totals!$AX$3:$AY$102,2,FALSE))","v":0},13]
[null,null,null,17,"Ariel Ball","Forest Lake",47.868421052631589,{"$f":"IF(ISNA(VLOOKUP(I18,Totals!$AX$3:$AY$102,2,FALSE)),\"\",VLOOKUP(I18,Totals!$AX$3:$AY$102,2,FALSE))","v":0},14,null,17,"Ariel Ball","Forest Lake",47.868421052631589,{"$f":"IF(ISNA(VLOOKUP(P18,Totals!$AX$3:$AY$102,2,FALSE)),\"\",VLOOKUP(P18,Totals!$AX$3:$AY$102,2,FALSE))","v":0},14,null,17,"Ariel Ball","Forest Lake",47.868421052631589,{"$f":"IF(ISNA(VLOOKUP(W18,Totals!$AX$3:$AY$102,2,FALSE)),\"\",VLOOKUP(W18,Totals!$AX$3:$AY$102,2,FALSE))","v":0},14]
[null,null,null,2,"Ellery Mason","Osseo-Maple Grove",46.868421052631589,{"$f":"IF(ISNA(VLOOKUP(I19,Totals!$AX$3:$AY$102,2,FALSE)),\"\",VLOOKUP(I19,Totals!$AX$3:$AY$102,2,FALSE))","v":0},15,null,2,"Ellery Mason","Osseo-Maple Grove",46.868421052631589,{"$f":"IF(ISNA(VLOOKUP(P19,Totals!$AX$3:$AY$102,2,FALSE)),\"\",VLOOKUP(P19,Totals!$AX$3:$AY$102,2,FALSE))","v":0},15,null,2,"Ellery Mason","Osseo-Maple Grove",46.868421052631589,{"$f":"IF(ISNA(VLOOKUP(W19,Totals!$AX$3:$AY$102,2,FALSE)),\"\",VLOOKUP(W19,Totals!$AX$3:$AY$102,2,FALSE))","v":0},15]
[null,null,null,19,"Rylie Sampson","Forest Lake",46.456140350877199,{"$f":"IF(ISNA(VLOOKUP(I20,Totals!$AX$3:$AY$102,2,FALSE)),\"\",VLOOKUP(I20,Totals!$AX$3:$AY$102,2,FALSE))","v":0},16,null,19,"Rylie Sampson","Forest Lake",46.456140350877199,{"$f":"IF(ISNA(VLOOKUP(P20,Totals!$AX$3:$AY$102,2,FALSE)),\"\",VLOOKUP(P20,Totals!$AX$3:$AY$102,2,FALSE))","v":0},16,null,19,"Rylie Sampson","Forest Lake",46.456140350877199,{"$f":"IF(ISNA(VLOOKUP(W20,Totals!$AX$3:$AY$102,2,FALSE)),\"\",VLOOKUP(W20,Totals!$AX$3:$AY$102,2,FALSE))","v":0},16]
[null,null,null,5,"Indy Walstrom","Forest Lake",46.131578947368425,{"$f":"IF(ISNA(VLOOKUP(I21,Totals!$AX$3:$AY$102,2,FALSE)),\"\",VLOOKUP(I21,Totals!$AX$3:$AY$102,2,FALSE))","v":0},17,null,5,"Indy Walstrom","Forest Lake",46.131578947368425,{"$f":"IF(ISNA(VLOOKUP(P21,Totals!$AX$3:$AY$102,2,FALSE)),\"\",VLOOKUP(P21,Totals!$AX$3:$AY$102,2,FALSE))","v":0},17,null,5,"Indy Walstrom","Forest Lake",46.131578947368425,{"$f":"IF(ISNA(VLOOKUP(W21,Totals!$AX$3:$AY$102,2,FALSE)),\"\",VLOOKUP(W21,Totals!$AX$3:$AY$102,2,FALSE))","v":0},17]
[null,null,null,16,"Ellie Thiele","Forest Lake",45.434210526315795,{"$f":"IF(ISNA(VLOOKUP(I22,Totals!$AX$3:$AY$102,2,FALSE)),\"\",VLOOKUP(I22,Totals!$AX$3:$AY$102,2,FALSE))","v":0},18,null,16,"Ellie Thiele","Forest Lake",45.434210526315795,{"$f":"IF(ISNA(VLOOKUP(P22,Totals!$AX$3:$AY$102,2,FALSE)),\"\",VLOOKUP(P22,Totals!$AX$3:$AY$102,2,FALSE))","v":0},18,null,16,"Ellie Thiele","Forest Lake",45.434210526315795,{"$f":"IF(ISNA(VLOOKUP(W22,Totals!$AX$3:$AY$102,2,FALSE)),\"\",VLOOKUP(W22,Totals!$AX$3:$AY$102,2,FALSE))","v":0},18]
[null,null,null,3,"Katherine Hildebrandt","Osseo-Maple Grove",45.364035087719301,{"$f":"IF(ISNA(VLOOKUP(I23,Totals!$AX$3:$AY$102,2,FALSE)),\"\",VLOOKUP(I23,Totals!$AX$3:$AY$102,2,FALSE))","v":0},19,null,3,"Katherine Hildebrandt","Osseo-Maple Grove",45.364035087719301,{"$f":"IF(ISNA(VLOOKUP(P23,Totals!$AX$3:$AY$102,2,FALSE)),\"\",VLOOKUP(P23,Totals!$AX$3:$AY$102,2,FALSE))","v":0},19,null,3,"Katherine Hildebrandt","Osseo-Maple Grove",45.364035087719301,{"$f":"IF(ISNA(VLOOKUP(W23,Totals!$AX$3:$AY$102,2,FALSE)),\"\",VLOOKUP(W23,Totals!$AX$3:$AY$102,2,FALSE))","v":0},19]
[null,null,null,8,"Lydia Zimmerman","Forest Lake",43.381578947368425,{"$f":"IF(ISNA(VLOOKUP(I24,Totals!$AX$3:$AY$102,2,FALSE)),\"\",VLOOKUP(I24,Totals!$AX$3:$AY$102,2,FALSE))","v":0},20,null,8,"Lydia Zimmerman","Forest Lake",43.381578947368425,{"$f":"IF(ISNA(VLOOKUP(P24,Totals!$AX$3:$AY$102,2,FALSE)),\"\",VLOOKUP(P24,Totals!$AX$3:$AY$102,2,FALSE))","v":0},20,null,8,"Lydia Zimmerman","Forest Lake",43.381578947368425,{"$f":"IF(ISNA(VLOOKUP(W24,Totals!$AX$3:$AY$102,2,FALSE)),\"\",VLOOKUP(W24,Totals!$AX$3:$AY$102,2,FALSE))","v":0},20]
[null,null,null,6,"Zoe Scholl","Forest Lake",42.912280701754391,{"$f":"IF(ISNA(VLOOKUP(I25,Totals!$AX$3:$AY$102,2,FALSE)),\"\",VLOOKUP(I25,Totals!$AX$3:$AY$102,2,FALSE))","v":0},21,null,6,"Zoe Scholl","Forest Lake",42.912280701754391,{"$f":"IF(ISNA(VLOOKUP(P25,Totals!$AX$3:$AY$102,2,FALSE)),\"\",VLOOKUP(P25,Totals!$AX$3:$AY$102,2,FALSE))","v":0},21,null,6,"Zoe Scholl","Forest Lake",42.912280701754391,{"$f":"IF(ISNA(VLOOKUP(W25,Totals!$AX$3:$AY$102,2,FALSE)),\"\",VLOOKUP(W25,Totals!$AX$3:$AY$102,2,FALSE))","v":0},21]
[null,null,null,30,"Johanna Livermore","Forest Lake",42.872807017543863,{"$f":"IF(ISNA(VLOOKUP(I26,Totals!$AX$3:$AY$102,2,FALSE)),\"\",VLOOKUP(I26,Totals!$AX$3:$AY$102,2,FALSE))","v":0},22,null,30,"Johanna Livermore","Forest Lake",42.872807017543863,{"$f":"IF(ISNA(VLOOKUP(P26,Totals!$AX$3:$AY$102,2,FALSE)),\"\",VLOOKUP(P26,Totals!$AX$3:$AY$102,2,FALSE))","v":0},22,null,30,"Johanna Livermore","Forest Lake",42.872807017543863,{"$f":"IF(ISNA(VLOOKUP(W26,Totals!$AX$3:$AY$102,2,FALSE)),\"\",VLOOKUP(W26,Totals!$AX$3:$AY$102,2,FALSE))","v":0},22]
[null,null,null,32,"Maggie Thompson","Forest Lake",42.486842105263158,{"$f":"IF(ISNA(VLOOKUP(I27,Totals!$AX$3:$AY$102,2,FALSE)),\"\",VLOOKUP(I27,Totals!$AX$3:$AY$102,2,FALSE))","v":0},23,null,32,"Maggie Thompson","Forest Lake",42.486842105263158,{"$f":"IF(ISNA(VLOOKUP(P27,Totals!$AX$3:$AY$102,2,FALSE)),\"\",VLOOKUP(P27,Totals!$AX$3:$AY$102,2,FALSE))","v":0},23,null,32,"Maggie Thompson","Forest Lake",42.486842105263158,{"$f":"IF(ISNA(VLOOKUP(W27,Totals!$AX$3:$AY$102,2,FALSE)),\"\",VLOOKUP(W27,Totals!$AX$3:$AY$102,2,FALSE))","v":0},23]
[null,null,null,14,"Ashlyn Mackowick","Forest Lake",42.342105263157897,{"$f":"IF(ISNA(VLOOKUP(I28,Totals!$AX$3:$AY$102,2,FALSE)),\"\",VLOOKUP(I28,Totals!$AX$3:$AY$102,2,FALSE))","v":0},24,null,14,"Ashlyn Mackowick","Forest Lake",42.342105263157897,{"$f":"IF(ISNA(VLOOKUP(P28,Totals!$AX$3:$AY$102,2,FALSE)),\"\",VLOOKUP(P28,Totals!$AX$3:$AY$102,2,FALSE))","v":0},24,null,14,"Ashlyn Mackowick","Forest Lake",42.342105263157897,{"$f":"IF(ISNA(VLOOKUP(W28,Totals!$AX$3:$AY$102,2,FALSE)),\"\",VLOOKUP(W28,Totals!$AX$3:$AY$102,2,FALSE))","v":0},24]
[null,null,null,20,"Lizzy Hentges","Forest Lake",41.916666666666671,{"$f":"IF(ISNA(VLOOKUP(I29,Totals!$AX$3:$AY$102,2,FALSE)),\"\",VLOOKUP(I29,Totals!$AX$3:$AY$102,2,FALSE))","v":0},25,null,20,"Lizzy Hentges","Forest Lake",41.916666666666671,{"$f":"IF(ISNA(VLOOKUP(P29,Totals!$AX$3:$AY$102,2,FALSE)),\"\",VLOOKUP(P29,Totals!$AX$3:$AY$102,2,FALSE))","v":0},25,null,20,"Lizzy Hentges","Forest Lake",41.916666666666671,{"$f":"IF(ISNA(VLOOKUP(W29,Totals!$AX$3:$AY$102,2,FALSE)),\"\",VLOOKUP(W29,Totals!$AX$3:$AY$102,2,FALSE))","v":0},25]
[null,null,null,27,"Emily Honnold","Osseo-Maple Grove",41.798245614035096,{"$f":"IF(ISNA(VLOOKUP(I30,Totals!$AX$3:$AY$102,2,FALSE)),\"\",VLOOKUP(I30,Totals!$AX$3:$AY$102,2,FALSE))","v":0},26,null,27,"Emily Honnold","Osseo-Maple Grove",41.798245614035096,{"$f":"IF(ISNA(VLOOKUP(P30,Totals!$AX$3:$AY$102,2,FALSE)),\"\",VLOOKUP(P30,Totals!$AX$3:$AY$102,2,FALSE))","v":0},26,null,27,"Emily Honnold","Osseo-Maple Grove",41.798245614035096,{"$f":"IF(ISNA(VLOOKUP(W30,Totals!$AX$3:$AY$102,2,FALSE)),\"\",VLOOKUP(W30,Totals!$AX$3:$AY$102,2,FALSE))","v":0},26]
[null,null,null,29,"Emma Armitage","Forest Lake",41.328947368421055,{"$f":"IF(ISNA(VLOOKUP(I31,Totals!$AX$3:$AY$102,2,FALSE)),\"\",VLOOKUP(I31,Totals!$AX$3:$AY$102,2,FALSE))","v":0},27,null,29,"Emma Armitage","Forest Lake",41.328947368421055,{"$f":"IF(ISNA(VLOOKUP(P31,Totals!$AX$3:$AY$102,2,FALSE)),\"\",VLOOKUP(P31,Totals!$AX$3:$AY$102,2,FALSE))","v":0},27,null,29,"Emma Armitage","Forest Lake",41.328947368421055,{"$f":"IF(ISNA(VLOOKUP(W31,Totals!$AX$3:$AY$102,2,FALSE)),\"\",VLOOKUP(W31,Totals!$AX$3:$AY$102,2,FALSE))","v":0},27]
[null,null,null,22,"Kelly Sullivan","Forest Lake",40.44736842105263,{"$f":"IF(ISNA(VLOOKUP(I32,Totals!$AX$3:$AY$102,2,FALSE)),\"\",VLOOKUP(I32,Totals!$AX$3:$AY$102,2,FALSE))","v":0},28,null,22,"Kelly Sullivan","Forest Lake",40.44736842105263,{"$f":"IF(ISNA(VLOOKUP(P32,Totals!$AX$3:$AY$102,2,FALSE)),\"\",VLOOKUP(P32,Totals!$AX$3:$AY$102,2,FALSE))","v":0},28,null,22,"Kelly Sullivan","Forest Lake",40.44736842105263,{"$f":"IF(ISNA(VLOOKUP(W32,Totals!$AX$3:$AY$102,2,FALSE)),\"\",VLOOKUP(W32,Totals!$AX$3:$AY$102,2,FALSE))","v":0},28]
[null,null,null,13,"Rachel Milbauer","Forest Lake",38.096491228070178,{"$f":"IF(ISNA(VLOOKUP(I33,Totals!$AX$3:$AY$102,2,FALSE)),\"\",VLOOKUP(I33,Totals!$AX$3:$AY$102,2,FALSE))","v":0},29,null,13,"Rachel Milbauer","Forest Lake",38.096491228070178,{"$f":"IF(ISNA(VLOOKUP(P33,Totals!$AX$3:$AY$102,2,FALSE)),\"\",VLOOKUP(P33,Totals!$AX$3:$AY$102,2,FALSE))","v":0},29,null,13,"Rachel Milbauer","Forest Lake",38.096491228070178,{"$f":"IF(ISNA(VLOOKUP(W33,Totals!$AX$3:$AY$102,2,FALSE)),\"\",VLOOKUP(W33,Totals!$AX$3:$AY$102,2,FALSE))","v":0},29]
[null,null,null,18,"Allison Hannann","Osseo-Maple Grove",0,{"$f":"IF(ISNA(VLOOKUP(I34,Totals!$AX$3:$AY$102,2,FALSE)),\"\",VLOOKUP(I34,Totals!$AX$3:$AY$102,2,FALSE))","v":0},30,null,18,"Allison Hannann","Osseo-Maple Grove",0,{"$f":"IF(ISNA(VLOOKUP(P34,Totals!$AX$3:$AY$102,2,FALSE)),\"\",VLOOKUP(P34,Totals!$AX$3:$AY$102,2,FALSE))","v":0},30,null,18,"Allison Hannann","Osseo-Maple Grove",0,{"$f":"IF(ISNA(VLOOKUP(W34,Totals!$AX$3:$AY$102,2,FALSE)),\"\",VLOOKUP(W34,Totals!$AX$3:$AY$102,2,FALSE))","v":0},30]
[null,null,null,33,"Anneke DeLooze","Osseo-Maple Grove",0,{"$f":"IF(ISNA(VLOOKUP(I35,Totals!$AX$3:$AY$102,2,FALSE)),\"\",VLOOKUP(I35,Totals!$AX$3:$AY$102,2,FALSE))","v":0},30,null,33,"Anneke DeLooze","Osseo-Maple Grove",0,{"$f":"IF(ISNA(VLOOKUP(P35,Totals!$AX$3:$AY$102,2,FALSE)),\"\",VLOOKUP(P35,Totals!$AX$3:$AY$102,2,FALSE))","v":0},30,null,33,"Anneke DeLooze","Osseo-Maple Grove",0,{"$f":"IF(ISNA(VLOOKUP(W35,Totals!$AX$3:$AY$102,2,FALSE)),\"\",VLOOKUP(W35,Totals!$AX$3:$AY$102,2,FALSE))","v":0},30]
[null,null,null,28,"Rachel Knox","Osseo-Maple Grove",0,{"$f":"IF(ISNA(VLOOKUP(I36,Totals!$AX$3:$AY$102,2,FALSE)),\"\",VLOOKUP(I36,Totals!$AX$3:$AY$102,2,FALSE))","v":0},30,null,28,"Rachel Knox","Osseo-Maple Grove",0,{"$f":"IF(ISNA(VLOOKUP(P36,Totals!$AX$3:$AY$102,2,FALSE)),\"\",VLOOKUP(P36,Totals!$AX$3:$AY$102,2,FALSE))","v":0},30,null,28,"Rachel Knox","Osseo-Maple Grove",0,{"$f":"IF(ISNA(VLOOKUP(W36,Totals!$AX$3:$AY$102,2,FALSE)),\"\",VLOOKUP(W36,Totals!$AX$3:$AY$102,2,FALSE))","v":0},30]
[null,null,null,4,"Carolin LaBord","Osseo-Maple Grove",0,{"$f":"IF(ISNA(VLOOKUP(I37,Totals!$AX$3:$AY$102,2,FALSE)),\"\",VLOOKUP(I37,Totals!$AX$3:$AY$102,2,FALSE))","v":0},30,null,4,"Carolin LaBord","Osseo-Maple Grove",0,{"$f":"IF(ISNA(VLOOKUP(P37,Totals!$AX$3:$AY$102,2,FALSE)),\"\",VLOOKUP(P37,Totals!$AX$3:$AY$102,2,FALSE))","v":0},30,null,4,"Carolin LaBord","Osseo-Maple Grove",0,{"$f":"IF(ISNA(VLOOKUP(W37,Totals!$AX$3:$AY$102,2,FALSE)),\"\",VLOOKUP(W37,Totals!$AX$3:$AY$102,2,FALSE))","v":0},30]
[null,null,null,null,null,null,null,{"$f":"IF(ISNA(VLOOKUP(I38,Totals!$AX$3:$AY$102,2,FALSE)),\"\",VLOOKUP(I38,Totals!$AX$3:$AY$102,2,FALSE))","v":0},{"$f":"IF(G38=G37,I37,IF(ISNA(RANK(G38,G$5:G$150)),\"\",RANK(G38,G$5:G$150)))","v":30},null,null,null,null,null,{"$f":"IF(ISNA(VLOOKUP(P38,Totals!$AX$3:$AY$102,2,FALSE)),\"\",VLOOKUP(P38,Totals!$AX$3:$AY$102,2,FALSE))","v":0},30,null,null,null,null,null,{"$f":"IF(ISNA(VLOOKUP(W38,Totals!$AX$3:$AY$102,2,FALSE)),\"\",VLOOKUP(W38,Totals!$AX$3:$AY$102,2,FALSE))","v":0},30]
[null,null,null,null,null,null,null,{"$f":"IF(ISNA(VLOOKUP(I39,Totals!$AX$3:$AY$102,2,FALSE)),\"\",VLOOKUP(I39,Totals!$AX$3:$AY$102,2,FALSE))","v":0},30,null,null,null,null,null,{"$f":"IF(ISNA(VLOOKUP(P39,Totals!$AX$3:$AY$102,2,FALSE)),\"\",VLOOKUP(P39,Totals!$AX$3:$AY$102,2,FALSE))","v":0},30,null,null,null,null,null,{"$f":"IF(ISNA(VLOOKUP(W39,Totals!$AX$3:$AY$102,2,FALSE)),\"\",VLOOKUP(W39,Totals!$AX$3:$AY$102,2,FALSE))","v":0},30]
[null,null,null,null,null,null,null,{"$f":"IF(ISNA(VLOOKUP(I40,Totals!$AX$3:$AY$102,2,FALSE)),\"\",VLOOKUP(I40,Totals!$AX$3:$AY$102,2,FALSE))","v":0},30,null,null,null,null,null,{"$f":"IF(ISNA(VLOOKUP(P40,Totals!$AX$3:$AY$102,2,FALSE)),\"\",VLOOKUP(P40,Totals!$AX$3:$AY$102,2,FALSE))","v":0},30,null,null,null,null,null,{"$f":"IF(ISNA(VLOOKUP(W40,Totals!$AX$3:$AY$102,2,FALSE)),\"\",VLOOKUP(W40,Totals!$AX$3:$AY$102,2,FALSE))","v":0},30]
[null,null,null,null,null,null,null,{"$f":"IF(ISNA(VLOOKUP(I41,Totals!$AX$3:$AY$102,2,FALSE)),\"\",VLOOKUP(I41,Totals!$AX$3:$AY$102,2,FALSE))","v":0},30,null,null,null,null,null,{"$f":"IF(ISNA(VLOOKUP(P41,Totals!$AX$3:$AY$102,2,FALSE)),\"\",VLOOKUP(P41,Totals!$AX$3:$AY$102,2,FALSE))","v":0},30,null,null,null,null,null,{"$f":"IF(ISNA(VLOOKUP(W41,Totals!$AX$3:$AY$102,2,FALSE)),\"\",VLOOKUP(W41,Totals!$AX$3:$AY$102,2,FALSE))","v":0},30]
[null,null,null,null,null,null,null,{"$f":"IF(ISNA(VLOOKUP(I42,Totals!$AX$3:$AY$102,2,FALSE)),\"\",VLOOKUP(I42,Totals!$AX$3:$AY$102,2,FALSE))","v":0},30,null,null,null,null,null,{"$f":"IF(ISNA(VLOOKUP(P42,Totals!$AX$3:$AY$102,2,FALSE)),\"\",VLOOKUP(P42,Totals!$AX$3:$AY$102,2,FALSE))","v":0},30,null,null,null,null,null,{"$f":"IF(ISNA(VLOOKUP(W42,Totals!$AX$3:$AY$102,2,FALSE)),\"\",VLOOKUP(W42,Totals!$AX$3:$AY$102,2,FALSE))","v":0},30]
[null,null,null,null,null,null,null,{"$f":"IF(ISNA(VLOOKUP(I43,Totals!$AX$3:$AY$102,2,FALSE)),\"\",VLOOKUP(I43,Totals!$AX$3:$AY$102,2,FALSE))","v":0},30,null,null,null,null,null,{"$f":"IF(ISNA(VLOOKUP(P43,Totals!$AX$3:$AY$102,2,FALSE)),\"\",VLOOKUP(P43,Totals!$AX$3:$AY$102,2,FALSE))","v":0},30,null,null,null,null,null,{"$f":"IF(ISNA(VLOOKUP(W43,Totals!$AX$3:$AY$102,2,FALSE)),\"\",VLOOKUP(W43,Totals!$AX$3:$AY$102,2,FALSE))","v":0},30]
[null,null,null,null,null,null,null,{"$f":"IF(ISNA(VLOOKUP(I44,Totals!$AX$3:$AY$102,2,FALSE)),\"\",VLOOKUP(I44,Totals!$AX$3:$AY$102,2,FALSE))","v":0},30,null,null,null,null,null,{"$f":"IF(ISNA(VLOOKUP(P44,Totals!$AX$3:$AY$102,2,FALSE)),\"\",VLOOKUP(P44,Totals!$AX$3:$AY$102,2,FALSE))","v":0},30,null,null,null,null,null,{"$f":"IF(ISNA(VLOOKUP(W44,Totals!$AX$3:$AY$102,2,FALSE)),\"\",VLOOKUP(W44,Totals!$AX$3:$AY$102,2,FALSE))","v":0},30]
[null,null,null,null,null,null,null,{"$f":"IF(ISNA(VLOOKUP(I45,Totals!$AX$3:$AY$102,2,FALSE)),\"\",VLOOKUP(I45,Totals!$AX$3:$AY$102,2,FALSE))","v":0},30,null,null,null,null,null,{"$f":"IF(ISNA(VLOOKUP(P45,Totals!$AX$3:$AY$102,2,FALSE)),\"\",VLOOKUP(P45,Totals!$AX$3:$AY$102,2,FALSE))","v":0},30,null,null,null,null,null,{"$f":"IF(ISNA(VLOOKUP(W45,Totals!$AX$3:$AY$102,2,FALSE)),\"\",VLOOKUP(W45,Totals!$AX$3:$AY$102,2,FALSE))","v":0},30]
[null,null,null,null,null,null,null,{"$f":"IF(ISNA(VLOOKUP(I46,Totals!$AX$3:$AY$102,2,FALSE)),\"\",VLOOKUP(I46,Totals!$AX$3:$AY$102,2,FALSE))","v":0},30,null,null,null,null,null,{"$f":"IF(ISNA(VLOOKUP(P46,Totals!$AX$3:$AY$102,2,FALSE)),\"\",VLOOKUP(P46,Totals!$AX$3:$AY$102,2,FALSE))","v":0},30,null,null,null,null,null,{"$f":"IF(ISNA(VLOOKUP(W46,Totals!$AX$3:$AY$102,2,FALSE)),\"\",VLOOKUP(W46,Totals!$AX$3:$AY$102,2,FALSE))","v":0},30]
[null,null,null,null,null,null,null,{"$f":"IF(ISNA(VLOOKUP(I47,Totals!$AX$3:$AY$102,2,FALSE)),\"\",VLOOKUP(I47,Totals!$AX$3:$AY$102,2,FALSE))","v":0},30,null,null,null,null,null,{"$f":"IF(ISNA(VLOOKUP(P47,Totals!$AX$3:$AY$102,2,FALSE)),\"\",VLOOKUP(P47,Totals!$AX$3:$AY$102,2,FALSE))","v":0},30,null,null,null,null,null,{"$f":"IF(ISNA(VLOOKUP(W47,Totals!$AX$3:$AY$102,2,FALSE)),\"\",VLOOKUP(W47,Totals!$AX$3:$AY$102,2,FALSE))","v":0},30]
[null,null,null,null,null,null,null,{"$f":"IF(ISNA(VLOOKUP(I48,Totals!$AX$3:$AY$102,2,FALSE)),\"\",VLOOKUP(I48,Totals!$AX$3:$AY$102,2,FALSE))","v":0},30,null,null,null,null,null,{"$f":"IF(ISNA(VLOOKUP(P48,Totals!$AX$3:$AY$102,2,FALSE)),\"\",VLOOKUP(P48,Totals!$AX$3:$AY$102,2,FALSE))","v":0},30,null,null,null,null,null,{"$f":"IF(ISNA(VLOOKUP(W48,Totals!$AX$3:$AY$102,2,FALSE)),\"\",VLOOKUP(W48,Totals!$AX$3:$AY$102,2,FALSE))","v":0},30]
[null,null,null,null,null,null,null,{"$f":"IF(ISNA(VLOOKUP(I49,Totals!$AX$3:$AY$102,2,FALSE)),\"\",VLOOKUP(I49,Totals!$AX$3:$AY$102,2,FALSE))","v":0},30,null,null,null,null,null,{"$f":"IF(ISNA(VLOOKUP(P49,Totals!$AX$3:$AY$102,2,FALSE)),\"\",VLOOKUP(P49,Totals!$AX$3:$AY$102,2,FALSE))","v":0},30,null,null,null,null,null,{"$f":"IF(ISNA(VLOOKUP(W49,Totals!$AX$3:$AY$102,2,FALSE)),\"\",VLOOKUP(W49,Totals!$AX$3:$AY$102,2,FALSE))","v":0},30]
[null,null,null,null,null,null,null,{"$f":"IF(ISNA(VLOOKUP(I50,Totals!$AX$3:$AY$102,2,FALSE)),\"\",VLOOKUP(I50,Totals!$AX$3:$AY$102,2,FALSE))","v":0},30,null,null,null,null,null,{"$f":"IF(ISNA(VLOOKUP(P50,Totals!$AX$3:$AY$102,2,FALSE)),\"\",VLOOKUP(P50,Totals!$AX$3:$AY$102,2,FALSE))","v":0},30,null,null,null,null,null,{"$f":"IF(ISNA(VLOOKUP(W50,Totals!$AX$3:$AY$102,2,FALSE)),\"\",VLOOKUP(W50,Totals!$AX$3:$AY$102,2,FALSE))","v":0},30]
[null,null,null,null,null,null,null,{"$f":"IF(ISNA(VLOOKUP(I51,Totals!$AX$3:$AY$102,2,FALSE)),\"\",VLOOKUP(I51,Totals!$AX$3:$AY$102,2,FALSE))","v":0},30,null,null,null,null,null,{"$f":"IF(ISNA(VLOOKUP(P51,Totals!$AX$3:$AY$102,2,FALSE)),\"\",VLOOKUP(P51,Totals!$AX$3:$AY$102,2,FALSE))","v":0},30,null,null,null,null,null,{"$f":"IF(ISNA(VLOOKUP(W51,Totals!$AX$3:$AY$102,2,FALSE)),\"\",VLOOKUP(W51,Totals!$AX$3:$AY$102,2,FALSE))","v":0},30]
[null,null,null,null,null,null,null,{"$f":"IF(ISNA(VLOOKUP(I52,Totals!$AX$3:$AY$102,2,FALSE)),\"\",VLOOKUP(I52,Totals!$AX$3:$AY$102,2,FALSE))","v":0},30,null,null,null,null,null,{"$f":"IF(ISNA(VLOOKUP(P52,Totals!$AX$3:$AY$102,2,FALSE)),\"\",VLOOKUP(P52,Totals!$AX$3:$AY$102,2,FALSE))","v":0},30,null,null,null,null,null,{"$f":"IF(ISNA(VLOOKUP(W52,Totals!$AX$3:$AY$102,2,FALSE)),\"\",VLOOKUP(W52,Totals!$AX$3:$AY$102,2,FALSE))","v":0},30]
[null,null,null,null,null,null,null,{"$f":"IF(ISNA(VLOOKUP(I53,Totals!$AX$3:$AY$102,2,FALSE)),\"\",VLOOKUP(I53,Totals!$AX$3:$AY$102,2,FALSE))","v":0},30,null,null,null,null,null,{"$f":"IF(ISNA(VLOOKUP(P53,Totals!$AX$3:$AY$102,2,FALSE)),\"\",VLOOKUP(P53,Totals!$AX$3:$AY$102,2,FALSE))","v":0},30,null,null,null,null,null,{"$f":"IF(ISNA(VLOOKUP(W53,Totals!$AX$3:$AY$102,2,FALSE)),\"\",VLOOKUP(W53,Totals!$AX$3:$AY$102,2,FALSE))","v":0},30]
[null,null,null,null,null,null,null,{"$f":"IF(ISNA(VLOOKUP(I54,Totals!$AX$3:$AY$102,2,FALSE)),\"\",VLOOKUP(I54,Totals!$AX$3:$AY$102,2,FALSE))","v":0},30,null,null,null,null,null,{"$f":"IF(ISNA(VLOOKUP(P54,Totals!$AX$3:$AY$102,2,FALSE)),\"\",VLOOKUP(P54,Totals!$AX$3:$AY$102,2,FALSE))","v":0},30,null,null,null,null,null,{"$f":"IF(ISNA(VLOOKUP(W54,Totals!$AX$3:$AY$102,2,FALSE)),\"\",VLOOKUP(W54,Totals!$AX$3:$AY$102,2,FALSE))","v":0},30]
[null,null,null,null,null,null,null,{"$f":"IF(ISNA(VLOOKUP(I55,Totals!$AX$3:$AY$102,2,FALSE)),\"\",VLOOKUP(I55,Totals!$AX$3:$AY$102,2,FALSE))","v":0},30,null,null,null,null,null,{"$f":"IF(ISNA(VLOOKUP(P55,Totals!$AX$3:$AY$102,2,FALSE)),\"\",VLOOKUP(P55,Totals!$AX$3:$AY$102,2,FALSE))","v":0},30,null,null,null,null,null,{"$f":"IF(ISNA(VLOOKUP(W55,Totals!$AX$3:$AY$102,2,FALSE)),\"\",VLOOKUP(W55,Totals!$AX$3:$AY$102,2,FALSE))","v":0},30]
[null,null,null,null,null,null,null,{"$f":"IF(ISNA(VLOOKUP(I56,Totals!$AX$3:$AY$102,2,FALSE)),\"\",VLOOKUP(I56,Totals!$AX$3:$AY$102,2,FALSE))","v":0},30,null,null,null,null,null,{"$f":"IF(ISNA(VLOOKUP(P56,Totals!$AX$3:$AY$102,2,FALSE)),\"\",VLOOKUP(P56,Totals!$AX$3:$AY$102,2,FALSE))","v":0},30,null,null,null,null,null,{"$f":"IF(ISNA(VLOOKUP(W56,Totals!$AX$3:$AY$102,2,FALSE)),\"\",VLOOKUP(W56,Totals!$AX$3:$AY$102,2,FALSE))","v":0},30]
[null,null,null,null,null,null,null,{"$f":"IF(ISNA(VLOOKUP(I57,Totals!$AX$3:$AY$102,2,FALSE)),\"\",VLOOKUP(I57,Totals!$AX$3:$AY$102,2,FALSE))","v":0},30,null,null,null,null,null,{"$f":"IF(ISNA(VLOOKUP(P57,Totals!$AX$3:$AY$102,2,FALSE)),\"\",VLOOKUP(P57,Totals!$AX$3:$AY$102,2,FALSE))","v":0},30,null,null,null,null,null,{"$f":"IF(ISNA(VLOOKUP(W57,Totals!$AX$3:$AY$102,2,FALSE)),\"\",VLOOKUP(W57,Totals!$AX$3:$AY$102,2,FALSE))","v":0},30]
[null,null,null,null,null,null,null,{"$f":"IF(ISNA(VLOOKUP(I58,Totals!$AX$3:$AY$102,2,FALSE)),\"\",VLOOKUP(I58,Totals!$AX$3:$AY$102,2,FALSE))","v":0},30,null,null,null,null,null,{"$f":"IF(ISNA(VLOOKUP(P58,Totals!$AX$3:$AY$102,2,FALSE)),\"\",VLOOKUP(P58,Totals!$AX$3:$AY$102,2,FALSE))","v":0},30,null,null,null,null,null,{"$f":"IF(ISNA(VLOOKUP(W58,Totals!$AX$3:$AY$102,2,FALSE)),\"\",VLOOKUP(W58,Totals!$AX$3:$AY$102,2,FALSE))","v":0},30]
[null,null,null,null,null,null,null,{"$f":"IF(ISNA(VLOOKUP(I59,Totals!$AX$3:$AY$102,2,FALSE)),\"\",VLOOKUP(I59,Totals!$AX$3:$AY$102,2,FALSE))","v":0},30,null,null,null,null,null,{"$f":"IF(ISNA(VLOOKUP(P59,Totals!$AX$3:$AY$102,2,FALSE)),\"\",VLOOKUP(P59,Totals!$AX$3:$AY$102,2,FALSE))","v":0},30,null,null,null,null,null,{"$f":"IF(ISNA(VLOOKUP(W59,Totals!$AX$3:$AY$102,2,FALSE)),\"\",VLOOKUP(W59,Totals!$AX$3:$AY$102,2,FALSE))","v":0},30]
[null,null,null,null,null,null,null,{"$f":"IF(ISNA(VLOOKUP(I60,Totals!$AX$3:$AY$102,2,FALSE)),\"\",VLOOKUP(I60,Totals!$AX$3:$AY$102,2,FALSE))","v":0},30,null,null,null,null,null,{"$f":"IF(ISNA(VLOOKUP(P60,Totals!$AX$3:$AY$102,2,FALSE)),\"\",VLOOKUP(P60,Totals!$AX$3:$AY$102,2,FALSE))","v":0},30,null,null,null,null,null,{"$f":"IF(ISNA(VLOOKUP(W60,Totals!$AX$3:$AY$102,2,FALSE)),\"\",VLOOKUP(W60,Totals!$AX$3:$AY$102,2,FALSE))","v":0},30]
[null,null,null,null,null,null,null,{"$f":"IF(ISNA(VLOOKUP(I61,Totals!$AX$3:$AY$102,2,FALSE)),\"\",VLOOKUP(I61,Totals!$AX$3:$AY$102,2,FALSE))","v":0},30,null,null,null,null,null,{"$f":"IF(ISNA(VLOOKUP(P61,Totals!$AX$3:$AY$102,2,FALSE)),\"\",VLOOKUP(P61,Totals!$AX$3:$AY$102,2,FALSE))","v":0},30,null,null,null,null,null,{"$f":"IF(ISNA(VLOOKUP(W61,Totals!$AX$3:$AY$102,2,FALSE)),\"\",VLOOKUP(W61,Totals!$AX$3:$AY$102,2,FALSE))","v":0},30]
[null,null,null,null,null,null,null,{"$f":"IF(ISNA(VLOOKUP(I62,Totals!$AX$3:$AY$102,2,FALSE)),\"\",VLOOKUP(I62,Totals!$AX$3:$AY$102,2,FALSE))","v":0},30,null,null,null,null,null,{"$f":"IF(ISNA(VLOOKUP(P62,Totals!$AX$3:$AY$102,2,FALSE)),\"\",VLOOKUP(P62,Totals!$AX$3:$AY$102,2,FALSE))","v":0},30,null,null,null,null,null,{"$f":"IF(ISNA(VLOOKUP(W62,Totals!$AX$3:$AY$102,2,FALSE)),\"\",VLOOKUP(W62,Totals!$AX$3:$AY$102,2,FALSE))","v":0},30]
[null,null,null,null,null,null,null,{"$f":"IF(ISNA(VLOOKUP(I63,Totals!$AX$3:$AY$102,2,FALSE)),\"\",VLOOKUP(I63,Totals!$AX$3:$AY$102,2,FALSE))","v":0},30,null,null,null,null,null,{"$f":"IF(ISNA(VLOOKUP(P63,Totals!$AX$3:$AY$102,2,FALSE)),\"\",VLOOKUP(P63,Totals!$AX$3:$AY$102,2,FALSE))","v":0},30,null,null,null,null,null,{"$f":"IF(ISNA(VLOOKUP(W63,Totals!$AX$3:$AY$102,2,FALSE)),\"\",VLOOKUP(W63,Totals!$AX$3:$AY$102,2,FALSE))","v":0},30]
[null,null,null,null,null,null,null,{"$f":"IF(ISNA(VLOOKUP(I64,Totals!$AX$3:$AY$102,2,FALSE)),\"\",VLOOKUP(I64,Totals!$AX$3:$AY$102,2,FALSE))","v":0},30,null,null,null,null,null,{"$f":"IF(ISNA(VLOOKUP(P64,Totals!$AX$3:$AY$102,2,FALSE)),\"\",VLOOKUP(P64,Totals!$AX$3:$AY$102,2,FALSE))","v":0},30,null,null,null,null,null,{"$f":"IF(ISNA(VLOOKUP(W64,Totals!$AX$3:$AY$102,2,FALSE)),\"\",VLOOKUP(W64,Totals!$AX$3:$AY$102,2,FALSE))","v":0},30]
[null,null,null,null,null,null,null,{"$f":"IF(ISNA(VLOOKUP(I65,Totals!$AX$3:$AY$102,2,FALSE)),\"\",VLOOKUP(I65,Totals!$AX$3:$AY$102,2,FALSE))","v":0},30,null,null,null,null,null,{"$f":"IF(ISNA(VLOOKUP(P65,Totals!$AX$3:$AY$102,2,FALSE)),\"\",VLOOKUP(P65,Totals!$AX$3:$AY$102,2,FALSE))","v":0},30,null,null,null,null,null,{"$f":"IF(ISNA(VLOOKUP(W65,Totals!$AX$3:$AY$102,2,FALSE)),\"\",VLOOKUP(W65,Totals!$AX$3:$AY$102,2,FALSE))","v":0},30]
[null,null,null,null,null,null,null,{"$f":"IF(ISNA(VLOOKUP(I66,Totals!$AX$3:$AY$102,2,FALSE)),\"\",VLOOKUP(I66,Totals!$AX$3:$AY$102,2,FALSE))","v":0},30,null,null,null,null,null,{"$f":"IF(ISNA(VLOOKUP(P66,Totals!$AX$3:$AY$102,2,FALSE)),\"\",VLOOKUP(P66,Totals!$AX$3:$AY$102,2,FALSE))","v":0},30,null,null,null,null,null,{"$f":"IF(ISNA(VLOOKUP(W66,Totals!$AX$3:$AY$102,2,FALSE)),\"\",VLOOKUP(W66,Totals!$AX$3:$AY$102,2,FALSE))","v":0},30]
[null,null,null,null,null,null,null,{"$f":"IF(ISNA(VLOOKUP(I67,Totals!$AX$3:$AY$102,2,FALSE)),\"\",VLOOKUP(I67,Totals!$AX$3:$AY$102,2,FALSE))","v":0},30,null,null,null,null,null,{"$f":"IF(ISNA(VLOOKUP(P67,Totals!$AX$3:$AY$102,2,FALSE)),\"\",VLOOKUP(P67,Totals!$AX$3:$AY$102,2,FALSE))","v":0},30,null,null,null,null,null,{"$f":"IF(ISNA(VLOOKUP(W67,Totals!$AX$3:$AY$102,2,FALSE)),\"\",VLOOKUP(W67,Totals!$AX$3:$AY$102,2,FALSE))","v":0},30]
[null,null,null,null,null,null,null,{"$f":"IF(ISNA(VLOOKUP(I68,Totals!$AX$3:$AY$102,2,FALSE)),\"\",VLOOKUP(I68,Totals!$AX$3:$AY$102,2,FALSE))","v":0},30,null,null,null,null,null,{"$f":"IF(ISNA(VLOOKUP(P68,Totals!$AX$3:$AY$102,2,FALSE)),\"\",VLOOKUP(P68,Totals!$AX$3:$AY$102,2,FALSE))","v":0},30,null,null,null,null,null,{"$f":"IF(ISNA(VLOOKUP(W68,Totals!$AX$3:$AY$102,2,FALSE)),\"\",VLOOKUP(W68,Totals!$AX$3:$AY$102,2,FALSE))","v":0},30]
[null,null,null,null,null,null,null,{"$f":"IF(ISNA(VLOOKUP(I69,Totals!$AX$3:$AY$102,2,FALSE)),\"\",VLOOKUP(I69,Totals!$AX$3:$AY$102,2,FALSE))","v":0},30,null,null,null,null,null,{"$f":"IF(ISNA(VLOOKUP(P69,Totals!$AX$3:$AY$102,2,FALSE)),\"\",VLOOKUP(P69,Totals!$AX$3:$AY$102,2,FALSE))","v":0},30,null,null,null,null,null,{"$f":"IF(ISNA(VLOOKUP(W69,Totals!$AX$3:$AY$102,2,FALSE)),\"\",VLOOKUP(W69,Totals!$AX$3:$AY$102,2,FALSE))","v":0},30]
[null,null,null,null,null,null,null,{"$f":"IF(ISNA(VLOOKUP(I70,Totals!$AX$3:$AY$102,2,FALSE)),\"\",VLOOKUP(I70,Totals!$AX$3:$AY$102,2,FALSE))","v":0},30,null,null,null,null,null,{"$f":"IF(ISNA(VLOOKUP(P70,Totals!$AX$3:$AY$102,2,FALSE)),\"\",VLOOKUP(P70,Totals!$AX$3:$AY$102,2,FALSE))","v":0},{"$f":"IF(ISNA(RANK(N70,N$5:N$150)),\"\",RANK(N70,N$5:N$150))","v":30},null,null,null,null,null,{"$f":"IF(ISNA(VLOOKUP(W70,Totals!$AX$3:$AY$102,2,FALSE)),\"\",VLOOKUP(W70,Totals!$AX$3:$AY$102,2,FALSE))","v":0},{"$f":"IF(ISNA(RANK(U70,U$5:U$150)),\"\",RANK(U70,U$5:U$150))","v":30}]
[null,null,null,null,null,null,null,{"$f":"IF(ISNA(VLOOKUP(I71,Totals!$AX$3:$AY$102,2,FALSE)),\"\",VLOOKUP(I71,Totals!$AX$3:$AY$102,2,FALSE))","v":0},{"$f":"IF(G71=G70,I70,IF(ISNA(RANK(G71,G$5:G$150)),\"\",RANK(G71,G$5:G$150)))","v":30},null,null,null,null,null,{"$f":"IF(ISNA(VLOOKUP(P71,Totals!$AX$3:$AY$102,2,FALSE)),\"\",VLOOKUP(P71,Totals!$AX$3:$AY$102,2,FALSE))","v":0},30,null,null,null,null,null,{"$f":"IF(ISNA(VLOOKUP(W71,Totals!$AX$3:$AY$102,2,FALSE)),\"\",VLOOKUP(W71,Totals!$AX$3:$AY$102,2,FALSE))","v":0},30]
[null,null,null,null,null,null,null,{"$f":"IF(ISNA(VLOOKUP(I72,Totals!$AX$3:$AY$102,2,FALSE)),\"\",VLOOKUP(I72,Totals!$AX$3:$AY$102,2,FALSE))","v":0},30,null,null,null,null,null,{"$f":"IF(ISNA(VLOOKUP(P72,Totals!$AX$3:$AY$102,2,FALSE)),\"\",VLOOKUP(P72,Totals!$AX$3:$AY$102,2,FALSE))","v":0},30,null,null,null,null,null,{"$f":"IF(ISNA(VLOOKUP(W72,Totals!$AX$3:$AY$102,2,FALSE)),\"\",VLOOKUP(W72,Totals!$AX$3:$AY$102,2,FALSE))","v":0},30]
[null,null,null,null,null,null,null,{"$f":"IF(ISNA(VLOOKUP(I73,Totals!$AX$3:$AY$102,2,FALSE)),\"\",VLOOKUP(I73,Totals!$AX$3:$AY$102,2,FALSE))","v":0},30,null,null,null,null,null,{"$f":"IF(ISNA(VLOOKUP(P73,Totals!$AX$3:$AY$102,2,FALSE)),\"\",VLOOKUP(P73,Totals!$AX$3:$AY$102,2,FALSE))","v":0},30,null,null,null,null,null,{"$f":"IF(ISNA(VLOOKUP(W73,Totals!$AX$3:$AY$102,2,FALSE)),\"\",VLOOKUP(W73,Totals!$AX$3:$AY$102,2,FALSE))","v":0},30]
[null,null,null,null,null,null,null,{"$f":"IF(ISNA(VLOOKUP(I74,Totals!$AX$3:$AY$102,2,FALSE)),\"\",VLOOKUP(I74,Totals!$AX$3:$AY$102,2,FALSE))","v":0},30,null,null,null,null,null,{"$f":"IF(ISNA(VLOOKUP(P74,Totals!$AX$3:$AY$102,2,FALSE)),\"\",VLOOKUP(P74,Totals!$AX$3:$AY$102,2,FALSE))","v":0},30,null,null,null,null,null,{"$f":"IF(ISNA(VLOOKUP(W74,Totals!$AX$3:$AY$102,2,FALSE)),\"\",VLOOKUP(W74,Totals!$AX$3:$AY$102,2,FALSE))","v":0},30]
[null,null,null,null,null,null,null,{"$f":"IF(ISNA(VLOOKUP(I75,Totals!$AX$3:$AY$102,2,FALSE)),\"\",VLOOKUP(I75,Totals!$AX$3:$AY$102,2,FALSE))","v":0},30,null,null,null,null,null,{"$f":"IF(ISNA(VLOOKUP(P75,Totals!$AX$3:$AY$102,2,FALSE)),\"\",VLOOKUP(P75,Totals!$AX$3:$AY$102,2,FALSE))","v":0},30,null,null,null,null,null,{"$f":"IF(ISNA(VLOOKUP(W75,Totals!$AX$3:$AY$102,2,FALSE)),\"\",VLOOKUP(W75,Totals!$AX$3:$AY$102,2,FALSE))","v":0},30]
[null,null,null,null,null,null,null,{"$f":"IF(ISNA(VLOOKUP(I76,Totals!$AX$3:$AY$102,2,FALSE)),\"\",VLOOKUP(I76,Totals!$AX$3:$AY$102,2,FALSE))","v":0},30,null,null,null,null,null,{"$f":"IF(ISNA(VLOOKUP(P76,Totals!$AX$3:$AY$102,2,FALSE)),\"\",VLOOKUP(P76,Totals!$AX$3:$AY$102,2,FALSE))","v":0},30,null,null,null,null,null,{"$f":"IF(ISNA(VLOOKUP(W76,Totals!$AX$3:$AY$102,2,FALSE)),\"\",VLOOKUP(W76,Totals!$AX$3:$AY$102,2,FALSE))","v":0},30]
[null,null,null,null,null,null,null,{"$f":"IF(ISNA(VLOOKUP(I77,Totals!$AX$3:$AY$102,2,FALSE)),\"\",VLOOKUP(I77,Totals!$AX$3:$AY$102,2,FALSE))","v":0},30,null,null,null,null,null,{"$f":"IF(ISNA(VLOOKUP(P77,Totals!$AX$3:$AY$102,2,FALSE)),\"\",VLOOKUP(P77,Totals!$AX$3:$AY$102,2,FALSE))","v":0},30,null,null,null,null,null,{"$f":"IF(ISNA(VLOOKUP(W77,Totals!$AX$3:$AY$102,2,FALSE)),\"\",VLOOKUP(W77,Totals!$AX$3:$AY$102,2,FALSE))","v":0},30]
[null,null,null,null,null,null,null,{"$f":"IF(ISNA(VLOOKUP(I78,Totals!$AX$3:$AY$102,2,FALSE)),\"\",VLOOKUP(I78,Totals!$AX$3:$AY$102,2,FALSE))","v":0},30,null,null,null,null,null,{"$f":"IF(ISNA(VLOOKUP(P78,Totals!$AX$3:$AY$102,2,FALSE)),\"\",VLOOKUP(P78,Totals!$AX$3:$AY$102,2,FALSE))","v":0},30,null,null,null,null,null,{"$f":"IF(ISNA(VLOOKUP(W78,Totals!$AX$3:$AY$102,2,FALSE)),\"\",VLOOKUP(W78,Totals!$AX$3:$AY$102,2,FALSE))","v":0},30]
[null,null,null,null,null,null,null,{"$f":"IF(ISNA(VLOOKUP(I79,Totals!$AX$3:$AY$102,2,FALSE)),\"\",VLOOKUP(I79,Totals!$AX$3:$AY$102,2,FALSE))","v":0},30,null,null,null,null,null,{"$f":"IF(ISNA(VLOOKUP(P79,Totals!$AX$3:$AY$102,2,FALSE)),\"\",VLOOKUP(P79,Totals!$AX$3:$AY$102,2,FALSE))","v":0},30,null,null,null,null,null,{"$f":"IF(ISNA(VLOOKUP(W79,Totals!$AX$3:$AY$102,2,FALSE)),\"\",VLOOKUP(W79,Totals!$AX$3:$AY$102,2,FALSE))","v":0},30]
[null,null,null,null,null,null,null,{"$f":"IF(ISNA(VLOOKUP(I80,Totals!$AX$3:$AY$102,2,FALSE)),\"\",VLOOKUP(I80,Totals!$AX$3:$AY$102,2,FALSE))","v":0},30,null,null,null,null,null,{"$f":"IF(ISNA(VLOOKUP(P80,Totals!$AX$3:$AY$102,2,FALSE)),\"\",VLOOKUP(P80,Totals!$AX$3:$AY$102,2,FALSE))","v":0},30,null,null,null,null,null,{"$f":"IF(ISNA(VLOOKUP(W80,Totals!$AX$3:$AY$102,2,FALSE)),\"\",VLOOKUP(W80,Totals!$AX$3:$AY$102,2,FALSE))","v":0},30]
[null,null,null,null,null,null,null,{"$f":"IF(ISNA(VLOOKUP(I81,Totals!$AX$3:$AY$102,2,FALSE)),\"\",VLOOKUP(I81,Totals!$AX$3:$AY$102,2,FALSE))","v":0},30,null,null,null,null,null,{"$f":"IF(ISNA(VLOOKUP(P81,Totals!$AX$3:$AY$102,2,FALSE)),\"\",VLOOKUP(P81,Totals!$AX$3:$AY$102,2,FALSE))","v":0},30,null,null,null,null,null,{"$f":"IF(ISNA(VLOOKUP(W81,Totals!$AX$3:$AY$102,2,FALSE)),\"\",VLOOKUP(W81,Totals!$AX$3:$AY$102,2,FALSE))","v":0},30]
[null,null,null,null,null,null,null,{"$f":"IF(ISNA(VLOOKUP(I82,Totals!$AX$3:$AY$102,2,FALSE)),\"\",VLOOKUP(I82,Totals!$AX$3:$AY$102,2,FALSE))","v":0},30,null,null,null,null,null,{"$f":"IF(ISNA(VLOOKUP(P82,Totals!$AX$3:$AY$102,2,FALSE)),\"\",VLOOKUP(P82,Totals!$AX$3:$AY$102,2,FALSE))","v":0},30,null,null,null,null,null,{"$f":"IF(ISNA(VLOOKUP(W82,Totals!$AX$3:$AY$102,2,FALSE)),\"\",VLOOKUP(W82,Totals!$AX$3:$AY$102,2,FALSE))","v":0},30]
[null,null,null,null,null,null,null,{"$f":"IF(ISNA(VLOOKUP(I83,Totals!$AX$3:$AY$102,2,FALSE)),\"\",VLOOKUP(I83,Totals!$AX$3:$AY$102,2,FALSE))","v":0},30,null,null,null,null,null,{"$f":"IF(ISNA(VLOOKUP(P83,Totals!$AX$3:$AY$102,2,FALSE)),\"\",VLOOKUP(P83,Totals!$AX$3:$AY$102,2,FALSE))","v":0},30,null,null,null,null,null,{"$f":"IF(ISNA(VLOOKUP(W83,Totals!$AX$3:$AY$102,2,FALSE)),\"\",VLOOKUP(W83,Totals!$AX$3:$AY$102,2,FALSE))","v":0},30]
[null,null,null,null,null,null,null,{"$f":"IF(ISNA(VLOOKUP(I84,Totals!$AX$3:$AY$102,2,FALSE)),\"\",VLOOKUP(I84,Totals!$AX$3:$AY$102,2,FALSE))","v":0},30,null,null,null,null,null,{"$f":"IF(ISNA(VLOOKUP(P84,Totals!$AX$3:$AY$102,2,FALSE)),\"\",VLOOKUP(P84,Totals!$AX$3:$AY$102,2,FALSE))","v":0},30,null,null,null,null,null,{"$f":"IF(ISNA(VLOOKUP(W84,Totals!$AX$3:$AY$102,2,FALSE)),\"\",VLOOKUP(W84,Totals!$AX$3:$AY$102,2,FALSE))","v":0},30]
[null,null,null,null,null,null,null,{"$f":"IF(ISNA(VLOOKUP(I85,Totals!$AX$3:$AY$102,2,FALSE)),\"\",VLOOKUP(I85,Totals!$AX$3:$AY$102,2,FALSE))","v":0},30,null,null,null,null,null,{"$f":"IF(ISNA(VLOOKUP(P85,Totals!$AX$3:$AY$102,2,FALSE)),\"\",VLOOKUP(P85,Totals!$AX$3:$AY$102,2,FALSE))","v":0},30,null,null,null,null,null,{"$f":"IF(ISNA(VLOOKUP(W85,Totals!$AX$3:$AY$102,2,FALSE)),\"\",VLOOKUP(W85,Totals!$AX$3:$AY$102,2,FALSE))","v":0},30]
[null,null,null,null,null,null,null,{"$f":"IF(ISNA(VLOOKUP(I86,Totals!$AX$3:$AY$102,2,FALSE)),\"\",VLOOKUP(I86,Totals!$AX$3:$AY$102,2,FALSE))","v":0},30,null,null,null,null,null,{"$f":"IF(ISNA(VLOOKUP(P86,Totals!$AX$3:$AY$102,2,FALSE)),\"\",VLOOKUP(P86,Totals!$AX$3:$AY$102,2,FALSE))","v":0},30,null,null,null,null,null,{"$f":"IF(ISNA(VLOOKUP(W86,Totals!$AX$3:$AY$102,2,FALSE)),\"\",VLOOKUP(W86,Totals!$AX$3:$AY$102,2,FALSE))","v":0},30]
[null,null,null,null,null,null,null,{"$f":"IF(ISNA(VLOOKUP(I87,Totals!$AX$3:$AY$102,2,FALSE)),\"\",VLOOKUP(I87,Totals!$AX$3:$AY$102,2,FALSE))","v":0},30,null,null,null,null,null,{"$f":"IF(ISNA(VLOOKUP(P87,Totals!$AX$3:$AY$102,2,FALSE)),\"\",VLOOKUP(P87,Totals!$AX$3:$AY$102,2,FALSE))","v":0},30,null,null,null,null,null,{"$f":"IF(ISNA(VLOOKUP(W87,Totals!$AX$3:$AY$102,2,FALSE)),\"\",VLOOKUP(W87,Totals!$AX$3:$AY$102,2,FALSE))","v":0},30]
[null,null,null,null,null,null,null,{"$f":"IF(ISNA(VLOOKUP(I88,Totals!$AX$3:$AY$102,2,FALSE)),\"\",VLOOKUP(I88,Totals!$AX$3:$AY$102,2,FALSE))","v":0},30,null,null,null,null,null,{"$f":"IF(ISNA(VLOOKUP(P88,Totals!$AX$3:$AY$102,2,FALSE)),\"\",VLOOKUP(P88,Totals!$AX$3:$AY$102,2,FALSE))","v":0},30,null,null,null,null,null,{"$f":"IF(ISNA(VLOOKUP(W88,Totals!$AX$3:$AY$102,2,FALSE)),\"\",VLOOKUP(W88,Totals!$AX$3:$AY$102,2,FALSE))","v":0},30]
[null,null,null,null,null,null,null,{"$f":"IF(ISNA(VLOOKUP(I89,Totals!$AX$3:$AY$102,2,FALSE)),\"\",VLOOKUP(I89,Totals!$AX$3:$AY$102,2,FALSE))","v":0},30,null,null,null,null,null,{"$f":"IF(ISNA(VLOOKUP(P89,Totals!$AX$3:$AY$102,2,FALSE)),\"\",VLOOKUP(P89,Totals!$AX$3:$AY$102,2,FALSE))","v":0},30,null,null,null,null,null,{"$f":"IF(ISNA(VLOOKUP(W89,Totals!$AX$3:$AY$102,2,FALSE)),\"\",VLOOKUP(W89,Totals!$AX$3:$AY$102,2,FALSE))","v":0},30]
[null,null,null,null,null,null,null,{"$f":"IF(ISNA(VLOOKUP(I90,Totals!$AX$3:$AY$102,2,FALSE)),\"\",VLOOKUP(I90,Totals!$AX$3:$AY$102,2,FALSE))","v":0},30,null,null,null,null,null,{"$f":"IF(ISNA(VLOOKUP(P90,Totals!$AX$3:$AY$102,2,FALSE)),\"\",VLOOKUP(P90,Totals!$AX$3:$AY$102,2,FALSE))","v":0},30,null,null,null,null,null,{"$f":"IF(ISNA(VLOOKUP(W90,Totals!$AX$3:$AY$102,2,FALSE)),\"\",VLOOKUP(W90,Totals!$AX$3:$AY$102,2,FALSE))","v":0},30]
[null,null,null,null,null,null,null,{"$f":"IF(ISNA(VLOOKUP(I91,Totals!$AX$3:$AY$102,2,FALSE)),\"\",VLOOKUP(I91,Totals!$AX$3:$AY$102,2,FALSE))","v":0},30,null,null,null,null,null,{"$f":"IF(ISNA(VLOOKUP(P91,Totals!$AX$3:$AY$102,2,FALSE)),\"\",VLOOKUP(P91,Totals!$AX$3:$AY$102,2,FALSE))","v":0},30,null,null,null,null,null,{"$f":"IF(ISNA(VLOOKUP(W91,Totals!$AX$3:$AY$102,2,FALSE)),\"\",VLOOKUP(W91,Totals!$AX$3:$AY$102,2,FALSE))","v":0},30]
[null,null,null,null,null,null,null,{"$f":"IF(ISNA(VLOOKUP(I92,Totals!$AX$3:$AY$102,2,FALSE)),\"\",VLOOKUP(I92,Totals!$AX$3:$AY$102,2,FALSE))","v":0},30,null,null,null,null,null,{"$f":"IF(ISNA(VLOOKUP(P92,Totals!$AX$3:$AY$102,2,FALSE)),\"\",VLOOKUP(P92,Totals!$AX$3:$AY$102,2,FALSE))","v":0},30,null,null,null,null,null,{"$f":"IF(ISNA(VLOOKUP(W92,Totals!$AX$3:$AY$102,2,FALSE)),\"\",VLOOKUP(W92,Totals!$AX$3:$AY$102,2,FALSE))","v":0},30]
[null,null,null,null,null,null,null,{"$f":"IF(ISNA(VLOOKUP(I93,Totals!$AX$3:$AY$102,2,FALSE)),\"\",VLOOKUP(I93,Totals!$AX$3:$AY$102,2,FALSE))","v":0},30,null,null,null,null,null,{"$f":"IF(ISNA(VLOOKUP(P93,Totals!$AX$3:$AY$102,2,FALSE)),\"\",VLOOKUP(P93,Totals!$AX$3:$AY$102,2,FALSE))","v":0},30,null,null,null,null,null,{"$f":"IF(ISNA(VLOOKUP(W93,Totals!$AX$3:$AY$102,2,FALSE)),\"\",VLOOKUP(W93,Totals!$AX$3:$AY$102,2,FALSE))","v":0},30]
[null,null,null,null,null,null,null,{"$f":"IF(ISNA(VLOOKUP(I94,Totals!$AX$3:$AY$102,2,FALSE)),\"\",VLOOKUP(I94,Totals!$AX$3:$AY$102,2,FALSE))","v":0},30,null,null,null,null,null,{"$f":"IF(ISNA(VLOOKUP(P94,Totals!$AX$3:$AY$102,2,FALSE)),\"\",VLOOKUP(P94,Totals!$AX$3:$AY$102,2,FALSE))","v":0},30,null,null,null,null,null,{"$f":"IF(ISNA(VLOOKUP(W94,Totals!$AX$3:$AY$102,2,FALSE)),\"\",VLOOKUP(W94,Totals!$AX$3:$AY$102,2,FALSE))","v":0},30]
[null,null,null,null,null,null,null,{"$f":"IF(ISNA(VLOOKUP(I95,Totals!$AX$3:$AY$102,2,FALSE)),\"\",VLOOKUP(I95,Totals!$AX$3:$AY$102,2,FALSE))","v":0},30,null,null,null,null,null,{"$f":"IF(ISNA(VLOOKUP(P95,Totals!$AX$3:$AY$102,2,FALSE)),\"\",VLOOKUP(P95,Totals!$AX$3:$AY$102,2,FALSE))","v":0},30,null,null,null,null,null,{"$f":"IF(ISNA(VLOOKUP(W95,Totals!$AX$3:$AY$102,2,FALSE)),\"\",VLOOKUP(W95,Totals!$AX$3:$AY$102,2,FALSE))","v":0},30]
[null,null,null,null,null,null,null,{"$f":"IF(ISNA(VLOOKUP(I96,Totals!$AX$3:$AY$102,2,FALSE)),\"\",VLOOKUP(I96,Totals!$AX$3:$AY$102,2,FALSE))","v":0},30,null,null,null,null,null,{"$f":"IF(ISNA(VLOOKUP(P96,Totals!$AX$3:$AY$102,2,FALSE)),\"\",VLOOKUP(P96,Totals!$AX$3:$AY$102,2,FALSE))","v":0},30,null,null,null,null,null,{"$f":"IF(ISNA(VLOOKUP(W96,Totals!$AX$3:$AY$102,2,FALSE)),\"\",VLOOKUP(W96,Totals!$AX$3:$AY$102,2,FALSE))","v":0},30]
[null,null,null,null,null,null,null,{"$f":"IF(ISNA(VLOOKUP(I97,Totals!$AX$3:$AY$102,2,FALSE)),\"\",VLOOKUP(I97,Totals!$AX$3:$AY$102,2,FALSE))","v":0},30,null,null,null,null,null,{"$f":"IF(ISNA(VLOOKUP(P97,Totals!$AX$3:$AY$102,2,FALSE)),\"\",VLOOKUP(P97,Totals!$AX$3:$AY$102,2,FALSE))","v":0},30,null,null,null,null,null,{"$f":"IF(ISNA(VLOOKUP(W97,Totals!$AX$3:$AY$102,2,FALSE)),\"\",VLOOKUP(W97,Totals!$AX$3:$AY$102,2,FALSE))","v":0},30]
[null,null,null,null,null,null,null,{"$f":"IF(ISNA(VLOOKUP(I98,Totals!$AX$3:$AY$102,2,FALSE)),\"\",VLOOKUP(I98,Totals!$AX$3:$AY$102,2,FALSE))","v":0},30,null,null,null,null,null,{"$f":"IF(ISNA(VLOOKUP(P98,Totals!$AX$3:$AY$102,2,FALSE)),\"\",VLOOKUP(P98,Totals!$AX$3:$AY$102,2,FALSE))","v":0},30,null,null,null,null,null,{"$f":"IF(ISNA(VLOOKUP(W98,Totals!$AX$3:$AY$102,2,FALSE)),\"\",VLOOKUP(W98,Totals!$AX$3:$AY$102,2,FALSE))","v":0},30]
[null,null,null,null,null,null,null,{"$f":"IF(ISNA(VLOOKUP(I99,Totals!$AX$3:$AY$102,2,FALSE)),\"\",VLOOKUP(I99,Totals!$AX$3:$AY$102,2,FALSE))","v":0},30,null,null,null,null,null,{"$f":"IF(ISNA(VLOOKUP(P99,Totals!$AX$3:$AY$102,2,FALSE)),\"\",VLOOKUP(P99,Totals!$AX$3:$AY$102,2,FALSE))","v":0},30,null,null,null,null,null,{"$f":"IF(ISNA(VLOOKUP(W99,Totals!$AX$3:$AY$102,2,FALSE)),\"\",VLOOKUP(W99,Totals!$AX$3:$AY$102,2,FALSE))","v":0},30]
[null,null,null,null,null,null,null,{"$f":"IF(ISNA(VLOOKUP(I100,Totals!$AX$3:$AY$102,2,FALSE)),\"\",VLOOKUP(I100,Totals!$AX$3:$AY$102,2,FALSE))","v":0},30,null,null,null,null,null,{"$f":"IF(ISNA(VLOOKUP(P100,Totals!$AX$3:$AY$102,2,FALSE)),\"\",VLOOKUP(P100,Totals!$AX$3:$AY$102,2,FALSE))","v":0},30,null,null,null,null,null,{"$f":"IF(ISNA(VLOOKUP(W100,Totals!$AX$3:$AY$102,2,FALSE)),\"\",VLOOKUP(W100,Totals!$AX$3:$AY$102,2,FALSE))","v":0},30]
[null,null,null,null,null,null,null,{"$f":"IF(ISNA(VLOOKUP(I101,Totals!$AX$3:$AY$102,2,FALSE)),\"\",VLOOKUP(I101,Totals!$AX$3:$AY$102,2,FALSE))","v":0},30,null,null,null,null,null,{"$f":"IF(ISNA(VLOOKUP(P101,Totals!$AX$3:$AY$102,2,FALSE)),\"\",VLOOKUP(P101,Totals!$AX$3:$AY$102,2,FALSE))","v":0},30,null,null,null,null,null,{"$f":"IF(ISNA(VLOOKUP(W101,Totals!$AX$3:$AY$102,2,FALSE)),\"\",VLOOKUP(W101,Totals!$AX$3:$AY$102,2,FALSE))","v":0},30]
[null,null,null,null,null,null,null,{"$f":"IF(ISNA(VLOOKUP(I102,Totals!$AX$3:$AY$102,2,FALSE)),\"\",VLOOKUP(I102,Totals!$AX$3:$AY$102,2,FALSE))","v":0},30,null,null,null,null,null,{"$f":"IF(ISNA(VLOOKUP(P102,Totals!$AX$3:$AY$102,2,FALSE)),\"\",VLOOKUP(P102,Totals!$AX$3:$AY$102,2,FALSE))","v":0},30,null,null,null,null,null,{"$f":"IF(ISNA(VLOOKUP(W102,Totals!$AX$3:$AY$102,2,FALSE)),\"\",VLOOKUP(W102,Totals!$AX$3:$AY$102,2,FALSE))","v":0},30]
[null,null,null,null,null,null,null,{"$f":"IF(ISNA(VLOOKUP(I103,Totals!$AX$3:$AY$102,2,FALSE)),\"\",VLOOKUP(I103,Totals!$AX$3:$AY$102,2,FALSE))","v":0},30,null,null,null,null,null,{"$f":"IF(ISNA(VLOOKUP(P103,Totals!$AX$3:$AY$102,2,FALSE)),\"\",VLOOKUP(P103,Totals!$AX$3:$AY$102,2,FALSE))","v":0},30,null,null,null,null,null,{"$f":"IF(ISNA(VLOOKUP(W103,Totals!$AX$3:$AY$102,2,FALSE)),\"\",VLOOKUP(W103,Totals!$AX$3:$AY$102,2,FALSE))","v":0},30]
[null,null,null,null,null,null,null,{"$f":"IF(ISNA(VLOOKUP(I104,Totals!$AX$3:$AY$102,2,FALSE)),\"\",VLOOKUP(I104,Totals!$AX$3:$AY$102,2,FALSE))","v":0},30,null,null,null,null,null,{"$f":"IF(ISNA(VLOOKUP(P104,Totals!$AX$3:$AY$102,2,FALSE)),\"\",VLOOKUP(P104,Totals!$AX$3:$AY$102,2,FALSE))","v":0},30,null,null,null,null,null,{"$f":"IF(ISNA(VLOOKUP(W104,Totals!$AX$3:$AY$102,2,FALSE)),\"\",VLOOKUP(W104,Totals!$AX$3:$AY$102,2,FALSE))","v":0},30]
[null,null,null,null,null,null,null,{"$f":"IF(ISNA(VLOOKUP(I105,Totals!$AX$3:$AY$102,2,FALSE)),\"\",VLOOKUP(I105,Totals!$AX$3:$AY$102,2,FALSE))","v":0},30,null,null,null,null,null,{"$f":"IF(ISNA(VLOOKUP(P105,Totals!$AX$3:$AY$102,2,FALSE)),\"\",VLOOKUP(P105,Totals!$AX$3:$AY$102,2,FALSE))","v":0},30,null,null,null,null,null,{"$f":"IF(ISNA(VLOOKUP(W105,Totals!$AX$3:$AY$102,2,FALSE)),\"\",VLOOKUP(W105,Totals!$AX$3:$AY$102,2,FALSE))","v":0},30]
[null,null,null,null,null,null,null,{"$f":"IF(ISNA(VLOOKUP(I106,Totals!$AX$3:$AY$102,2,FALSE)),\"\",VLOOKUP(I106,Totals!$AX$3:$AY$102,2,FALSE))","v":0},30,null,null,null,null,null,{"$f":"IF(ISNA(VLOOKUP(P106,Totals!$AX$3:$AY$102,2,FALSE)),\"\",VLOOKUP(P106,Totals!$AX$3:$AY$102,2,FALSE))","v":0},30,null,null,null,null,null,{"$f":"IF(ISNA(VLOOKUP(W106,Totals!$AX$3:$AY$102,2,FALSE)),\"\",VLOOKUP(W106,Totals!$AX$3:$AY$102,2,FALSE))","v":0},30]
[null,null,null,null,null,null,null,{"$f":"IF(ISNA(VLOOKUP(I107,Totals!$AX$3:$AY$102,2,FALSE)),\"\",VLOOKUP(I107,Totals!$AX$3:$AY$102,2,FALSE))","v":0},30,null,null,null,null,null,{"$f":"IF(ISNA(VLOOKUP(P107,Totals!$AX$3:$AY$102,2,FALSE)),\"\",VLOOKUP(P107,Totals!$AX$3:$AY$102,2,FALSE))","v":0},30,null,null,null,null,null,{"$f":"IF(ISNA(VLOOKUP(W107,Totals!$AX$3:$AY$102,2,FALSE)),\"\",VLOOKUP(W107,Totals!$AX$3:$AY$102,2,FALSE))","v":0},30]
[null,null,null,null,null,null,null,{"$f":"IF(ISNA(VLOOKUP(I108,Totals!$AX$3:$AY$102,2,FALSE)),\"\",VLOOKUP(I108,Totals!$AX$3:$AY$102,2,FALSE))","v":0},30,null,null,null,null,null,{"$f":"IF(ISNA(VLOOKUP(P108,Totals!$AX$3:$AY$102,2,FALSE)),\"\",VLOOKUP(P108,Totals!$AX$3:$AY$102,2,FALSE))","v":0},30,null,null,null,null,null,{"$f":"IF(ISNA(VLOOKUP(W108,Totals!$AX$3:$AY$102,2,FALSE)),\"\",VLOOKUP(W108,Totals!$AX$3:$AY$102,2,FALSE))","v":0},30]
[null,null,null,null,null,null,null,{"$f":"IF(ISNA(VLOOKUP(I109,Totals!$AX$3:$AY$102,2,FALSE)),\"\",VLOOKUP(I109,Totals!$AX$3:$AY$102,2,FALSE))","v":0},30,null,null,null,null,null,{"$f":"IF(ISNA(VLOOKUP(P109,Totals!$AX$3:$AY$102,2,FALSE)),\"\",VLOOKUP(P109,Totals!$AX$3:$AY$102,2,FALSE))","v":0},30,null,null,null,null,null,{"$f":"IF(ISNA(VLOOKUP(W109,Totals!$AX$3:$AY$102,2,FALSE)),\"\",VLOOKUP(W109,Totals!$AX$3:$AY$102,2,FALSE))","v":0},30]
[null,null,null,null,null,null,null,{"$f":"IF(ISNA(VLOOKUP(I110,Totals!$AX$3:$AY$102,2,FALSE)),\"\",VLOOKUP(I110,Totals!$AX$3:$AY$102,2,FALSE))","v":0},30,null,null,null,null,null,{"$f":"IF(ISNA(VLOOKUP(P110,Totals!$AX$3:$AY$102,2,FALSE)),\"\",VLOOKUP(P110,Totals!$AX$3:$AY$102,2,FALSE))","v":0},30,null,null,null,null,null,{"$f":"IF(ISNA(VLOOKUP(W110,Totals!$AX$3:$AY$102,2,FALSE)),\"\",VLOOKUP(W110,Totals!$AX$3:$AY$102,2,FALSE))","v":0},30]
[null,null,null,null,null,null,null,{"$f":"IF(ISNA(VLOOKUP(I111,Totals!$AX$3:$AY$102,2,FALSE)),\"\",VLOOKUP(I111,Totals!$AX$3:$AY$102,2,FALSE))","v":0},30,null,null,null,null,null,{"$f":"IF(ISNA(VLOOKUP(P111,Totals!$AX$3:$AY$102,2,FALSE)),\"\",VLOOKUP(P111,Totals!$AX$3:$AY$102,2,FALSE))","v":0},30,null,null,null,null,null,{"$f":"IF(ISNA(VLOOKUP(W111,Totals!$AX$3:$AY$102,2,FALSE)),\"\",VLOOKUP(W111,Totals!$AX$3:$AY$102,2,FALSE))","v":0},30]
[null,null,null,null,null,null,null,{"$f":"IF(ISNA(VLOOKUP(I112,Totals!$AX$3:$AY$102,2,FALSE)),\"\",VLOOKUP(I112,Totals!$AX$3:$AY$102,2,FALSE))","v":0},30,null,null,null,null,null,{"$f":"IF(ISNA(VLOOKUP(P112,Totals!$AX$3:$AY$102,2,FALSE)),\"\",VLOOKUP(P112,Totals!$AX$3:$AY$102,2,FALSE))","v":0},30,null,null,null,null,null,{"$f":"IF(ISNA(VLOOKUP(W112,Totals!$AX$3:$AY$102,2,FALSE)),\"\",VLOOKUP(W112,Totals!$AX$3:$AY$102,2,FALSE))","v":0},30]
[null,null,null,null,null,null,null,{"$f":"IF(ISNA(VLOOKUP(I113,Totals!$AX$3:$AY$102,2,FALSE)),\"\",VLOOKUP(I113,Totals!$AX$3:$AY$102,2,FALSE))","v":0},30,null,null,null,null,null,{"$f":"IF(ISNA(VLOOKUP(P113,Totals!$AX$3:$AY$102,2,FALSE)),\"\",VLOOKUP(P113,Totals!$AX$3:$AY$102,2,FALSE))","v":0},30,null,null,null,null,null,{"$f":"IF(ISNA(VLOOKUP(W113,Totals!$AX$3:$AY$102,2,FALSE)),\"\",VLOOKUP(W113,Totals!$AX$3:$AY$102,2,FALSE))","v":0},30]
[null,null,null,null,null,null,null,{"$f":"IF(ISNA(VLOOKUP(I114,Totals!$AX$3:$AY$102,2,FALSE)),\"\",VLOOKUP(I114,Totals!$AX$3:$AY$102,2,FALSE))","v":0},30,null,null,null,null,null,{"$f":"IF(ISNA(VLOOKUP(P114,Totals!$AX$3:$AY$102,2,FALSE)),\"\",VLOOKUP(P114,Totals!$AX$3:$AY$102,2,FALSE))","v":0},30,null,null,null,null,null,{"$f":"IF(ISNA(VLOOKUP(W114,Totals!$AX$3:$AY$102,2,FALSE)),\"\",VLOOKUP(W114,Totals!$AX$3:$AY$102,2,FALSE))","v":0},30]
[null,null,null,null,null,null,null,{"$f":"IF(ISNA(VLOOKUP(I115,Totals!$AX$3:$AY$102,2,FALSE)),\"\",VLOOKUP(I115,Totals!$AX$3:$AY$102,2,FALSE))","v":0},30,null,null,null,null,null,{"$f":"IF(ISNA(VLOOKUP(P115,Totals!$AX$3:$AY$102,2,FALSE)),\"\",VLOOKUP(P115,Totals!$AX$3:$AY$102,2,FALSE))","v":0},30,null,null,null,null,null,{"$f":"IF(ISNA(VLOOKUP(W115,Totals!$AX$3:$AY$102,2,FALSE)),\"\",VLOOKUP(W115,Totals!$AX$3:$AY$102,2,FALSE))","v":0},30]
[null,null,null,null,null,null,null,{"$f":"IF(ISNA(VLOOKUP(I116,Totals!$AX$3:$AY$102,2,FALSE)),\"\",VLOOKUP(I116,Totals!$AX$3:$AY$102,2,FALSE))","v":0},30,null,null,null,null,null,{"$f":"IF(ISNA(VLOOKUP(P116,Totals!$AX$3:$AY$102,2,FALSE)),\"\",VLOOKUP(P116,Totals!$AX$3:$AY$102,2,FALSE))","v":0},30,null,null,null,null,null,{"$f":"IF(ISNA(VLOOKUP(W116,Totals!$AX$3:$AY$102,2,FALSE)),\"\",VLOOKUP(W116,Totals!$AX$3:$AY$102,2,FALSE))","v":0},30]
[null,null,null,null,null,null,null,{"$f":"IF(ISNA(VLOOKUP(I117,Totals!$AX$3:$AY$102,2,FALSE)),\"\",VLOOKUP(I117,Totals!$AX$3:$AY$102,2,FALSE))","v":0},30,null,null,null,null,null,{"$f":"IF(ISNA(VLOOKUP(P117,Totals!$AX$3:$AY$102,2,FALSE)),\"\",VLOOKUP(P117,Totals!$AX$3:$AY$102,2,FALSE))","v":0},30,null,null,null,null,null,{"$f":"IF(ISNA(VLOOKUP(W117,Totals!$AX$3:$AY$102,2,FALSE)),\"\",VLOOKUP(W117,Totals!$AX$3:$AY$102,2,FALSE))","v":0},30]
[null,null,null,null,null,null,null,{"$f":"IF(ISNA(VLOOKUP(I118,Totals!$AX$3:$AY$102,2,FALSE)),\"\",VLOOKUP(I118,Totals!$AX$3:$AY$102,2,FALSE))","v":0},30,null,null,null,null,null,{"$f":"IF(ISNA(VLOOKUP(P118,Totals!$AX$3:$AY$102,2,FALSE)),\"\",VLOOKUP(P118,Totals!$AX$3:$AY$102,2,FALSE))","v":0},30,null,null,null,null,null,{"$f":"IF(ISNA(VLOOKUP(W118,Totals!$AX$3:$AY$102,2,FALSE)),\"\",VLOOKUP(W118,Totals!$AX$3:$AY$102,2,FALSE))","v":0},30]
[null,null,null,null,null,null,null,{"$f":"IF(ISNA(VLOOKUP(I119,Totals!$AX$3:$AY$102,2,FALSE)),\"\",VLOOKUP(I119,Totals!$AX$3:$AY$102,2,FALSE))","v":0},30,null,null,null,null,null,{"$f":"IF(ISNA(VLOOKUP(P119,Totals!$AX$3:$AY$102,2,FALSE)),\"\",VLOOKUP(P119,Totals!$AX$3:$AY$102,2,FALSE))","v":0},30,null,null,null,null,null,{"$f":"IF(ISNA(VLOOKUP(W119,Totals!$AX$3:$AY$102,2,FALSE)),\"\",VLOOKUP(W119,Totals!$AX$3:$AY$102,2,FALSE))","v":0},30]
[null,null,null,null,null,null,null,{"$f":"IF(ISNA(VLOOKUP(I120,Totals!$AX$3:$AY$102,2,FALSE)),\"\",VLOOKUP(I120,Totals!$AX$3:$AY$102,2,FALSE))","v":0},30,null,null,null,null,null,{"$f":"IF(ISNA(VLOOKUP(P120,Totals!$AX$3:$AY$102,2,FALSE)),\"\",VLOOKUP(P120,Totals!$AX$3:$AY$102,2,FALSE))","v":0},30,null,null,null,null,null,{"$f":"IF(ISNA(VLOOKUP(W120,Totals!$AX$3:$AY$102,2,FALSE)),\"\",VLOOKUP(W120,Totals!$AX$3:$AY$102,2,FALSE))","v":0},30]
[null,null,null,null,null,null,null,{"$f":"IF(ISNA(VLOOKUP(I121,Totals!$AX$3:$AY$102,2,FALSE)),\"\",VLOOKUP(I121,Totals!$AX$3:$AY$102,2,FALSE))","v":0},30,null,null,null,null,null,{"$f":"IF(ISNA(VLOOKUP(P121,Totals!$AX$3:$AY$102,2,FALSE)),\"\",VLOOKUP(P121,Totals!$AX$3:$AY$102,2,FALSE))","v":0},30,null,null,null,null,null,{"$f":"IF(ISNA(VLOOKUP(W121,Totals!$AX$3:$AY$102,2,FALSE)),\"\",VLOOKUP(W121,Totals!$AX$3:$AY$102,2,FALSE))","v":0},30]
[null,null,null,null,null,null,null,{"$f":"IF(ISNA(VLOOKUP(I122,Totals!$AX$3:$AY$102,2,FALSE)),\"\",VLOOKUP(I122,Totals!$AX$3:$AY$102,2,FALSE))","v":0},30,null,null,null,null,null,{"$f":"IF(ISNA(VLOOKUP(P122,Totals!$AX$3:$AY$102,2,FALSE)),\"\",VLOOKUP(P122,Totals!$AX$3:$AY$102,2,FALSE))","v":0},30,null,null,null,null,null,{"$f":"IF(ISNA(VLOOKUP(W122,Totals!$AX$3:$AY$102,2,FALSE)),\"\",VLOOKUP(W122,Totals!$AX$3:$AY$102,2,FALSE))","v":0},30]
[null,null,null,null,null,null,null,{"$f":"IF(ISNA(VLOOKUP(I123,Totals!$AX$3:$AY$102,2,FALSE)),\"\",VLOOKUP(I123,Totals!$AX$3:$AY$102,2,FALSE))","v":0},30,null,null,null,null,null,{"$f":"IF(ISNA(VLOOKUP(P123,Totals!$AX$3:$AY$102,2,FALSE)),\"\",VLOOKUP(P123,Totals!$AX$3:$AY$102,2,FALSE))","v":0},30,null,null,null,null,null,{"$f":"IF(ISNA(VLOOKUP(W123,Totals!$AX$3:$AY$102,2,FALSE)),\"\",VLOOKUP(W123,Totals!$AX$3:$AY$102,2,FALSE))","v":0},30]
[null,null,null,null,null,null,null,{"$f":"IF(ISNA(VLOOKUP(I124,Totals!$AX$3:$AY$102,2,FALSE)),\"\",VLOOKUP(I124,Totals!$AX$3:$AY$102,2,FALSE))","v":0},30,null,null,null,null,null,{"$f":"IF(ISNA(VLOOKUP(P124,Totals!$AX$3:$AY$102,2,FALSE)),\"\",VLOOKUP(P124,Totals!$AX$3:$AY$102,2,FALSE))","v":0},30,null,null,null,null,null,{"$f":"IF(ISNA(VLOOKUP(W124,Totals!$AX$3:$AY$102,2,FALSE)),\"\",VLOOKUP(W124,Totals!$AX$3:$AY$102,2,FALSE))","v":0},30]
[null,null,null,null,null,null,null,{"$f":"IF(ISNA(VLOOKUP(I125,Totals!$AX$3:$AY$102,2,FALSE)),\"\",VLOOKUP(I125,Totals!$AX$3:$AY$102,2,FALSE))","v":0},30,null,null,null,null,null,{"$f":"IF(ISNA(VLOOKUP(P125,Totals!$AX$3:$AY$102,2,FALSE)),\"\",VLOOKUP(P125,Totals!$AX$3:$AY$102,2,FALSE))","v":0},30,null,null,null,null,null,{"$f":"IF(ISNA(VLOOKUP(W125,Totals!$AX$3:$AY$102,2,FALSE)),\"\",VLOOKUP(W125,Totals!$AX$3:$AY$102,2,FALSE))","v":0},30]
[null,null,null,null,null,null,null,{"$f":"IF(ISNA(VLOOKUP(I126,Totals!$AX$3:$AY$102,2,FALSE)),\"\",VLOOKUP(I126,Totals!$AX$3:$AY$102,2,FALSE))","v":0},30,null,null,null,null,null,{"$f":"IF(ISNA(VLOOKUP(P126,Totals!$AX$3:$AY$102,2,FALSE)),\"\",VLOOKUP(P126,Totals!$AX$3:$AY$102,2,FALSE))","v":0},30,null,null,null,null,null,{"$f":"IF(ISNA(VLOOKUP(W126,Totals!$AX$3:$AY$102,2,FALSE)),\"\",VLOOKUP(W126,Totals!$AX$3:$AY$102,2,FALSE))","v":0},30]
[null,null,null,null,null,null,null,{"$f":"IF(ISNA(VLOOKUP(I127,Totals!$AX$3:$AY$102,2,FALSE)),\"\",VLOOKUP(I127,Totals!$AX$3:$AY$102,2,FALSE))","v":0},30,null,null,null,null,null,{"$f":"IF(ISNA(VLOOKUP(P127,Totals!$AX$3:$AY$102,2,FALSE)),\"\",VLOOKUP(P127,Totals!$AX$3:$AY$102,2,FALSE))","v":0},30,null,null,null,null,null,{"$f":"IF(ISNA(VLOOKUP(W127,Totals!$AX$3:$AY$102,2,FALSE)),\"\",VLOOKUP(W127,Totals!$AX$3:$AY$102,2,FALSE))","v":0},30]
[null,null,null,null,null,null,null,{"$f":"IF(ISNA(VLOOKUP(I128,Totals!$AX$3:$AY$102,2,FALSE)),\"\",VLOOKUP(I128,Totals!$AX$3:$AY$102,2,FALSE))","v":0},30,null,null,null,null,null,{"$f":"IF(ISNA(VLOOKUP(P128,Totals!$AX$3:$AY$102,2,FALSE)),\"\",VLOOKUP(P128,Totals!$AX$3:$AY$102,2,FALSE))","v":0},30,null,null,null,null,null,{"$f":"IF(ISNA(VLOOKUP(W128,Totals!$AX$3:$AY$102,2,FALSE)),\"\",VLOOKUP(W128,Totals!$AX$3:$AY$102,2,FALSE))","v":0},30]
[null,null,null,null,null,null,null,{"$f":"IF(ISNA(VLOOKUP(I129,Totals!$AX$3:$AY$102,2,FALSE)),\"\",VLOOKUP(I129,Totals!$AX$3:$AY$102,2,FALSE))","v":0},30,null,null,null,null,null,{"$f":"IF(ISNA(VLOOKUP(P129,Totals!$AX$3:$AY$102,2,FALSE)),\"\",VLOOKUP(P129,Totals!$AX$3:$AY$102,2,FALSE))","v":0},30,null,null,null,null,null,{"$f":"IF(ISNA(VLOOKUP(W129,Totals!$AX$3:$AY$102,2,FALSE)),\"\",VLOOKUP(W129,Totals!$AX$3:$AY$102,2,FALSE))","v":0},30]
[null,null,null,null,null,null,null,{"$f":"IF(ISNA(VLOOKUP(I130,Totals!$AX$3:$AY$102,2,FALSE)),\"\",VLOOKUP(I130,Totals!$AX$3:$AY$102,2,FALSE))","v":0},30,null,null,null,null,null,{"$f":"IF(ISNA(VLOOKUP(P130,Totals!$AX$3:$AY$102,2,FALSE)),\"\",VLOOKUP(P130,Totals!$AX$3:$AY$102,2,FALSE))","v":0},30,null,null,null,null,null,{"$f":"IF(ISNA(VLOOKUP(W130,Totals!$AX$3:$AY$102,2,FALSE)),\"\",VLOOKUP(W130,Totals!$AX$3:$AY$102,2,FALSE))","v":0},30]
[null,null,null,null,null,null,null,{"$f":"IF(ISNA(VLOOKUP(I131,Totals!$AX$3:$AY$102,2,FALSE)),\"\",VLOOKUP(I131,Totals!$AX$3:$AY$102,2,FALSE))","v":0},30,null,null,null,null,null,{"$f":"IF(ISNA(VLOOKUP(P131,Totals!$AX$3:$AY$102,2,FALSE)),\"\",VLOOKUP(P131,Totals!$AX$3:$AY$102,2,FALSE))","v":0},30,null,null,null,null,null,{"$f":"IF(ISNA(VLOOKUP(W131,Totals!$AX$3:$AY$102,2,FALSE)),\"\",VLOOKUP(W131,Totals!$AX$3:$AY$102,2,FALSE))","v":0},30]
[null,null,null,null,null,null,null,{"$f":"IF(ISNA(VLOOKUP(I132,Totals!$AX$3:$AY$102,2,FALSE)),\"\",VLOOKUP(I132,Totals!$AX$3:$AY$102,2,FALSE))","v":0},30,null,null,null,null,null,{"$f":"IF(ISNA(VLOOKUP(P132,Totals!$AX$3:$AY$102,2,FALSE)),\"\",VLOOKUP(P132,Totals!$AX$3:$AY$102,2,FALSE))","v":0},30,null,null,null,null,null,{"$f":"IF(ISNA(VLOOKUP(W132,Totals!$AX$3:$AY$102,2,FALSE)),\"\",VLOOKUP(W132,Totals!$AX$3:$AY$102,2,FALSE))","v":0},30]
[null,null,null,null,null,null,null,{"$f":"IF(ISNA(VLOOKUP(I133,Totals!$AX$3:$AY$102,2,FALSE)),\"\",VLOOKUP(I133,Totals!$AX$3:$AY$102,2,FALSE))","v":0},30,null,null,null,null,null,{"$f":"IF(ISNA(VLOOKUP(P133,Totals!$AX$3:$AY$102,2,FALSE)),\"\",VLOOKUP(P133,Totals!$AX$3:$AY$102,2,FALSE))","v":0},30,null,null,null,null,null,{"$f":"IF(ISNA(VLOOKUP(W133,Totals!$AX$3:$AY$102,2,FALSE)),\"\",VLOOKUP(W133,Totals!$AX$3:$AY$102,2,FALSE))","v":0},30]
[null,null,null,null,null,null,null,{"$f":"IF(ISNA(VLOOKUP(I134,Totals!$AX$3:$AY$102,2,FALSE)),\"\",VLOOKUP(I134,Totals!$AX$3:$AY$102,2,FALSE))","v":0},30,null,null,null,null,null,{"$f":"IF(ISNA(VLOOKUP(P134,Totals!$AX$3:$AY$102,2,FALSE)),\"\",VLOOKUP(P134,Totals!$AX$3:$AY$102,2,FALSE))","v":0},{"$f":"IF(ISNA(RANK(N134,N$5:N$150)),\"\",RANK(N134,N$5:N$150))","v":30},null,null,null,null,null,{"$f":"IF(ISNA(VLOOKUP(W134,Totals!$AX$3:$AY$102,2,FALSE)),\"\",VLOOKUP(W134,Totals!$AX$3:$AY$102,2,FALSE))","v":0},{"$f":"IF(ISNA(RANK(U134,U$5:U$150)),\"\",RANK(U134,U$5:U$150))","v":30}]
[null,null,null,null,null,null,null,{"$f":"IF(ISNA(VLOOKUP(I135,Totals!$AX$3:$AY$102,2,FALSE)),\"\",VLOOKUP(I135,Totals!$AX$3:$AY$102,2,FALSE))","v":0},{"$f":"IF(G135=G134,I134,IF(ISNA(RANK(G135,G$5:G$150)),\"\",RANK(G135,G$5:G$150)))","v":30},null,null,null,null,null,{"$f":"IF(ISNA(VLOOKUP(P135,Totals!$AX$3:$AY$102,2,FALSE)),\"\",VLOOKUP(P135,Totals!$AX$3:$AY$102,2,FALSE))","v":0},30,null,null,null,null,null,{"$f":"IF(ISNA(VLOOKUP(W135,Totals!$AX$3:$AY$102,2,FALSE)),\"\",VLOOKUP(W135,Totals!$AX$3:$AY$102,2,FALSE))","v":0},30]
[null,null,null,null,null,null,null,{"$f":"IF(ISNA(VLOOKUP(I136,Totals!$AX$3:$AY$102,2,FALSE)),\"\",VLOOKUP(I136,Totals!$AX$3:$AY$102,2,FALSE))","v":0},30,null,null,null,null,null,{"$f":"IF(ISNA(VLOOKUP(P136,Totals!$AX$3:$AY$102,2,FALSE)),\"\",VLOOKUP(P136,Totals!$AX$3:$AY$102,2,FALSE))","v":0},30,null,null,null,null,null,{"$f":"IF(ISNA(VLOOKUP(W136,Totals!$AX$3:$AY$102,2,FALSE)),\"\",VLOOKUP(W136,Totals!$AX$3:$AY$102,2,FALSE))","v":0},30]
[null,null,null,null,null,null,null,{"$f":"IF(ISNA(VLOOKUP(I137,Totals!$AX$3:$AY$102,2,FALSE)),\"\",VLOOKUP(I137,Totals!$AX$3:$AY$102,2,FALSE))","v":0},30,null,null,null,null,null,{"$f":"IF(ISNA(VLOOKUP(P137,Totals!$AX$3:$AY$102,2,FALSE)),\"\",VLOOKUP(P137,Totals!$AX$3:$AY$102,2,FALSE))","v":0},30,null,null,null,null,null,{"$f":"IF(ISNA(VLOOKUP(W137,Totals!$AX$3:$AY$102,2,FALSE)),\"\",VLOOKUP(W137,Totals!$AX$3:$AY$102,2,FALSE))","v":0},30]
[null,null,null,null,null,null,null,{"$f":"IF(ISNA(VLOOKUP(I138,Totals!$AX$3:$AY$102,2,FALSE)),\"\",VLOOKUP(I138,Totals!$AX$3:$AY$102,2,FALSE))","v":0},30,null,null,null,null,null,{"$f":"IF(ISNA(VLOOKUP(P138,Totals!$AX$3:$AY$102,2,FALSE)),\"\",VLOOKUP(P138,Totals!$AX$3:$AY$102,2,FALSE))","v":0},30,null,null,null,null,null,{"$f":"IF(ISNA(VLOOKUP(W138,Totals!$AX$3:$AY$102,2,FALSE)),\"\",VLOOKUP(W138,Totals!$AX$3:$AY$102,2,FALSE))","v":0},30]
[null,null,null,null,null,null,null,{"$f":"IF(ISNA(VLOOKUP(I139,Totals!$AX$3:$AY$102,2,FALSE)),\"\",VLOOKUP(I139,Totals!$AX$3:$AY$102,2,FALSE))","v":0},30,null,null,null,null,null,{"$f":"IF(ISNA(VLOOKUP(P139,Totals!$AX$3:$AY$102,2,FALSE)),\"\",VLOOKUP(P139,Totals!$AX$3:$AY$102,2,FALSE))","v":0},30,null,null,null,null,null,{"$f":"IF(ISNA(VLOOKUP(W139,Totals!$AX$3:$AY$102,2,FALSE)),\"\",VLOOKUP(W139,Totals!$AX$3:$AY$102,2,FALSE))","v":0},30]
[null,null,null,null,null,null,null,{"$f":"IF(ISNA(VLOOKUP(I140,Totals!$AX$3:$AY$102,2,FALSE)),\"\",VLOOKUP(I140,Totals!$AX$3:$AY$102,2,FALSE))","v":0},30,null,null,null,null,null,{"$f":"IF(ISNA(VLOOKUP(P140,Totals!$AX$3:$AY$102,2,FALSE)),\"\",VLOOKUP(P140,Totals!$AX$3:$AY$102,2,FALSE))","v":0},30,null,null,null,null,null,{"$f":"IF(ISNA(VLOOKUP(W140,Totals!$AX$3:$AY$102,2,FALSE)),\"\",VLOOKUP(W140,Totals!$AX$3:$AY$102,2,FALSE))","v":0},30]
[null,null,null,null,null,null,null,{"$f":"IF(ISNA(VLOOKUP(I141,Totals!$AX$3:$AY$102,2,FALSE)),\"\",VLOOKUP(I141,Totals!$AX$3:$AY$102,2,FALSE))","v":0},30,null,null,null,null,null,{"$f":"IF(ISNA(VLOOKUP(P141,Totals!$AX$3:$AY$102,2,FALSE)),\"\",VLOOKUP(P141,Totals!$AX$3:$AY$102,2,FALSE))","v":0},30,null,null,null,null,null,{"$f":"IF(ISNA(VLOOKUP(W141,Totals!$AX$3:$AY$102,2,FALSE)),\"\",VLOOKUP(W141,Totals!$AX$3:$AY$102,2,FALSE))","v":0},30]
[null,null,null,null,null,null,null,{"$f":"IF(ISNA(VLOOKUP(I142,Totals!$AX$3:$AY$102,2,FALSE)),\"\",VLOOKUP(I142,Totals!$AX$3:$AY$102,2,FALSE))","v":0},30,null,null,null,null,null,{"$f":"IF(ISNA(VLOOKUP(P142,Totals!$AX$3:$AY$102,2,FALSE)),\"\",VLOOKUP(P142,Totals!$AX$3:$AY$102,2,FALSE))","v":0},30,null,null,null,null,null,{"$f":"IF(ISNA(VLOOKUP(W142,Totals!$AX$3:$AY$102,2,FALSE)),\"\",VLOOKUP(W142,Totals!$AX$3:$AY$102,2,FALSE))","v":0},30]
[null,null,null,null,null,null,null,{"$f":"IF(ISNA(VLOOKUP(I143,Totals!$AX$3:$AY$102,2,FALSE)),\"\",VLOOKUP(I143,Totals!$AX$3:$AY$102,2,FALSE))","v":0},30,null,null,null,null,null,{"$f":"IF(ISNA(VLOOKUP(P143,Totals!$AX$3:$AY$102,2,FALSE)),\"\",VLOOKUP(P143,Totals!$AX$3:$AY$102,2,FALSE))","v":0},30,null,null,null,null,null,{"$f":"IF(ISNA(VLOOKUP(W143,Totals!$AX$3:$AY$102,2,FALSE)),\"\",VLOOKUP(W143,Totals!$AX$3:$AY$102,2,FALSE))","v":0},30]
[null,null,null,null,null,null,null,{"$f":"IF(ISNA(VLOOKUP(I144,Totals!$AX$3:$AY$102,2,FALSE)),\"\",VLOOKUP(I144,Totals!$AX$3:$AY$102,2,FALSE))","v":0},30,null,null,null,null,null,{"$f":"IF(ISNA(VLOOKUP(P144,Totals!$AX$3:$AY$102,2,FALSE)),\"\",VLOOKUP(P144,Totals!$AX$3:$AY$102,2,FALSE))","v":0},30,null,null,null,null,null,{"$f":"IF(ISNA(VLOOKUP(W144,Totals!$AX$3:$AY$102,2,FALSE)),\"\",VLOOKUP(W144,Totals!$AX$3:$AY$102,2,FALSE))","v":0},30]
[null,null,null,null,null,null,null,{"$f":"IF(ISNA(VLOOKUP(I145,Totals!$AX$3:$AY$102,2,FALSE)),\"\",VLOOKUP(I145,Totals!$AX$3:$AY$102,2,FALSE))","v":0},30,null,null,null,null,null,{"$f":"IF(ISNA(VLOOKUP(P145,Totals!$AX$3:$AY$102,2,FALSE)),\"\",VLOOKUP(P145,Totals!$AX$3:$AY$102,2,FALSE))","v":0},30,null,null,null,null,null,{"$f":"IF(ISNA(VLOOKUP(W145,Totals!$AX$3:$AY$102,2,FALSE)),\"\",VLOOKUP(W145,Totals!$AX$3:$AY$102,2,FALSE))","v":0},30]
[null,null,null,null,null,null,null,{"$f":"IF(ISNA(VLOOKUP(I146,Totals!$AX$3:$AY$102,2,FALSE)),\"\",VLOOKUP(I146,Totals!$AX$3:$AY$102,2,FALSE))","v":0},30,null,null,null,null,null,{"$f":"IF(ISNA(VLOOKUP(P146,Totals!$AX$3:$AY$102,2,FALSE)),\"\",VLOOKUP(P146,Totals!$AX$3:$AY$102,2,FALSE))","v":0},30,null,null,null,null,null,{"$f":"IF(ISNA(VLOOKUP(W146,Totals!$AX$3:$AY$102,2,FALSE)),\"\",VLOOKUP(W146,Totals!$AX$3:$AY$102,2,FALSE))","v":0},30]
[null,null,null,null,null,null,null,{"$f":"IF(ISNA(VLOOKUP(I147,Totals!$AX$3:$AY$102,2,FALSE)),\"\",VLOOKUP(I147,Totals!$AX$3:$AY$102,2,FALSE))","v":0},30,null,null,null,null,null,{"$f":"IF(ISNA(VLOOKUP(P147,Totals!$AX$3:$AY$102,2,FALSE)),\"\",VLOOKUP(P147,Totals!$AX$3:$AY$102,2,FALSE))","v":0},30,null,null,null,null,null,{"$f":"IF(ISNA(VLOOKUP(W147,Totals!$AX$3:$AY$102,2,FALSE)),\"\",VLOOKUP(W147,Totals!$AX$3:$AY$102,2,FALSE))","v":0},30]
[null,null,null,null,null,null,null,{"$f":"IF(ISNA(VLOOKUP(I148,Totals!$AX$3:$AY$102,2,FALSE)),\"\",VLOOKUP(I148,Totals!$AX$3:$AY$102,2,FALSE))","v":0},30,null,null,null,null,null,{"$f":"IF(ISNA(VLOOKUP(P148,Totals!$AX$3:$AY$102,2,FALSE)),\"\",VLOOKUP(P148,Totals!$AX$3:$AY$102,2,FALSE))","v":0},30,null,null,null,null,null,{"$f":"IF(ISNA(VLOOKUP(W148,Totals!$AX$3:$AY$102,2,FALSE)),\"\",VLOOKUP(W148,Totals!$AX$3:$AY$102,2,FALSE))","v":0},30]
[null,null,null,null,null,null,null,{"$f":"IF(ISNA(VLOOKUP(I149,Totals!$AX$3:$AY$102,2,FALSE)),\"\",VLOOKUP(I149,Totals!$AX$3:$AY$102,2,FALSE))","v":0},30,null,null,null,null,null,{"$f":"IF(ISNA(VLOOKUP(P149,Totals!$AX$3:$AY$102,2,FALSE)),\"\",VLOOKUP(P149,Totals!$AX$3:$AY$102,2,FALSE))","v":0},30,null,null,null,null,null,{"$f":"IF(ISNA(VLOOKUP(W149,Totals!$AX$3:$AY$102,2,FALSE)),\"\",VLOOKUP(W149,Totals!$AX$3:$AY$102,2,FALSE))","v":0},30]
[null,null,null,null,null,null,null,{"$f":"IF(ISNA(VLOOKUP(I150,Totals!$AX$3:$AY$102,2,FALSE)),\"\",VLOOKUP(I150,Totals!$AX$3:$AY$102,2,FALSE))","v":0},30,null,null,null,null,null,{"$f":"IF(ISNA(VLOOKUP(P150,Totals!$AX$3:$AY$102,2,FALSE)),\"\",VLOOKUP(P150,Totals!$AX$3:$AY$102,2,FALSE))","v":0},30,null,null,null,null,null,{"$f":"IF(ISNA(VLOOKUP(W150,Totals!$AX$3:$AY$102,2,FALSE)),\"\",VLOOKUP(W150,Totals!$AX$3:$AY$102,2,FALSE))","v":0},30]