{"text_format":"1","workbook":"xlsx","n_sheets":10,"sheets":["Student Entry","Fig 1 Ballet Leg","Fig 2 Barracuda","Fig 3 Neptunus","Fig 4 Walkover","Totals","Draw","Schools","Official Draw","Meet Results"],"not_rendered":{"charts":0,"images":1,"macros":1,"external_links":1,"defined_names":4,"comments":0,"pivot_tables":3},"unopened":[],"bounds":{"document_bytes":16777216,"sheet_cells":100000,"rows_first":2000,"rows_last":500,"rows_between":2000,"halvings":0,"cell_chars":16384,"cell_head_chars":4096},"cells_cut":0,"cells_raw":0,"read":"whole","date_system":"1900"}

{"sheet":"Student Entry","index":0,"n_rows":42,"n_cols":3,"rows_kept":42,"cut":false,"hidden":false,"merged":[[0,0,0,2]]}
["Student Entry"]
["School # 1 Name:","School # 2 Name:","School # 3 Name:"]
["Osseo-Maple Grove","Forest Lake"]
["Student Names:","Student Names:","Student Names:"]
["Emily Barr","Ella Anderson"]
["Heather Breidenbach","Malissa Ball"]
["Holly Drazenovich","Jane Burk"]
["Anna Ganser","Annie Larson"]
["Danielle Hawes","Cora Martinez"]
["Elisabeth Heitzig","Bridget Olson"]
["Caroline LaBord","Lydia Bergeron"]
["Hannah Littel","Lindsey Biebl"]
["Rachel Knox","Leigh Boettner Johnson"]
["Gabriela Marick","Elizabeth Campbell"]
["Elizabeth McBride","Tessa Crohn"]
["Kelly McNamee","Alle Hale"]
["Katherine Olsen","Lydia Hansen"]
["Jessica Ruohoniemi","Mia Janisch"]
["Abigail Tollas","Naomi Krueger"]
["Marie Vanderwarn","Alise Ostercamp"]
["Elena Vrba","Bridget Beynon"]
[null,"Brecken Carr"]
[null,"Megan Ihfe"]
[null,"Sophie Jarosz"]
[null,"Kenzie Klein"]
[null,"LaCresia Meyer"]
[null,"Fallon Olson"]
[null,"Amanda Pothen"]
[null,"Anna Stockinger"]
[null,"Moriah Ulbricht"]
[null,"Lacey Wedell"]
[null,"Sierra Nutter"]
[null,"Emily Ostercamp"]
[null,"Megan Palmer"]
[null,"Michelle Perkins"]
[null,"Mika Peterson"]
[null,"Dani Sardeson"]
[null,"Paige Thurnbeck"]
[null,"Elizabeth Blount"]
[null,"Andrea Dunrud"]
[null,"Jessica Hentges"]
[null,"Emma Stockinger"]

{"sheet":"Fig 1 Ballet Leg","index":1,"n_rows":150,"n_cols":11,"rows_kept":150,"cut":false,"hidden":false,"merged":[]}
[null,"Figure #1:","101 R/L Ballet Leg, single, *right or *left"]
["#","Degree of Difficulty","Judge 1","Judge 2","Judge 3","Judge 4","Judge 5","Score","Penalty"]
[{"$f":"IF([1]Draw!E2=0,\"\",[1]Draw!E2)","v":1},1.6,57,56,54,null,null,{"$f":"IF(B3=\"\",\"\",IF(K3=5,(SUM(C3:G3)-MAX(C3:G3)-MIN(C3:G3))/3,IF(K3=4,(SUM(C3:G3)-MAX(C3:G3))/3,SUM(C3:G3)/3))*B3/7.6)","v":11.719298245614036},null,null,{"$f":"COUNT(C3:G3)","v":3}]
[{"$f":"IF([1]Draw!E3=0,\"\",[1]Draw!E3)","v":2},{"$f":"IF(A4=\"\",\"\",B$3)","v":1.6},57,58,53,null,null,{"$f":"IF(B4=\"\",\"\",IF(K4=5,(SUM(C4:G4)-MAX(C4:G4)-MIN(C4:G4))/3,IF(K4=4,(SUM(C4:G4)-MAX(C4:G4))/3,SUM(C4:G4)/3))*B4/7.6)","v":11.789473684210527},null,null,{"$f":"COUNT(C4:G4)","v":3}]
[{"$f":"IF([1]Draw!E4=0,\"\",[1]Draw!E4)","v":3},1.6,54,52,53,null,null,11.157894736842108,null,null,3]
[4,{"$f":"IF(A6=\"\",\"\",B$3)","v":1.6},55,55,58,null,null,{"$f":"IF(B6=\"\",\"\",IF(K6=5,(SUM(C6:G6)-MAX(C6:G6)-MIN(C6:G6))/3,IF(K6=4,(SUM(C6:G6)-MAX(C6:G6))/3,SUM(C6:G6)/3))*B6/7.6)","v":11.789473684210527},null,null,3]
[5,1.6,58,59,55,null,null,12.070175438596493,null,null,3]
[6,{"$f":"IF(A8=\"\",\"\",B$3)","v":1.6},53,57,55,null,null,{"$f":"IF(B8=\"\",\"\",IF(K8=5,(SUM(C8:G8)-MAX(C8:G8)-MIN(C8:G8))/3,IF(K8=4,(SUM(C8:G8)-MAX(C8:G8))/3,SUM(C8:G8)/3))*B8/7.6)","v":11.578947368421053},null,null,3]
[7,1.6,54,54,52,null,null,11.228070175438598,null,null,3]
[8,{"$f":"IF(A10=\"\",\"\",B$3)","v":1.6},56,55,55,null,null,{"$f":"IF(B10=\"\",\"\",IF(K10=5,(SUM(C10:G10)-MAX(C10:G10)-MIN(C10:G10))/3,IF(K10=4,(SUM(C10:G10)-MAX(C10:G10))/3,SUM(C10:G10)/3))*B10/7.6)","v":11.649122807017546},null,null,3]
[9,1.6,51,50,51,null,null,10.666666666666666,null,null,3]
[10,{"$f":"IF(A12=\"\",\"\",B$3)","v":1.6},50,48,48,null,null,{"$f":"IF(B12=\"\",\"\",IF(K12=5,(SUM(C12:G12)-MAX(C12:G12)-MIN(C12:G12))/3,IF(K12=4,(SUM(C12:G12)-MAX(C12:G12))/3,SUM(C12:G12)/3))*B12/7.6)","v":10.245614035087721},null,null,3]
[11,1.6,57,54,58,null,null,11.859649122807019,null,null,3]
[12,{"$f":"IF(A14=\"\",\"\",B$3)","v":1.6},54,54,56,null,null,{"$f":"IF(B14=\"\",\"\",IF(K14=5,(SUM(C14:G14)-MAX(C14:G14)-MIN(C14:G14))/3,IF(K14=4,(SUM(C14:G14)-MAX(C14:G14))/3,SUM(C14:G14)/3))*B14/7.6)","v":11.508771929824562},null,null,3]
[13,1.6,60,58,57,null,null,12.280701754385968,null,null,3]
[14,{"$f":"IF(A16=\"\",\"\",B$3)","v":1.6},56,51,53,null,null,{"$f":"IF(B16=\"\",\"\",IF(K16=5,(SUM(C16:G16)-MAX(C16:G16)-MIN(C16:G16))/3,IF(K16=4,(SUM(C16:G16)-MAX(C16:G16))/3,SUM(C16:G16)/3))*B16/7.6)","v":11.228070175438598},null,null,3]
[15,1.6,50,50,52,null,null,10.666666666666666,null,null,3]
[16,{"$f":"IF(A18=\"\",\"\",B$3)","v":1.6},null,null,null,null,null,0,null,null,0]
[17,1.6,54,56,55,null,null,11.578947368421053,null,null,3]
[18,{"$f":"IF(A20=\"\",\"\",B$3)","v":1.6},57,57,54,null,null,11.789473684210527,null,null,3]
[19,1.6,54,52,54,null,null,11.228070175438598,null,null,3]
[20,{"$f":"IF(A22=\"\",\"\",B$3)","v":1.6},55,53,55,null,null,11.438596491228072,null,null,3]
[21,1.6,56,55,53,null,null,11.508771929824562,null,null,3]
[22,{"$f":"IF(A24=\"\",\"\",B$3)","v":1.6},48,47,48,null,null,10.035087719298247,null,null,3]
[23,1.6,63,62,60,null,null,12.982456140350878,null,null,3]
[24,{"$f":"IF(A26=\"\",\"\",B$3)","v":1.6},53,56,56,null,null,{"$f":"IF(B26=\"\",\"\",IF(K26=5,(SUM(C26:G26)-MAX(C26:G26)-MIN(C26:G26))/3,IF(K26=4,(SUM(C26:G26)-MAX(C26:G26))/3,SUM(C26:G26)/3))*B26/7.6)","v":11.578947368421053},null,null,3]
[25,1.6,49,49,46,null,null,10.105263157894738,null,null,3]
[26,{"$f":"IF(A28=\"\",\"\",B$3)","v":1.6},61,59,58,null,null,{"$f":"IF(B28=\"\",\"\",IF(K28=5,(SUM(C28:G28)-MAX(C28:G28)-MIN(C28:G28))/3,IF(K28=4,(SUM(C28:G28)-MAX(C28:G28))/3,SUM(C28:G28)/3))*B28/7.6)","v":12.49122807017544},null,null,3]
[27,1.6,56,56,57,null,null,11.859649122807019,null,null,3]
[28,{"$f":"IF(A30=\"\",\"\",B$3)","v":1.6},62,63,61,null,null,{"$f":"IF(B30=\"\",\"\",IF(K30=5,(SUM(C30:G30)-MAX(C30:G30)-MIN(C30:G30))/3,IF(K30=4,(SUM(C30:G30)-MAX(C30:G30))/3,SUM(C30:G30)/3))*B30/7.6)","v":13.05263157894737},null,null,3]
[29,1.6,71,68,65,null,null,14.315789473684212,null,null,3]
[30,{"$f":"IF(A32=\"\",\"\",B$3)","v":1.6},57,54,56,null,null,{"$f":"IF(B32=\"\",\"\",IF(K32=5,(SUM(C32:G32)-MAX(C32:G32)-MIN(C32:G32))/3,IF(K32=4,(SUM(C32:G32)-MAX(C32:G32))/3,SUM(C32:G32)/3))*B32/7.6)","v":11.719298245614036},null,null,3]
[31,1.6,56,52,57,null,null,11.578947368421053,null,null,3]
[32,{"$f":"IF(A34=\"\",\"\",B$3)","v":1.6},64,60,61,null,null,{"$f":"IF(B34=\"\",\"\",IF(K34=5,(SUM(C34:G34)-MAX(C34:G34)-MIN(C34:G34))/3,IF(K34=4,(SUM(C34:G34)-MAX(C34:G34))/3,SUM(C34:G34)/3))*B34/7.6)","v":12.982456140350878},null,null,3]
[33,1.6,53,53,55,null,null,11.298245614035089,null,null,3]
[34,{"$f":"IF(A36=\"\",\"\",B$3)","v":1.6},54,51,52,null,null,{"$f":"IF(B36=\"\",\"\",IF(K36=5,(SUM(C36:G36)-MAX(C36:G36)-MIN(C36:G36))/3,IF(K36=4,(SUM(C36:G36)-MAX(C36:G36))/3,SUM(C36:G36)/3))*B36/7.6)","v":11.017543859649125},null,null,3]
[35,1.6,56,54,54,null,null,11.508771929824562,null,null,3]
[36,{"$f":"IF(A38=\"\",\"\",B$3)","v":1.6},53,55,54,null,null,{"$f":"IF(B38=\"\",\"\",IF(K38=5,(SUM(C38:G38)-MAX(C38:G38)-MIN(C38:G38))/3,IF(K38=4,(SUM(C38:G38)-MAX(C38:G38))/3,SUM(C38:G38)/3))*B38/7.6)","v":11.368421052631581},null,null,3]
[37,1.6,55,54,58,null,null,11.719298245614036,null,null,3]
[38,{"$f":"IF(A40=\"\",\"\",B$3)","v":1.6},53,50,51,null,null,{"$f":"IF(B40=\"\",\"\",IF(K40=5,(SUM(C40:G40)-MAX(C40:G40)-MIN(C40:G40))/3,IF(K40=4,(SUM(C40:G40)-MAX(C40:G40))/3,SUM(C40:G40)/3))*B40/7.6)","v":10.807017543859651},null,null,3]
[39,1.6,52,53,53,null,null,11.087719298245615,null,null,3]
[40,{"$f":"IF(A42=\"\",\"\",B$3)","v":1.6},67,57,55,null,null,{"$f":"IF(B42=\"\",\"\",IF(K42=5,(SUM(C42:G42)-MAX(C42:G42)-MIN(C42:G42))/3,IF(K42=4,(SUM(C42:G42)-MAX(C42:G42))/3,SUM(C42:G42)/3))*B42/7.6)","v":12.56140350877193},null,null,3]
[41,1.6,58,54,54,null,null,11.649122807017546,null,null,3]
[42,{"$f":"IF(A44=\"\",\"\",B$3)","v":1.6},55,52,53,null,null,{"$f":"IF(B44=\"\",\"\",IF(K44=5,(SUM(C44:G44)-MAX(C44:G44)-MIN(C44:G44))/3,IF(K44=4,(SUM(C44:G44)-MAX(C44:G44))/3,SUM(C44:G44)/3))*B44/7.6)","v":11.228070175438598},null,null,3]
[43,1.6,55,53,53,null,null,11.298245614035089,null,null,3]
[44,{"$f":"IF(A46=\"\",\"\",B$3)","v":1.6},60,62,61,null,null,{"$f":"IF(B46=\"\",\"\",IF(K46=5,(SUM(C46:G46)-MAX(C46:G46)-MIN(C46:G46))/3,IF(K46=4,(SUM(C46:G46)-MAX(C46:G46))/3,SUM(C46:G46)/3))*B46/7.6)","v":12.842105263157896},null,null,3]
[45,1.6,50,50,50,null,null,10.526315789473685,null,null,3]
[46,{"$f":"IF(A48=\"\",\"\",B$3)","v":1.6},51,51,51,null,null,{"$f":"IF(B48=\"\",\"\",IF(K48=5,(SUM(C48:G48)-MAX(C48:G48)-MIN(C48:G48))/3,IF(K48=4,(SUM(C48:G48)-MAX(C48:G48))/3,SUM(C48:G48)/3))*B48/7.6)","v":10.736842105263159},null,null,3]
[47,1.6,47,48,47,null,null,9.9649122807017552,null,null,3]
[48,{"$f":"IF(A50=\"\",\"\",B$3)","v":1.6},68,67,67,null,null,{"$f":"IF(B50=\"\",\"\",IF(K50=5,(SUM(C50:G50)-MAX(C50:G50)-MIN(C50:G50))/3,IF(K50=4,(SUM(C50:G50)-MAX(C50:G50))/3,SUM(C50:G50)/3))*B50/7.6)","v":14.17543859649123},null,null,3]
[49,1.6,54,56,52,null,null,11.368421052631581,null,null,3]
[50,{"$f":"IF(A52=\"\",\"\",B$3)","v":1.6},57,57,53,null,null,{"$f":"IF(B52=\"\",\"\",IF(K52=5,(SUM(C52:G52)-MAX(C52:G52)-MIN(C52:G52))/3,IF(K52=4,(SUM(C52:G52)-MAX(C52:G52))/3,SUM(C52:G52)/3))*B52/7.6)","v":11.719298245614036},null,null,3]
[51,1.6,58,62,58,null,null,12.49122807017544,null,null,3]
[52,{"$f":"IF(A54=\"\",\"\",B$3)","v":1.6},52,52,49,null,null,{"$f":"IF(B54=\"\",\"\",IF(K54=5,(SUM(C54:G54)-MAX(C54:G54)-MIN(C54:G54))/3,IF(K54=4,(SUM(C54:G54)-MAX(C54:G54))/3,SUM(C54:G54)/3))*B54/7.6)","v":10.736842105263159},null,null,3]
[53,1.6,58,60,60,null,null,12.49122807017544,null,null,3]
[54,{"$f":"IF(A56=\"\",\"\",B$3)","v":1.6},66,62,61,null,null,{"$f":"IF(B56=\"\",\"\",IF(K56=5,(SUM(C56:G56)-MAX(C56:G56)-MIN(C56:G56))/3,IF(K56=4,(SUM(C56:G56)-MAX(C56:G56))/3,SUM(C56:G56)/3))*B56/7.6)","v":13.263157894736844},null,null,3]
[55,1.6,48,53,51,null,null,10.666666666666666,null,null,3]
[{"$f":"IF(Draw!E57=0,\"\",Draw!E57)","v":""},{"$f":"IF(A58=\"\",\"\",B$3)","v":""},null,null,null,null,null,{"$f":"IF(B58=\"\",\"\",IF(K58=5,(SUM(C58:G58)-MAX(C58:G58)-MIN(C58:G58))/3,IF(K58=4,(SUM(C58:G58)-MAX(C58:G58))/3,SUM(C58:G58)/3))*B58/7.6)","v":""},null,null,0]
[null,null,null,null,null,null,null,null,null,null,0]
[{"$f":"IF(Draw!E59=0,\"\",Draw!E59)","v":""},{"$f":"IF(A60=\"\",\"\",B$3)","v":""},null,null,null,null,null,{"$f":"IF(B60=\"\",\"\",IF(K60=5,(SUM(C60:G60)-MAX(C60:G60)-MIN(C60:G60))/3,IF(K60=4,(SUM(C60:G60)-MAX(C60:G60))/3,SUM(C60:G60)/3))*B60/7.6)","v":""},null,null,0]
[null,null,null,null,null,null,null,null,null,null,0]
[{"$f":"IF(Draw!E61=0,\"\",Draw!E61)","v":""},{"$f":"IF(A62=\"\",\"\",B$3)","v":""},null,null,null,null,null,{"$f":"IF(B62=\"\",\"\",IF(K62=5,(SUM(C62:G62)-MAX(C62:G62)-MIN(C62:G62))/3,IF(K62=4,(SUM(C62:G62)-MAX(C62:G62))/3,SUM(C62:G62)/3))*B62/7.6)","v":""},null,null,0]
[null,null,null,null,null,null,null,null,null,null,0]
[{"$f":"IF(Draw!E63=0,\"\",Draw!E63)","v":""},{"$f":"IF(A64=\"\",\"\",B$3)","v":""},null,null,null,null,null,{"$f":"IF(B64=\"\",\"\",IF(K64=5,(SUM(C64:G64)-MAX(C64:G64)-MIN(C64:G64))/3,IF(K64=4,(SUM(C64:G64)-MAX(C64:G64))/3,SUM(C64:G64)/3))*B64/7.6)","v":""},null,null,0]
[null,null,null,null,null,null,null,null,null,null,0]
[{"$f":"IF(Draw!E65=0,\"\",Draw!E65)","v":""},{"$f":"IF(A66=\"\",\"\",B$3)","v":""},null,null,null,null,null,{"$f":"IF(B66=\"\",\"\",IF(K66=5,(SUM(C66:G66)-MAX(C66:G66)-MIN(C66:G66))/3,IF(K66=4,(SUM(C66:G66)-MAX(C66:G66))/3,SUM(C66:G66)/3))*B66/7.6)","v":""},null,null,0]
[null,null,null,null,null,null,null,null,null,null,0]
[{"$f":"IF(Draw!E67=0,\"\",Draw!E67)","v":""},{"$f":"IF(A68=\"\",\"\",B$3)","v":""},null,null,null,null,null,{"$f":"IF(B68=\"\",\"\",IF(K68=5,(SUM(C68:G68)-MAX(C68:G68)-MIN(C68:G68))/3,IF(K68=4,(SUM(C68:G68)-MAX(C68:G68))/3,SUM(C68:G68)/3))*B68/7.6)","v":""},null,null,{"$f":"COUNT(C68:G68)","v":0}]
[null,null,null,null,null,null,null,null,null,null,0]
[{"$f":"IF(Draw!E69=0,\"\",Draw!E69)","v":""},{"$f":"IF(A70=\"\",\"\",B$3)","v":""},null,null,null,null,null,{"$f":"IF(B70=\"\",\"\",IF(K70=5,(SUM(C70:G70)-MAX(C70:G70)-MIN(C70:G70))/3,IF(K70=4,(SUM(C70:G70)-MAX(C70:G70))/3,SUM(C70:G70)/3))*B70/7.6)","v":""},null,null,0]
[null,null,null,null,null,null,null,null,null,null,0]
[{"$f":"IF(Draw!E71=0,\"\",Draw!E71)","v":""},{"$f":"IF(A72=\"\",\"\",B$3)","v":""},null,null,null,null,null,{"$f":"IF(B72=\"\",\"\",IF(K72=5,(SUM(C72:G72)-MAX(C72:G72)-MIN(C72:G72))/3,IF(K72=4,(SUM(C72:G72)-MAX(C72:G72))/3,SUM(C72:G72)/3))*B72/7.6)","v":""},null,null,0]
[null,null,null,null,null,null,null,null,null,null,0]
[{"$f":"IF(Draw!E73=0,\"\",Draw!E73)","v":""},{"$f":"IF(A74=\"\",\"\",B$3)","v":""},null,null,null,null,null,{"$f":"IF(B74=\"\",\"\",IF(K74=5,(SUM(C74:G74)-MAX(C74:G74)-MIN(C74:G74))/3,IF(K74=4,(SUM(C74:G74)-MAX(C74:G74))/3,SUM(C74:G74)/3))*B74/7.6)","v":""},null,null,0]
[null,null,null,null,null,null,null,null,null,null,0]
[{"$f":"IF(Draw!E75=0,\"\",Draw!E75)","v":""},{"$f":"IF(A76=\"\",\"\",B$3)","v":""},null,null,null,null,null,{"$f":"IF(B76=\"\",\"\",IF(K76=5,(SUM(C76:G76)-MAX(C76:G76)-MIN(C76:G76))/3,IF(K76=4,(SUM(C76:G76)-MAX(C76:G76))/3,SUM(C76:G76)/3))*B76/7.6)","v":""},null,null,0]
[null,null,null,null,null,null,null,null,null,null,0]
[{"$f":"IF(Draw!E77=0,\"\",Draw!E77)","v":""},{"$f":"IF(A78=\"\",\"\",B$3)","v":""},null,null,null,null,null,{"$f":"IF(B78=\"\",\"\",IF(K78=5,(SUM(C78:G78)-MAX(C78:G78)-MIN(C78:G78))/3,IF(K78=4,(SUM(C78:G78)-MAX(C78:G78))/3,SUM(C78:G78)/3))*B78/7.6)","v":""},null,null,0]
[null,null,null,null,null,null,null,null,null,null,0]
[{"$f":"IF(Draw!E79=0,\"\",Draw!E79)","v":""},{"$f":"IF(A80=\"\",\"\",B$3)","v":""},null,null,null,null,null,{"$f":"IF(B80=\"\",\"\",IF(K80=5,(SUM(C80:G80)-MAX(C80:G80)-MIN(C80:G80))/3,IF(K80=4,(SUM(C80:G80)-MAX(C80:G80))/3,SUM(C80:G80)/3))*B80/7.6)","v":""},null,null,0]
[null,null,null,null,null,null,null,null,null,null,0]
[{"$f":"IF(Draw!E81=0,\"\",Draw!E81)","v":""},{"$f":"IF(A82=\"\",\"\",B$3)","v":""},null,null,null,null,null,{"$f":"IF(B82=\"\",\"\",IF(K82=5,(SUM(C82:G82)-MAX(C82:G82)-MIN(C82:G82))/3,IF(K82=4,(SUM(C82:G82)-MAX(C82:G82))/3,SUM(C82:G82)/3))*B82/7.6)","v":""},null,null,0]
[null,null,null,null,null,null,null,null,null,null,0]
[{"$f":"IF(Draw!E83=0,\"\",Draw!E83)","v":""},{"$f":"IF(A84=\"\",\"\",B$3)","v":""},null,null,null,null,null,{"$f":"IF(B84=\"\",\"\",IF(K84=5,(SUM(C84:G84)-MAX(C84:G84)-MIN(C84:G84))/3,IF(K84=4,(SUM(C84:G84)-MAX(C84:G84))/3,SUM(C84:G84)/3))*B84/7.6)","v":""},null,null,0]
[null,null,null,null,null,null,null,null,null,null,0]
[{"$f":"IF(Draw!E85=0,\"\",Draw!E85)","v":""},{"$f":"IF(A86=\"\",\"\",B$3)","v":""},null,null,null,null,null,{"$f":"IF(B86=\"\",\"\",IF(K86=5,(SUM(C86:G86)-MAX(C86:G86)-MIN(C86:G86))/3,IF(K86=4,(SUM(C86:G86)-MAX(C86:G86))/3,SUM(C86:G86)/3))*B86/7.6)","v":""},null,null,0]
[null,null,null,null,null,null,null,null,null,null,0]
[{"$f":"IF(Draw!E87=0,\"\",Draw!E87)","v":""},{"$f":"IF(A88=\"\",\"\",B$3)","v":""},null,null,null,null,null,{"$f":"IF(B88=\"\",\"\",IF(K88=5,(SUM(C88:G88)-MAX(C88:G88)-MIN(C88:G88))/3,IF(K88=4,(SUM(C88:G88)-MAX(C88:G88))/3,SUM(C88:G88)/3))*B88/7.6)","v":""},null,null,0]
[null,null,null,null,null,null,null,null,null,null,0]
[{"$f":"IF(Draw!E89=0,\"\",Draw!E89)","v":""},{"$f":"IF(A90=\"\",\"\",B$3)","v":""},null,null,null,null,null,{"$f":"IF(B90=\"\",\"\",IF(K90=5,(SUM(C90:G90)-MAX(C90:G90)-MIN(C90:G90))/3,IF(K90=4,(SUM(C90:G90)-MAX(C90:G90))/3,SUM(C90:G90)/3))*B90/7.6)","v":""},null,null,0]
[null,null,null,null,null,null,null,null,null,null,0]
[{"$f":"IF(Draw!E91=0,\"\",Draw!E91)","v":""},{"$f":"IF(A92=\"\",\"\",B$3)","v":""},null,null,null,null,null,{"$f":"IF(B92=\"\",\"\",IF(K92=5,(SUM(C92:G92)-MAX(C92:G92)-MIN(C92:G92))/3,IF(K92=4,(SUM(C92:G92)-MAX(C92:G92))/3,SUM(C92:G92)/3))*B92/7.6)","v":""},null,null,0]
[null,null,null,null,null,null,null,null,null,null,0]
[{"$f":"IF(Draw!E93=0,\"\",Draw!E93)","v":""},{"$f":"IF(A94=\"\",\"\",B$3)","v":""},null,null,null,null,null,{"$f":"IF(B94=\"\",\"\",IF(K94=5,(SUM(C94:G94)-MAX(C94:G94)-MIN(C94:G94))/3,IF(K94=4,(SUM(C94:G94)-MAX(C94:G94))/3,SUM(C94:G94)/3))*B94/7.6)","v":""},null,null,0]
[null,null,null,null,null,null,null,null,null,null,0]
[{"$f":"IF(Draw!E95=0,\"\",Draw!E95)","v":""},{"$f":"IF(A96=\"\",\"\",B$3)","v":""},null,null,null,null,null,{"$f":"IF(B96=\"\",\"\",IF(K96=5,(SUM(C96:G96)-MAX(C96:G96)-MIN(C96:G96))/3,IF(K96=4,(SUM(C96:G96)-MAX(C96:G96))/3,SUM(C96:G96)/3))*B96/7.6)","v":""},null,null,0]
[null,null,null,null,null,null,null,null,null,null,0]
[{"$f":"IF(Draw!E97=0,\"\",Draw!E97)","v":""},{"$f":"IF(A98=\"\",\"\",B$3)","v":""},null,null,null,null,null,{"$f":"IF(B98=\"\",\"\",IF(K98=5,(SUM(C98:G98)-MAX(C98:G98)-MIN(C98:G98))/3,IF(K98=4,(SUM(C98:G98)-MAX(C98:G98))/3,SUM(C98:G98)/3))*B98/7.6)","v":""},null,null,0]
[null,null,null,null,null,null,null,null,null,null,0]
[{"$f":"IF(Draw!E99=0,\"\",Draw!E99)","v":""},{"$f":"IF(A100=\"\",\"\",B$3)","v":""},null,null,null,null,null,{"$f":"IF(B100=\"\",\"\",IF(K100=5,(SUM(C100:G100)-MAX(C100:G100)-MIN(C100:G100))/3,IF(K100=4,(SUM(C100:G100)-MAX(C100:G100))/3,SUM(C100:G100)/3))*B100/7.6)","v":""},null,null,0]
[null,null,null,null,null,null,null,null,null,null,0]
[{"$f":"IF(Draw!E101=0,\"\",Draw!E101)","v":""},{"$f":"IF(A102=\"\",\"\",B$3)","v":""},null,null,null,null,null,{"$f":"IF(B102=\"\",\"\",IF(K102=5,(SUM(C102:G102)-MAX(C102:G102)-MIN(C102:G102))/3,IF(K102=4,(SUM(C102:G102)-MAX(C102:G102))/3,SUM(C102:G102)/3))*B102/7.6)","v":""},null,null,0]
[null,null,null,null,null,null,null,null,null,null,0]
[{"$f":"IF(Draw!E103=0,\"\",Draw!E103)","v":""},{"$f":"IF(A104=\"\",\"\",B$3)","v":""},null,null,null,null,null,{"$f":"IF(B104=\"\",\"\",IF(K104=5,(SUM(C104:G104)-MAX(C104:G104)-MIN(C104:G104))/3,IF(K104=4,(SUM(C104:G104)-MAX(C104:G104))/3,SUM(C104:G104)/3))*B104/7.6)","v":""},null,null,0]
[null,null,null,null,null,null,null,null,null,null,0]
[{"$f":"IF(Draw!E105=0,\"\",Draw!E105)","v":""},{"$f":"IF(A106=\"\",\"\",B$3)","v":""},null,null,null,null,null,{"$f":"IF(B106=\"\",\"\",IF(K106=5,(SUM(C106:G106)-MAX(C106:G106)-MIN(C106:G106))/3,IF(K106=4,(SUM(C106:G106)-MAX(C106:G106))/3,SUM(C106:G106)/3))*B106/7.6)","v":""},null,null,0]
[null,null,null,null,null,null,null,null,null,null,0]
[{"$f":"IF(Draw!E107=0,\"\",Draw!E107)","v":""},{"$f":"IF(A108=\"\",\"\",B$3)","v":""},null,null,null,null,null,{"$f":"IF(B108=\"\",\"\",IF(K108=5,(SUM(C108:G108)-MAX(C108:G108)-MIN(C108:G108))/3,IF(K108=4,(SUM(C108:G108)-MAX(C108:G108))/3,SUM(C108:G108)/3))*B108/7.6)","v":""},null,null,0]
[null,null,null,null,null,null,null,null,null,null,0]
[{"$f":"IF(Draw!E109=0,\"\",Draw!E109)","v":""},{"$f":"IF(A110=\"\",\"\",B$3)","v":""},null,null,null,null,null,{"$f":"IF(B110=\"\",\"\",IF(K110=5,(SUM(C110:G110)-MAX(C110:G110)-MIN(C110:G110))/3,IF(K110=4,(SUM(C110:G110)-MAX(C110:G110))/3,SUM(C110:G110)/3))*B110/7.6)","v":""},null,null,0]
[null,null,null,null,null,null,null,null,null,null,0]
[{"$f":"IF(Draw!E111=0,\"\",Draw!E111)","v":""},{"$f":"IF(A112=\"\",\"\",B$3)","v":""},null,null,null,null,null,{"$f":"IF(B112=\"\",\"\",IF(K112=5,(SUM(C112:G112)-MAX(C112:G112)-MIN(C112:G112))/3,IF(K112=4,(SUM(C112:G112)-MAX(C112:G112))/3,SUM(C112:G112)/3))*B112/7.6)","v":""},null,null,0]
[null,null,null,null,null,null,null,null,null,null,0]
[{"$f":"IF(Draw!E113=0,\"\",Draw!E113)","v":""},{"$f":"IF(A114=\"\",\"\",B$3)","v":""},null,null,null,null,null,{"$f":"IF(B114=\"\",\"\",IF(K114=5,(SUM(C114:G114)-MAX(C114:G114)-MIN(C114:G114))/3,IF(K114=4,(SUM(C114:G114)-MAX(C114:G114))/3,SUM(C114:G114)/3))*B114/7.6)","v":""},null,null,0]
[null,null,null,null,null,null,null,null,null,null,0]
[{"$f":"IF(Draw!E115=0,\"\",Draw!E115)","v":""},{"$f":"IF(A116=\"\",\"\",B$3)","v":""},null,null,null,null,null,{"$f":"IF(B116=\"\",\"\",IF(K116=5,(SUM(C116:G116)-MAX(C116:G116)-MIN(C116:G116))/3,IF(K116=4,(SUM(C116:G116)-MAX(C116:G116))/3,SUM(C116:G116)/3))*B116/7.6)","v":""},null,null,0]
[null,null,null,null,null,null,null,null,null,null,0]
[{"$f":"IF(Draw!E117=0,\"\",Draw!E117)","v":""},{"$f":"IF(A118=\"\",\"\",B$3)","v":""},null,null,null,null,null,{"$f":"IF(B118=\"\",\"\",IF(K118=5,(SUM(C118:G118)-MAX(C118:G118)-MIN(C118:G118))/3,IF(K118=4,(SUM(C118:G118)-MAX(C118:G118))/3,SUM(C118:G118)/3))*B118/7.6)","v":""},null,null,0]
[null,null,null,null,null,null,null,null,null,null,0]
[{"$f":"IF(Draw!E119=0,\"\",Draw!E119)","v":""},{"$f":"IF(A120=\"\",\"\",B$3)","v":""},null,null,null,null,null,{"$f":"IF(B120=\"\",\"\",IF(K120=5,(SUM(C120:G120)-MAX(C120:G120)-MIN(C120:G120))/3,IF(K120=4,(SUM(C120:G120)-MAX(C120:G120))/3,SUM(C120:G120)/3))*B120/7.6)","v":""},null,null,0]
[null,null,null,null,null,null,null,null,null,null,0]
[{"$f":"IF(Draw!E121=0,\"\",Draw!E121)","v":""},{"$f":"IF(A122=\"\",\"\",B$3)","v":""},null,null,null,null,null,{"$f":"IF(B122=\"\",\"\",IF(K122=5,(SUM(C122:G122)-MAX(C122:G122)-MIN(C122:G122))/3,IF(K122=4,(SUM(C122:G122)-MAX(C122:G122))/3,SUM(C122:G122)/3))*B122/7.6)","v":""},null,null,0]
[null,null,null,null,null,null,null,null,null,null,0]
[{"$f":"IF(Draw!E123=0,\"\",Draw!E123)","v":""},{"$f":"IF(A124=\"\",\"\",B$3)","v":""},null,null,null,null,null,{"$f":"IF(B124=\"\",\"\",IF(K124=5,(SUM(C124:G124)-MAX(C124:G124)-MIN(C124:G124))/3,IF(K124=4,(SUM(C124:G124)-MAX(C124:G124))/3,SUM(C124:G124)/3))*B124/7.6)","v":""},null,null,0]
[null,null,null,null,null,null,null,null,null,null,0]
[{"$f":"IF(Draw!E125=0,\"\",Draw!E125)","v":""},{"$f":"IF(A126=\"\",\"\",B$3)","v":""},null,null,null,null,null,{"$f":"IF(B126=\"\",\"\",IF(K126=5,(SUM(C126:G126)-MAX(C126:G126)-MIN(C126:G126))/3,IF(K126=4,(SUM(C126:G126)-MAX(C126:G126))/3,SUM(C126:G126)/3))*B126/7.6)","v":""},null,null,0]
[null,null,null,null,null,null,null,null,null,null,0]
[{"$f":"IF(Draw!E127=0,\"\",Draw!E127)","v":""},{"$f":"IF(A128=\"\",\"\",B$3)","v":""},null,null,null,null,null,{"$f":"IF(B128=\"\",\"\",IF(K128=5,(SUM(C128:G128)-MAX(C128:G128)-MIN(C128:G128))/3,IF(K128=4,(SUM(C128:G128)-MAX(C128:G128))/3,SUM(C128:G128)/3))*B128/7.6)","v":""},null,null,0]
[null,null,null,null,null,null,null,null,null,null,0]
[{"$f":"IF(Draw!E129=0,\"\",Draw!E129)","v":""},{"$f":"IF(A130=\"\",\"\",B$3)","v":""},null,null,null,null,null,{"$f":"IF(B130=\"\",\"\",IF(K130=5,(SUM(C130:G130)-MAX(C130:G130)-MIN(C130:G130))/3,IF(K130=4,(SUM(C130:G130)-MAX(C130:G130))/3,SUM(C130:G130)/3))*B130/7.6)","v":""},null,null,0]
[null,null,null,null,null,null,null,null,null,null,0]
[{"$f":"IF(Draw!E131=0,\"\",Draw!E131)","v":""},{"$f":"IF(A132=\"\",\"\",B$3)","v":""},null,null,null,null,null,{"$f":"IF(B132=\"\",\"\",IF(K132=5,(SUM(C132:G132)-MAX(C132:G132)-MIN(C132:G132))/3,IF(K132=4,(SUM(C132:G132)-MAX(C132:G132))/3,SUM(C132:G132)/3))*B132/7.6)","v":""},null,null,{"$f":"COUNT(C132:G132)","v":0}]
[null,null,null,null,null,null,null,null,null,null,0]
[{"$f":"IF(Draw!E133=0,\"\",Draw!E133)","v":""},{"$f":"IF(A134=\"\",\"\",B$3)","v":""},null,null,null,null,null,{"$f":"IF(B134=\"\",\"\",IF(K134=5,(SUM(C134:G134)-MAX(C134:G134)-MIN(C134:G134))/3,IF(K134=4,(SUM(C134:G134)-MAX(C134:G134))/3,SUM(C134:G134)/3))*B134/7.6)","v":""},null,null,0]
[null,null,null,null,null,null,null,null,null,null,0]
[{"$f":"IF(Draw!E135=0,\"\",Draw!E135)","v":""},{"$f":"IF(A136=\"\",\"\",B$3)","v":""},null,null,null,null,null,{"$f":"IF(B136=\"\",\"\",IF(K136=5,(SUM(C136:G136)-MAX(C136:G136)-MIN(C136:G136))/3,IF(K136=4,(SUM(C136:G136)-MAX(C136:G136))/3,SUM(C136:G136)/3))*B136/7.6)","v":""},null,null,0]
[null,null,null,null,null,null,null,null,null,null,0]
[{"$f":"IF(Draw!E137=0,\"\",Draw!E137)","v":""},{"$f":"IF(A138=\"\",\"\",B$3)","v":""},null,null,null,null,null,{"$f":"IF(B138=\"\",\"\",IF(K138=5,(SUM(C138:G138)-MAX(C138:G138)-MIN(C138:G138))/3,IF(K138=4,(SUM(C138:G138)-MAX(C138:G138))/3,SUM(C138:G138)/3))*B138/7.6)","v":""},null,null,0]
[null,null,null,null,null,null,null,null,null,null,0]
[{"$f":"IF(Draw!E139=0,\"\",Draw!E139)","v":""},{"$f":"IF(A140=\"\",\"\",B$3)","v":""},null,null,null,null,null,{"$f":"IF(B140=\"\",\"\",IF(K140=5,(SUM(C140:G140)-MAX(C140:G140)-MIN(C140:G140))/3,IF(K140=4,(SUM(C140:G140)-MAX(C140:G140))/3,SUM(C140:G140)/3))*B140/7.6)","v":""},null,null,0]
[null,null,null,null,null,null,null,null,null,null,0]
[{"$f":"IF(Draw!E141=0,\"\",Draw!E141)","v":""},{"$f":"IF(A142=\"\",\"\",B$3)","v":""},null,null,null,null,null,{"$f":"IF(B142=\"\",\"\",IF(K142=5,(SUM(C142:G142)-MAX(C142:G142)-MIN(C142:G142))/3,IF(K142=4,(SUM(C142:G142)-MAX(C142:G142))/3,SUM(C142:G142)/3))*B142/7.6)","v":""},null,null,0]
[null,null,null,null,null,null,null,null,null,null,0]
[{"$f":"IF(Draw!E143=0,\"\",Draw!E143)","v":""},{"$f":"IF(A144=\"\",\"\",B$3)","v":""},null,null,null,null,null,{"$f":"IF(B144=\"\",\"\",IF(K144=5,(SUM(C144:G144)-MAX(C144:G144)-MIN(C144:G144))/3,IF(K144=4,(SUM(C144:G144)-MAX(C144:G144))/3,SUM(C144:G144)/3))*B144/7.6)","v":""},null,null,0]
[null,null,null,null,null,null,null,null,null,null,0]
[{"$f":"IF(Draw!E145=0,\"\",Draw!E145)","v":""},{"$f":"IF(A146=\"\",\"\",B$3)","v":""},null,null,null,null,null,{"$f":"IF(B146=\"\",\"\",IF(K146=5,(SUM(C146:G146)-MAX(C146:G146)-MIN(C146:G146))/3,IF(K146=4,(SUM(C146:G146)-MAX(C146:G146))/3,SUM(C146:G146)/3))*B146/7.6)","v":""},null,null,0]
[null,null,null,null,null,null,null,null,null,null,0]
[{"$f":"IF(Draw!E147=0,\"\",Draw!E147)","v":""},{"$f":"IF(A148=\"\",\"\",B$3)","v":""},null,null,null,null,null,{"$f":"IF(B148=\"\",\"\",IF(K148=5,(SUM(C148:G148)-MAX(C148:G148)-MIN(C148:G148))/3,IF(K148=4,(SUM(C148:G148)-MAX(C148:G148))/3,SUM(C148:G148)/3))*B148/7.6)","v":""},null,null,0]
[null,null,null,null,null,null,null,null,null,null,0]
[{"$f":"IF(Draw!E149=0,\"\",Draw!E149)","v":""},{"$f":"IF(A150=\"\",\"\",B$3)","v":""},null,null,null,null,null,{"$f":"IF(B150=\"\",\"\",IF(K150=5,(SUM(C150:G150)-MAX(C150:G150)-MIN(C150:G150))/3,IF(K150=4,(SUM(C150:G150)-MAX(C150:G150))/3,SUM(C150:G150)/3))*B150/7.6)","v":""},null,null,0]

{"sheet":"Fig 2 Barracuda","index":2,"n_rows":150,"n_cols":11,"rows_kept":150,"cut":false,"hidden":false,"merged":[[0,2,0,6]]}
[null,"Figure #2:"," 301 Barracuda"]
["#","Degree of Difficulty","Judge 1","Judge 2","Judge 3","Judge 4","Judge 5","Score","Penalty"]
[1,2,60,61,60,null,null,{"$f":"IF(B3=\"\",\"\",IF(K3=5,(SUM(C3:G3)-MAX(C3:G3)-MIN(C3:G3))/3,IF(K3=4,(SUM(C3:G3)-MAX(C3:G3))/3,SUM(C3:G3)/3))*B3/7.6)","v":15.877192982456142},null,null,{"$f":"COUNT(C3:G3)","v":3}]
[2,{"$f":"IF(A4=\"\",\"\",B$3)","v":2},50,57,55,null,null,{"$f":"IF(B4=\"\",\"\",IF(K4=5,(SUM(C4:G4)-MAX(C4:G4)-MIN(C4:G4))/3,IF(K4=4,(SUM(C4:G4)-MAX(C4:G4))/3,SUM(C4:G4)/3))*B4/7.6)","v":14.210526315789474},null,null,{"$f":"COUNT(C4:G4)","v":3}]
[3,2,61,58,62,null,null,15.877192982456142,null,null,3]
[4,{"$f":"IF(A6=\"\",\"\",B$3)","v":2},57,60,54,null,null,{"$f":"IF(B6=\"\",\"\",IF(K6=5,(SUM(C6:G6)-MAX(C6:G6)-MIN(C6:G6))/3,IF(K6=4,(SUM(C6:G6)-MAX(C6:G6))/3,SUM(C6:G6)/3))*B6/7.6)","v":15},null,null,3]
[5,2,55,56,56,null,null,14.649122807017545,null,null,3]
[6,{"$f":"IF(A8=\"\",\"\",B$3)","v":2},53,54,54,null,null,{"$f":"IF(B8=\"\",\"\",IF(K8=5,(SUM(C8:G8)-MAX(C8:G8)-MIN(C8:G8))/3,IF(K8=4,(SUM(C8:G8)-MAX(C8:G8))/3,SUM(C8:G8)/3))*B8/7.6)","v":14.12280701754386},null,null,3]
[7,2,50,53,53,null,null,13.684210526315789,null,null,3]
[8,{"$f":"IF(A10=\"\",\"\",B$3)","v":2},56,55,55,null,null,{"$f":"IF(B10=\"\",\"\",IF(K10=5,(SUM(C10:G10)-MAX(C10:G10)-MIN(C10:G10))/3,IF(K10=4,(SUM(C10:G10)-MAX(C10:G10))/3,SUM(C10:G10)/3))*B10/7.6)","v":14.561403508771932},null,null,3]
[9,2,50,52,51,null,null,13.421052631578949,null,null,3]
[10,{"$f":"IF(A12=\"\",\"\",B$3)","v":2},50,50,49,null,null,{"$f":"IF(B12=\"\",\"\",IF(K12=5,(SUM(C12:G12)-MAX(C12:G12)-MIN(C12:G12))/3,IF(K12=4,(SUM(C12:G12)-MAX(C12:G12))/3,SUM(C12:G12)/3))*B12/7.6)","v":13.070175438596491},null,null,3]
[11,2,54,57,53,null,null,14.385964912280702,null,null,3]
[12,{"$f":"IF(A14=\"\",\"\",B$3)","v":2},57,58,57,null,null,{"$f":"IF(B14=\"\",\"\",IF(K14=5,(SUM(C14:G14)-MAX(C14:G14)-MIN(C14:G14))/3,IF(K14=4,(SUM(C14:G14)-MAX(C14:G14))/3,SUM(C14:G14)/3))*B14/7.6)","v":15.087719298245615},null,null,3]
[13,2,56,57,59,null,null,15.087719298245615,null,null,3]
[14,{"$f":"IF(A16=\"\",\"\",B$3)","v":2},57,60,58,null,null,{"$f":"IF(B16=\"\",\"\",IF(K16=5,(SUM(C16:G16)-MAX(C16:G16)-MIN(C16:G16))/3,IF(K16=4,(SUM(C16:G16)-MAX(C16:G16))/3,SUM(C16:G16)/3))*B16/7.6)","v":15.350877192982457},null,null,3]
[15,2,53,54,52,null,null,13.947368421052632,null,null,3]
[16,{"$f":"IF(A18=\"\",\"\",B$3)","v":2},null,null,null,null,null,{"$f":"IF(B18=\"\",\"\",IF(K18=5,(SUM(C18:G18)-MAX(C18:G18)-MIN(C18:G18))/3,IF(K18=4,(SUM(C18:G18)-MAX(C18:G18))/3,SUM(C18:G18)/3))*B18/7.6)","v":0},null,null,0]
[17,2,58,58,60,null,null,15.43859649122807,null,null,3]
[18,{"$f":"IF(A20=\"\",\"\",B$3)","v":2},60,56,57,null,null,{"$f":"IF(B20=\"\",\"\",IF(K20=5,(SUM(C20:G20)-MAX(C20:G20)-MIN(C20:G20))/3,IF(K20=4,(SUM(C20:G20)-MAX(C20:G20))/3,SUM(C20:G20)/3))*B20/7.6)","v":15.175438596491228},null,null,3]
[19,2,56,57,56,null,null,14.824561403508774,null,null,3]
[20,{"$f":"IF(A22=\"\",\"\",B$3)","v":2},55,54,56,null,null,{"$f":"IF(B22=\"\",\"\",IF(K22=5,(SUM(C22:G22)-MAX(C22:G22)-MIN(C22:G22))/3,IF(K22=4,(SUM(C22:G22)-MAX(C22:G22))/3,SUM(C22:G22)/3))*B22/7.6)","v":14.473684210526317},null,null,3]
[21,2,57,60,58,null,null,15.350877192982457,null,null,3]
[22,{"$f":"IF(A24=\"\",\"\",B$3)","v":2},54,55,50,null,null,{"$f":"IF(B24=\"\",\"\",IF(K24=5,(SUM(C24:G24)-MAX(C24:G24)-MIN(C24:G24))/3,IF(K24=4,(SUM(C24:G24)-MAX(C24:G24))/3,SUM(C24:G24)/3))*B24/7.6)","v":13.947368421052632},null,null,3]
[23,2,65,62,62,null,null,16.578947368421055,null,null,3]
[24,{"$f":"IF(A26=\"\",\"\",B$3)","v":2},50,53,50,null,null,{"$f":"IF(B26=\"\",\"\",IF(K26=5,(SUM(C26:G26)-MAX(C26:G26)-MIN(C26:G26))/3,IF(K26=4,(SUM(C26:G26)-MAX(C26:G26))/3,SUM(C26:G26)/3))*B26/7.6)","v":13.421052631578949},null,null,3]
[25,2,47,48,48,null,null,12.543859649122806,null,null,3]
[26,{"$f":"IF(A28=\"\",\"\",B$3)","v":2},62,61,59,null,null,{"$f":"IF(B28=\"\",\"\",IF(K28=5,(SUM(C28:G28)-MAX(C28:G28)-MIN(C28:G28))/3,IF(K28=4,(SUM(C28:G28)-MAX(C28:G28))/3,SUM(C28:G28)/3))*B28/7.6)","v":15.964912280701755},null,null,3]
[27,2,63,62,58,null,null,16.05263157894737,null,null,3]
[28,{"$f":"IF(A30=\"\",\"\",B$3)","v":2},60,63,61,null,null,{"$f":"IF(B30=\"\",\"\",IF(K30=5,(SUM(C30:G30)-MAX(C30:G30)-MIN(C30:G30))/3,IF(K30=4,(SUM(C30:G30)-MAX(C30:G30))/3,SUM(C30:G30)/3))*B30/7.6)","v":16.140350877192983},null,null,3]
[29,2,70,68,65,null,null,17.807017543859651,null,null,3]
[30,{"$f":"IF(A32=\"\",\"\",B$3)","v":2},50,56,56,null,null,{"$f":"IF(B32=\"\",\"\",IF(K32=5,(SUM(C32:G32)-MAX(C32:G32)-MIN(C32:G32))/3,IF(K32=4,(SUM(C32:G32)-MAX(C32:G32))/3,SUM(C32:G32)/3))*B32/7.6)","v":14.210526315789474},null,null,3]
[31,2,49,57,54,null,null,14.035087719298247,null,null,3]
[32,2,63,65,61,null,null,{"$f":"IF(B34=\"\",\"\",IF(K34=5,(SUM(C34:G34)-MAX(C34:G34)-MIN(C34:G34))/3,IF(K34=4,(SUM(C34:G34)-MAX(C34:G34))/3,SUM(C34:G34)/3))*B34/7.6)","v":16.578947368421055},null,null,3]
[33,2,50,53,53,null,null,13.684210526315789,null,null,3]
[34,{"$f":"IF(A36=\"\",\"\",B$3)","v":2},52,52,51,null,null,{"$f":"IF(B36=\"\",\"\",IF(K36=5,(SUM(C36:G36)-MAX(C36:G36)-MIN(C36:G36))/3,IF(K36=4,(SUM(C36:G36)-MAX(C36:G36))/3,SUM(C36:G36)/3))*B36/7.6)","v":13.596491228070175},null,null,3]
[35,2,62,57,62,null,null,15.877192982456142,null,null,3]
[36,{"$f":"IF(A38=\"\",\"\",B$3)","v":2},52,52,55,null,null,{"$f":"IF(B38=\"\",\"\",IF(K38=5,(SUM(C38:G38)-MAX(C38:G38)-MIN(C38:G38))/3,IF(K38=4,(SUM(C38:G38)-MAX(C38:G38))/3,SUM(C38:G38)/3))*B38/7.6)","v":13.947368421052632},null,null,3]
[37,2,54,54,54,null,null,14.210526315789474,null,null,3]
[38,{"$f":"IF(A40=\"\",\"\",B$3)","v":2},53,53,53,null,null,{"$f":"IF(B40=\"\",\"\",IF(K40=5,(SUM(C40:G40)-MAX(C40:G40)-MIN(C40:G40))/3,IF(K40=4,(SUM(C40:G40)-MAX(C40:G40))/3,SUM(C40:G40)/3))*B40/7.6)","v":13.947368421052632},null,null,3]
[39,2,50,57,55,null,null,14.210526315789474,null,null,3]
[40,{"$f":"IF(A42=\"\",\"\",B$3)","v":2},60,60,58,null,null,{"$f":"IF(B42=\"\",\"\",IF(K42=5,(SUM(C42:G42)-MAX(C42:G42)-MIN(C42:G42))/3,IF(K42=4,(SUM(C42:G42)-MAX(C42:G42))/3,SUM(C42:G42)/3))*B42/7.6)","v":15.6140350877193},null,null,3]
[41,2,63,61,60,null,null,16.140350877192983,null,null,3]
[42,{"$f":"IF(A44=\"\",\"\",B$3)","v":2},59,58,60,null,null,{"$f":"IF(B44=\"\",\"\",IF(K44=5,(SUM(C44:G44)-MAX(C44:G44)-MIN(C44:G44))/3,IF(K44=4,(SUM(C44:G44)-MAX(C44:G44))/3,SUM(C44:G44)/3))*B44/7.6)","v":15.526315789473685},null,null,3]
[43,2,60,56,55,null,null,15,null,null,3]
[44,{"$f":"IF(A46=\"\",\"\",B$3)","v":2},60,62,57,null,null,{"$f":"IF(B46=\"\",\"\",IF(K46=5,(SUM(C46:G46)-MAX(C46:G46)-MIN(C46:G46))/3,IF(K46=4,(SUM(C46:G46)-MAX(C46:G46))/3,SUM(C46:G46)/3))*B46/7.6)","v":15.701754385964913},null,null,3]
[45,2,54,54,51,null,null,13.947368421052632,null,null,3]
[46,{"$f":"IF(A48=\"\",\"\",B$3)","v":2},52,50,50,null,null,{"$f":"IF(B48=\"\",\"\",IF(K48=5,(SUM(C48:G48)-MAX(C48:G48)-MIN(C48:G48))/3,IF(K48=4,(SUM(C48:G48)-MAX(C48:G48))/3,SUM(C48:G48)/3))*B48/7.6)","v":13.333333333333334},null,null,3]
[47,2,50,53,56,null,null,13.947368421052632,null,null,3]
[48,{"$f":"IF(A50=\"\",\"\",B$3)","v":2},70,67,62,null,null,{"$f":"IF(B50=\"\",\"\",IF(K50=5,(SUM(C50:G50)-MAX(C50:G50)-MIN(C50:G50))/3,IF(K50=4,(SUM(C50:G50)-MAX(C50:G50))/3,SUM(C50:G50)/3))*B50/7.6)","v":17.456140350877192},null,null,3]
[49,2,48,52,50,null,null,13.157894736842106,null,null,3]
[50,{"$f":"IF(A52=\"\",\"\",B$3)","v":2},57,56,59,null,null,{"$f":"IF(B52=\"\",\"\",IF(K52=5,(SUM(C52:G52)-MAX(C52:G52)-MIN(C52:G52))/3,IF(K52=4,(SUM(C52:G52)-MAX(C52:G52))/3,SUM(C52:G52)/3))*B52/7.6)","v":15.087719298245615},null,null,3]
[51,2,56,60,58,null,null,15.263157894736842,null,null,3]
[52,{"$f":"IF(A54=\"\",\"\",B$3)","v":2},47,54,49,null,null,{"$f":"IF(B54=\"\",\"\",IF(K54=5,(SUM(C54:G54)-MAX(C54:G54)-MIN(C54:G54))/3,IF(K54=4,(SUM(C54:G54)-MAX(C54:G54))/3,SUM(C54:G54)/3))*B54/7.6)","v":13.157894736842106},null,null,3]
[53,2,58,58,59,null,null,15.350877192982457,null,null,3]
[54,{"$f":"IF(A56=\"\",\"\",B$3)","v":2},68,64,61,null,null,{"$f":"IF(B56=\"\",\"\",IF(K56=5,(SUM(C56:G56)-MAX(C56:G56)-MIN(C56:G56))/3,IF(K56=4,(SUM(C56:G56)-MAX(C56:G56))/3,SUM(C56:G56)/3))*B56/7.6)","v":16.929824561403507},null,null,3]
[55,2,44,50,47,null,null,12.368421052631579,null,null,3]
[null,{"$f":"IF(A58=\"\",\"\",B$3)","v":""},null,null,null,null,null,{"$f":"IF(B58=\"\",\"\",IF(K58=5,(SUM(C58:G58)-MAX(C58:G58)-MIN(C58:G58))/3,IF(K58=4,(SUM(C58:G58)-MAX(C58:G58))/3,SUM(C58:G58)/3))*B58/7.6)","v":""},null,null,0]
[{"$f":"IF(Draw!E58=0,\"\",Draw!E58)","v":""},null,null,null,null,null,null,null,null,null,0]
[{"$f":"IF(Draw!E59=0,\"\",Draw!E59)","v":""},{"$f":"IF(A60=\"\",\"\",B$3)","v":""},null,null,null,null,null,{"$f":"IF(B60=\"\",\"\",IF(K60=5,(SUM(C60:G60)-MAX(C60:G60)-MIN(C60:G60))/3,IF(K60=4,(SUM(C60:G60)-MAX(C60:G60))/3,SUM(C60:G60)/3))*B60/7.6)","v":""},null,null,0]
[{"$f":"IF(Draw!E60=0,\"\",Draw!E60)","v":""},null,null,null,null,null,null,null,null,null,0]
[{"$f":"IF(Draw!E61=0,\"\",Draw!E61)","v":""},{"$f":"IF(A62=\"\",\"\",B$3)","v":""},null,null,null,null,null,{"$f":"IF(B62=\"\",\"\",IF(K62=5,(SUM(C62:G62)-MAX(C62:G62)-MIN(C62:G62))/3,IF(K62=4,(SUM(C62:G62)-MAX(C62:G62))/3,SUM(C62:G62)/3))*B62/7.6)","v":""},null,null,0]
[{"$f":"IF(Draw!E62=0,\"\",Draw!E62)","v":""},null,null,null,null,null,null,null,null,null,0]
[{"$f":"IF(Draw!E63=0,\"\",Draw!E63)","v":""},{"$f":"IF(A64=\"\",\"\",B$3)","v":""},null,null,null,null,null,{"$f":"IF(B64=\"\",\"\",IF(K64=5,(SUM(C64:G64)-MAX(C64:G64)-MIN(C64:G64))/3,IF(K64=4,(SUM(C64:G64)-MAX(C64:G64))/3,SUM(C64:G64)/3))*B64/7.6)","v":""},null,null,0]
[{"$f":"IF(Draw!E64=0,\"\",Draw!E64)","v":""},null,null,null,null,null,null,null,null,null,0]
[{"$f":"IF(Draw!E65=0,\"\",Draw!E65)","v":""},{"$f":"IF(A66=\"\",\"\",B$3)","v":""},null,null,null,null,null,{"$f":"IF(B66=\"\",\"\",IF(K66=5,(SUM(C66:G66)-MAX(C66:G66)-MIN(C66:G66))/3,IF(K66=4,(SUM(C66:G66)-MAX(C66:G66))/3,SUM(C66:G66)/3))*B66/7.6)","v":""},null,null,0]
[{"$f":"IF(Draw!E66=0,\"\",Draw!E66)","v":""},null,null,null,null,null,null,null,null,null,0]
[{"$f":"IF(Draw!E67=0,\"\",Draw!E67)","v":""},{"$f":"IF(A68=\"\",\"\",B$3)","v":""},null,null,null,null,null,{"$f":"IF(B68=\"\",\"\",IF(K68=5,(SUM(C68:G68)-MAX(C68:G68)-MIN(C68:G68))/3,IF(K68=4,(SUM(C68:G68)-MAX(C68:G68))/3,SUM(C68:G68)/3))*B68/7.6)","v":""},null,null,{"$f":"COUNT(C68:G68)","v":0}]
[{"$f":"IF(Draw!E68=0,\"\",Draw!E68)","v":""},null,null,null,null,null,null,null,null,null,0]
[{"$f":"IF(Draw!E69=0,\"\",Draw!E69)","v":""},{"$f":"IF(A70=\"\",\"\",B$3)","v":""},null,null,null,null,null,{"$f":"IF(B70=\"\",\"\",IF(K70=5,(SUM(C70:G70)-MAX(C70:G70)-MIN(C70:G70))/3,IF(K70=4,(SUM(C70:G70)-MAX(C70:G70))/3,SUM(C70:G70)/3))*B70/7.6)","v":""},null,null,0]
[{"$f":"IF(Draw!E70=0,\"\",Draw!E70)","v":""},null,null,null,null,null,null,null,null,null,0]
[{"$f":"IF(Draw!E71=0,\"\",Draw!E71)","v":""},{"$f":"IF(A72=\"\",\"\",B$3)","v":""},null,null,null,null,null,{"$f":"IF(B72=\"\",\"\",IF(K72=5,(SUM(C72:G72)-MAX(C72:G72)-MIN(C72:G72))/3,IF(K72=4,(SUM(C72:G72)-MAX(C72:G72))/3,SUM(C72:G72)/3))*B72/7.6)","v":""},null,null,0]
[{"$f":"IF(Draw!E72=0,\"\",Draw!E72)","v":""},null,null,null,null,null,null,null,null,null,0]
[{"$f":"IF(Draw!E73=0,\"\",Draw!E73)","v":""},{"$f":"IF(A74=\"\",\"\",B$3)","v":""},null,null,null,null,null,{"$f":"IF(B74=\"\",\"\",IF(K74=5,(SUM(C74:G74)-MAX(C74:G74)-MIN(C74:G74))/3,IF(K74=4,(SUM(C74:G74)-MAX(C74:G74))/3,SUM(C74:G74)/3))*B74/7.6)","v":""},null,null,0]
[{"$f":"IF(Draw!E74=0,\"\",Draw!E74)","v":""},null,null,null,null,null,null,null,null,null,0]
[{"$f":"IF(Draw!E75=0,\"\",Draw!E75)","v":""},{"$f":"IF(A76=\"\",\"\",B$3)","v":""},null,null,null,null,null,{"$f":"IF(B76=\"\",\"\",IF(K76=5,(SUM(C76:G76)-MAX(C76:G76)-MIN(C76:G76))/3,IF(K76=4,(SUM(C76:G76)-MAX(C76:G76))/3,SUM(C76:G76)/3))*B76/7.6)","v":""},null,null,0]
[{"$f":"IF(Draw!E76=0,\"\",Draw!E76)","v":""},null,null,null,null,null,null,null,null,null,0]
[{"$f":"IF(Draw!E77=0,\"\",Draw!E77)","v":""},{"$f":"IF(A78=\"\",\"\",B$3)","v":""},null,null,null,null,null,{"$f":"IF(B78=\"\",\"\",IF(K78=5,(SUM(C78:G78)-MAX(C78:G78)-MIN(C78:G78))/3,IF(K78=4,(SUM(C78:G78)-MAX(C78:G78))/3,SUM(C78:G78)/3))*B78/7.6)","v":""},null,null,0]
[{"$f":"IF(Draw!E78=0,\"\",Draw!E78)","v":""},null,null,null,null,null,null,null,null,null,0]
[{"$f":"IF(Draw!E79=0,\"\",Draw!E79)","v":""},{"$f":"IF(A80=\"\",\"\",B$3)","v":""},null,null,null,null,null,{"$f":"IF(B80=\"\",\"\",IF(K80=5,(SUM(C80:G80)-MAX(C80:G80)-MIN(C80:G80))/3,IF(K80=4,(SUM(C80:G80)-MAX(C80:G80))/3,SUM(C80:G80)/3))*B80/7.6)","v":""},null,null,0]
[{"$f":"IF(Draw!E80=0,\"\",Draw!E80)","v":""},null,null,null,null,null,null,null,null,null,0]
[{"$f":"IF(Draw!E81=0,\"\",Draw!E81)","v":""},{"$f":"IF(A82=\"\",\"\",B$3)","v":""},null,null,null,null,null,{"$f":"IF(B82=\"\",\"\",IF(K82=5,(SUM(C82:G82)-MAX(C82:G82)-MIN(C82:G82))/3,IF(K82=4,(SUM(C82:G82)-MAX(C82:G82))/3,SUM(C82:G82)/3))*B82/7.6)","v":""},null,null,0]
[{"$f":"IF(Draw!E82=0,\"\",Draw!E82)","v":""},null,null,null,null,null,null,null,null,null,0]
[{"$f":"IF(Draw!E83=0,\"\",Draw!E83)","v":""},{"$f":"IF(A84=\"\",\"\",B$3)","v":""},null,null,null,null,null,{"$f":"IF(B84=\"\",\"\",IF(K84=5,(SUM(C84:G84)-MAX(C84:G84)-MIN(C84:G84))/3,IF(K84=4,(SUM(C84:G84)-MAX(C84:G84))/3,SUM(C84:G84)/3))*B84/7.6)","v":""},null,null,0]
[{"$f":"IF(Draw!E84=0,\"\",Draw!E84)","v":""},null,null,null,null,null,null,null,null,null,0]
[{"$f":"IF(Draw!E85=0,\"\",Draw!E85)","v":""},{"$f":"IF(A86=\"\",\"\",B$3)","v":""},null,null,null,null,null,{"$f":"IF(B86=\"\",\"\",IF(K86=5,(SUM(C86:G86)-MAX(C86:G86)-MIN(C86:G86))/3,IF(K86=4,(SUM(C86:G86)-MAX(C86:G86))/3,SUM(C86:G86)/3))*B86/7.6)","v":""},null,null,0]
[{"$f":"IF(Draw!E86=0,\"\",Draw!E86)","v":""},null,null,null,null,null,null,null,null,null,0]
[{"$f":"IF(Draw!E87=0,\"\",Draw!E87)","v":""},{"$f":"IF(A88=\"\",\"\",B$3)","v":""},null,null,null,null,null,{"$f":"IF(B88=\"\",\"\",IF(K88=5,(SUM(C88:G88)-MAX(C88:G88)-MIN(C88:G88))/3,IF(K88=4,(SUM(C88:G88)-MAX(C88:G88))/3,SUM(C88:G88)/3))*B88/7.6)","v":""},null,null,0]
[{"$f":"IF(Draw!E88=0,\"\",Draw!E88)","v":""},null,null,null,null,null,null,null,null,null,0]
[{"$f":"IF(Draw!E89=0,\"\",Draw!E89)","v":""},{"$f":"IF(A90=\"\",\"\",B$3)","v":""},null,null,null,null,null,{"$f":"IF(B90=\"\",\"\",IF(K90=5,(SUM(C90:G90)-MAX(C90:G90)-MIN(C90:G90))/3,IF(K90=4,(SUM(C90:G90)-MAX(C90:G90))/3,SUM(C90:G90)/3))*B90/7.6)","v":""},null,null,0]
[{"$f":"IF(Draw!E90=0,\"\",Draw!E90)","v":""},null,null,null,null,null,null,null,null,null,0]
[{"$f":"IF(Draw!E91=0,\"\",Draw!E91)","v":""},{"$f":"IF(A92=\"\",\"\",B$3)","v":""},null,null,null,null,null,{"$f":"IF(B92=\"\",\"\",IF(K92=5,(SUM(C92:G92)-MAX(C92:G92)-MIN(C92:G92))/3,IF(K92=4,(SUM(C92:G92)-MAX(C92:G92))/3,SUM(C92:G92)/3))*B92/7.6)","v":""},null,null,0]
[{"$f":"IF(Draw!E92=0,\"\",Draw!E92)","v":""},null,null,null,null,null,null,null,null,null,0]
[{"$f":"IF(Draw!E93=0,\"\",Draw!E93)","v":""},{"$f":"IF(A94=\"\",\"\",B$3)","v":""},null,null,null,null,null,{"$f":"IF(B94=\"\",\"\",IF(K94=5,(SUM(C94:G94)-MAX(C94:G94)-MIN(C94:G94))/3,IF(K94=4,(SUM(C94:G94)-MAX(C94:G94))/3,SUM(C94:G94)/3))*B94/7.6)","v":""},null,null,0]
[{"$f":"IF(Draw!E94=0,\"\",Draw!E94)","v":""},null,null,null,null,null,null,null,null,null,0]
[{"$f":"IF(Draw!E95=0,\"\",Draw!E95)","v":""},{"$f":"IF(A96=\"\",\"\",B$3)","v":""},null,null,null,null,null,{"$f":"IF(B96=\"\",\"\",IF(K96=5,(SUM(C96:G96)-MAX(C96:G96)-MIN(C96:G96))/3,IF(K96=4,(SUM(C96:G96)-MAX(C96:G96))/3,SUM(C96:G96)/3))*B96/7.6)","v":""},null,null,0]
[{"$f":"IF(Draw!E96=0,\"\",Draw!E96)","v":""},null,null,null,null,null,null,null,null,null,0]
[{"$f":"IF(Draw!E97=0,\"\",Draw!E97)","v":""},{"$f":"IF(A98=\"\",\"\",B$3)","v":""},null,null,null,null,null,{"$f":"IF(B98=\"\",\"\",IF(K98=5,(SUM(C98:G98)-MAX(C98:G98)-MIN(C98:G98))/3,IF(K98=4,(SUM(C98:G98)-MAX(C98:G98))/3,SUM(C98:G98)/3))*B98/7.6)","v":""},null,null,0]
[{"$f":"IF(Draw!E98=0,\"\",Draw!E98)","v":""},null,null,null,null,null,null,null,null,null,0]
[{"$f":"IF(Draw!E99=0,\"\",Draw!E99)","v":""},{"$f":"IF(A100=\"\",\"\",B$3)","v":""},null,null,null,null,null,{"$f":"IF(B100=\"\",\"\",IF(K100=5,(SUM(C100:G100)-MAX(C100:G100)-MIN(C100:G100))/3,IF(K100=4,(SUM(C100:G100)-MAX(C100:G100))/3,SUM(C100:G100)/3))*B100/7.6)","v":""},null,null,0]
[{"$f":"IF(Draw!E100=0,\"\",Draw!E100)","v":""},null,null,null,null,null,null,null,null,null,0]
[{"$f":"IF(Draw!E101=0,\"\",Draw!E101)","v":""},{"$f":"IF(A102=\"\",\"\",B$3)","v":""},null,null,null,null,null,{"$f":"IF(B102=\"\",\"\",IF(K102=5,(SUM(C102:G102)-MAX(C102:G102)-MIN(C102:G102))/3,IF(K102=4,(SUM(C102:G102)-MAX(C102:G102))/3,SUM(C102:G102)/3))*B102/7.6)","v":""},null,null,0]
[{"$f":"IF(Draw!E102=0,\"\",Draw!E102)","v":""},null,null,null,null,null,null,null,null,null,0]
[{"$f":"IF(Draw!E103=0,\"\",Draw!E103)","v":""},{"$f":"IF(A104=\"\",\"\",B$3)","v":""},null,null,null,null,null,{"$f":"IF(B104=\"\",\"\",IF(K104=5,(SUM(C104:G104)-MAX(C104:G104)-MIN(C104:G104))/3,IF(K104=4,(SUM(C104:G104)-MAX(C104:G104))/3,SUM(C104:G104)/3))*B104/7.6)","v":""},null,null,0]
[{"$f":"IF(Draw!E104=0,\"\",Draw!E104)","v":""},null,null,null,null,null,null,null,null,null,0]
[{"$f":"IF(Draw!E105=0,\"\",Draw!E105)","v":""},{"$f":"IF(A106=\"\",\"\",B$3)","v":""},null,null,null,null,null,{"$f":"IF(B106=\"\",\"\",IF(K106=5,(SUM(C106:G106)-MAX(C106:G106)-MIN(C106:G106))/3,IF(K106=4,(SUM(C106:G106)-MAX(C106:G106))/3,SUM(C106:G106)/3))*B106/7.6)","v":""},null,null,0]
[{"$f":"IF(Draw!E106=0,\"\",Draw!E106)","v":""},null,null,null,null,null,null,null,null,null,0]
[{"$f":"IF(Draw!E107=0,\"\",Draw!E107)","v":""},{"$f":"IF(A108=\"\",\"\",B$3)","v":""},null,null,null,null,null,{"$f":"IF(B108=\"\",\"\",IF(K108=5,(SUM(C108:G108)-MAX(C108:G108)-MIN(C108:G108))/3,IF(K108=4,(SUM(C108:G108)-MAX(C108:G108))/3,SUM(C108:G108)/3))*B108/7.6)","v":""},null,null,0]
[{"$f":"IF(Draw!E108=0,\"\",Draw!E108)","v":""},null,null,null,null,null,null,null,null,null,0]
[{"$f":"IF(Draw!E109=0,\"\",Draw!E109)","v":""},{"$f":"IF(A110=\"\",\"\",B$3)","v":""},null,null,null,null,null,{"$f":"IF(B110=\"\",\"\",IF(K110=5,(SUM(C110:G110)-MAX(C110:G110)-MIN(C110:G110))/3,IF(K110=4,(SUM(C110:G110)-MAX(C110:G110))/3,SUM(C110:G110)/3))*B110/7.6)","v":""},null,null,0]
[{"$f":"IF(Draw!E110=0,\"\",Draw!E110)","v":""},null,null,null,null,null,null,null,null,null,0]
[{"$f":"IF(Draw!E111=0,\"\",Draw!E111)","v":""},{"$f":"IF(A112=\"\",\"\",B$3)","v":""},null,null,null,null,null,{"$f":"IF(B112=\"\",\"\",IF(K112=5,(SUM(C112:G112)-MAX(C112:G112)-MIN(C112:G112))/3,IF(K112=4,(SUM(C112:G112)-MAX(C112:G112))/3,SUM(C112:G112)/3))*B112/7.6)","v":""},null,null,0]
[{"$f":"IF(Draw!E112=0,\"\",Draw!E112)","v":""},null,null,null,null,null,null,null,null,null,0]
[{"$f":"IF(Draw!E113=0,\"\",Draw!E113)","v":""},{"$f":"IF(A114=\"\",\"\",B$3)","v":""},null,null,null,null,null,{"$f":"IF(B114=\"\",\"\",IF(K114=5,(SUM(C114:G114)-MAX(C114:G114)-MIN(C114:G114))/3,IF(K114=4,(SUM(C114:G114)-MAX(C114:G114))/3,SUM(C114:G114)/3))*B114/7.6)","v":""},null,null,0]
[{"$f":"IF(Draw!E114=0,\"\",Draw!E114)","v":""},null,null,null,null,null,null,null,null,null,0]
[{"$f":"IF(Draw!E115=0,\"\",Draw!E115)","v":""},{"$f":"IF(A116=\"\",\"\",B$3)","v":""},null,null,null,null,null,{"$f":"IF(B116=\"\",\"\",IF(K116=5,(SUM(C116:G116)-MAX(C116:G116)-MIN(C116:G116))/3,IF(K116=4,(SUM(C116:G116)-MAX(C116:G116))/3,SUM(C116:G116)/3))*B116/7.6)","v":""},null,null,0]
[{"$f":"IF(Draw!E116=0,\"\",Draw!E116)","v":""},null,null,null,null,null,null,null,null,null,0]
[{"$f":"IF(Draw!E117=0,\"\",Draw!E117)","v":""},{"$f":"IF(A118=\"\",\"\",B$3)","v":""},null,null,null,null,null,{"$f":"IF(B118=\"\",\"\",IF(K118=5,(SUM(C118:G118)-MAX(C118:G118)-MIN(C118:G118))/3,IF(K118=4,(SUM(C118:G118)-MAX(C118:G118))/3,SUM(C118:G118)/3))*B118/7.6)","v":""},null,null,0]
[{"$f":"IF(Draw!E118=0,\"\",Draw!E118)","v":""},null,null,null,null,null,null,null,null,null,0]
[{"$f":"IF(Draw!E119=0,\"\",Draw!E119)","v":""},{"$f":"IF(A120=\"\",\"\",B$3)","v":""},null,null,null,null,null,{"$f":"IF(B120=\"\",\"\",IF(K120=5,(SUM(C120:G120)-MAX(C120:G120)-MIN(C120:G120))/3,IF(K120=4,(SUM(C120:G120)-MAX(C120:G120))/3,SUM(C120:G120)/3))*B120/7.6)","v":""},null,null,0]
[{"$f":"IF(Draw!E120=0,\"\",Draw!E120)","v":""},null,null,null,null,null,null,null,null,null,0]
[{"$f":"IF(Draw!E121=0,\"\",Draw!E121)","v":""},{"$f":"IF(A122=\"\",\"\",B$3)","v":""},null,null,null,null,null,{"$f":"IF(B122=\"\",\"\",IF(K122=5,(SUM(C122:G122)-MAX(C122:G122)-MIN(C122:G122))/3,IF(K122=4,(SUM(C122:G122)-MAX(C122:G122))/3,SUM(C122:G122)/3))*B122/7.6)","v":""},null,null,0]
[{"$f":"IF(Draw!E122=0,\"\",Draw!E122)","v":""},null,null,null,null,null,null,null,null,null,0]
[{"$f":"IF(Draw!E123=0,\"\",Draw!E123)","v":""},{"$f":"IF(A124=\"\",\"\",B$3)","v":""},null,null,null,null,null,{"$f":"IF(B124=\"\",\"\",IF(K124=5,(SUM(C124:G124)-MAX(C124:G124)-MIN(C124:G124))/3,IF(K124=4,(SUM(C124:G124)-MAX(C124:G124))/3,SUM(C124:G124)/3))*B124/7.6)","v":""},null,null,0]
[{"$f":"IF(Draw!E124=0,\"\",Draw!E124)","v":""},null,null,null,null,null,null,null,null,null,0]
[{"$f":"IF(Draw!E125=0,\"\",Draw!E125)","v":""},{"$f":"IF(A126=\"\",\"\",B$3)","v":""},null,null,null,null,null,{"$f":"IF(B126=\"\",\"\",IF(K126=5,(SUM(C126:G126)-MAX(C126:G126)-MIN(C126:G126))/3,IF(K126=4,(SUM(C126:G126)-MAX(C126:G126))/3,SUM(C126:G126)/3))*B126/7.6)","v":""},null,null,0]
[{"$f":"IF(Draw!E126=0,\"\",Draw!E126)","v":""},null,null,null,null,null,null,null,null,null,0]
[{"$f":"IF(Draw!E127=0,\"\",Draw!E127)","v":""},{"$f":"IF(A128=\"\",\"\",B$3)","v":""},null,null,null,null,null,{"$f":"IF(B128=\"\",\"\",IF(K128=5,(SUM(C128:G128)-MAX(C128:G128)-MIN(C128:G128))/3,IF(K128=4,(SUM(C128:G128)-MAX(C128:G128))/3,SUM(C128:G128)/3))*B128/7.6)","v":""},null,null,0]
[{"$f":"IF(Draw!E128=0,\"\",Draw!E128)","v":""},null,null,null,null,null,null,null,null,null,0]
[{"$f":"IF(Draw!E129=0,\"\",Draw!E129)","v":""},{"$f":"IF(A130=\"\",\"\",B$3)","v":""},null,null,null,null,null,{"$f":"IF(B130=\"\",\"\",IF(K130=5,(SUM(C130:G130)-MAX(C130:G130)-MIN(C130:G130))/3,IF(K130=4,(SUM(C130:G130)-MAX(C130:G130))/3,SUM(C130:G130)/3))*B130/7.6)","v":""},null,null,0]
[{"$f":"IF(Draw!E130=0,\"\",Draw!E130)","v":""},null,null,null,null,null,null,null,null,null,0]
[{"$f":"IF(Draw!E131=0,\"\",Draw!E131)","v":""},{"$f":"IF(A132=\"\",\"\",B$3)","v":""},null,null,null,null,null,{"$f":"IF(B132=\"\",\"\",IF(K132=5,(SUM(C132:G132)-MAX(C132:G132)-MIN(C132:G132))/3,IF(K132=4,(SUM(C132:G132)-MAX(C132:G132))/3,SUM(C132:G132)/3))*B132/7.6)","v":""},null,null,{"$f":"COUNT(C132:G132)","v":0}]
[{"$f":"IF(Draw!E132=0,\"\",Draw!E132)","v":""},null,null,null,null,null,null,null,null,null,0]
[{"$f":"IF(Draw!E133=0,\"\",Draw!E133)","v":""},{"$f":"IF(A134=\"\",\"\",B$3)","v":""},null,null,null,null,null,{"$f":"IF(B134=\"\",\"\",IF(K134=5,(SUM(C134:G134)-MAX(C134:G134)-MIN(C134:G134))/3,IF(K134=4,(SUM(C134:G134)-MAX(C134:G134))/3,SUM(C134:G134)/3))*B134/7.6)","v":""},null,null,0]
[{"$f":"IF(Draw!E134=0,\"\",Draw!E134)","v":""},null,null,null,null,null,null,null,null,null,0]
[{"$f":"IF(Draw!E135=0,\"\",Draw!E135)","v":""},{"$f":"IF(A136=\"\",\"\",B$3)","v":""},null,null,null,null,null,{"$f":"IF(B136=\"\",\"\",IF(K136=5,(SUM(C136:G136)-MAX(C136:G136)-MIN(C136:G136))/3,IF(K136=4,(SUM(C136:G136)-MAX(C136:G136))/3,SUM(C136:G136)/3))*B136/7.6)","v":""},null,null,0]
[{"$f":"IF(Draw!E136=0,\"\",Draw!E136)","v":""},null,null,null,null,null,null,null,null,null,0]
[{"$f":"IF(Draw!E137=0,\"\",Draw!E137)","v":""},{"$f":"IF(A138=\"\",\"\",B$3)","v":""},null,null,null,null,null,{"$f":"IF(B138=\"\",\"\",IF(K138=5,(SUM(C138:G138)-MAX(C138:G138)-MIN(C138:G138))/3,IF(K138=4,(SUM(C138:G138)-MAX(C138:G138))/3,SUM(C138:G138)/3))*B138/7.6)","v":""},null,null,0]
[{"$f":"IF(Draw!E138=0,\"\",Draw!E138)","v":""},null,null,null,null,null,null,null,null,null,0]
[{"$f":"IF(Draw!E139=0,\"\",Draw!E139)","v":""},{"$f":"IF(A140=\"\",\"\",B$3)","v":""},null,null,null,null,null,{"$f":"IF(B140=\"\",\"\",IF(K140=5,(SUM(C140:G140)-MAX(C140:G140)-MIN(C140:G140))/3,IF(K140=4,(SUM(C140:G140)-MAX(C140:G140))/3,SUM(C140:G140)/3))*B140/7.6)","v":""},null,null,0]
[{"$f":"IF(Draw!E140=0,\"\",Draw!E140)","v":""},null,null,null,null,null,null,null,null,null,0]
[{"$f":"IF(Draw!E141=0,\"\",Draw!E141)","v":""},{"$f":"IF(A142=\"\",\"\",B$3)","v":""},null,null,null,null,null,{"$f":"IF(B142=\"\",\"\",IF(K142=5,(SUM(C142:G142)-MAX(C142:G142)-MIN(C142:G142))/3,IF(K142=4,(SUM(C142:G142)-MAX(C142:G142))/3,SUM(C142:G142)/3))*B142/7.6)","v":""},null,null,0]
[{"$f":"IF(Draw!E142=0,\"\",Draw!E142)","v":""},null,null,null,null,null,null,null,null,null,0]
[{"$f":"IF(Draw!E143=0,\"\",Draw!E143)","v":""},{"$f":"IF(A144=\"\",\"\",B$3)","v":""},null,null,null,null,null,{"$f":"IF(B144=\"\",\"\",IF(K144=5,(SUM(C144:G144)-MAX(C144:G144)-MIN(C144:G144))/3,IF(K144=4,(SUM(C144:G144)-MAX(C144:G144))/3,SUM(C144:G144)/3))*B144/7.6)","v":""},null,null,0]
[{"$f":"IF(Draw!E144=0,\"\",Draw!E144)","v":""},null,null,null,null,null,null,null,null,null,0]
[{"$f":"IF(Draw!E145=0,\"\",Draw!E145)","v":""},{"$f":"IF(A146=\"\",\"\",B$3)","v":""},null,null,null,null,null,{"$f":"IF(B146=\"\",\"\",IF(K146=5,(SUM(C146:G146)-MAX(C146:G146)-MIN(C146:G146))/3,IF(K146=4,(SUM(C146:G146)-MAX(C146:G146))/3,SUM(C146:G146)/3))*B146/7.6)","v":""},null,null,0]
[{"$f":"IF(Draw!E146=0,\"\",Draw!E146)","v":""},null,null,null,null,null,null,null,null,null,0]
[{"$f":"IF(Draw!E147=0,\"\",Draw!E147)","v":""},{"$f":"IF(A148=\"\",\"\",B$3)","v":""},null,null,null,null,null,{"$f":"IF(B148=\"\",\"\",IF(K148=5,(SUM(C148:G148)-MAX(C148:G148)-MIN(C148:G148))/3,IF(K148=4,(SUM(C148:G148)-MAX(C148:G148))/3,SUM(C148:G148)/3))*B148/7.6)","v":""},null,null,0]
[{"$f":"IF(Draw!E148=0,\"\",Draw!E148)","v":""},null,null,null,null,null,null,null,null,null,0]
[{"$f":"IF(Draw!E149=0,\"\",Draw!E149)","v":""},{"$f":"IF(A150=\"\",\"\",B$3)","v":""},null,null,null,null,null,{"$f":"IF(B150=\"\",\"\",IF(K150=5,(SUM(C150:G150)-MAX(C150:G150)-MIN(C150:G150))/3,IF(K150=4,(SUM(C150:G150)-MAX(C150:G150))/3,SUM(C150:G150)/3))*B150/7.6)","v":""},null,null,0]

{"sheet":"Fig 3 Neptunus","index":3,"n_rows":150,"n_cols":11,"rows_kept":150,"cut":false,"hidden":false,"merged":[[0,2,0,6]]}
[null,"Figure #3:","344 Neptunus"]
["#","Degree of Difficulty","Judge 1","Judge 2","Judge 3","Judge 4","Judge 5","Score","Penalty"]
[1,1.8,57,52,54,55,53,{"$f":"IF(B3=\"\",\"\",IF(K3=5,(SUM(C3:G3)-MAX(C3:G3)-MIN(C3:G3))/3,IF(K3=4,(SUM(C3:G3)-MAX(C3:G3))/3,SUM(C3:G3)/3))*B3/7.6)","v":12.789473684210527},null,null,{"$f":"COUNT(C3:G3)","v":5}]
[2,{"$f":"IF(A3=\"\",\"\",B$3)","v":1.8},54,54,54,52,51,{"$f":"IF(B4=\"\",\"\",IF(K4=5,(SUM(C4:G4)-MAX(C4:G4)-MIN(C4:G4))/3,IF(K4=4,(SUM(C4:G4)-MAX(C4:G4))/3,SUM(C4:G4)/3))*B4/7.6)","v":12.631578947368421},null,null,{"$f":"COUNT(C4:G4)","v":5}]
[3,1.8,56,53,52,55,52,12.631578947368421,null,null,5]
[4,{"$f":"IF(A5=\"\",\"\",B$3)","v":1.8},56,57,56,56,56,{"$f":"IF(B6=\"\",\"\",IF(K6=5,(SUM(C6:G6)-MAX(C6:G6)-MIN(C6:G6))/3,IF(K6=4,(SUM(C6:G6)-MAX(C6:G6))/3,SUM(C6:G6)/3))*B6/7.6)","v":13.263157894736842},null,null,5]
[5,1.8,60,58,60,63,60,14.210526315789474,null,null,5]
[6,{"$f":"IF(A7=\"\",\"\",B$3)","v":1.8},60,54,56,56,56,{"$f":"IF(B8=\"\",\"\",IF(K8=5,(SUM(C8:G8)-MAX(C8:G8)-MIN(C8:G8))/3,IF(K8=4,(SUM(C8:G8)-MAX(C8:G8))/3,SUM(C8:G8)/3))*B8/7.6)","v":13.263157894736842},null,null,5]
[7,1.8,56,58,60,58,57,13.657894736842106,null,null,5]
[8,{"$f":"IF(A9=\"\",\"\",B$3)","v":1.8},58,60,59,59,59,{"$f":"IF(B10=\"\",\"\",IF(K10=5,(SUM(C10:G10)-MAX(C10:G10)-MIN(C10:G10))/3,IF(K10=4,(SUM(C10:G10)-MAX(C10:G10))/3,SUM(C10:G10)/3))*B10/7.6)","v":13.973684210526317},null,null,5]
[9,1.8,51,48,47,48,46,11.289473684210526,null,null,5]
[10,{"$f":"IF(A11=\"\",\"\",B$3)","v":1.8},49,52,45,47,45,{"$f":"IF(B12=\"\",\"\",IF(K12=5,(SUM(C12:G12)-MAX(C12:G12)-MIN(C12:G12))/3,IF(K12=4,(SUM(C12:G12)-MAX(C12:G12))/3,SUM(C12:G12)/3))*B12/7.6)","v":11.131578947368423},null,null,5]
[11,1.8,58,56,51,53,54,12.868421052631581,null,null,5]
[12,{"$f":"IF(A13=\"\",\"\",B$3)","v":1.8},55,55,58,58,56,{"$f":"IF(B14=\"\",\"\",IF(K14=5,(SUM(C14:G14)-MAX(C14:G14)-MIN(C14:G14))/3,IF(K14=4,(SUM(C14:G14)-MAX(C14:G14))/3,SUM(C14:G14)/3))*B14/7.6)","v":13.342105263157896},null,null,5]
[13,1.8,60,61,61,61,61,14.447368421052632,null,null,5]
[14,{"$f":"IF(A15=\"\",\"\",B$3)","v":1.8},56,59,56,57,57,{"$f":"IF(B16=\"\",\"\",IF(K16=5,(SUM(C16:G16)-MAX(C16:G16)-MIN(C16:G16))/3,IF(K16=4,(SUM(C16:G16)-MAX(C16:G16))/3,SUM(C16:G16)/3))*B16/7.6)","v":13.421052631578949},null,null,5]
[15,1.8,57,56,54,55,55,13.105263157894738,null,null,5]
[16,{"$f":"IF(A17=\"\",\"\",B$3)","v":1.8},null,null,null,null,null,{"$f":"IF(B18=\"\",\"\",IF(K18=5,(SUM(C18:G18)-MAX(C18:G18)-MIN(C18:G18))/3,IF(K18=4,(SUM(C18:G18)-MAX(C18:G18))/3,SUM(C18:G18)/3))*B18/7.6)","v":0},null,null,0]
[17,1.8,58,61,60,60,58,14.05263157894737,null,null,5]
[18,{"$f":"IF(A19=\"\",\"\",B$3)","v":1.8},59,60,60,61,62,{"$f":"IF(B20=\"\",\"\",IF(K20=5,(SUM(C20:G20)-MAX(C20:G20)-MIN(C20:G20))/3,IF(K20=4,(SUM(C20:G20)-MAX(C20:G20))/3,SUM(C20:G20)/3))*B20/7.6)","v":14.289473684210527},null,null,5]
[19,1.8,55,54,53,51,51,12.473684210526317,null,null,5]
[20,{"$f":"IF(A21=\"\",\"\",B$3)","v":1.8},55,53,55,57,56,{"$f":"IF(B22=\"\",\"\",IF(K22=5,(SUM(C22:G22)-MAX(C22:G22)-MIN(C22:G22))/3,IF(K22=4,(SUM(C22:G22)-MAX(C22:G22))/3,SUM(C22:G22)/3))*B22/7.6)","v":13.105263157894738},null,null,5]
[21,1.8,57,56,57,55,53,13.263157894736842,null,null,5]
[22,{"$f":"IF(A23=\"\",\"\",B$3)","v":1.8},52,55,54,50,52,{"$f":"IF(B24=\"\",\"\",IF(K24=5,(SUM(C24:G24)-MAX(C24:G24)-MIN(C24:G24))/3,IF(K24=4,(SUM(C24:G24)-MAX(C24:G24))/3,SUM(C24:G24)/3))*B24/7.6)","v":12.473684210526317},null,null,5]
[23,1.8,64,61,64,63,65,15.078947368421053,null,null,5]
[24,{"$f":"IF(A25=\"\",\"\",B$3)","v":1.8},50,52,48,48,48,{"$f":"IF(B26=\"\",\"\",IF(K26=5,(SUM(C26:G26)-MAX(C26:G26)-MIN(C26:G26))/3,IF(K26=4,(SUM(C26:G26)-MAX(C26:G26))/3,SUM(C26:G26)/3))*B26/7.6)","v":11.526315789473683},null,null,5]
[25,1.8,47,45,46,46,47,10.973684210526317,null,null,5]
[26,{"$f":"IF(A27=\"\",\"\",B$3)","v":1.8},65,65,62,65,665,{"$f":"IF(B28=\"\",\"\",IF(K28=5,(SUM(C28:G28)-MAX(C28:G28)-MIN(C28:G28))/3,IF(K28=4,(SUM(C28:G28)-MAX(C28:G28))/3,SUM(C28:G28)/3))*B28/7.6)","v":15.394736842105264},null,null,5]
[27,1.8,62,62,61,65,63,14.763157894736842,null,null,5]
[28,{"$f":"IF(A29=\"\",\"\",B$3)","v":1.8},63,60,64,65,64,{"$f":"IF(B30=\"\",\"\",IF(K30=5,(SUM(C30:G30)-MAX(C30:G30)-MIN(C30:G30))/3,IF(K30=4,(SUM(C30:G30)-MAX(C30:G30))/3,SUM(C30:G30)/3))*B30/7.6)","v":15.078947368421053},null,null,5]
[29,1.8,75,69,71,71,70,16.736842105263161,null,null,5]
[30,{"$f":"IF(A31=\"\",\"\",B$3)","v":1.8},56,55,55,54,53,{"$f":"IF(B32=\"\",\"\",IF(K32=5,(SUM(C32:G32)-MAX(C32:G32)-MIN(C32:G32))/3,IF(K32=4,(SUM(C32:G32)-MAX(C32:G32))/3,SUM(C32:G32)/3))*B32/7.6)","v":12.947368421052632},null,null,5]
[31,1.8,62,62,61,60,58,14.447368421052632,null,null,5]
[32,{"$f":"IF(A33=\"\",\"\",B$3)","v":1.8},67,64,64,64,66,{"$f":"IF(B34=\"\",\"\",IF(K34=5,(SUM(C34:G34)-MAX(C34:G34)-MIN(C34:G34))/3,IF(K34=4,(SUM(C34:G34)-MAX(C34:G34))/3,SUM(C34:G34)/3))*B34/7.6)","v":15.315789473684212},null,null,5]
[33,1.8,49,52,52,52,47,12.078947368421053,null,null,5]
[34,{"$f":"IF(A35=\"\",\"\",B$3)","v":1.8},50,50,50,48,49,{"$f":"IF(B36=\"\",\"\",IF(K36=5,(SUM(C36:G36)-MAX(C36:G36)-MIN(C36:G36))/3,IF(K36=4,(SUM(C36:G36)-MAX(C36:G36))/3,SUM(C36:G36)/3))*B36/7.6)","v":11.763157894736841},null,null,5]
[35,1.8,48,51,51,52,50,12.000000000000002,null,null,5]
[36,{"$f":"IF(A37=\"\",\"\",B$3)","v":1.8},57,60,58,53,52,{"$f":"IF(B38=\"\",\"\",IF(K38=5,(SUM(C38:G38)-MAX(C38:G38)-MIN(C38:G38))/3,IF(K38=4,(SUM(C38:G38)-MAX(C38:G38))/3,SUM(C38:G38)/3))*B38/7.6)","v":13.263157894736842},null,null,5]
[37,1.8,59,58,57,56,58,13.657894736842106,null,null,5]
[38,{"$f":"IF(A39=\"\",\"\",B$3)","v":1.8},53,54,51,50,48,{"$f":"IF(B40=\"\",\"\",IF(K40=5,(SUM(C40:G40)-MAX(C40:G40)-MIN(C40:G40))/3,IF(K40=4,(SUM(C40:G40)-MAX(C40:G40))/3,SUM(C40:G40)/3))*B40/7.6)","v":12.157894736842106},null,null,5]
[39,1.8,58,57,60,63,61,14.131578947368421,null,null,5]
[40,{"$f":"IF(A41=\"\",\"\",B$3)","v":1.8},62,61,62,61,63,{"$f":"IF(B42=\"\",\"\",IF(K42=5,(SUM(C42:G42)-MAX(C42:G42)-MIN(C42:G42))/3,IF(K42=4,(SUM(C42:G42)-MAX(C42:G42))/3,SUM(C42:G42)/3))*B42/7.6)","v":14.605263157894738},null,null,5]
[41,1.8,63,62,63,62,61,14.763157894736842,null,null,5]
[42,{"$f":"IF(A43=\"\",\"\",B$3)","v":1.8},58,60,59,58,56,{"$f":"IF(B44=\"\",\"\",IF(K44=5,(SUM(C44:G44)-MAX(C44:G44)-MIN(C44:G44))/3,IF(K44=4,(SUM(C44:G44)-MAX(C44:G44))/3,SUM(C44:G44)/3))*B44/7.6)","v":13.815789473684211},null,null,5]
[43,1.8,58,57,55,57,55,13.342105263157896,null,null,5]
[44,{"$f":"IF(A45=\"\",\"\",B$3)","v":1.8},60,62,63,63,62,{"$f":"IF(B46=\"\",\"\",IF(K46=5,(SUM(C46:G46)-MAX(C46:G46)-MIN(C46:G46))/3,IF(K46=4,(SUM(C46:G46)-MAX(C46:G46))/3,SUM(C46:G46)/3))*B46/7.6)","v":14.763157894736842},null,null,5]
[45,1.8,53,54,49,47,46,11.763157894736841,null,null,5]
[46,{"$f":"IF(A47=\"\",\"\",B$3)","v":1.8},50,49,56,46,48,{"$f":"IF(B48=\"\",\"\",IF(K48=5,(SUM(C48:G48)-MAX(C48:G48)-MIN(C48:G48))/3,IF(K48=4,(SUM(C48:G48)-MAX(C48:G48))/3,SUM(C48:G48)/3))*B48/7.6)","v":11.605263157894738},null,null,5]
[47,1.8,48,47,48,50,49,11.447368421052632,null,null,5]
[48,{"$f":"IF(A49=\"\",\"\",B$3)","v":1.8},62,64,62,65,64,{"$f":"IF(B50=\"\",\"\",IF(K50=5,(SUM(C50:G50)-MAX(C50:G50)-MIN(C50:G50))/3,IF(K50=4,(SUM(C50:G50)-MAX(C50:G50))/3,SUM(C50:G50)/3))*B50/7.6)","v":15},null,null,5]
[49,1.8,53,56,57,50,51,12.631578947368421,null,null,5]
[50,{"$f":"IF(A51=\"\",\"\",B$3)","v":1.8},58,58,62,60,57,{"$f":"IF(B52=\"\",\"\",IF(K52=5,(SUM(C52:G52)-MAX(C52:G52)-MIN(C52:G52))/3,IF(K52=4,(SUM(C52:G52)-MAX(C52:G52))/3,SUM(C52:G52)/3))*B52/7.6)","v":13.894736842105264},null,null,5]
[51,1.8,62,63,64,64,63,15,null,null,5]
[52,{"$f":"IF(A53=\"\",\"\",B$3)","v":1.8},54,52,55,55,55,{"$f":"IF(B54=\"\",\"\",IF(K54=5,(SUM(C54:G54)-MAX(C54:G54)-MIN(C54:G54))/3,IF(K54=4,(SUM(C54:G54)-MAX(C54:G54))/3,SUM(C54:G54)/3))*B54/7.6)","v":12.947368421052632},null,null,5]
[53,1.8,60,61,62,62,61,14.526315789473685,null,null,5]
[54,{"$f":"IF(A55=\"\",\"\",B$3)","v":1.8},68,66,65,66,65,{"$f":"IF(B56=\"\",\"\",IF(K56=5,(SUM(C56:G56)-MAX(C56:G56)-MIN(C56:G56))/3,IF(K56=4,(SUM(C56:G56)-MAX(C56:G56))/3,SUM(C56:G56)/3))*B56/7.6)","v":15.552631578947372},null,null,5]
[55,1.8,46,47,46,46,46,10.894736842105264,null,null,5]
[null,{"$f":"IF(A57=\"\",\"\",B$3)","v":1.8},null,null,null,null,null,{"$f":"IF(B58=\"\",\"\",IF(K58=5,(SUM(C58:G58)-MAX(C58:G58)-MIN(C58:G58))/3,IF(K58=4,(SUM(C58:G58)-MAX(C58:G58))/3,SUM(C58:G58)/3))*B58/7.6)","v":0},null,null,0]
[{"$f":"IF(Draw!E59=0,\"\",Draw!E59)","v":""},1.8,null,null,null,null,null,null,null,null,0]
[{"$f":"IF(Draw!E60=0,\"\",Draw!E60)","v":""},{"$f":"IF(A59=\"\",\"\",B$3)","v":""},null,null,null,null,null,{"$f":"IF(B60=\"\",\"\",IF(K60=5,(SUM(C60:G60)-MAX(C60:G60)-MIN(C60:G60))/3,IF(K60=4,(SUM(C60:G60)-MAX(C60:G60))/3,SUM(C60:G60)/3))*B60/7.6)","v":""},null,null,0]
[{"$f":"IF(Draw!E61=0,\"\",Draw!E61)","v":""},1.8,null,null,null,null,null,null,null,null,0]
[{"$f":"IF(Draw!E62=0,\"\",Draw!E62)","v":""},{"$f":"IF(A61=\"\",\"\",B$3)","v":""},null,null,null,null,null,{"$f":"IF(B62=\"\",\"\",IF(K62=5,(SUM(C62:G62)-MAX(C62:G62)-MIN(C62:G62))/3,IF(K62=4,(SUM(C62:G62)-MAX(C62:G62))/3,SUM(C62:G62)/3))*B62/7.6)","v":""},null,null,0]
[{"$f":"IF(Draw!E63=0,\"\",Draw!E63)","v":""},null,null,null,null,null,null,null,null,null,0]
[{"$f":"IF(Draw!E64=0,\"\",Draw!E64)","v":""},{"$f":"IF(A63=\"\",\"\",B$3)","v":""},null,null,null,null,null,{"$f":"IF(B64=\"\",\"\",IF(K64=5,(SUM(C64:G64)-MAX(C64:G64)-MIN(C64:G64))/3,IF(K64=4,(SUM(C64:G64)-MAX(C64:G64))/3,SUM(C64:G64)/3))*B64/7.6)","v":""},null,null,0]
[{"$f":"IF(Draw!E65=0,\"\",Draw!E65)","v":""},null,null,null,null,null,null,null,null,null,0]
[{"$f":"IF(Draw!E66=0,\"\",Draw!E66)","v":""},{"$f":"IF(A65=\"\",\"\",B$3)","v":""},null,null,null,null,null,{"$f":"IF(B66=\"\",\"\",IF(K66=5,(SUM(C66:G66)-MAX(C66:G66)-MIN(C66:G66))/3,IF(K66=4,(SUM(C66:G66)-MAX(C66:G66))/3,SUM(C66:G66)/3))*B66/7.6)","v":""},null,null,0]
[{"$f":"IF(Draw!E67=0,\"\",Draw!E67)","v":""},null,null,null,null,null,null,null,null,null,0]
[{"$f":"IF(Draw!E68=0,\"\",Draw!E68)","v":""},{"$f":"IF(A67=\"\",\"\",B$3)","v":""},null,null,null,null,null,{"$f":"IF(B68=\"\",\"\",IF(K68=5,(SUM(C68:G68)-MAX(C68:G68)-MIN(C68:G68))/3,IF(K68=4,(SUM(C68:G68)-MAX(C68:G68))/3,SUM(C68:G68)/3))*B68/7.6)","v":""},null,null,{"$f":"COUNT(C68:G68)","v":0}]
[{"$f":"IF(Draw!E69=0,\"\",Draw!E69)","v":""},null,null,null,null,null,null,null,null,null,0]
[{"$f":"IF(Draw!E70=0,\"\",Draw!E70)","v":""},{"$f":"IF(A69=\"\",\"\",B$3)","v":""},null,null,null,null,null,{"$f":"IF(B70=\"\",\"\",IF(K70=5,(SUM(C70:G70)-MAX(C70:G70)-MIN(C70:G70))/3,IF(K70=4,(SUM(C70:G70)-MAX(C70:G70))/3,SUM(C70:G70)/3))*B70/7.6)","v":""},null,null,0]
[{"$f":"IF(Draw!E71=0,\"\",Draw!E71)","v":""},null,null,null,null,null,null,null,null,null,0]
[{"$f":"IF(Draw!E72=0,\"\",Draw!E72)","v":""},{"$f":"IF(A71=\"\",\"\",B$3)","v":""},null,null,null,null,null,{"$f":"IF(B72=\"\",\"\",IF(K72=5,(SUM(C72:G72)-MAX(C72:G72)-MIN(C72:G72))/3,IF(K72=4,(SUM(C72:G72)-MAX(C72:G72))/3,SUM(C72:G72)/3))*B72/7.6)","v":""},null,null,0]
[{"$f":"IF(Draw!E73=0,\"\",Draw!E73)","v":""},null,null,null,null,null,null,null,null,null,0]
[{"$f":"IF(Draw!E74=0,\"\",Draw!E74)","v":""},{"$f":"IF(A73=\"\",\"\",B$3)","v":""},null,null,null,null,null,{"$f":"IF(B74=\"\",\"\",IF(K74=5,(SUM(C74:G74)-MAX(C74:G74)-MIN(C74:G74))/3,IF(K74=4,(SUM(C74:G74)-MAX(C74:G74))/3,SUM(C74:G74)/3))*B74/7.6)","v":""},null,null,0]
[{"$f":"IF(Draw!E75=0,\"\",Draw!E75)","v":""},null,null,null,null,null,null,null,null,null,0]
[{"$f":"IF(Draw!E76=0,\"\",Draw!E76)","v":""},{"$f":"IF(A75=\"\",\"\",B$3)","v":""},null,null,null,null,null,{"$f":"IF(B76=\"\",\"\",IF(K76=5,(SUM(C76:G76)-MAX(C76:G76)-MIN(C76:G76))/3,IF(K76=4,(SUM(C76:G76)-MAX(C76:G76))/3,SUM(C76:G76)/3))*B76/7.6)","v":""},null,null,0]
[{"$f":"IF(Draw!E77=0,\"\",Draw!E77)","v":""},null,null,null,null,null,null,null,null,null,0]
[{"$f":"IF(Draw!E78=0,\"\",Draw!E78)","v":""},{"$f":"IF(A77=\"\",\"\",B$3)","v":""},null,null,null,null,null,{"$f":"IF(B78=\"\",\"\",IF(K78=5,(SUM(C78:G78)-MAX(C78:G78)-MIN(C78:G78))/3,IF(K78=4,(SUM(C78:G78)-MAX(C78:G78))/3,SUM(C78:G78)/3))*B78/7.6)","v":""},null,null,0]
[{"$f":"IF(Draw!E79=0,\"\",Draw!E79)","v":""},null,null,null,null,null,null,null,null,null,0]
[{"$f":"IF(Draw!E80=0,\"\",Draw!E80)","v":""},{"$f":"IF(A79=\"\",\"\",B$3)","v":""},null,null,null,null,null,{"$f":"IF(B80=\"\",\"\",IF(K80=5,(SUM(C80:G80)-MAX(C80:G80)-MIN(C80:G80))/3,IF(K80=4,(SUM(C80:G80)-MAX(C80:G80))/3,SUM(C80:G80)/3))*B80/7.6)","v":""},null,null,0]
[{"$f":"IF(Draw!E81=0,\"\",Draw!E81)","v":""},null,null,null,null,null,null,null,null,null,0]
[{"$f":"IF(Draw!E82=0,\"\",Draw!E82)","v":""},{"$f":"IF(A81=\"\",\"\",B$3)","v":""},null,null,null,null,null,{"$f":"IF(B82=\"\",\"\",IF(K82=5,(SUM(C82:G82)-MAX(C82:G82)-MIN(C82:G82))/3,IF(K82=4,(SUM(C82:G82)-MAX(C82:G82))/3,SUM(C82:G82)/3))*B82/7.6)","v":""},null,null,0]
[{"$f":"IF(Draw!E83=0,\"\",Draw!E83)","v":""},null,null,null,null,null,null,null,null,null,0]
[{"$f":"IF(Draw!E84=0,\"\",Draw!E84)","v":""},{"$f":"IF(A83=\"\",\"\",B$3)","v":""},null,null,null,null,null,{"$f":"IF(B84=\"\",\"\",IF(K84=5,(SUM(C84:G84)-MAX(C84:G84)-MIN(C84:G84))/3,IF(K84=4,(SUM(C84:G84)-MAX(C84:G84))/3,SUM(C84:G84)/3))*B84/7.6)","v":""},null,null,0]
[{"$f":"IF(Draw!E85=0,\"\",Draw!E85)","v":""},null,null,null,null,null,null,null,null,null,0]
[{"$f":"IF(Draw!E86=0,\"\",Draw!E86)","v":""},{"$f":"IF(A85=\"\",\"\",B$3)","v":""},null,null,null,null,null,{"$f":"IF(B86=\"\",\"\",IF(K86=5,(SUM(C86:G86)-MAX(C86:G86)-MIN(C86:G86))/3,IF(K86=4,(SUM(C86:G86)-MAX(C86:G86))/3,SUM(C86:G86)/3))*B86/7.6)","v":""},null,null,0]
[{"$f":"IF(Draw!E87=0,\"\",Draw!E87)","v":""},null,null,null,null,null,null,null,null,null,0]
[{"$f":"IF(Draw!E88=0,\"\",Draw!E88)","v":""},{"$f":"IF(A87=\"\",\"\",B$3)","v":""},null,null,null,null,null,{"$f":"IF(B88=\"\",\"\",IF(K88=5,(SUM(C88:G88)-MAX(C88:G88)-MIN(C88:G88))/3,IF(K88=4,(SUM(C88:G88)-MAX(C88:G88))/3,SUM(C88:G88)/3))*B88/7.6)","v":""},null,null,0]
[{"$f":"IF(Draw!E89=0,\"\",Draw!E89)","v":""},null,null,null,null,null,null,null,null,null,0]
[{"$f":"IF(Draw!E90=0,\"\",Draw!E90)","v":""},{"$f":"IF(A89=\"\",\"\",B$3)","v":""},null,null,null,null,null,{"$f":"IF(B90=\"\",\"\",IF(K90=5,(SUM(C90:G90)-MAX(C90:G90)-MIN(C90:G90))/3,IF(K90=4,(SUM(C90:G90)-MAX(C90:G90))/3,SUM(C90:G90)/3))*B90/7.6)","v":""},null,null,0]
[{"$f":"IF(Draw!E91=0,\"\",Draw!E91)","v":""},null,null,null,null,null,null,null,null,null,0]
[{"$f":"IF(Draw!E92=0,\"\",Draw!E92)","v":""},{"$f":"IF(A91=\"\",\"\",B$3)","v":""},null,null,null,null,null,{"$f":"IF(B92=\"\",\"\",IF(K92=5,(SUM(C92:G92)-MAX(C92:G92)-MIN(C92:G92))/3,IF(K92=4,(SUM(C92:G92)-MAX(C92:G92))/3,SUM(C92:G92)/3))*B92/7.6)","v":""},null,null,0]
[{"$f":"IF(Draw!E93=0,\"\",Draw!E93)","v":""},null,null,null,null,null,null,null,null,null,0]
[{"$f":"IF(Draw!E94=0,\"\",Draw!E94)","v":""},{"$f":"IF(A93=\"\",\"\",B$3)","v":""},null,null,null,null,null,{"$f":"IF(B94=\"\",\"\",IF(K94=5,(SUM(C94:G94)-MAX(C94:G94)-MIN(C94:G94))/3,IF(K94=4,(SUM(C94:G94)-MAX(C94:G94))/3,SUM(C94:G94)/3))*B94/7.6)","v":""},null,null,0]
[{"$f":"IF(Draw!E95=0,\"\",Draw!E95)","v":""},null,null,null,null,null,null,null,null,null,0]
[{"$f":"IF(Draw!E96=0,\"\",Draw!E96)","v":""},{"$f":"IF(A95=\"\",\"\",B$3)","v":""},null,null,null,null,null,{"$f":"IF(B96=\"\",\"\",IF(K96=5,(SUM(C96:G96)-MAX(C96:G96)-MIN(C96:G96))/3,IF(K96=4,(SUM(C96:G96)-MAX(C96:G96))/3,SUM(C96:G96)/3))*B96/7.6)","v":""},null,null,0]
[{"$f":"IF(Draw!E97=0,\"\",Draw!E97)","v":""},null,null,null,null,null,null,null,null,null,0]
[{"$f":"IF(Draw!E98=0,\"\",Draw!E98)","v":""},{"$f":"IF(A97=\"\",\"\",B$3)","v":""},null,null,null,null,null,{"$f":"IF(B98=\"\",\"\",IF(K98=5,(SUM(C98:G98)-MAX(C98:G98)-MIN(C98:G98))/3,IF(K98=4,(SUM(C98:G98)-MAX(C98:G98))/3,SUM(C98:G98)/3))*B98/7.6)","v":""},null,null,0]
[{"$f":"IF(Draw!E99=0,\"\",Draw!E99)","v":""},null,null,null,null,null,null,null,null,null,0]
[{"$f":"IF(Draw!E100=0,\"\",Draw!E100)","v":""},{"$f":"IF(A99=\"\",\"\",B$3)","v":""},null,null,null,null,null,{"$f":"IF(B100=\"\",\"\",IF(K100=5,(SUM(C100:G100)-MAX(C100:G100)-MIN(C100:G100))/3,IF(K100=4,(SUM(C100:G100)-MAX(C100:G100))/3,SUM(C100:G100)/3))*B100/7.6)","v":""},null,null,0]
[{"$f":"IF(Draw!E101=0,\"\",Draw!E101)","v":""},null,null,null,null,null,null,null,null,null,0]
[{"$f":"IF(Draw!E102=0,\"\",Draw!E102)","v":""},{"$f":"IF(A101=\"\",\"\",B$3)","v":""},null,null,null,null,null,{"$f":"IF(B102=\"\",\"\",IF(K102=5,(SUM(C102:G102)-MAX(C102:G102)-MIN(C102:G102))/3,IF(K102=4,(SUM(C102:G102)-MAX(C102:G102))/3,SUM(C102:G102)/3))*B102/7.6)","v":""},null,null,0]
[{"$f":"IF(Draw!E103=0,\"\",Draw!E103)","v":""},null,null,null,null,null,null,null,null,null,0]
[{"$f":"IF(Draw!E104=0,\"\",Draw!E104)","v":""},{"$f":"IF(A103=\"\",\"\",B$3)","v":""},null,null,null,null,null,{"$f":"IF(B104=\"\",\"\",IF(K104=5,(SUM(C104:G104)-MAX(C104:G104)-MIN(C104:G104))/3,IF(K104=4,(SUM(C104:G104)-MAX(C104:G104))/3,SUM(C104:G104)/3))*B104/7.6)","v":""},null,null,0]
[{"$f":"IF(Draw!E105=0,\"\",Draw!E105)","v":""},null,null,null,null,null,null,null,null,null,0]
[{"$f":"IF(Draw!E106=0,\"\",Draw!E106)","v":""},{"$f":"IF(A105=\"\",\"\",B$3)","v":""},null,null,null,null,null,{"$f":"IF(B106=\"\",\"\",IF(K106=5,(SUM(C106:G106)-MAX(C106:G106)-MIN(C106:G106))/3,IF(K106=4,(SUM(C106:G106)-MAX(C106:G106))/3,SUM(C106:G106)/3))*B106/7.6)","v":""},null,null,0]
[{"$f":"IF(Draw!E107=0,\"\",Draw!E107)","v":""},null,null,null,null,null,null,null,null,null,0]
[{"$f":"IF(Draw!E108=0,\"\",Draw!E108)","v":""},{"$f":"IF(A107=\"\",\"\",B$3)","v":""},null,null,null,null,null,{"$f":"IF(B108=\"\",\"\",IF(K108=5,(SUM(C108:G108)-MAX(C108:G108)-MIN(C108:G108))/3,IF(K108=4,(SUM(C108:G108)-MAX(C108:G108))/3,SUM(C108:G108)/3))*B108/7.6)","v":""},null,null,0]
[{"$f":"IF(Draw!E109=0,\"\",Draw!E109)","v":""},null,null,null,null,null,null,null,null,null,0]
[{"$f":"IF(Draw!E110=0,\"\",Draw!E110)","v":""},{"$f":"IF(A109=\"\",\"\",B$3)","v":""},null,null,null,null,null,{"$f":"IF(B110=\"\",\"\",IF(K110=5,(SUM(C110:G110)-MAX(C110:G110)-MIN(C110:G110))/3,IF(K110=4,(SUM(C110:G110)-MAX(C110:G110))/3,SUM(C110:G110)/3))*B110/7.6)","v":""},null,null,0]
[{"$f":"IF(Draw!E111=0,\"\",Draw!E111)","v":""},null,null,null,null,null,null,null,null,null,0]
[{"$f":"IF(Draw!E112=0,\"\",Draw!E112)","v":""},{"$f":"IF(A111=\"\",\"\",B$3)","v":""},null,null,null,null,null,{"$f":"IF(B112=\"\",\"\",IF(K112=5,(SUM(C112:G112)-MAX(C112:G112)-MIN(C112:G112))/3,IF(K112=4,(SUM(C112:G112)-MAX(C112:G112))/3,SUM(C112:G112)/3))*B112/7.6)","v":""},null,null,0]
[{"$f":"IF(Draw!E113=0,\"\",Draw!E113)","v":""},null,null,null,null,null,null,null,null,null,0]
[{"$f":"IF(Draw!E114=0,\"\",Draw!E114)","v":""},{"$f":"IF(A113=\"\",\"\",B$3)","v":""},null,null,null,null,null,{"$f":"IF(B114=\"\",\"\",IF(K114=5,(SUM(C114:G114)-MAX(C114:G114)-MIN(C114:G114))/3,IF(K114=4,(SUM(C114:G114)-MAX(C114:G114))/3,SUM(C114:G114)/3))*B114/7.6)","v":""},null,null,0]
[{"$f":"IF(Draw!E115=0,\"\",Draw!E115)","v":""},null,null,null,null,null,null,null,null,null,0]
[{"$f":"IF(Draw!E116=0,\"\",Draw!E116)","v":""},{"$f":"IF(A115=\"\",\"\",B$3)","v":""},null,null,null,null,null,{"$f":"IF(B116=\"\",\"\",IF(K116=5,(SUM(C116:G116)-MAX(C116:G116)-MIN(C116:G116))/3,IF(K116=4,(SUM(C116:G116)-MAX(C116:G116))/3,SUM(C116:G116)/3))*B116/7.6)","v":""},null,null,0]
[{"$f":"IF(Draw!E117=0,\"\",Draw!E117)","v":""},null,null,null,null,null,null,null,null,null,0]
[{"$f":"IF(Draw!E118=0,\"\",Draw!E118)","v":""},{"$f":"IF(A117=\"\",\"\",B$3)","v":""},null,null,null,null,null,{"$f":"IF(B118=\"\",\"\",IF(K118=5,(SUM(C118:G118)-MAX(C118:G118)-MIN(C118:G118))/3,IF(K118=4,(SUM(C118:G118)-MAX(C118:G118))/3,SUM(C118:G118)/3))*B118/7.6)","v":""},null,null,0]
[{"$f":"IF(Draw!E119=0,\"\",Draw!E119)","v":""},null,null,null,null,null,null,null,null,null,0]
[{"$f":"IF(Draw!E120=0,\"\",Draw!E120)","v":""},{"$f":"IF(A119=\"\",\"\",B$3)","v":""},null,null,null,null,null,{"$f":"IF(B120=\"\",\"\",IF(K120=5,(SUM(C120:G120)-MAX(C120:G120)-MIN(C120:G120))/3,IF(K120=4,(SUM(C120:G120)-MAX(C120:G120))/3,SUM(C120:G120)/3))*B120/7.6)","v":""},null,null,0]
[{"$f":"IF(Draw!E121=0,\"\",Draw!E121)","v":""},null,null,null,null,null,null,null,null,null,0]
[{"$f":"IF(Draw!E122=0,\"\",Draw!E122)","v":""},{"$f":"IF(A121=\"\",\"\",B$3)","v":""},null,null,null,null,null,{"$f":"IF(B122=\"\",\"\",IF(K122=5,(SUM(C122:G122)-MAX(C122:G122)-MIN(C122:G122))/3,IF(K122=4,(SUM(C122:G122)-MAX(C122:G122))/3,SUM(C122:G122)/3))*B122/7.6)","v":""},null,null,0]
[{"$f":"IF(Draw!E123=0,\"\",Draw!E123)","v":""},null,null,null,null,null,null,null,null,null,0]
[{"$f":"IF(Draw!E124=0,\"\",Draw!E124)","v":""},{"$f":"IF(A123=\"\",\"\",B$3)","v":""},null,null,null,null,null,{"$f":"IF(B124=\"\",\"\",IF(K124=5,(SUM(C124:G124)-MAX(C124:G124)-MIN(C124:G124))/3,IF(K124=4,(SUM(C124:G124)-MAX(C124:G124))/3,SUM(C124:G124)/3))*B124/7.6)","v":""},null,null,0]
[{"$f":"IF(Draw!E125=0,\"\",Draw!E125)","v":""},null,null,null,null,null,null,null,null,null,0]
[{"$f":"IF(Draw!E126=0,\"\",Draw!E126)","v":""},{"$f":"IF(A125=\"\",\"\",B$3)","v":""},null,null,null,null,null,{"$f":"IF(B126=\"\",\"\",IF(K126=5,(SUM(C126:G126)-MAX(C126:G126)-MIN(C126:G126))/3,IF(K126=4,(SUM(C126:G126)-MAX(C126:G126))/3,SUM(C126:G126)/3))*B126/7.6)","v":""},null,null,0]
[{"$f":"IF(Draw!E127=0,\"\",Draw!E127)","v":""},null,null,null,null,null,null,null,null,null,0]
[{"$f":"IF(Draw!E128=0,\"\",Draw!E128)","v":""},{"$f":"IF(A127=\"\",\"\",B$3)","v":""},null,null,null,null,null,{"$f":"IF(B128=\"\",\"\",IF(K128=5,(SUM(C128:G128)-MAX(C128:G128)-MIN(C128:G128))/3,IF(K128=4,(SUM(C128:G128)-MAX(C128:G128))/3,SUM(C128:G128)/3))*B128/7.6)","v":""},null,null,0]
[{"$f":"IF(Draw!E129=0,\"\",Draw!E129)","v":""},null,null,null,null,null,null,null,null,null,0]
[{"$f":"IF(Draw!E130=0,\"\",Draw!E130)","v":""},{"$f":"IF(A129=\"\",\"\",B$3)","v":""},null,null,null,null,null,{"$f":"IF(B130=\"\",\"\",IF(K130=5,(SUM(C130:G130)-MAX(C130:G130)-MIN(C130:G130))/3,IF(K130=4,(SUM(C130:G130)-MAX(C130:G130))/3,SUM(C130:G130)/3))*B130/7.6)","v":""},null,null,0]
[{"$f":"IF(Draw!E131=0,\"\",Draw!E131)","v":""},null,null,null,null,null,null,null,null,null,0]
[{"$f":"IF(Draw!E132=0,\"\",Draw!E132)","v":""},{"$f":"IF(A131=\"\",\"\",B$3)","v":""},null,null,null,null,null,{"$f":"IF(B132=\"\",\"\",IF(K132=5,(SUM(C132:G132)-MAX(C132:G132)-MIN(C132:G132))/3,IF(K132=4,(SUM(C132:G132)-MAX(C132:G132))/3,SUM(C132:G132)/3))*B132/7.6)","v":""},null,null,{"$f":"COUNT(C132:G132)","v":0}]
[{"$f":"IF(Draw!E133=0,\"\",Draw!E133)","v":""},null,null,null,null,null,null,null,null,null,0]
[{"$f":"IF(Draw!E134=0,\"\",Draw!E134)","v":""},{"$f":"IF(A133=\"\",\"\",B$3)","v":""},null,null,null,null,null,{"$f":"IF(B134=\"\",\"\",IF(K134=5,(SUM(C134:G134)-MAX(C134:G134)-MIN(C134:G134))/3,IF(K134=4,(SUM(C134:G134)-MAX(C134:G134))/3,SUM(C134:G134)/3))*B134/7.6)","v":""},null,null,0]
[{"$f":"IF(Draw!E135=0,\"\",Draw!E135)","v":""},null,null,null,null,null,null,null,null,null,0]
[{"$f":"IF(Draw!E136=0,\"\",Draw!E136)","v":""},{"$f":"IF(A135=\"\",\"\",B$3)","v":""},null,null,null,null,null,{"$f":"IF(B136=\"\",\"\",IF(K136=5,(SUM(C136:G136)-MAX(C136:G136)-MIN(C136:G136))/3,IF(K136=4,(SUM(C136:G136)-MAX(C136:G136))/3,SUM(C136:G136)/3))*B136/7.6)","v":""},null,null,0]
[{"$f":"IF(Draw!E137=0,\"\",Draw!E137)","v":""},null,null,null,null,null,null,null,null,null,0]
[{"$f":"IF(Draw!E138=0,\"\",Draw!E138)","v":""},{"$f":"IF(A137=\"\",\"\",B$3)","v":""},null,null,null,null,null,{"$f":"IF(B138=\"\",\"\",IF(K138=5,(SUM(C138:G138)-MAX(C138:G138)-MIN(C138:G138))/3,IF(K138=4,(SUM(C138:G138)-MAX(C138:G138))/3,SUM(C138:G138)/3))*B138/7.6)","v":""},null,null,0]
[{"$f":"IF(Draw!E139=0,\"\",Draw!E139)","v":""},null,null,null,null,null,null,null,null,null,0]
[{"$f":"IF(Draw!E140=0,\"\",Draw!E140)","v":""},{"$f":"IF(A139=\"\",\"\",B$3)","v":""},null,null,null,null,null,{"$f":"IF(B140=\"\",\"\",IF(K140=5,(SUM(C140:G140)-MAX(C140:G140)-MIN(C140:G140))/3,IF(K140=4,(SUM(C140:G140)-MAX(C140:G140))/3,SUM(C140:G140)/3))*B140/7.6)","v":""},null,null,0]
[{"$f":"IF(Draw!E141=0,\"\",Draw!E141)","v":""},null,null,null,null,null,null,null,null,null,0]
[{"$f":"IF(Draw!E142=0,\"\",Draw!E142)","v":""},{"$f":"IF(A141=\"\",\"\",B$3)","v":""},null,null,null,null,null,{"$f":"IF(B142=\"\",\"\",IF(K142=5,(SUM(C142:G142)-MAX(C142:G142)-MIN(C142:G142))/3,IF(K142=4,(SUM(C142:G142)-MAX(C142:G142))/3,SUM(C142:G142)/3))*B142/7.6)","v":""},null,null,0]
[{"$f":"IF(Draw!E143=0,\"\",Draw!E143)","v":""},null,null,null,null,null,null,null,null,null,0]
[{"$f":"IF(Draw!E144=0,\"\",Draw!E144)","v":""},{"$f":"IF(A143=\"\",\"\",B$3)","v":""},null,null,null,null,null,{"$f":"IF(B144=\"\",\"\",IF(K144=5,(SUM(C144:G144)-MAX(C144:G144)-MIN(C144:G144))/3,IF(K144=4,(SUM(C144:G144)-MAX(C144:G144))/3,SUM(C144:G144)/3))*B144/7.6)","v":""},null,null,0]
[{"$f":"IF(Draw!E145=0,\"\",Draw!E145)","v":""},null,null,null,null,null,null,null,null,null,0]
[{"$f":"IF(Draw!E146=0,\"\",Draw!E146)","v":""},{"$f":"IF(A145=\"\",\"\",B$3)","v":""},null,null,null,null,null,{"$f":"IF(B146=\"\",\"\",IF(K146=5,(SUM(C146:G146)-MAX(C146:G146)-MIN(C146:G146))/3,IF(K146=4,(SUM(C146:G146)-MAX(C146:G146))/3,SUM(C146:G146)/3))*B146/7.6)","v":""},null,null,0]
[{"$f":"IF(Draw!E147=0,\"\",Draw!E147)","v":""},null,null,null,null,null,null,null,null,null,0]
[{"$f":"IF(Draw!E148=0,\"\",Draw!E148)","v":""},{"$f":"IF(A147=\"\",\"\",B$3)","v":""},null,null,null,null,null,{"$f":"IF(B148=\"\",\"\",IF(K148=5,(SUM(C148:G148)-MAX(C148:G148)-MIN(C148:G148))/3,IF(K148=4,(SUM(C148:G148)-MAX(C148:G148))/3,SUM(C148:G148)/3))*B148/7.6)","v":""},null,null,0]
[{"$f":"IF(Draw!E149=0,\"\",Draw!E149)","v":""},null,null,null,null,null,null,null,null,null,0]
[null,{"$f":"IF(A149=\"\",\"\",B$3)","v":""},null,null,null,null,null,{"$f":"IF(B150=\"\",\"\",IF(K150=5,(SUM(C150:G150)-MAX(C150:G150)-MIN(C150:G150))/3,IF(K150=4,(SUM(C150:G150)-MAX(C150:G150))/3,SUM(C150:G150)/3))*B150/7.6)","v":""},null,null,0]

{"sheet":"Fig 4 Walkover","index":4,"n_rows":150,"n_cols":11,"rows_kept":150,"cut":false,"hidden":false,"merged":[[0,2,0,6]]}
[null,"Figure #4:","360 Walkover Front"]
["#","Degree of Difficulty","Judge 1","Judge 2","Judge 3","Judge 4","Judge 5","Score","Penalty"]
[{"$f":"IF([1]Draw!E2=0,\"\",[1]Draw!E2)","v":1},2.1,57,58,56,55,56,{"$f":"IF(B3=\"\",\"\",IF(K3=5,(SUM(C3:G3)-MAX(C3:G3)-MIN(C3:G3))/3,IF(K3=4,(SUM(C3:G3)-MAX(C3:G3))/3,SUM(C3:G3)/3))*B3/7.6)","v":15.565789473684212},null,null,{"$f":"COUNT(C3:G3)","v":5}]
[{"$f":"IF([1]Draw!E3=0,\"\",[1]Draw!E3)","v":2},{"$f":"IF(A4=\"\",\"\",B$3)","v":2.1},59,57,58,56,57,{"$f":"IF(B4=\"\",\"\",IF(K4=5,(SUM(C4:G4)-MAX(C4:G4)-MIN(C4:G4))/3,IF(K4=4,(SUM(C4:G4)-MAX(C4:G4))/3,SUM(C4:G4)/3))*B4/7.6)","v":15.842105263157896},null,null,{"$f":"COUNT(C4:G4)","v":5}]
[{"$f":"IF([1]Draw!E4=0,\"\",[1]Draw!E4)","v":3},2.1,55,60,57,58,55,15.657894736842106,null,null,5]
[4,2.1,56,54,56,54,52,{"$f":"IF(B6=\"\",\"\",IF(K6=5,(SUM(C6:G6)-MAX(C6:G6)-MIN(C6:G6))/3,IF(K6=4,(SUM(C6:G6)-MAX(C6:G6))/3,SUM(C6:G6)/3))*B6/7.6)","v":15.105263157894738},null,null,5]
[5,2.1,58,58,59,59,58,16.118421052631582,null,null,5]
[6,2.1,52,55,54,54,54,{"$f":"IF(B8=\"\",\"\",IF(K8=5,(SUM(C8:G8)-MAX(C8:G8)-MIN(C8:G8))/3,IF(K8=4,(SUM(C8:G8)-MAX(C8:G8))/3,SUM(C8:G8)/3))*B8/7.6)","v":14.921052631578949},null,null,5]
[7,2.1,58,55,59,59,59,16.210526315789476,null,null,5]
[8,{"$f":"IF(A10=\"\",\"\",B$3)","v":2.1},59,59,57,58,56,{"$f":"IF(B10=\"\",\"\",IF(K10=5,(SUM(C10:G10)-MAX(C10:G10)-MIN(C10:G10))/3,IF(K10=4,(SUM(C10:G10)-MAX(C10:G10))/3,SUM(C10:G10)/3))*B10/7.6)","v":16.026315789473685},null,null,5]
[9,2.1,56,55,53,50,49,14.552631578947368,null,null,5]
[10,{"$f":"IF(A12=\"\",\"\",B$3)","v":2.1},52,57,50,51,53,{"$f":"IF(B12=\"\",\"\",IF(K12=5,(SUM(C12:G12)-MAX(C12:G12)-MIN(C12:G12))/3,IF(K12=4,(SUM(C12:G12)-MAX(C12:G12))/3,SUM(C12:G12)/3))*B12/7.6)","v":14.368421052631581},null,null,5]
[11,2.1,54,54,54,54,55,14.921052631578949,null,null,5]
[12,{"$f":"IF(A14=\"\",\"\",B$3)","v":2.1},52,53,52,53,52,{"$f":"IF(B14=\"\",\"\",IF(K14=5,(SUM(C14:G14)-MAX(C14:G14)-MIN(C14:G14))/3,IF(K14=4,(SUM(C14:G14)-MAX(C14:G14))/3,SUM(C14:G14)/3))*B14/7.6)","v":14.460526315789474},null,null,5]
[13,2.1,59,59,56,54,50,15.565789473684212,null,null,5]
[14,{"$f":"IF(A16=\"\",\"\",B$3)","v":2.1},57,55,57,57,58,{"$f":"IF(B16=\"\",\"\",IF(K16=5,(SUM(C16:G16)-MAX(C16:G16)-MIN(C16:G16))/3,IF(K16=4,(SUM(C16:G16)-MAX(C16:G16))/3,SUM(C16:G16)/3))*B16/7.6)","v":15.750000000000002},null,null,5]
[15,2.1,58,56,53,54,53,15.013157894736844,null,null,5]
[16,{"$f":"IF(A18=\"\",\"\",B$3)","v":2.1},null,null,null,null,null,{"$f":"IF(B18=\"\",\"\",IF(K18=5,(SUM(C18:G18)-MAX(C18:G18)-MIN(C18:G18))/3,IF(K18=4,(SUM(C18:G18)-MAX(C18:G18))/3,SUM(C18:G18)/3))*B18/7.6)","v":0},null,null,0]
[17,2.1,54,53,55,55,55,15.105263157894738,null,null,5]
[18,{"$f":"IF(A20=\"\",\"\",B$3)","v":2.1},57,55,59,61,60,{"$f":"IF(B20=\"\",\"\",IF(K20=5,(SUM(C20:G20)-MAX(C20:G20)-MIN(C20:G20))/3,IF(K20=4,(SUM(C20:G20)-MAX(C20:G20))/3,SUM(C20:G20)/3))*B20/7.6)","v":16.210526315789476},null,null,5]
[19,2.1,52,50,51,52,53,14.276315789473685,null,null,5]
[20,{"$f":"IF(A22=\"\",\"\",B$3)","v":2.1},52,53,50,53,52,{"$f":"IF(B22=\"\",\"\",IF(K22=5,(SUM(C22:G22)-MAX(C22:G22)-MIN(C22:G22))/3,IF(K22=4,(SUM(C22:G22)-MAX(C22:G22))/3,SUM(C22:G22)/3))*B22/7.6)","v":14.460526315789474},null,null,5]
[21,2.1,53,53,52,51,50,14.368421052631581,null,null,5]
[22,{"$f":"IF(A24=\"\",\"\",B$3)","v":2.1},54,54,53,50,51,{"$f":"IF(B24=\"\",\"\",IF(K24=5,(SUM(C24:G24)-MAX(C24:G24)-MIN(C24:G24))/3,IF(K24=4,(SUM(C24:G24)-MAX(C24:G24))/3,SUM(C24:G24)/3))*B24/7.6)","v":14.552631578947368},null,null,5]
[23,2.1,60,59,62,64,62,16.947368421052634,null,null,5]
[24,{"$f":"IF(A26=\"\",\"\",B$3)","v":2.1},54,56,54,51,50,{"$f":"IF(B26=\"\",\"\",IF(K26=5,(SUM(C26:G26)-MAX(C26:G26)-MIN(C26:G26))/3,IF(K26=4,(SUM(C26:G26)-MAX(C26:G26))/3,SUM(C26:G26)/3))*B26/7.6)","v":14.644736842105265},null,null,5]
[25,2.1,51,48,50,48,47,13.447368421052632,null,null,5]
[26,{"$f":"IF(A28=\"\",\"\",B$3)","v":2.1},65,63,61,63,64,{"$f":"IF(B28=\"\",\"\",IF(K28=5,(SUM(C28:G28)-MAX(C28:G28)-MIN(C28:G28))/3,IF(K28=4,(SUM(C28:G28)-MAX(C28:G28))/3,SUM(C28:G28)/3))*B28/7.6)","v":17.5},null,null,5]
[27,2.1,63,61,61,63,63,17.223684210526319,null,null,5]
[28,{"$f":"IF(A30=\"\",\"\",B$3)","v":2.1},58,54,56,57,58,{"$f":"IF(B30=\"\",\"\",IF(K30=5,(SUM(C30:G30)-MAX(C30:G30)-MIN(C30:G30))/3,IF(K30=4,(SUM(C30:G30)-MAX(C30:G30))/3,SUM(C30:G30)/3))*B30/7.6)","v":15.750000000000002},null,null,5]
[29,2.1,67,65,70,70,70,19.065789473684212,null,null,5]
[30,{"$f":"IF(A32=\"\",\"\",B$3)","v":2.1},56,56,60,60,57,{"$f":"IF(B32=\"\",\"\",IF(K32=5,(SUM(C32:G32)-MAX(C32:G32)-MIN(C32:G32))/3,IF(K32=4,(SUM(C32:G32)-MAX(C32:G32))/3,SUM(C32:G32)/3))*B32/7.6)","v":15.934210526315789},null,null,5]
[31,2.1,62,59,58,56,57,16.026315789473685,null,null,5]
[32,{"$f":"IF(A34=\"\",\"\",B$3)","v":2.1},66,64,61,65,64,{"$f":"IF(B34=\"\",\"\",IF(K34=5,(SUM(C34:G34)-MAX(C34:G34)-MIN(C34:G34))/3,IF(K34=4,(SUM(C34:G34)-MAX(C34:G34))/3,SUM(C34:G34)/3))*B34/7.6)","v":17.776315789473685},null,null,5]
[33,{"$f":"IF(A35=\"\",\"\",B$3)","v":2.1},48,46,48,46,49,13.078947368421055,null,null,5]
[34,{"$f":"IF(A36=\"\",\"\",B$3)","v":2.1},55,55,52,46,51,{"$f":"IF(B36=\"\",\"\",IF(K36=5,(SUM(C36:G36)-MAX(C36:G36)-MIN(C36:G36))/3,IF(K36=4,(SUM(C36:G36)-MAX(C36:G36))/3,SUM(C36:G36)/3))*B36/7.6)","v":14.552631578947368},null,null,5]
[35,2.1,51,52,49,50,53,14.092105263157897,null,null,5]
[36,{"$f":"IF(A38=\"\",\"\",B$3)","v":2.1},58,58,58,57,57,{"$f":"IF(B38=\"\",\"\",IF(K38=5,(SUM(C38:G38)-MAX(C38:G38)-MIN(C38:G38))/3,IF(K38=4,(SUM(C38:G38)-MAX(C38:G38))/3,SUM(C38:G38)/3))*B38/7.6)","v":15.934210526315789},null,null,5]
[37,2.1,55,57,53,58,55,15.381578947368423,null,null,5]
[38,{"$f":"IF(A40=\"\",\"\",B$3)","v":2.1},49,46,47,42,46,{"$f":"IF(B40=\"\",\"\",IF(K40=5,(SUM(C40:G40)-MAX(C40:G40)-MIN(C40:G40))/3,IF(K40=4,(SUM(C40:G40)-MAX(C40:G40))/3,SUM(C40:G40)/3))*B40/7.6)","v":12.80263157894737},null,null,5]
[39,2.1,60,58,60,63,61,16.671052631578949,null,null,5]
[40,{"$f":"IF(A42=\"\",\"\",B$3)","v":2.1},61,63,63,63,62,{"$f":"IF(B42=\"\",\"\",IF(K42=5,(SUM(C42:G42)-MAX(C42:G42)-MIN(C42:G42))/3,IF(K42=4,(SUM(C42:G42)-MAX(C42:G42))/3,SUM(C42:G42)/3))*B42/7.6)","v":17.315789473684209},null,null,5]
[41,2.1,62,59,59,61,61,16.671052631578949,null,null,5]
[42,{"$f":"IF(A44=\"\",\"\",B$3)","v":2.1},59,58,58,58,57,{"$f":"IF(B44=\"\",\"\",IF(K44=5,(SUM(C44:G44)-MAX(C44:G44)-MIN(C44:G44))/3,IF(K44=4,(SUM(C44:G44)-MAX(C44:G44))/3,SUM(C44:G44)/3))*B44/7.6)","v":16.026315789473685},null,null,5]
[43,2.1,59,56,56,58,59,15.934210526315789,null,null,5]
[44,{"$f":"IF(A46=\"\",\"\",B$3)","v":2.1},61,58,60,60,62,{"$f":"IF(B46=\"\",\"\",IF(K46=5,(SUM(C46:G46)-MAX(C46:G46)-MIN(C46:G46))/3,IF(K46=4,(SUM(C46:G46)-MAX(C46:G46))/3,SUM(C46:G46)/3))*B46/7.6)","v":16.671052631578949},null,null,5]
[45,2.1,55,54,55,49,52,14.828947368421053,null,null,5]
[46,{"$f":"IF(A48=\"\",\"\",B$3)","v":2.1},53,55,52,53,54,{"$f":"IF(B48=\"\",\"\",IF(K48=5,(SUM(C48:G48)-MAX(C48:G48)-MIN(C48:G48))/3,IF(K48=4,(SUM(C48:G48)-MAX(C48:G48))/3,SUM(C48:G48)/3))*B48/7.6)","v":14.736842105263161},null,null,5]
[47,2.1,48,52,48,47,50,13.447368421052632,null,null,5]
[48,{"$f":"IF(A50=\"\",\"\",B$3)","v":2.1},63,61,62,64,63,{"$f":"IF(B50=\"\",\"\",IF(K50=5,(SUM(C50:G50)-MAX(C50:G50)-MIN(C50:G50))/3,IF(K50=4,(SUM(C50:G50)-MAX(C50:G50))/3,SUM(C50:G50)/3))*B50/7.6)","v":17.315789473684209},null,null,5]
[49,2.1,52,56,50,52,51,14.276315789473685,null,null,5]
[50,{"$f":"IF(A52=\"\",\"\",B$3)","v":2.1},53,54,57,58,57,{"$f":"IF(B52=\"\",\"\",IF(K52=5,(SUM(C52:G52)-MAX(C52:G52)-MIN(C52:G52))/3,IF(K52=4,(SUM(C52:G52)-MAX(C52:G52))/3,SUM(C52:G52)/3))*B52/7.6)","v":15.473684210526317},null,null,5]
[51,2.1,63,63,63,63,60,17.407894736842106,null,null,5]
[52,2.1,54,53,54,53,52,{"$f":"IF(B54=\"\",\"\",IF(K54=5,(SUM(C54:G54)-MAX(C54:G54)-MIN(C54:G54))/3,IF(K54=4,(SUM(C54:G54)-MAX(C54:G54))/3,SUM(C54:G54)/3))*B54/7.6)","v":14.736842105263161},null,null,5]
[53,2.1,61,64,61,63,60,17.039473684210527,null,null,5]
[54,{"$f":"IF(A56=\"\",\"\",B$3)","v":2.1},66,62,65,66,65,{"$f":"IF(B56=\"\",\"\",IF(K56=5,(SUM(C56:G56)-MAX(C56:G56)-MIN(C56:G56))/3,IF(K56=4,(SUM(C56:G56)-MAX(C56:G56))/3,SUM(C56:G56)/3))*B56/7.6)","v":18.052631578947366},null,null,5]
[55,2.1,50,51,48,48,48,13.447368421052632,null,null,5]
[{"$f":"IF(Draw!E57=0,\"\",Draw!E57)","v":""},{"$f":"IF(A58=\"\",\"\",B$3)","v":""},null,null,null,null,null,{"$f":"IF(B58=\"\",\"\",IF(K58=5,(SUM(C58:G58)-MAX(C58:G58)-MIN(C58:G58))/3,IF(K58=4,(SUM(C58:G58)-MAX(C58:G58))/3,SUM(C58:G58)/3))*B58/7.6)","v":""},null,null,0]
[{"$f":"IF(Draw!E58=0,\"\",Draw!E58)","v":""},null,null,null,null,null,null,null,null,null,0]
[{"$f":"IF(Draw!E59=0,\"\",Draw!E59)","v":""},{"$f":"IF(A60=\"\",\"\",B$3)","v":""},null,null,null,null,null,{"$f":"IF(B60=\"\",\"\",IF(K60=5,(SUM(C60:G60)-MAX(C60:G60)-MIN(C60:G60))/3,IF(K60=4,(SUM(C60:G60)-MAX(C60:G60))/3,SUM(C60:G60)/3))*B60/7.6)","v":""},null,null,0]
[{"$f":"IF(Draw!E60=0,\"\",Draw!E60)","v":""},null,null,null,null,null,null,null,null,null,0]
[{"$f":"IF(Draw!E61=0,\"\",Draw!E61)","v":""},{"$f":"IF(A62=\"\",\"\",B$3)","v":""},null,null,null,null,null,{"$f":"IF(B62=\"\",\"\",IF(K62=5,(SUM(C62:G62)-MAX(C62:G62)-MIN(C62:G62))/3,IF(K62=4,(SUM(C62:G62)-MAX(C62:G62))/3,SUM(C62:G62)/3))*B62/7.6)","v":""},null,null,0]
[{"$f":"IF(Draw!E62=0,\"\",Draw!E62)","v":""},null,null,null,null,null,null,null,null,null,0]
[{"$f":"IF(Draw!E63=0,\"\",Draw!E63)","v":""},{"$f":"IF(A64=\"\",\"\",B$3)","v":""},null,null,null,null,null,{"$f":"IF(B64=\"\",\"\",IF(K64=5,(SUM(C64:G64)-MAX(C64:G64)-MIN(C64:G64))/3,IF(K64=4,(SUM(C64:G64)-MAX(C64:G64))/3,SUM(C64:G64)/3))*B64/7.6)","v":""},null,null,0]
[{"$f":"IF(Draw!E64=0,\"\",Draw!E64)","v":""},null,null,null,null,null,null,null,null,null,0]
[{"$f":"IF(Draw!E65=0,\"\",Draw!E65)","v":""},{"$f":"IF(A66=\"\",\"\",B$3)","v":""},null,null,null,null,null,{"$f":"IF(B66=\"\",\"\",IF(K66=5,(SUM(C66:G66)-MAX(C66:G66)-MIN(C66:G66))/3,IF(K66=4,(SUM(C66:G66)-MAX(C66:G66))/3,SUM(C66:G66)/3))*B66/7.6)","v":""},null,null,0]
[{"$f":"IF(Draw!E66=0,\"\",Draw!E66)","v":""},null,null,null,null,null,null,null,null,null,0]
[{"$f":"IF(Draw!E67=0,\"\",Draw!E67)","v":""},{"$f":"IF(A68=\"\",\"\",B$3)","v":""},null,null,null,null,null,{"$f":"IF(B68=\"\",\"\",IF(K68=5,(SUM(C68:G68)-MAX(C68:G68)-MIN(C68:G68))/3,IF(K68=4,(SUM(C68:G68)-MAX(C68:G68))/3,SUM(C68:G68)/3))*B68/7.6)","v":""},null,null,{"$f":"COUNT(C68:G68)","v":0}]
[{"$f":"IF(Draw!E68=0,\"\",Draw!E68)","v":""},null,null,null,null,null,null,null,null,null,0]
[{"$f":"IF(Draw!E69=0,\"\",Draw!E69)","v":""},{"$f":"IF(A70=\"\",\"\",B$3)","v":""},null,null,null,null,null,{"$f":"IF(B70=\"\",\"\",IF(K70=5,(SUM(C70:G70)-MAX(C70:G70)-MIN(C70:G70))/3,IF(K70=4,(SUM(C70:G70)-MAX(C70:G70))/3,SUM(C70:G70)/3))*B70/7.6)","v":""},null,null,0]
[{"$f":"IF(Draw!E70=0,\"\",Draw!E70)","v":""},null,null,null,null,null,null,null,null,null,0]
[{"$f":"IF(Draw!E71=0,\"\",Draw!E71)","v":""},{"$f":"IF(A72=\"\",\"\",B$3)","v":""},null,null,null,null,null,{"$f":"IF(B72=\"\",\"\",IF(K72=5,(SUM(C72:G72)-MAX(C72:G72)-MIN(C72:G72))/3,IF(K72=4,(SUM(C72:G72)-MAX(C72:G72))/3,SUM(C72:G72)/3))*B72/7.6)","v":""},null,null,0]
[{"$f":"IF(Draw!E72=0,\"\",Draw!E72)","v":""},null,null,null,null,null,null,null,null,null,0]
[{"$f":"IF(Draw!E73=0,\"\",Draw!E73)","v":""},{"$f":"IF(A74=\"\",\"\",B$3)","v":""},null,null,null,null,null,{"$f":"IF(B74=\"\",\"\",IF(K74=5,(SUM(C74:G74)-MAX(C74:G74)-MIN(C74:G74))/3,IF(K74=4,(SUM(C74:G74)-MAX(C74:G74))/3,SUM(C74:G74)/3))*B74/7.6)","v":""},null,null,0]
[{"$f":"IF(Draw!E74=0,\"\",Draw!E74)","v":""},null,null,null,null,null,null,null,null,null,0]
[{"$f":"IF(Draw!E75=0,\"\",Draw!E75)","v":""},{"$f":"IF(A76=\"\",\"\",B$3)","v":""},null,null,null,null,null,{"$f":"IF(B76=\"\",\"\",IF(K76=5,(SUM(C76:G76)-MAX(C76:G76)-MIN(C76:G76))/3,IF(K76=4,(SUM(C76:G76)-MAX(C76:G76))/3,SUM(C76:G76)/3))*B76/7.6)","v":""},null,null,0]
[{"$f":"IF(Draw!E76=0,\"\",Draw!E76)","v":""},null,null,null,null,null,null,null,null,null,0]
[{"$f":"IF(Draw!E77=0,\"\",Draw!E77)","v":""},{"$f":"IF(A78=\"\",\"\",B$3)","v":""},null,null,null,null,null,{"$f":"IF(B78=\"\",\"\",IF(K78=5,(SUM(C78:G78)-MAX(C78:G78)-MIN(C78:G78))/3,IF(K78=4,(SUM(C78:G78)-MAX(C78:G78))/3,SUM(C78:G78)/3))*B78/7.6)","v":""},null,null,0]
[{"$f":"IF(Draw!E78=0,\"\",Draw!E78)","v":""},null,null,null,null,null,null,null,null,null,0]
[{"$f":"IF(Draw!E79=0,\"\",Draw!E79)","v":""},{"$f":"IF(A80=\"\",\"\",B$3)","v":""},null,null,null,null,null,{"$f":"IF(B80=\"\",\"\",IF(K80=5,(SUM(C80:G80)-MAX(C80:G80)-MIN(C80:G80))/3,IF(K80=4,(SUM(C80:G80)-MAX(C80:G80))/3,SUM(C80:G80)/3))*B80/7.6)","v":""},null,null,0]
[{"$f":"IF(Draw!E80=0,\"\",Draw!E80)","v":""},null,null,null,null,null,null,null,null,null,0]
[{"$f":"IF(Draw!E81=0,\"\",Draw!E81)","v":""},{"$f":"IF(A82=\"\",\"\",B$3)","v":""},null,null,null,null,null,{"$f":"IF(B82=\"\",\"\",IF(K82=5,(SUM(C82:G82)-MAX(C82:G82)-MIN(C82:G82))/3,IF(K82=4,(SUM(C82:G82)-MAX(C82:G82))/3,SUM(C82:G82)/3))*B82/7.6)","v":""},null,null,0]
[{"$f":"IF(Draw!E82=0,\"\",Draw!E82)","v":""},null,null,null,null,null,null,null,null,null,0]
[{"$f":"IF(Draw!E83=0,\"\",Draw!E83)","v":""},{"$f":"IF(A84=\"\",\"\",B$3)","v":""},null,null,null,null,null,{"$f":"IF(B84=\"\",\"\",IF(K84=5,(SUM(C84:G84)-MAX(C84:G84)-MIN(C84:G84))/3,IF(K84=4,(SUM(C84:G84)-MAX(C84:G84))/3,SUM(C84:G84)/3))*B84/7.6)","v":""},null,null,0]
[{"$f":"IF(Draw!E84=0,\"\",Draw!E84)","v":""},null,null,null,null,null,null,null,null,null,0]
[{"$f":"IF(Draw!E85=0,\"\",Draw!E85)","v":""},{"$f":"IF(A86=\"\",\"\",B$3)","v":""},null,null,null,null,null,{"$f":"IF(B86=\"\",\"\",IF(K86=5,(SUM(C86:G86)-MAX(C86:G86)-MIN(C86:G86))/3,IF(K86=4,(SUM(C86:G86)-MAX(C86:G86))/3,SUM(C86:G86)/3))*B86/7.6)","v":""},null,null,0]
[{"$f":"IF(Draw!E86=0,\"\",Draw!E86)","v":""},null,null,null,null,null,null,null,null,null,0]
[{"$f":"IF(Draw!E87=0,\"\",Draw!E87)","v":""},{"$f":"IF(A88=\"\",\"\",B$3)","v":""},null,null,null,null,null,{"$f":"IF(B88=\"\",\"\",IF(K88=5,(SUM(C88:G88)-MAX(C88:G88)-MIN(C88:G88))/3,IF(K88=4,(SUM(C88:G88)-MAX(C88:G88))/3,SUM(C88:G88)/3))*B88/7.6)","v":""},null,null,0]
[{"$f":"IF(Draw!E88=0,\"\",Draw!E88)","v":""},null,null,null,null,null,null,null,null,null,0]
[{"$f":"IF(Draw!E89=0,\"\",Draw!E89)","v":""},{"$f":"IF(A90=\"\",\"\",B$3)","v":""},null,null,null,null,null,{"$f":"IF(B90=\"\",\"\",IF(K90=5,(SUM(C90:G90)-MAX(C90:G90)-MIN(C90:G90))/3,IF(K90=4,(SUM(C90:G90)-MAX(C90:G90))/3,SUM(C90:G90)/3))*B90/7.6)","v":""},null,null,0]
[{"$f":"IF(Draw!E90=0,\"\",Draw!E90)","v":""},null,null,null,null,null,null,null,null,null,0]
[{"$f":"IF(Draw!E91=0,\"\",Draw!E91)","v":""},{"$f":"IF(A92=\"\",\"\",B$3)","v":""},null,null,null,null,null,{"$f":"IF(B92=\"\",\"\",IF(K92=5,(SUM(C92:G92)-MAX(C92:G92)-MIN(C92:G92))/3,IF(K92=4,(SUM(C92:G92)-MAX(C92:G92))/3,SUM(C92:G92)/3))*B92/7.6)","v":""},null,null,0]
[{"$f":"IF(Draw!E92=0,\"\",Draw!E92)","v":""},null,null,null,null,null,null,null,null,null,0]
[{"$f":"IF(Draw!E93=0,\"\",Draw!E93)","v":""},{"$f":"IF(A94=\"\",\"\",B$3)","v":""},null,null,null,null,null,{"$f":"IF(B94=\"\",\"\",IF(K94=5,(SUM(C94:G94)-MAX(C94:G94)-MIN(C94:G94))/3,IF(K94=4,(SUM(C94:G94)-MAX(C94:G94))/3,SUM(C94:G94)/3))*B94/7.6)","v":""},null,null,0]
[{"$f":"IF(Draw!E94=0,\"\",Draw!E94)","v":""},null,null,null,null,null,null,null,null,null,0]
[{"$f":"IF(Draw!E95=0,\"\",Draw!E95)","v":""},{"$f":"IF(A96=\"\",\"\",B$3)","v":""},null,null,null,null,null,{"$f":"IF(B96=\"\",\"\",IF(K96=5,(SUM(C96:G96)-MAX(C96:G96)-MIN(C96:G96))/3,IF(K96=4,(SUM(C96:G96)-MAX(C96:G96))/3,SUM(C96:G96)/3))*B96/7.6)","v":""},null,null,0]
[{"$f":"IF(Draw!E96=0,\"\",Draw!E96)","v":""},null,null,null,null,null,null,null,null,null,0]
[{"$f":"IF(Draw!E97=0,\"\",Draw!E97)","v":""},{"$f":"IF(A98=\"\",\"\",B$3)","v":""},null,null,null,null,null,{"$f":"IF(B98=\"\",\"\",IF(K98=5,(SUM(C98:G98)-MAX(C98:G98)-MIN(C98:G98))/3,IF(K98=4,(SUM(C98:G98)-MAX(C98:G98))/3,SUM(C98:G98)/3))*B98/7.6)","v":""},null,null,0]
[{"$f":"IF(Draw!E98=0,\"\",Draw!E98)","v":""},null,null,null,null,null,null,null,null,null,0]
[{"$f":"IF(Draw!E99=0,\"\",Draw!E99)","v":""},{"$f":"IF(A100=\"\",\"\",B$3)","v":""},null,null,null,null,null,{"$f":"IF(B100=\"\",\"\",IF(K100=5,(SUM(C100:G100)-MAX(C100:G100)-MIN(C100:G100))/3,IF(K100=4,(SUM(C100:G100)-MAX(C100:G100))/3,SUM(C100:G100)/3))*B100/7.6)","v":""},null,null,0]
[{"$f":"IF(Draw!E100=0,\"\",Draw!E100)","v":""},null,null,null,null,null,null,null,null,null,0]
[{"$f":"IF(Draw!E101=0,\"\",Draw!E101)","v":""},{"$f":"IF(A102=\"\",\"\",B$3)","v":""},null,null,null,null,null,{"$f":"IF(B102=\"\",\"\",IF(K102=5,(SUM(C102:G102)-MAX(C102:G102)-MIN(C102:G102))/3,IF(K102=4,(SUM(C102:G102)-MAX(C102:G102))/3,SUM(C102:G102)/3))*B102/7.6)","v":""},null,null,0]
[{"$f":"IF(Draw!E102=0,\"\",Draw!E102)","v":""},null,null,null,null,null,null,null,null,null,0]
[{"$f":"IF(Draw!E103=0,\"\",Draw!E103)","v":""},{"$f":"IF(A104=\"\",\"\",B$3)","v":""},null,null,null,null,null,{"$f":"IF(B104=\"\",\"\",IF(K104=5,(SUM(C104:G104)-MAX(C104:G104)-MIN(C104:G104))/3,IF(K104=4,(SUM(C104:G104)-MAX(C104:G104))/3,SUM(C104:G104)/3))*B104/7.6)","v":""},null,null,0]
[{"$f":"IF(Draw!E104=0,\"\",Draw!E104)","v":""},null,null,null,null,null,null,null,null,null,0]
[{"$f":"IF(Draw!E105=0,\"\",Draw!E105)","v":""},{"$f":"IF(A106=\"\",\"\",B$3)","v":""},null,null,null,null,null,{"$f":"IF(B106=\"\",\"\",IF(K106=5,(SUM(C106:G106)-MAX(C106:G106)-MIN(C106:G106))/3,IF(K106=4,(SUM(C106:G106)-MAX(C106:G106))/3,SUM(C106:G106)/3))*B106/7.6)","v":""},null,null,0]
[{"$f":"IF(Draw!E106=0,\"\",Draw!E106)","v":""},null,null,null,null,null,null,null,null,null,0]
[{"$f":"IF(Draw!E107=0,\"\",Draw!E107)","v":""},{"$f":"IF(A108=\"\",\"\",B$3)","v":""},null,null,null,null,null,{"$f":"IF(B108=\"\",\"\",IF(K108=5,(SUM(C108:G108)-MAX(C108:G108)-MIN(C108:G108))/3,IF(K108=4,(SUM(C108:G108)-MAX(C108:G108))/3,SUM(C108:G108)/3))*B108/7.6)","v":""},null,null,0]
[{"$f":"IF(Draw!E108=0,\"\",Draw!E108)","v":""},null,null,null,null,null,null,null,null,null,0]
[{"$f":"IF(Draw!E109=0,\"\",Draw!E109)","v":""},{"$f":"IF(A110=\"\",\"\",B$3)","v":""},null,null,null,null,null,{"$f":"IF(B110=\"\",\"\",IF(K110=5,(SUM(C110:G110)-MAX(C110:G110)-MIN(C110:G110))/3,IF(K110=4,(SUM(C110:G110)-MAX(C110:G110))/3,SUM(C110:G110)/3))*B110/7.6)","v":""},null,null,0]
[{"$f":"IF(Draw!E110=0,\"\",Draw!E110)","v":""},null,null,null,null,null,null,null,null,null,0]
[{"$f":"IF(Draw!E111=0,\"\",Draw!E111)","v":""},{"$f":"IF(A112=\"\",\"\",B$3)","v":""},null,null,null,null,null,{"$f":"IF(B112=\"\",\"\",IF(K112=5,(SUM(C112:G112)-MAX(C112:G112)-MIN(C112:G112))/3,IF(K112=4,(SUM(C112:G112)-MAX(C112:G112))/3,SUM(C112:G112)/3))*B112/7.6)","v":""},null,null,0]
[{"$f":"IF(Draw!E112=0,\"\",Draw!E112)","v":""},null,null,null,null,null,null,null,null,null,0]
[{"$f":"IF(Draw!E113=0,\"\",Draw!E113)","v":""},{"$f":"IF(A114=\"\",\"\",B$3)","v":""},null,null,null,null,null,{"$f":"IF(B114=\"\",\"\",IF(K114=5,(SUM(C114:G114)-MAX(C114:G114)-MIN(C114:G114))/3,IF(K114=4,(SUM(C114:G114)-MAX(C114:G114))/3,SUM(C114:G114)/3))*B114/7.6)","v":""},null,null,0]
[{"$f":"IF(Draw!E114=0,\"\",Draw!E114)","v":""},null,null,null,null,null,null,null,null,null,0]
[{"$f":"IF(Draw!E115=0,\"\",Draw!E115)","v":""},{"$f":"IF(A116=\"\",\"\",B$3)","v":""},null,null,null,null,null,{"$f":"IF(B116=\"\",\"\",IF(K116=5,(SUM(C116:G116)-MAX(C116:G116)-MIN(C116:G116))/3,IF(K116=4,(SUM(C116:G116)-MAX(C116:G116))/3,SUM(C116:G116)/3))*B116/7.6)","v":""},null,null,0]
[{"$f":"IF(Draw!E116=0,\"\",Draw!E116)","v":""},null,null,null,null,null,null,null,null,null,0]
[{"$f":"IF(Draw!E117=0,\"\",Draw!E117)","v":""},{"$f":"IF(A118=\"\",\"\",B$3)","v":""},null,null,null,null,null,{"$f":"IF(B118=\"\",\"\",IF(K118=5,(SUM(C118:G118)-MAX(C118:G118)-MIN(C118:G118))/3,IF(K118=4,(SUM(C118:G118)-MAX(C118:G118))/3,SUM(C118:G118)/3))*B118/7.6)","v":""},null,null,0]
[{"$f":"IF(Draw!E118=0,\"\",Draw!E118)","v":""},null,null,null,null,null,null,null,null,null,0]
[{"$f":"IF(Draw!E119=0,\"\",Draw!E119)","v":""},{"$f":"IF(A120=\"\",\"\",B$3)","v":""},null,null,null,null,null,{"$f":"IF(B120=\"\",\"\",IF(K120=5,(SUM(C120:G120)-MAX(C120:G120)-MIN(C120:G120))/3,IF(K120=4,(SUM(C120:G120)-MAX(C120:G120))/3,SUM(C120:G120)/3))*B120/7.6)","v":""},null,null,0]
[{"$f":"IF(Draw!E120=0,\"\",Draw!E120)","v":""},null,null,null,null,null,null,null,null,null,0]
[{"$f":"IF(Draw!E121=0,\"\",Draw!E121)","v":""},{"$f":"IF(A122=\"\",\"\",B$3)","v":""},null,null,null,null,null,{"$f":"IF(B122=\"\",\"\",IF(K122=5,(SUM(C122:G122)-MAX(C122:G122)-MIN(C122:G122))/3,IF(K122=4,(SUM(C122:G122)-MAX(C122:G122))/3,SUM(C122:G122)/3))*B122/7.6)","v":""},null,null,0]
[{"$f":"IF(Draw!E122=0,\"\",Draw!E122)","v":""},null,null,null,null,null,null,null,null,null,0]
[{"$f":"IF(Draw!E123=0,\"\",Draw!E123)","v":""},{"$f":"IF(A124=\"\",\"\",B$3)","v":""},null,null,null,null,null,{"$f":"IF(B124=\"\",\"\",IF(K124=5,(SUM(C124:G124)-MAX(C124:G124)-MIN(C124:G124))/3,IF(K124=4,(SUM(C124:G124)-MAX(C124:G124))/3,SUM(C124:G124)/3))*B124/7.6)","v":""},null,null,0]
[{"$f":"IF(Draw!E124=0,\"\",Draw!E124)","v":""},null,null,null,null,null,null,null,null,null,0]
[{"$f":"IF(Draw!E125=0,\"\",Draw!E125)","v":""},{"$f":"IF(A126=\"\",\"\",B$3)","v":""},null,null,null,null,null,{"$f":"IF(B126=\"\",\"\",IF(K126=5,(SUM(C126:G126)-MAX(C126:G126)-MIN(C126:G126))/3,IF(K126=4,(SUM(C126:G126)-MAX(C126:G126))/3,SUM(C126:G126)/3))*B126/7.6)","v":""},null,null,0]
[{"$f":"IF(Draw!E126=0,\"\",Draw!E126)","v":""},null,null,null,null,null,null,null,null,null,0]
[{"$f":"IF(Draw!E127=0,\"\",Draw!E127)","v":""},{"$f":"IF(A128=\"\",\"\",B$3)","v":""},null,null,null,null,null,{"$f":"IF(B128=\"\",\"\",IF(K128=5,(SUM(C128:G128)-MAX(C128:G128)-MIN(C128:G128))/3,IF(K128=4,(SUM(C128:G128)-MAX(C128:G128))/3,SUM(C128:G128)/3))*B128/7.6)","v":""},null,null,0]
[{"$f":"IF(Draw!E128=0,\"\",Draw!E128)","v":""},null,null,null,null,null,null,null,null,null,0]
[{"$f":"IF(Draw!E129=0,\"\",Draw!E129)","v":""},{"$f":"IF(A130=\"\",\"\",B$3)","v":""},null,null,null,null,null,{"$f":"IF(B130=\"\",\"\",IF(K130=5,(SUM(C130:G130)-MAX(C130:G130)-MIN(C130:G130))/3,IF(K130=4,(SUM(C130:G130)-MAX(C130:G130))/3,SUM(C130:G130)/3))*B130/7.6)","v":""},null,null,0]
[{"$f":"IF(Draw!E130=0,\"\",Draw!E130)","v":""},null,null,null,null,null,null,null,null,null,0]
[{"$f":"IF(Draw!E131=0,\"\",Draw!E131)","v":""},{"$f":"IF(A132=\"\",\"\",B$3)","v":""},null,null,null,null,null,{"$f":"IF(B132=\"\",\"\",IF(K132=5,(SUM(C132:G132)-MAX(C132:G132)-MIN(C132:G132))/3,IF(K132=4,(SUM(C132:G132)-MAX(C132:G132))/3,SUM(C132:G132)/3))*B132/7.6)","v":""},null,null,{"$f":"COUNT(C132:G132)","v":0}]
[{"$f":"IF(Draw!E132=0,\"\",Draw!E132)","v":""},null,null,null,null,null,null,null,null,null,0]
[{"$f":"IF(Draw!E133=0,\"\",Draw!E133)","v":""},{"$f":"IF(A134=\"\",\"\",B$3)","v":""},null,null,null,null,null,{"$f":"IF(B134=\"\",\"\",IF(K134=5,(SUM(C134:G134)-MAX(C134:G134)-MIN(C134:G134))/3,IF(K134=4,(SUM(C134:G134)-MAX(C134:G134))/3,SUM(C134:G134)/3))*B134/7.6)","v":""},null,null,0]
[{"$f":"IF(Draw!E134=0,\"\",Draw!E134)","v":""},null,null,null,null,null,null,null,null,null,0]
[{"$f":"IF(Draw!E135=0,\"\",Draw!E135)","v":""},{"$f":"IF(A136=\"\",\"\",B$3)","v":""},null,null,null,null,null,{"$f":"IF(B136=\"\",\"\",IF(K136=5,(SUM(C136:G136)-MAX(C136:G136)-MIN(C136:G136))/3,IF(K136=4,(SUM(C136:G136)-MAX(C136:G136))/3,SUM(C136:G136)/3))*B136/7.6)","v":""},null,null,0]
[{"$f":"IF(Draw!E136=0,\"\",Draw!E136)","v":""},null,null,null,null,null,null,null,null,null,0]
[{"$f":"IF(Draw!E137=0,\"\",Draw!E137)","v":""},{"$f":"IF(A138=\"\",\"\",B$3)","v":""},null,null,null,null,null,{"$f":"IF(B138=\"\",\"\",IF(K138=5,(SUM(C138:G138)-MAX(C138:G138)-MIN(C138:G138))/3,IF(K138=4,(SUM(C138:G138)-MAX(C138:G138))/3,SUM(C138:G138)/3))*B138/7.6)","v":""},null,null,0]
[{"$f":"IF(Draw!E138=0,\"\",Draw!E138)","v":""},null,null,null,null,null,null,null,null,null,0]
[{"$f":"IF(Draw!E139=0,\"\",Draw!E139)","v":""},{"$f":"IF(A140=\"\",\"\",B$3)","v":""},null,null,null,null,null,{"$f":"IF(B140=\"\",\"\",IF(K140=5,(SUM(C140:G140)-MAX(C140:G140)-MIN(C140:G140))/3,IF(K140=4,(SUM(C140:G140)-MAX(C140:G140))/3,SUM(C140:G140)/3))*B140/7.6)","v":""},null,null,0]
[{"$f":"IF(Draw!E140=0,\"\",Draw!E140)","v":""},null,null,null,null,null,null,null,null,null,0]
[{"$f":"IF(Draw!E141=0,\"\",Draw!E141)","v":""},{"$f":"IF(A142=\"\",\"\",B$3)","v":""},null,null,null,null,null,{"$f":"IF(B142=\"\",\"\",IF(K142=5,(SUM(C142:G142)-MAX(C142:G142)-MIN(C142:G142))/3,IF(K142=4,(SUM(C142:G142)-MAX(C142:G142))/3,SUM(C142:G142)/3))*B142/7.6)","v":""},null,null,0]
[{"$f":"IF(Draw!E142=0,\"\",Draw!E142)","v":""},null,null,null,null,null,null,null,null,null,0]
[{"$f":"IF(Draw!E143=0,\"\",Draw!E143)","v":""},{"$f":"IF(A144=\"\",\"\",B$3)","v":""},null,null,null,null,null,{"$f":"IF(B144=\"\",\"\",IF(K144=5,(SUM(C144:G144)-MAX(C144:G144)-MIN(C144:G144))/3,IF(K144=4,(SUM(C144:G144)-MAX(C144:G144))/3,SUM(C144:G144)/3))*B144/7.6)","v":""},null,null,0]
[{"$f":"IF(Draw!E144=0,\"\",Draw!E144)","v":""},null,null,null,null,null,null,null,null,null,0]
[{"$f":"IF(Draw!E145=0,\"\",Draw!E145)","v":""},{"$f":"IF(A146=\"\",\"\",B$3)","v":""},null,null,null,null,null,{"$f":"IF(B146=\"\",\"\",IF(K146=5,(SUM(C146:G146)-MAX(C146:G146)-MIN(C146:G146))/3,IF(K146=4,(SUM(C146:G146)-MAX(C146:G146))/3,SUM(C146:G146)/3))*B146/7.6)","v":""},null,null,0]
[{"$f":"IF(Draw!E146=0,\"\",Draw!E146)","v":""},null,null,null,null,null,null,null,null,null,0]
[{"$f":"IF(Draw!E147=0,\"\",Draw!E147)","v":""},{"$f":"IF(A148=\"\",\"\",B$3)","v":""},null,null,null,null,null,{"$f":"IF(B148=\"\",\"\",IF(K148=5,(SUM(C148:G148)-MAX(C148:G148)-MIN(C148:G148))/3,IF(K148=4,(SUM(C148:G148)-MAX(C148:G148))/3,SUM(C148:G148)/3))*B148/7.6)","v":""},null,null,0]
[{"$f":"IF(Draw!E148=0,\"\",Draw!E148)","v":""},null,null,null,null,null,null,null,null,null,0]
[{"$f":"IF(Draw!E149=0,\"\",Draw!E149)","v":""},{"$f":"IF(A150=\"\",\"\",B$3)","v":""},null,null,null,null,null,{"$f":"IF(B150=\"\",\"\",IF(K150=5,(SUM(C150:G150)-MAX(C150:G150)-MIN(C150:G150))/3,IF(K150=4,(SUM(C150:G150)-MAX(C150:G150))/3,SUM(C150:G150)/3))*B150/7.6)","v":""},null,null,0]

{"sheet":"Totals","index":5,"n_rows":151,"n_cols":51,"rows_kept":151,"cut":false,"hidden":false,"merged":[]}
["#","Swimmer","School","Total Score","Place","Figure 1","Figure 2","Figure 3","Figure 4","Penalties","Score"]
[{"$f":"IF(Draw!E2=0,\"\",Draw!E2)","v":1},"Anna Stockinger","Forest Lake",{"$f":"IF($A2=\"\",\"\",SUM(F2:I2)-J2)","v":55.951754385964918},{"$f":"IF($A2=\"\",\"\",RANK(D2,D$2:D$150))","v":23},{"$f":"IF($A2=\"\",\"\",'Fig 1 Ballet Leg'!H3)","v":11.719298245614036},{"$f":"IF($A2=\"\",\"\",'Fig 2 Barracuda'!H3)","v":15.877192982456142},{"$f":"IF($A2=\"\",\"\",'Fig 3 Neptunus'!H3)","v":12.789473684210527},{"$f":"IF($A2=\"\",\"\",'Fig 4 Walkover'!H3)","v":15.565789473684212},{"$f":"IF($A2=\"\",\"\",'Fig 1 Ballet Leg'!I3+'Fig 2 Barracuda'!I3+'Fig 3 Neptunus'!I3+'Fig 4 Walkover'!I3)","v":0},{"$f":"IF($A2=\"\",\"\",IF(A2=\"\",\"\",VLOOKUP(E2,AX$3:AY$102,2,FALSE)))","v":0}]
[{"$f":"IF(Draw!E3=0,\"\",Draw!E3)","v":2},"Abigail Tollas","Osseo-Maple Grove",{"$f":"IF($A3=\"\",\"\",SUM(F3:I3)-J3)","v":54.473684210526322},{"$f":"IF($A3=\"\",\"\",RANK(D3,D$2:D$150))","v":33},{"$f":"IF($A3=\"\",\"\",'Fig 1 Ballet Leg'!H4)","v":11.789473684210527},{"$f":"IF($A3=\"\",\"\",'Fig 2 Barracuda'!H4)","v":14.210526315789474},{"$f":"IF($A3=\"\",\"\",'Fig 3 Neptunus'!H4)","v":12.631578947368421},{"$f":"IF($A3=\"\",\"\",'Fig 4 Walkover'!H4)","v":15.842105263157896},{"$f":"IF($A3=\"\",\"\",'Fig 1 Ballet Leg'!I4+'Fig 2 Barracuda'!I4+'Fig 3 Neptunus'!I4+'Fig 4 Walkover'!I4)","v":0},{"$f":"IF($A3=\"\",\"\",IF(A3=\"\",\"\",VLOOKUP(E3,AX$3:AY$102,2,FALSE)))","v":0},null,null,null,null,null,null,null,null,null,null,null,null,null,null,null,null,null,null,null,null,null,null,null,null,null,null,null,null,null,null,null,null,null,null,null,null,null,null,1,8]
[3,"Tessa Crohn","Forest Lake",55.324561403508781,26,{"$f":"IF($A4=\"\",\"\",'Fig 1 Ballet Leg'!H5)","v":11.157894736842108},{"$f":"IF($A4=\"\",\"\",'Fig 2 Barracuda'!H5)","v":15.877192982456142},{"$f":"IF($A4=\"\",\"\",'Fig 3 Neptunus'!H5)","v":12.631578947368421},{"$f":"IF($A4=\"\",\"\",'Fig 4 Walkover'!H5)","v":15.657894736842106},{"$f":"IF($A4=\"\",\"\",'Fig 1 Ballet Leg'!I5+'Fig 2 Barracuda'!I5+'Fig 3 Neptunus'!I5+'Fig 4 Walkover'!I5)","v":0},0,null,null,null,null,null,null,null,null,null,null,null,null,null,null,null,null,null,null,null,null,null,null,null,null,null,null,null,null,null,null,null,null,null,null,null,null,null,null,2,6]
[4,"Ella Anderson","Forest Lake",{"$f":"IF($A5=\"\",\"\",SUM(F5:I5)-J5)","v":55.15789473684211},{"$f":"IF($A5=\"\",\"\",RANK(D5,D$2:D$150))","v":27},{"$f":"IF($A5=\"\",\"\",'Fig 1 Ballet Leg'!H6)","v":11.789473684210527},{"$f":"IF($A5=\"\",\"\",'Fig 2 Barracuda'!H6)","v":15},{"$f":"IF($A5=\"\",\"\",'Fig 3 Neptunus'!H6)","v":13.263157894736842},{"$f":"IF($A5=\"\",\"\",'Fig 4 Walkover'!H6)","v":15.105263157894738},{"$f":"IF($A5=\"\",\"\",'Fig 1 Ballet Leg'!I6+'Fig 2 Barracuda'!I6+'Fig 3 Neptunus'!I6+'Fig 4 Walkover'!I6)","v":0},{"$f":"IF($A5=\"\",\"\",IF(A5=\"\",\"\",VLOOKUP(E5,AX$3:AY$102,2,FALSE)))","v":0},null,null,null,null,null,null,null,null,null,null,null,null,null,null,null,null,null,null,null,null,null,null,null,null,null,null,null,null,null,null,null,null,null,null,null,null,null,null,3,5]
[5,"Lydia Bergeron","Forest Lake",57.048245614035096,16,{"$f":"IF($A6=\"\",\"\",'Fig 1 Ballet Leg'!H7)","v":12.070175438596493},{"$f":"IF($A6=\"\",\"\",'Fig 2 Barracuda'!H7)","v":14.649122807017545},{"$f":"IF($A6=\"\",\"\",'Fig 3 Neptunus'!H7)","v":14.210526315789474},{"$f":"IF($A6=\"\",\"\",'Fig 4 Walkover'!H7)","v":16.118421052631582},{"$f":"IF($A6=\"\",\"\",'Fig 1 Ballet Leg'!I7+'Fig 2 Barracuda'!I7+'Fig 3 Neptunus'!I7+'Fig 4 Walkover'!I7)","v":0},0,null,null,null,null,null,null,null,null,null,null,null,null,null,null,null,null,null,null,null,null,null,null,null,null,null,null,null,null,null,null,null,null,null,null,null,null,null,null,4,4]
[6,"Elena Vrba","Osseo-Maple Grove",53.885964912280699,36,{"$f":"IF($A7=\"\",\"\",'Fig 1 Ballet Leg'!H8)","v":11.578947368421053},{"$f":"IF($A7=\"\",\"\",'Fig 2 Barracuda'!H8)","v":14.12280701754386},{"$f":"IF($A7=\"\",\"\",'Fig 3 Neptunus'!H8)","v":13.263157894736842},{"$f":"IF($A7=\"\",\"\",'Fig 4 Walkover'!H8)","v":14.921052631578949},{"$f":"IF($A7=\"\",\"\",'Fig 1 Ballet Leg'!I8+'Fig 2 Barracuda'!I8+'Fig 3 Neptunus'!I8+'Fig 4 Walkover'!I8)","v":0},0,null,null,null,null,null,null,null,null,null,null,null,null,null,null,null,null,null,null,null,null,null,null,null,null,null,null,null,null,null,null,null,null,null,null,null,null,null,null,5,3]
[7,"Hannah Littel","Osseo-Maple Grove",54.780701754385973,30,{"$f":"IF($A8=\"\",\"\",'Fig 1 Ballet Leg'!H9)","v":11.228070175438598},{"$f":"IF($A8=\"\",\"\",'Fig 2 Barracuda'!H9)","v":13.684210526315789},{"$f":"IF($A8=\"\",\"\",'Fig 3 Neptunus'!H9)","v":13.657894736842106},{"$f":"IF($A8=\"\",\"\",'Fig 4 Walkover'!H9)","v":16.210526315789476},{"$f":"IF($A8=\"\",\"\",'Fig 1 Ballet Leg'!I9+'Fig 2 Barracuda'!I9+'Fig 3 Neptunus'!I9+'Fig 4 Walkover'!I9)","v":0},0,null,null,null,null,null,null,null,null,null,null,null,null,null,null,null,null,null,null,null,null,null,null,null,null,null,null,null,null,null,null,null,null,null,null,null,null,null,null,6,2]
[8,"Megan Ihfe","Forest Lake",56.21052631578948,18,{"$f":"IF($A9=\"\",\"\",'Fig 1 Ballet Leg'!H10)","v":11.649122807017546},{"$f":"IF($A9=\"\",\"\",'Fig 2 Barracuda'!H10)","v":14.561403508771932},{"$f":"IF($A9=\"\",\"\",'Fig 3 Neptunus'!H10)","v":13.973684210526317},{"$f":"IF($A9=\"\",\"\",'Fig 4 Walkover'!H10)","v":16.026315789473685},{"$f":"IF($A9=\"\",\"\",'Fig 1 Ballet Leg'!I10+'Fig 2 Barracuda'!I10+'Fig 3 Neptunus'!I10+'Fig 4 Walkover'!I10)","v":0},0,null,null,null,null,null,null,null,null,null,null,null,null,null,null,null,null,null,null,null,null,null,null,null,null,null,null,null,null,null,null,null,null,null,null,null,null,null,null,7,1]
[9,"Katherine Olsen","Osseo-Maple Grove",49.929824561403514,49,{"$f":"IF($A10=\"\",\"\",'Fig 1 Ballet Leg'!H11)","v":10.666666666666666},{"$f":"IF($A10=\"\",\"\",'Fig 2 Barracuda'!H11)","v":13.421052631578949},{"$f":"IF($A10=\"\",\"\",'Fig 3 Neptunus'!H11)","v":11.289473684210526},{"$f":"IF($A10=\"\",\"\",'Fig 4 Walkover'!H11)","v":14.552631578947368},{"$f":"IF($A10=\"\",\"\",'Fig 1 Ballet Leg'!I11+'Fig 2 Barracuda'!I11+'Fig 3 Neptunus'!I11+'Fig 4 Walkover'!I11)","v":0},0,null,null,null,null,null,null,null,null,null,null,null,null,null,null,null,null,null,null,null,null,null,null,null,null,null,null,null,null,null,null,null,null,null,null,null,null,null,null,8,0]
[10,"Leigh Boettner Johnson","Forest Lake",48.81578947368422,51,{"$f":"IF($A11=\"\",\"\",'Fig 1 Ballet Leg'!H12)","v":10.245614035087721},{"$f":"IF($A11=\"\",\"\",'Fig 2 Barracuda'!H12)","v":13.070175438596491},{"$f":"IF($A11=\"\",\"\",'Fig 3 Neptunus'!H12)","v":11.131578947368423},{"$f":"IF($A11=\"\",\"\",'Fig 4 Walkover'!H12)","v":14.368421052631581},{"$f":"IF($A11=\"\",\"\",'Fig 1 Ballet Leg'!I12+'Fig 2 Barracuda'!I12+'Fig 3 Neptunus'!I12+'Fig 4 Walkover'!I12)","v":0},0,null,null,null,null,null,null,null,null,null,null,null,null,null,null,null,null,null,null,null,null,null,null,null,null,null,null,null,null,null,null,null,null,null,null,null,null,null,null,9,0]
[11,"Alise Ostercamp","Forest Lake",54.035087719298247,35,{"$f":"IF($A12=\"\",\"\",'Fig 1 Ballet Leg'!H13)","v":11.859649122807019},{"$f":"IF($A12=\"\",\"\",'Fig 2 Barracuda'!H13)","v":14.385964912280702},{"$f":"IF($A12=\"\",\"\",'Fig 3 Neptunus'!H13)","v":12.868421052631581},{"$f":"IF($A12=\"\",\"\",'Fig 4 Walkover'!H13)","v":14.921052631578949},{"$f":"IF($A12=\"\",\"\",'Fig 1 Ballet Leg'!I13+'Fig 2 Barracuda'!I13+'Fig 3 Neptunus'!I13+'Fig 4 Walkover'!I13)","v":0},0,null,null,null,null,null,null,null,null,null,null,null,null,null,null,null,null,null,null,null,null,null,null,null,null,null,null,null,null,null,null,null,null,null,null,null,null,null,null,10,0]
[12,"Lindsey Biebl","Forest Lake",54.399122807017548,34,{"$f":"IF($A13=\"\",\"\",'Fig 1 Ballet Leg'!H14)","v":11.508771929824562},{"$f":"IF($A13=\"\",\"\",'Fig 2 Barracuda'!H14)","v":15.087719298245615},{"$f":"IF($A13=\"\",\"\",'Fig 3 Neptunus'!H14)","v":13.342105263157896},{"$f":"IF($A13=\"\",\"\",'Fig 4 Walkover'!H14)","v":14.460526315789474},{"$f":"IF($A13=\"\",\"\",'Fig 1 Ballet Leg'!I14+'Fig 2 Barracuda'!I14+'Fig 3 Neptunus'!I14+'Fig 4 Walkover'!I14)","v":0},0,null,null,null,null,null,null,null,null,null,null,null,null,null,null,null,null,null,null,null,null,null,null,null,null,null,null,null,null,null,null,null,null,null,null,null,null,null,null,11,0]
[13,"Gabriela Marick","Osseo-Maple Grove",57.381578947368425,15,{"$f":"IF($A14=\"\",\"\",'Fig 1 Ballet Leg'!H15)","v":12.280701754385968},{"$f":"IF($A14=\"\",\"\",'Fig 2 Barracuda'!H15)","v":15.087719298245615},{"$f":"IF($A14=\"\",\"\",'Fig 3 Neptunus'!H15)","v":14.447368421052632},{"$f":"IF($A14=\"\",\"\",'Fig 4 Walkover'!H15)","v":15.565789473684212},{"$f":"IF($A14=\"\",\"\",'Fig 1 Ballet Leg'!I15+'Fig 2 Barracuda'!I15+'Fig 3 Neptunus'!I15+'Fig 4 Walkover'!I15)","v":0},0,null,null,null,null,null,null,null,null,null,null,null,null,null,null,null,null,null,null,null,null,null,null,null,null,null,null,null,null,null,null,null,null,null,null,null,null,null,null,12,0]
[14,"Emma Stockinger","Forest Lake",55.75,24,{"$f":"IF($A15=\"\",\"\",'Fig 1 Ballet Leg'!H16)","v":11.228070175438598},{"$f":"IF($A15=\"\",\"\",'Fig 2 Barracuda'!H16)","v":15.350877192982457},{"$f":"IF($A15=\"\",\"\",'Fig 3 Neptunus'!H16)","v":13.421052631578949},{"$f":"IF($A15=\"\",\"\",'Fig 4 Walkover'!H16)","v":15.750000000000002},{"$f":"IF($A15=\"\",\"\",'Fig 1 Ballet Leg'!I16+'Fig 2 Barracuda'!I16+'Fig 3 Neptunus'!I16+'Fig 4 Walkover'!I16)","v":0},0,null,null,null,null,null,null,null,null,null,null,null,null,null,null,null,null,null,null,null,null,null,null,null,null,null,null,null,null,null,null,null,null,null,null,null,null,null,null,13,0]
[15,"Sierra Nutter","Forest Lake",52.732456140350877,40,{"$f":"IF($A16=\"\",\"\",'Fig 1 Ballet Leg'!H17)","v":10.666666666666666},{"$f":"IF($A16=\"\",\"\",'Fig 2 Barracuda'!H17)","v":13.947368421052632},{"$f":"IF($A16=\"\",\"\",'Fig 3 Neptunus'!H17)","v":13.105263157894738},{"$f":"IF($A16=\"\",\"\",'Fig 4 Walkover'!H17)","v":15.013157894736844},{"$f":"IF($A16=\"\",\"\",'Fig 1 Ballet Leg'!I17+'Fig 2 Barracuda'!I17+'Fig 3 Neptunus'!I17+'Fig 4 Walkover'!I17)","v":0},0,null,null,null,null,null,null,null,null,null,null,null,null,null,null,null,null,null,null,null,null,null,null,null,null,null,null,null,null,null,null,null,null,null,null,null,null,null,null,14,0]
[16,"Rachel Knox","Osseo-Maple Grove",0,55,{"$f":"IF($A17=\"\",\"\",'Fig 1 Ballet Leg'!H18)","v":0},{"$f":"IF($A17=\"\",\"\",'Fig 2 Barracuda'!H18)","v":0},{"$f":"IF($A17=\"\",\"\",'Fig 3 Neptunus'!H18)","v":0},{"$f":"IF($A17=\"\",\"\",'Fig 4 Walkover'!H18)","v":0},{"$f":"IF($A17=\"\",\"\",'Fig 1 Ballet Leg'!I18+'Fig 2 Barracuda'!I18+'Fig 3 Neptunus'!I18+'Fig 4 Walkover'!I18)","v":0},0,null,null,null,null,null,null,null,null,null,null,null,null,null,null,null,null,null,null,null,null,null,null,null,null,null,null,null,null,null,null,null,null,null,null,null,null,null,null,15,0]
[17,"LaCresia Meyer","Forest Lake",56.175438596491233,19,{"$f":"IF($A18=\"\",\"\",'Fig 1 Ballet Leg'!H19)","v":11.578947368421053},{"$f":"IF($A18=\"\",\"\",'Fig 2 Barracuda'!H19)","v":15.43859649122807},{"$f":"IF($A18=\"\",\"\",'Fig 3 Neptunus'!H19)","v":14.05263157894737},{"$f":"IF($A18=\"\",\"\",'Fig 4 Walkover'!H19)","v":15.105263157894738},{"$f":"IF($A18=\"\",\"\",'Fig 1 Ballet Leg'!I19+'Fig 2 Barracuda'!I19+'Fig 3 Neptunus'!I19+'Fig 4 Walkover'!I19)","v":0},0,null,null,null,null,null,null,null,null,null,null,null,null,null,null,null,null,null,null,null,null,null,null,null,null,null,null,null,null,null,null,null,null,null,null,null,null,null,null,16,0]
[18,"Emily Ostercamp","Forest Lake",57.464912280701753,14,{"$f":"IF($A19=\"\",\"\",'Fig 1 Ballet Leg'!H20)","v":11.789473684210527},{"$f":"IF($A19=\"\",\"\",'Fig 2 Barracuda'!H20)","v":15.175438596491228},{"$f":"IF($A19=\"\",\"\",'Fig 3 Neptunus'!H20)","v":14.289473684210527},{"$f":"IF($A19=\"\",\"\",'Fig 4 Walkover'!H20)","v":16.210526315789476},{"$f":"IF($A19=\"\",\"\",'Fig 1 Ballet Leg'!I20+'Fig 2 Barracuda'!I20+'Fig 3 Neptunus'!I20+'Fig 4 Walkover'!I20)","v":0},0,null,null,null,null,null,null,null,null,null,null,null,null,null,null,null,null,null,null,null,null,null,null,null,null,null,null,null,null,null,null,null,null,null,null,null,null,null,null,17,0]
[19,"Naomi Krueger","Forest Lake",52.80263157894737,39,{"$f":"IF($A20=\"\",\"\",'Fig 1 Ballet Leg'!H21)","v":11.228070175438598},{"$f":"IF($A20=\"\",\"\",'Fig 2 Barracuda'!H21)","v":14.824561403508774},{"$f":"IF($A20=\"\",\"\",'Fig 3 Neptunus'!H21)","v":12.473684210526317},{"$f":"IF($A20=\"\",\"\",'Fig 4 Walkover'!H21)","v":14.276315789473685},{"$f":"IF($A20=\"\",\"\",'Fig 1 Ballet Leg'!I21+'Fig 2 Barracuda'!I21+'Fig 3 Neptunus'!I21+'Fig 4 Walkover'!I21)","v":0},0,null,null,null,null,null,null,null,null,null,null,null,null,null,null,null,null,null,null,null,null,null,null,null,null,null,null,null,null,null,null,null,null,null,null,null,null,null,null,18,0]
[20,"Jessica Hentges","Forest Lake",53.478070175438603,37,{"$f":"IF($A21=\"\",\"\",'Fig 1 Ballet Leg'!H22)","v":11.438596491228072},{"$f":"IF($A21=\"\",\"\",'Fig 2 Barracuda'!H22)","v":14.473684210526317},{"$f":"IF($A21=\"\",\"\",'Fig 3 Neptunus'!H22)","v":13.105263157894738},{"$f":"IF($A21=\"\",\"\",'Fig 4 Walkover'!H22)","v":14.460526315789474},{"$f":"IF($A21=\"\",\"\",'Fig 1 Ballet Leg'!I22+'Fig 2 Barracuda'!I22+'Fig 3 Neptunus'!I22+'Fig 4 Walkover'!I22)","v":0},0,null,null,null,null,null,null,null,null,null,null,null,null,null,null,null,null,null,null,null,null,null,null,null,null,null,null,null,null,null,null,null,null,null,null,null,null,null,null,19,0]
[21,"Bridget Beynon","Forest Lake",54.491228070175445,32,{"$f":"IF($A22=\"\",\"\",'Fig 1 Ballet Leg'!H23)","v":11.508771929824562},{"$f":"IF($A22=\"\",\"\",'Fig 2 Barracuda'!H23)","v":15.350877192982457},{"$f":"IF($A22=\"\",\"\",'Fig 3 Neptunus'!H23)","v":13.263157894736842},{"$f":"IF($A22=\"\",\"\",'Fig 4 Walkover'!H23)","v":14.368421052631581},{"$f":"IF($A22=\"\",\"\",'Fig 1 Ballet Leg'!I23+'Fig 2 Barracuda'!I23+'Fig 3 Neptunus'!I23+'Fig 4 Walkover'!I23)","v":0},0,null,null,null,null,null,null,null,null,null,null,null,null,null,null,null,null,null,null,null,null,null,null,null,null,null,null,null,null,null,null,null,null,null,null,null,null,null,null,20,0]
[22,"Emily Barr","Osseo-Maple Grove",51.008771929824562,45,{"$f":"IF($A23=\"\",\"\",'Fig 1 Ballet Leg'!H24)","v":10.035087719298247},{"$f":"IF($A23=\"\",\"\",'Fig 2 Barracuda'!H24)","v":13.947368421052632},{"$f":"IF($A23=\"\",\"\",'Fig 3 Neptunus'!H24)","v":12.473684210526317},{"$f":"IF($A23=\"\",\"\",'Fig 4 Walkover'!H24)","v":14.552631578947368},{"$f":"IF($A23=\"\",\"\",'Fig 1 Ballet Leg'!I24+'Fig 2 Barracuda'!I24+'Fig 3 Neptunus'!I24+'Fig 4 Walkover'!I24)","v":0},0,null,null,null,null,null,null,null,null,null,null,null,null,null,null,null,null,null,null,null,null,null,null,null,null,null,null,null,null,null,null,null,null,null,null,null,null,null,null,21,0]
[23,"Michelle Perkins","Forest Lake",61.587719298245617,5,{"$f":"IF($A24=\"\",\"\",'Fig 1 Ballet Leg'!H25)","v":12.982456140350878},{"$f":"IF($A24=\"\",\"\",'Fig 2 Barracuda'!H25)","v":16.578947368421055},{"$f":"IF($A24=\"\",\"\",'Fig 3 Neptunus'!H25)","v":15.078947368421053},{"$f":"IF($A24=\"\",\"\",'Fig 4 Walkover'!H25)","v":16.947368421052634},{"$f":"IF($A24=\"\",\"\",'Fig 1 Ballet Leg'!I25+'Fig 2 Barracuda'!I25+'Fig 3 Neptunus'!I25+'Fig 4 Walkover'!I25)","v":0},3,null,null,null,null,null,null,null,null,null,null,null,null,null,null,null,null,null,null,null,null,null,null,null,null,null,null,null,null,null,null,null,null,null,null,null,null,null,null,22,0]
[24,"Malissa Ball","Forest Lake",51.171052631578952,43,{"$f":"IF($A25=\"\",\"\",'Fig 1 Ballet Leg'!H26)","v":11.578947368421053},{"$f":"IF($A25=\"\",\"\",'Fig 2 Barracuda'!H26)","v":13.421052631578949},{"$f":"IF($A25=\"\",\"\",'Fig 3 Neptunus'!H26)","v":11.526315789473683},{"$f":"IF($A25=\"\",\"\",'Fig 4 Walkover'!H26)","v":14.644736842105265},{"$f":"IF($A25=\"\",\"\",'Fig 1 Ballet Leg'!I26+'Fig 2 Barracuda'!I26+'Fig 3 Neptunus'!I26+'Fig 4 Walkover'!I26)","v":0},0,null,null,null,null,null,null,null,null,null,null,null,null,null,null,null,null,null,null,null,null,null,null,null,null,null,null,null,null,null,null,null,null,null,null,null,null,null,null,23,0]
[25,"Heather Breidenbach","Osseo-Maple Grove",47.070175438596493,54,{"$f":"IF($A26=\"\",\"\",'Fig 1 Ballet Leg'!H27)","v":10.105263157894738},{"$f":"IF($A26=\"\",\"\",'Fig 2 Barracuda'!H27)","v":12.543859649122806},{"$f":"IF($A26=\"\",\"\",'Fig 3 Neptunus'!H27)","v":10.973684210526317},{"$f":"IF($A26=\"\",\"\",'Fig 4 Walkover'!H27)","v":13.447368421052632},{"$f":"IF($A26=\"\",\"\",'Fig 1 Ballet Leg'!I27+'Fig 2 Barracuda'!I27+'Fig 3 Neptunus'!I27+'Fig 4 Walkover'!I27)","v":0},0,null,null,null,null,null,null,null,null,null,null,null,null,null,null,null,null,null,null,null,null,null,null,null,null,null,null,null,null,null,null,null,null,null,null,null,null,null,null,24,0]
[26,"Dani Sardeson","Forest Lake",61.350877192982459,6,{"$f":"IF($A27=\"\",\"\",'Fig 1 Ballet Leg'!H28)","v":12.49122807017544},{"$f":"IF($A27=\"\",\"\",'Fig 2 Barracuda'!H28)","v":15.964912280701755},{"$f":"IF($A27=\"\",\"\",'Fig 3 Neptunus'!H28)","v":15.394736842105264},{"$f":"IF($A27=\"\",\"\",'Fig 4 Walkover'!H28)","v":17.5},{"$f":"IF($A27=\"\",\"\",'Fig 1 Ballet Leg'!I28+'Fig 2 Barracuda'!I28+'Fig 3 Neptunus'!I28+'Fig 4 Walkover'!I28)","v":0},2,null,null,null,null,null,null,null,null,null,null,null,null,null,null,null,null,null,null,null,null,null,null,null,null,null,null,null,null,null,null,null,null,null,null,null,null,null,null,25,0]
[27,"Amanda Pothen","Forest Lake",59.899122807017548,11,{"$f":"IF($A28=\"\",\"\",'Fig 1 Ballet Leg'!H29)","v":11.859649122807019},{"$f":"IF($A28=\"\",\"\",'Fig 2 Barracuda'!H29)","v":16.05263157894737},{"$f":"IF($A28=\"\",\"\",'Fig 3 Neptunus'!H29)","v":14.763157894736842},{"$f":"IF($A28=\"\",\"\",'Fig 4 Walkover'!H29)","v":17.223684210526319},{"$f":"IF($A28=\"\",\"\",'Fig 1 Ballet Leg'!I29+'Fig 2 Barracuda'!I29+'Fig 3 Neptunus'!I29+'Fig 4 Walkover'!I29)","v":0},0,null,null,null,null,null,null,null,null,null,null,null,null,null,null,null,null,null,null,null,null,null,null,null,null,null,null,null,null,null,null,null,null,null,null,null,null,null,null,26,0]
[28,"Lacey Wedell","Forest Lake",60.021929824561404,9,{"$f":"IF($A29=\"\",\"\",'Fig 1 Ballet Leg'!H30)","v":13.05263157894737},{"$f":"IF($A29=\"\",\"\",'Fig 2 Barracuda'!H30)","v":16.140350877192983},{"$f":"IF($A29=\"\",\"\",'Fig 3 Neptunus'!H30)","v":15.078947368421053},{"$f":"IF($A29=\"\",\"\",'Fig 4 Walkover'!H30)","v":15.750000000000002},{"$f":"IF($A29=\"\",\"\",'Fig 1 Ballet Leg'!I30+'Fig 2 Barracuda'!I30+'Fig 3 Neptunus'!I30+'Fig 4 Walkover'!I30)","v":0},0,null,null,null,null,null,null,null,null,null,null,null,null,null,null,null,null,null,null,null,null,null,null,null,null,null,null,null,null,null,null,null,null,null,null,null,null,null,null,27,0]
[29,"Andrea Dunrud","Forest Lake",67.925438596491233,1,{"$f":"IF($A30=\"\",\"\",'Fig 1 Ballet Leg'!H31)","v":14.315789473684212},{"$f":"IF($A30=\"\",\"\",'Fig 2 Barracuda'!H31)","v":17.807017543859651},{"$f":"IF($A30=\"\",\"\",'Fig 3 Neptunus'!H31)","v":16.736842105263161},{"$f":"IF($A30=\"\",\"\",'Fig 4 Walkover'!H31)","v":19.065789473684212},{"$f":"IF($A30=\"\",\"\",'Fig 1 Ballet Leg'!I31+'Fig 2 Barracuda'!I31+'Fig 3 Neptunus'!I31+'Fig 4 Walkover'!I31)","v":0},8,null,null,null,null,null,null,null,null,null,null,null,null,null,null,null,null,null,null,null,null,null,null,null,null,null,null,null,null,null,null,null,null,null,null,null,null,null,null,28,0]
[30,"Marie Vanderwarn","Osseo-Maple Grove",54.811403508771932,29,{"$f":"IF($A31=\"\",\"\",'Fig 1 Ballet Leg'!H32)","v":11.719298245614036},{"$f":"IF($A31=\"\",\"\",'Fig 2 Barracuda'!H32)","v":14.210526315789474},{"$f":"IF($A31=\"\",\"\",'Fig 3 Neptunus'!H32)","v":12.947368421052632},{"$f":"IF($A31=\"\",\"\",'Fig 4 Walkover'!H32)","v":15.934210526315789},{"$f":"IF($A31=\"\",\"\",'Fig 1 Ballet Leg'!I32+'Fig 2 Barracuda'!I32+'Fig 3 Neptunus'!I32+'Fig 4 Walkover'!I32)","v":0},0,null,null,null,null,null,null,null,null,null,null,null,null,null,null,null,null,null,null,null,null,null,null,null,null,null,null,null,null,null,null,null,null,null,null,null,null,null,null,29,0]
[31,"Elisabeth Heitzig","Osseo-Maple Grove",56.087719298245617,22,{"$f":"IF($A32=\"\",\"\",'Fig 1 Ballet Leg'!H33)","v":11.578947368421053},{"$f":"IF($A32=\"\",\"\",'Fig 2 Barracuda'!H33)","v":14.035087719298247},{"$f":"IF($A32=\"\",\"\",'Fig 3 Neptunus'!H33)","v":14.447368421052632},{"$f":"IF($A32=\"\",\"\",'Fig 4 Walkover'!H33)","v":16.026315789473685},{"$f":"IF($A32=\"\",\"\",'Fig 1 Ballet Leg'!I33+'Fig 2 Barracuda'!I33+'Fig 3 Neptunus'!I33+'Fig 4 Walkover'!I33)","v":0},0,null,null,null,null,null,null,null,null,null,null,null,null,null,null,null,null,null,null,null,null,null,null,null,null,null,null,null,null,null,null,null,null,null,null,null,null,null,null,30,0]
[32,"Mika Peterson","Forest Lake",62.653508771929829,4,{"$f":"IF($A33=\"\",\"\",'Fig 1 Ballet Leg'!H34)","v":12.982456140350878},{"$f":"IF($A33=\"\",\"\",'Fig 2 Barracuda'!H34)","v":16.578947368421055},{"$f":"IF($A33=\"\",\"\",'Fig 3 Neptunus'!H34)","v":15.315789473684212},{"$f":"IF($A33=\"\",\"\",'Fig 4 Walkover'!H34)","v":17.776315789473685},{"$f":"IF($A33=\"\",\"\",'Fig 1 Ballet Leg'!I34+'Fig 2 Barracuda'!I34+'Fig 3 Neptunus'!I34+'Fig 4 Walkover'!I34)","v":0},4,null,null,null,null,null,null,null,null,null,null,null,null,null,null,null,null,null,null,null,null,null,null,null,null,null,null,null,null,null,null,null,null,null,null,null,null,null,null,31,0]
[33,"Kelly McNamee","Osseo-Maple Grove",50.140350877192986,48,{"$f":"IF($A34=\"\",\"\",'Fig 1 Ballet Leg'!H35)","v":11.298245614035089},{"$f":"IF($A34=\"\",\"\",'Fig 2 Barracuda'!H35)","v":13.684210526315789},{"$f":"IF($A34=\"\",\"\",'Fig 3 Neptunus'!H35)","v":12.078947368421053},{"$f":"IF($A34=\"\",\"\",'Fig 4 Walkover'!H35)","v":13.078947368421055},{"$f":"IF($A34=\"\",\"\",'Fig 1 Ballet Leg'!I35+'Fig 2 Barracuda'!I35+'Fig 3 Neptunus'!I35+'Fig 4 Walkover'!I35)","v":0},0,null,null,null,null,null,null,null,null,null,null,null,null,null,null,null,null,null,null,null,null,null,null,null,null,null,null,null,null,null,null,null,null,null,null,null,null,null,null,32,0]
[34,"Mia Janisch","Forest Lake",50.929824561403514,46,{"$f":"IF($A35=\"\",\"\",'Fig 1 Ballet Leg'!H36)","v":11.017543859649125},{"$f":"IF($A35=\"\",\"\",'Fig 2 Barracuda'!H36)","v":13.596491228070175},{"$f":"IF($A35=\"\",\"\",'Fig 3 Neptunus'!H36)","v":11.763157894736841},{"$f":"IF($A35=\"\",\"\",'Fig 4 Walkover'!H36)","v":14.552631578947368},{"$f":"IF($A35=\"\",\"\",'Fig 1 Ballet Leg'!I36+'Fig 2 Barracuda'!I36+'Fig 3 Neptunus'!I36+'Fig 4 Walkover'!I36)","v":0},0,null,null,null,null,null,null,null,null,null,null,null,null,null,null,null,null,null,null,null,null,null,null,null,null,null,null,null,null,null,null,null,null,null,null,null,null,null,null,33,0]
[35,"Jane Burk","Forest Lake",53.478070175438603,37,{"$f":"IF($A36=\"\",\"\",'Fig 1 Ballet Leg'!H37)","v":11.508771929824562},{"$f":"IF($A36=\"\",\"\",'Fig 2 Barracuda'!H37)","v":15.877192982456142},{"$f":"IF($A36=\"\",\"\",'Fig 3 Neptunus'!H37)","v":12.000000000000002},{"$f":"IF($A36=\"\",\"\",'Fig 4 Walkover'!H37)","v":14.092105263157897},{"$f":"IF($A36=\"\",\"\",'Fig 1 Ballet Leg'!I37+'Fig 2 Barracuda'!I37+'Fig 3 Neptunus'!I37+'Fig 4 Walkover'!I37)","v":0},0,null,null,null,null,null,null,null,null,null,null,null,null,null,null,null,null,null,null,null,null,null,null,null,null,null,null,null,null,null,null,null,null,null,null,null,null,null,null,34,0]
[36,"Moriah Ulbricht","Forest Lake",54.513157894736842,31,{"$f":"IF($A37=\"\",\"\",'Fig 1 Ballet Leg'!H38)","v":11.368421052631581},{"$f":"IF($A37=\"\",\"\",'Fig 2 Barracuda'!H38)","v":13.947368421052632},{"$f":"IF($A37=\"\",\"\",'Fig 3 Neptunus'!H38)","v":13.263157894736842},{"$f":"IF($A37=\"\",\"\",'Fig 4 Walkover'!H38)","v":15.934210526315789},{"$f":"IF($A37=\"\",\"\",'Fig 1 Ballet Leg'!I38+'Fig 2 Barracuda'!I38+'Fig 3 Neptunus'!I38+'Fig 4 Walkover'!I38)","v":0},0,null,null,null,null,null,null,null,null,null,null,null,null,null,null,null,null,null,null,null,null,null,null,null,null,null,null,null,null,null,null,null,null,null,null,null,null,null,null,35,0]
[37,"Elizabeth Campbell","Forest Lake",54.969298245614041,28,{"$f":"IF($A38=\"\",\"\",'Fig 1 Ballet Leg'!H39)","v":11.719298245614036},{"$f":"IF($A38=\"\",\"\",'Fig 2 Barracuda'!H39)","v":14.210526315789474},{"$f":"IF($A38=\"\",\"\",'Fig 3 Neptunus'!H39)","v":13.657894736842106},{"$f":"IF($A38=\"\",\"\",'Fig 4 Walkover'!H39)","v":15.381578947368423},{"$f":"IF($A38=\"\",\"\",'Fig 1 Ballet Leg'!I39+'Fig 2 Barracuda'!I39+'Fig 3 Neptunus'!I39+'Fig 4 Walkover'!I39)","v":0},0,null,null,null,null,null,null,null,null,null,null,null,null,null,null,null,null,null,null,null,null,null,null,null,null,null,null,null,null,null,null,null,null,null,null,null,null,null,null,36,0]
[38,"Annie Larson","Forest Lake",49.714912280701753,50,{"$f":"IF($A39=\"\",\"\",'Fig 1 Ballet Leg'!H40)","v":10.807017543859651},{"$f":"IF($A39=\"\",\"\",'Fig 2 Barracuda'!H40)","v":13.947368421052632},{"$f":"IF($A39=\"\",\"\",'Fig 3 Neptunus'!H40)","v":12.157894736842106},{"$f":"IF($A39=\"\",\"\",'Fig 4 Walkover'!H40)","v":12.80263157894737},{"$f":"IF($A39=\"\",\"\",'Fig 1 Ballet Leg'!I40+'Fig 2 Barracuda'!I40+'Fig 3 Neptunus'!I40+'Fig 4 Walkover'!I40)","v":0},0,null,null,null,null,null,null,null,null,null,null,null,null,null,null,null,null,null,null,null,null,null,null,null,null,null,null,null,null,null,null,null,null,null,null,null,null,null,null,37,0]
[39,"Danielle Hawes","Osseo-Maple Grove",56.100877192982452,21,{"$f":"IF($A40=\"\",\"\",'Fig 1 Ballet Leg'!H41)","v":11.087719298245615},{"$f":"IF($A40=\"\",\"\",'Fig 2 Barracuda'!H41)","v":14.210526315789474},{"$f":"IF($A40=\"\",\"\",'Fig 3 Neptunus'!H41)","v":14.131578947368421},{"$f":"IF($A40=\"\",\"\",'Fig 4 Walkover'!H41)","v":16.671052631578949},{"$f":"IF($A40=\"\",\"\",'Fig 1 Ballet Leg'!I41+'Fig 2 Barracuda'!I41+'Fig 3 Neptunus'!I41+'Fig 4 Walkover'!I41)","v":0},0,null,null,null,null,null,null,null,null,null,null,null,null,null,null,null,null,null,null,null,null,null,null,null,null,null,null,null,null,null,null,null,null,null,null,null,null,null,null,38,0]
[40,"Paige Thurnbeck","Forest Lake",60.096491228070178,8,{"$f":"IF($A41=\"\",\"\",'Fig 1 Ballet Leg'!H42)","v":12.56140350877193},{"$f":"IF($A41=\"\",\"\",'Fig 2 Barracuda'!H42)","v":15.6140350877193},{"$f":"IF($A41=\"\",\"\",'Fig 3 Neptunus'!H42)","v":14.605263157894738},{"$f":"IF($A41=\"\",\"\",'Fig 4 Walkover'!H42)","v":17.315789473684209},{"$f":"IF($A41=\"\",\"\",'Fig 1 Ballet Leg'!I42+'Fig 2 Barracuda'!I42+'Fig 3 Neptunus'!I42+'Fig 4 Walkover'!I42)","v":0},0,null,null,null,null,null,null,null,null,null,null,null,null,null,null,null,null,null,null,null,null,null,null,null,null,null,null,null,null,null,null,null,null,null,null,null,null,null,null,39,0]
[41,"Brecken Carr","Forest Lake",59.223684210526315,13,{"$f":"IF($A42=\"\",\"\",'Fig 1 Ballet Leg'!H43)","v":11.649122807017546},{"$f":"IF($A42=\"\",\"\",'Fig 2 Barracuda'!H43)","v":16.140350877192983},{"$f":"IF($A42=\"\",\"\",'Fig 3 Neptunus'!H43)","v":14.763157894736842},{"$f":"IF($A42=\"\",\"\",'Fig 4 Walkover'!H43)","v":16.671052631578949},{"$f":"IF($A42=\"\",\"\",'Fig 1 Ballet Leg'!I43+'Fig 2 Barracuda'!I43+'Fig 3 Neptunus'!I43+'Fig 4 Walkover'!I43)","v":0},0,null,null,null,null,null,null,null,null,null,null,null,null,null,null,null,null,null,null,null,null,null,null,null,null,null,null,null,null,null,null,null,null,null,null,null,null,null,null,40,0]
[42,"Bridget Olson","Forest Lake",56.596491228070178,17,{"$f":"IF($A43=\"\",\"\",'Fig 1 Ballet Leg'!H44)","v":11.228070175438598},{"$f":"IF($A43=\"\",\"\",'Fig 2 Barracuda'!H44)","v":15.526315789473685},{"$f":"IF($A43=\"\",\"\",'Fig 3 Neptunus'!H44)","v":13.815789473684211},{"$f":"IF($A43=\"\",\"\",'Fig 4 Walkover'!H44)","v":16.026315789473685},{"$f":"IF($A43=\"\",\"\",'Fig 1 Ballet Leg'!I44+'Fig 2 Barracuda'!I44+'Fig 3 Neptunus'!I44+'Fig 4 Walkover'!I44)","v":0},0,null,null,null,null,null,null,null,null,null,null,null,null,null,null,null,null,null,null,null,null,null,null,null,null,null,null,null,null,null,null,null,null,null,null,null,null,null,null,41,0]
[43,"Elizabeth Blount","Forest Lake",55.574561403508774,25,{"$f":"IF($A44=\"\",\"\",'Fig 1 Ballet Leg'!H45)","v":11.298245614035089},{"$f":"IF($A44=\"\",\"\",'Fig 2 Barracuda'!H45)","v":15},{"$f":"IF($A44=\"\",\"\",'Fig 3 Neptunus'!H45)","v":13.342105263157896},{"$f":"IF($A44=\"\",\"\",'Fig 4 Walkover'!H45)","v":15.934210526315789},{"$f":"IF($A44=\"\",\"\",'Fig 1 Ballet Leg'!I45+'Fig 2 Barracuda'!I45+'Fig 3 Neptunus'!I45+'Fig 4 Walkover'!I45)","v":0},0,null,null,null,null,null,null,null,null,null,null,null,null,null,null,null,null,null,null,null,null,null,null,null,null,null,null,null,null,null,null,null,null,null,null,null,null,null,null,42,0]
[44,"Megan Palmer","Forest Lake",59.978070175438603,10,{"$f":"IF($A45=\"\",\"\",'Fig 1 Ballet Leg'!H46)","v":12.842105263157896},{"$f":"IF($A45=\"\",\"\",'Fig 2 Barracuda'!H46)","v":15.701754385964913},{"$f":"IF($A45=\"\",\"\",'Fig 3 Neptunus'!H46)","v":14.763157894736842},{"$f":"IF($A45=\"\",\"\",'Fig 4 Walkover'!H46)","v":16.671052631578949},{"$f":"IF($A45=\"\",\"\",'Fig 1 Ballet Leg'!I46+'Fig 2 Barracuda'!I46+'Fig 3 Neptunus'!I46+'Fig 4 Walkover'!I46)","v":0},0,null,null,null,null,null,null,null,null,null,null,null,null,null,null,null,null,null,null,null,null,null,null,null,null,null,null,null,null,null,null,null,null,null,null,null,null,null,null,43,0]
[45,"Holly Drazenovich","Osseo-Maple Grove",51.065789473684212,44,{"$f":"IF($A46=\"\",\"\",'Fig 1 Ballet Leg'!H47)","v":10.526315789473685},{"$f":"IF($A46=\"\",\"\",'Fig 2 Barracuda'!H47)","v":13.947368421052632},{"$f":"IF($A46=\"\",\"\",'Fig 3 Neptunus'!H47)","v":11.763157894736841},{"$f":"IF($A46=\"\",\"\",'Fig 4 Walkover'!H47)","v":14.828947368421053},{"$f":"IF($A46=\"\",\"\",'Fig 1 Ballet Leg'!I47+'Fig 2 Barracuda'!I47+'Fig 3 Neptunus'!I47+'Fig 4 Walkover'!I47)","v":0},0,null,null,null,null,null,null,null,null,null,null,null,null,null,null,null,null,null,null,null,null,null,null,null,null,null,null,null,null,null,null,null,null,null,null,null,null,null,null,44,0]
[46,"Jessica Ruohoniemi","Osseo-Maple Grove",50.412280701754398,47,{"$f":"IF($A47=\"\",\"\",'Fig 1 Ballet Leg'!H48)","v":10.736842105263159},{"$f":"IF($A47=\"\",\"\",'Fig 2 Barracuda'!H48)","v":13.333333333333334},{"$f":"IF($A47=\"\",\"\",'Fig 3 Neptunus'!H48)","v":11.605263157894738},{"$f":"IF($A47=\"\",\"\",'Fig 4 Walkover'!H48)","v":14.736842105263161},{"$f":"IF($A47=\"\",\"\",'Fig 1 Ballet Leg'!I48+'Fig 2 Barracuda'!I48+'Fig 3 Neptunus'!I48+'Fig 4 Walkover'!I48)","v":0},0,null,null,null,null,null,null,null,null,null,null,null,null,null,null,null,null,null,null,null,null,null,null,null,null,null,null,null,null,null,null,null,null,null,null,null,null,null,null,45,0]
[47,"Cora Martinez","Forest Lake",48.807017543859651,52,{"$f":"IF($A48=\"\",\"\",'Fig 1 Ballet Leg'!H49)","v":9.9649122807017552},{"$f":"IF($A48=\"\",\"\",'Fig 2 Barracuda'!H49)","v":13.947368421052632},{"$f":"IF($A48=\"\",\"\",'Fig 3 Neptunus'!H49)","v":11.447368421052632},{"$f":"IF($A48=\"\",\"\",'Fig 4 Walkover'!H49)","v":13.447368421052632},{"$f":"IF($A48=\"\",\"\",'Fig 1 Ballet Leg'!I49+'Fig 2 Barracuda'!I49+'Fig 3 Neptunus'!I49+'Fig 4 Walkover'!I49)","v":0},0,null,null,null,null,null,null,null,null,null,null,null,null,null,null,null,null,null,null,null,null,null,null,null,null,null,null,null,null,null,null,null,null,null,null,null,null,null,null,46,0]
[48,"Kenzie Klein","Forest Lake",63.94736842105263,2,{"$f":"IF($A49=\"\",\"\",'Fig 1 Ballet Leg'!H50)","v":14.17543859649123},{"$f":"IF($A49=\"\",\"\",'Fig 2 Barracuda'!H50)","v":17.456140350877192},{"$f":"IF($A49=\"\",\"\",'Fig 3 Neptunus'!H50)","v":15},{"$f":"IF($A49=\"\",\"\",'Fig 4 Walkover'!H50)","v":17.315789473684209},{"$f":"IF($A49=\"\",\"\",'Fig 1 Ballet Leg'!I50+'Fig 2 Barracuda'!I50+'Fig 3 Neptunus'!I50+'Fig 4 Walkover'!I50)","v":0},6,null,null,null,null,null,null,null,null,null,null,null,null,null,null,null,null,null,null,null,null,null,null,null,null,null,null,null,null,null,null,null,null,null,null,null,null,null,null,47,0]
[49,"Alle Hale","Forest Lake",51.434210526315795,42,{"$f":"IF($A50=\"\",\"\",'Fig 1 Ballet Leg'!H51)","v":11.368421052631581},{"$f":"IF($A50=\"\",\"\",'Fig 2 Barracuda'!H51)","v":13.157894736842106},{"$f":"IF($A50=\"\",\"\",'Fig 3 Neptunus'!H51)","v":12.631578947368421},{"$f":"IF($A50=\"\",\"\",'Fig 4 Walkover'!H51)","v":14.276315789473685},{"$f":"IF($A50=\"\",\"\",'Fig 1 Ballet Leg'!I51+'Fig 2 Barracuda'!I51+'Fig 3 Neptunus'!I51+'Fig 4 Walkover'!I51)","v":0},0,null,null,null,null,null,null,null,null,null,null,null,null,null,null,null,null,null,null,null,null,null,null,null,null,null,null,null,null,null,null,null,null,null,null,null,null,null,null,48,0]
[50,"Sophie Jarosz","Forest Lake",56.175438596491233,19,{"$f":"IF($A51=\"\",\"\",'Fig 1 Ballet Leg'!H52)","v":11.719298245614036},{"$f":"IF($A51=\"\",\"\",'Fig 2 Barracuda'!H52)","v":15.087719298245615},{"$f":"IF($A51=\"\",\"\",'Fig 3 Neptunus'!H52)","v":13.894736842105264},{"$f":"IF($A51=\"\",\"\",'Fig 4 Walkover'!H52)","v":15.473684210526317},{"$f":"IF($A51=\"\",\"\",'Fig 1 Ballet Leg'!I52+'Fig 2 Barracuda'!I52+'Fig 3 Neptunus'!I52+'Fig 4 Walkover'!I52)","v":0},0,null,null,null,null,null,null,null,null,null,null,null,null,null,null,null,null,null,null,null,null,null,null,null,null,null,null,null,null,null,null,null,null,null,null,null,null,null,null,49,0]
[51,"Elizabeth McBride","Osseo-Maple Grove",60.162280701754383,7,{"$f":"IF($A52=\"\",\"\",'Fig 1 Ballet Leg'!H53)","v":12.49122807017544},{"$f":"IF($A52=\"\",\"\",'Fig 2 Barracuda'!H53)","v":15.263157894736842},{"$f":"IF($A52=\"\",\"\",'Fig 3 Neptunus'!H53)","v":15},{"$f":"IF($A52=\"\",\"\",'Fig 4 Walkover'!H53)","v":17.407894736842106},{"$f":"IF($A52=\"\",\"\",'Fig 1 Ballet Leg'!I53+'Fig 2 Barracuda'!I53+'Fig 3 Neptunus'!I53+'Fig 4 Walkover'!I53)","v":0},1,null,null,null,null,null,null,null,null,null,null,null,null,null,null,null,null,null,null,null,null,null,null,null,null,null,null,null,null,null,null,null,null,null,null,null,null,null,null,50,0]
[52,"Lydia Hansen","Forest Lake",51.578947368421055,41,{"$f":"IF($A53=\"\",\"\",'Fig 1 Ballet Leg'!H54)","v":10.736842105263159},{"$f":"IF($A53=\"\",\"\",'Fig 2 Barracuda'!H54)","v":13.157894736842106},{"$f":"IF($A53=\"\",\"\",'Fig 3 Neptunus'!H54)","v":12.947368421052632},{"$f":"IF($A53=\"\",\"\",'Fig 4 Walkover'!H54)","v":14.736842105263161},{"$f":"IF($A53=\"\",\"\",'Fig 1 Ballet Leg'!I54+'Fig 2 Barracuda'!I54+'Fig 3 Neptunus'!I54+'Fig 4 Walkover'!I54)","v":0},0,null,null,null,null,null,null,null,null,null,null,null,null,null,null,null,null,null,null,null,null,null,null,null,null,null,null,null,null,null,null,null,null,null,null,null,null,null,null,51,0]
[53,"Anna Ganser","Osseo-Maple Grove",59.40789473684211,12,{"$f":"IF($A54=\"\",\"\",'Fig 1 Ballet Leg'!H55)","v":12.49122807017544},{"$f":"IF($A54=\"\",\"\",'Fig 2 Barracuda'!H55)","v":15.350877192982457},{"$f":"IF($A54=\"\",\"\",'Fig 3 Neptunus'!H55)","v":14.526315789473685},{"$f":"IF($A54=\"\",\"\",'Fig 4 Walkover'!H55)","v":17.039473684210527},{"$f":"IF($A54=\"\",\"\",'Fig 1 Ballet Leg'!I55+'Fig 2 Barracuda'!I55+'Fig 3 Neptunus'!I55+'Fig 4 Walkover'!I55)","v":0},0,null,null,null,null,null,null,null,null,null,null,null,null,null,null,null,null,null,null,null,null,null,null,null,null,null,null,null,null,null,null,null,null,null,null,null,null,null,null,52,0]
[54,"Fallon Olson","Forest Lake",63.798245614035082,3,{"$f":"IF($A55=\"\",\"\",'Fig 1 Ballet Leg'!H56)","v":13.263157894736844},{"$f":"IF($A55=\"\",\"\",'Fig 2 Barracuda'!H56)","v":16.929824561403507},{"$f":"IF($A55=\"\",\"\",'Fig 3 Neptunus'!H56)","v":15.552631578947372},{"$f":"IF($A55=\"\",\"\",'Fig 4 Walkover'!H56)","v":18.052631578947366},{"$f":"IF($A55=\"\",\"\",'Fig 1 Ballet Leg'!I56+'Fig 2 Barracuda'!I56+'Fig 3 Neptunus'!I56+'Fig 4 Walkover'!I56)","v":0},5,null,null,null,null,null,null,null,null,null,null,null,null,null,null,null,null,null,null,null,null,null,null,null,null,null,null,null,null,null,null,null,null,null,null,null,null,null,null,53,0]
[55,"Caroline LaBord","Osseo-Maple Grove",47.377192982456137,53,{"$f":"IF($A56=\"\",\"\",'Fig 1 Ballet Leg'!H57)","v":10.666666666666666},{"$f":"IF($A56=\"\",\"\",'Fig 2 Barracuda'!H57)","v":12.368421052631579},{"$f":"IF($A56=\"\",\"\",'Fig 3 Neptunus'!H57)","v":10.894736842105264},{"$f":"IF($A56=\"\",\"\",'Fig 4 Walkover'!H57)","v":13.447368421052632},{"$f":"IF($A56=\"\",\"\",'Fig 1 Ballet Leg'!I57+'Fig 2 Barracuda'!I57+'Fig 3 Neptunus'!I57+'Fig 4 Walkover'!I57)","v":0},0,null,null,null,null,null,null,null,null,null,null,null,null,null,null,null,null,null,null,null,null,null,null,null,null,null,null,null,null,null,null,null,null,null,null,null,null,null,null,54,0]
[null,null,null,"","",{"$f":"IF($A57=\"\",\"\",'Fig 1 Ballet Leg'!H58)","v":""},{"$f":"IF($A57=\"\",\"\",'Fig 2 Barracuda'!H58)","v":""},{"$f":"IF($A57=\"\",\"\",'Fig 3 Neptunus'!H58)","v":""},{"$f":"IF($A57=\"\",\"\",'Fig 4 Walkover'!H58)","v":""},{"$f":"IF($A57=\"\",\"\",'Fig 1 Ballet Leg'!I58+'Fig 2 Barracuda'!I58+'Fig 3 Neptunus'!I58+'Fig 4 Walkover'!I58)","v":""},"",null,null,null,null,null,null,null,null,null,null,null,null,null,null,null,null,null,null,null,null,null,null,null,null,null,null,null,null,null,null,null,null,null,null,null,null,null,null,55,0]
[null,null,null,"","",{"$f":"IF($A58=\"\",\"\",'Fig 1 Ballet Leg'!H59)","v":""},{"$f":"IF($A58=\"\",\"\",'Fig 2 Barracuda'!H59)","v":""},{"$f":"IF($A58=\"\",\"\",'Fig 3 Neptunus'!H59)","v":""},{"$f":"IF($A58=\"\",\"\",'Fig 4 Walkover'!H59)","v":""},{"$f":"IF($A58=\"\",\"\",'Fig 1 Ballet Leg'!I59+'Fig 2 Barracuda'!I59+'Fig 3 Neptunus'!I59+'Fig 4 Walkover'!I59)","v":""},"",null,null,null,null,null,null,null,null,null,null,null,null,null,null,null,null,null,null,null,null,null,null,null,null,null,null,null,null,null,null,null,null,null,null,null,null,null,null,56,0]
[null,null,null,"","",{"$f":"IF($A59=\"\",\"\",'Fig 1 Ballet Leg'!H60)","v":""},{"$f":"IF($A59=\"\",\"\",'Fig 2 Barracuda'!H60)","v":""},{"$f":"IF($A59=\"\",\"\",'Fig 3 Neptunus'!H60)","v":""},{"$f":"IF($A59=\"\",\"\",'Fig 4 Walkover'!H60)","v":""},{"$f":"IF($A59=\"\",\"\",'Fig 1 Ballet Leg'!I60+'Fig 2 Barracuda'!I60+'Fig 3 Neptunus'!I60+'Fig 4 Walkover'!I60)","v":""},"",null,null,null,null,null,null,null,null,null,null,null,null,null,null,null,null,null,null,null,null,null,null,null,null,null,null,null,null,null,null,null,null,null,null,null,null,null,null,57,0]
[null,null,null,"","",{"$f":"IF($A60=\"\",\"\",'Fig 1 Ballet Leg'!H61)","v":""},{"$f":"IF($A60=\"\",\"\",'Fig 2 Barracuda'!H61)","v":""},{"$f":"IF($A60=\"\",\"\",'Fig 3 Neptunus'!H61)","v":""},{"$f":"IF($A60=\"\",\"\",'Fig 4 Walkover'!H61)","v":""},{"$f":"IF($A60=\"\",\"\",'Fig 1 Ballet Leg'!I61+'Fig 2 Barracuda'!I61+'Fig 3 Neptunus'!I61+'Fig 4 Walkover'!I61)","v":""},"",null,null,null,null,null,null,null,null,null,null,null,null,null,null,null,null,null,null,null,null,null,null,null,null,null,null,null,null,null,null,null,null,null,null,null,null,null,null,58,0]
[null,null,null,"","",{"$f":"IF($A61=\"\",\"\",'Fig 1 Ballet Leg'!H62)","v":""},{"$f":"IF($A61=\"\",\"\",'Fig 2 Barracuda'!H62)","v":""},{"$f":"IF($A61=\"\",\"\",'Fig 3 Neptunus'!H62)","v":""},{"$f":"IF($A61=\"\",\"\",'Fig 4 Walkover'!H62)","v":""},{"$f":"IF($A61=\"\",\"\",'Fig 1 Ballet Leg'!I62+'Fig 2 Barracuda'!I62+'Fig 3 Neptunus'!I62+'Fig 4 Walkover'!I62)","v":""},"",null,null,null,null,null,null,null,null,null,null,null,null,null,null,null,null,null,null,null,null,null,null,null,null,null,null,null,null,null,null,null,null,null,null,null,null,null,null,59,0]
[null,null,null,"","",{"$f":"IF($A62=\"\",\"\",'Fig 1 Ballet Leg'!H63)","v":""},{"$f":"IF($A62=\"\",\"\",'Fig 2 Barracuda'!H63)","v":""},{"$f":"IF($A62=\"\",\"\",'Fig 3 Neptunus'!H63)","v":""},{"$f":"IF($A62=\"\",\"\",'Fig 4 Walkover'!H63)","v":""},{"$f":"IF($A62=\"\",\"\",'Fig 1 Ballet Leg'!I63+'Fig 2 Barracuda'!I63+'Fig 3 Neptunus'!I63+'Fig 4 Walkover'!I63)","v":""},"",null,null,null,null,null,null,null,null,null,null,null,null,null,null,null,null,null,null,null,null,null,null,null,null,null,null,null,null,null,null,null,null,null,null,null,null,null,null,60,0]
[null,null,null,"","",{"$f":"IF($A63=\"\",\"\",'Fig 1 Ballet Leg'!H64)","v":""},{"$f":"IF($A63=\"\",\"\",'Fig 2 Barracuda'!H64)","v":""},{"$f":"IF($A63=\"\",\"\",'Fig 3 Neptunus'!H64)","v":""},{"$f":"IF($A63=\"\",\"\",'Fig 4 Walkover'!H64)","v":""},{"$f":"IF($A63=\"\",\"\",'Fig 1 Ballet Leg'!I64+'Fig 2 Barracuda'!I64+'Fig 3 Neptunus'!I64+'Fig 4 Walkover'!I64)","v":""},"",null,null,null,null,null,null,null,null,null,null,null,null,null,null,null,null,null,null,null,null,null,null,null,null,null,null,null,null,null,null,null,null,null,null,null,null,null,null,61,0]
[null,null,null,"","",{"$f":"IF($A64=\"\",\"\",'Fig 1 Ballet Leg'!H65)","v":""},{"$f":"IF($A64=\"\",\"\",'Fig 2 Barracuda'!H65)","v":""},{"$f":"IF($A64=\"\",\"\",'Fig 3 Neptunus'!H65)","v":""},{"$f":"IF($A64=\"\",\"\",'Fig 4 Walkover'!H65)","v":""},{"$f":"IF($A64=\"\",\"\",'Fig 1 Ballet Leg'!I65+'Fig 2 Barracuda'!I65+'Fig 3 Neptunus'!I65+'Fig 4 Walkover'!I65)","v":""},"",null,null,null,null,null,null,null,null,null,null,null,null,null,null,null,null,null,null,null,null,null,null,null,null,null,null,null,null,null,null,null,null,null,null,null,null,null,null,62,0]
[null,null,null,"","",{"$f":"IF($A65=\"\",\"\",'Fig 1 Ballet Leg'!H66)","v":""},{"$f":"IF($A65=\"\",\"\",'Fig 2 Barracuda'!H66)","v":""},{"$f":"IF($A65=\"\",\"\",'Fig 3 Neptunus'!H66)","v":""},{"$f":"IF($A65=\"\",\"\",'Fig 4 Walkover'!H66)","v":""},{"$f":"IF($A65=\"\",\"\",'Fig 1 Ballet Leg'!I66+'Fig 2 Barracuda'!I66+'Fig 3 Neptunus'!I66+'Fig 4 Walkover'!I66)","v":""},"",null,null,null,null,null,null,null,null,null,null,null,null,null,null,null,null,null,null,null,null,null,null,null,null,null,null,null,null,null,null,null,null,null,null,null,null,null,null,63,0]
[null,null,null,"","",{"$f":"IF($A66=\"\",\"\",'Fig 1 Ballet Leg'!H67)","v":""},{"$f":"IF($A66=\"\",\"\",'Fig 2 Barracuda'!H67)","v":""},{"$f":"IF($A66=\"\",\"\",'Fig 3 Neptunus'!H67)","v":""},{"$f":"IF($A66=\"\",\"\",'Fig 4 Walkover'!H67)","v":""},{"$f":"IF($A66=\"\",\"\",'Fig 1 Ballet Leg'!I67+'Fig 2 Barracuda'!I67+'Fig 3 Neptunus'!I67+'Fig 4 Walkover'!I67)","v":""},"",null,null,null,null,null,null,null,null,null,null,null,null,null,null,null,null,null,null,null,null,null,null,null,null,null,null,null,null,null,null,null,null,null,null,null,null,null,null,64,0]
[null,null,null,"","",{"$f":"IF($A67=\"\",\"\",'Fig 1 Ballet Leg'!H68)","v":""},{"$f":"IF($A67=\"\",\"\",'Fig 2 Barracuda'!H68)","v":""},{"$f":"IF($A67=\"\",\"\",'Fig 3 Neptunus'!H68)","v":""},{"$f":"IF($A67=\"\",\"\",'Fig 4 Walkover'!H68)","v":""},{"$f":"IF($A67=\"\",\"\",'Fig 1 Ballet Leg'!I68+'Fig 2 Barracuda'!I68+'Fig 3 Neptunus'!I68+'Fig 4 Walkover'!I68)","v":""},"",null,null,null,null,null,null,null,null,null,null,null,null,null,null,null,null,null,null,null,null,null,null,null,null,null,null,null,null,null,null,null,null,null,null,null,null,null,null,65,0]
[null,null,null,"","",{"$f":"IF($A68=\"\",\"\",'Fig 1 Ballet Leg'!H69)","v":""},{"$f":"IF($A68=\"\",\"\",'Fig 2 Barracuda'!H69)","v":""},{"$f":"IF($A68=\"\",\"\",'Fig 3 Neptunus'!H69)","v":""},{"$f":"IF($A68=\"\",\"\",'Fig 4 Walkover'!H69)","v":""},{"$f":"IF($A68=\"\",\"\",'Fig 1 Ballet Leg'!I69+'Fig 2 Barracuda'!I69+'Fig 3 Neptunus'!I69+'Fig 4 Walkover'!I69)","v":""},"",null,null,null,null,null,null,null,null,null,null,null,null,null,null,null,null,null,null,null,null,null,null,null,null,null,null,null,null,null,null,null,null,null,null,null,null,null,null,66,0]
[null,null,null,{"$f":"IF($A69=\"\",\"\",SUM(F69:I69)-J69)","v":""},{"$f":"IF($A69=\"\",\"\",RANK(D69,D$2:D$150))","v":""},{"$f":"IF($A69=\"\",\"\",'Fig 1 Ballet Leg'!H70)","v":""},{"$f":"IF($A69=\"\",\"\",'Fig 2 Barracuda'!H70)","v":""},{"$f":"IF($A69=\"\",\"\",'Fig 3 Neptunus'!H70)","v":""},{"$f":"IF($A69=\"\",\"\",'Fig 4 Walkover'!H70)","v":""},{"$f":"IF($A69=\"\",\"\",'Fig 1 Ballet Leg'!I70+'Fig 2 Barracuda'!I70+'Fig 3 Neptunus'!I70+'Fig 4 Walkover'!I70)","v":""},{"$f":"IF($A69=\"\",\"\",IF(A69=\"\",\"\",VLOOKUP(E69,AX$3:AY$102,2,FALSE)))","v":""},null,null,null,null,null,null,null,null,null,null,null,null,null,null,null,null,null,null,null,null,null,null,null,null,null,null,null,null,null,null,null,null,null,null,null,null,null,null,67,0]
[null,null,null,"","",{"$f":"IF($A70=\"\",\"\",'Fig 1 Ballet Leg'!H71)","v":""},{"$f":"IF($A70=\"\",\"\",'Fig 2 Barracuda'!H71)","v":""},{"$f":"IF($A70=\"\",\"\",'Fig 3 Neptunus'!H71)","v":""},{"$f":"IF($A70=\"\",\"\",'Fig 4 Walkover'!H71)","v":""},{"$f":"IF($A70=\"\",\"\",'Fig 1 Ballet Leg'!I71+'Fig 2 Barracuda'!I71+'Fig 3 Neptunus'!I71+'Fig 4 Walkover'!I71)","v":""},"",null,null,null,null,null,null,null,null,null,null,null,null,null,null,null,null,null,null,null,null,null,null,null,null,null,null,null,null,null,null,null,null,null,null,null,null,null,null,68,0]
[null,null,null,"","",{"$f":"IF($A71=\"\",\"\",'Fig 1 Ballet Leg'!H72)","v":""},{"$f":"IF($A71=\"\",\"\",'Fig 2 Barracuda'!H72)","v":""},{"$f":"IF($A71=\"\",\"\",'Fig 3 Neptunus'!H72)","v":""},{"$f":"IF($A71=\"\",\"\",'Fig 4 Walkover'!H72)","v":""},{"$f":"IF($A71=\"\",\"\",'Fig 1 Ballet Leg'!I72+'Fig 2 Barracuda'!I72+'Fig 3 Neptunus'!I72+'Fig 4 Walkover'!I72)","v":""},"",null,null,null,null,null,null,null,null,null,null,null,null,null,null,null,null,null,null,null,null,null,null,null,null,null,null,null,null,null,null,null,null,null,null,null,null,null,null,69,0]
[null,null,null,"","",{"$f":"IF($A72=\"\",\"\",'Fig 1 Ballet Leg'!H73)","v":""},{"$f":"IF($A72=\"\",\"\",'Fig 2 Barracuda'!H73)","v":""},{"$f":"IF($A72=\"\",\"\",'Fig 3 Neptunus'!H73)","v":""},{"$f":"IF($A72=\"\",\"\",'Fig 4 Walkover'!H73)","v":""},{"$f":"IF($A72=\"\",\"\",'Fig 1 Ballet Leg'!I73+'Fig 2 Barracuda'!I73+'Fig 3 Neptunus'!I73+'Fig 4 Walkover'!I73)","v":""},"",null,null,null,null,null,null,null,null,null,null,null,null,null,null,null,null,null,null,null,null,null,null,null,null,null,null,null,null,null,null,null,null,null,null,null,null,null,null,70,0]
[null,null,null,"","",{"$f":"IF($A73=\"\",\"\",'Fig 1 Ballet Leg'!H74)","v":""},{"$f":"IF($A73=\"\",\"\",'Fig 2 Barracuda'!H74)","v":""},{"$f":"IF($A73=\"\",\"\",'Fig 3 Neptunus'!H74)","v":""},{"$f":"IF($A73=\"\",\"\",'Fig 4 Walkover'!H74)","v":""},{"$f":"IF($A73=\"\",\"\",'Fig 1 Ballet Leg'!I74+'Fig 2 Barracuda'!I74+'Fig 3 Neptunus'!I74+'Fig 4 Walkover'!I74)","v":""},"",null,null,null,null,null,null,null,null,null,null,null,null,null,null,null,null,null,null,null,null,null,null,null,null,null,null,null,null,null,null,null,null,null,null,null,null,null,null,71,0]
[null,null,null,"","",{"$f":"IF($A74=\"\",\"\",'Fig 1 Ballet Leg'!H75)","v":""},{"$f":"IF($A74=\"\",\"\",'Fig 2 Barracuda'!H75)","v":""},{"$f":"IF($A74=\"\",\"\",'Fig 3 Neptunus'!H75)","v":""},{"$f":"IF($A74=\"\",\"\",'Fig 4 Walkover'!H75)","v":""},{"$f":"IF($A74=\"\",\"\",'Fig 1 Ballet Leg'!I75+'Fig 2 Barracuda'!I75+'Fig 3 Neptunus'!I75+'Fig 4 Walkover'!I75)","v":""},"",null,null,null,null,null,null,null,null,null,null,null,null,null,null,null,null,null,null,null,null,null,null,null,null,null,null,null,null,null,null,null,null,null,null,null,null,null,null,72,0]
[null,null,null,"","",{"$f":"IF($A75=\"\",\"\",'Fig 1 Ballet Leg'!H76)","v":""},{"$f":"IF($A75=\"\",\"\",'Fig 2 Barracuda'!H76)","v":""},{"$f":"IF($A75=\"\",\"\",'Fig 3 Neptunus'!H76)","v":""},{"$f":"IF($A75=\"\",\"\",'Fig 4 Walkover'!H76)","v":""},{"$f":"IF($A75=\"\",\"\",'Fig 1 Ballet Leg'!I76+'Fig 2 Barracuda'!I76+'Fig 3 Neptunus'!I76+'Fig 4 Walkover'!I76)","v":""},"",null,null,null,null,null,null,null,null,null,null,null,null,null,null,null,null,null,null,null,null,null,null,null,null,null,null,null,null,null,null,null,null,null,null,null,null,null,null,73,0]
[null,null,null,"","",{"$f":"IF($A76=\"\",\"\",'Fig 1 Ballet Leg'!H77)","v":""},{"$f":"IF($A76=\"\",\"\",'Fig 2 Barracuda'!H77)","v":""},{"$f":"IF($A76=\"\",\"\",'Fig 3 Neptunus'!H77)","v":""},{"$f":"IF($A76=\"\",\"\",'Fig 4 Walkover'!H77)","v":""},{"$f":"IF($A76=\"\",\"\",'Fig 1 Ballet Leg'!I77+'Fig 2 Barracuda'!I77+'Fig 3 Neptunus'!I77+'Fig 4 Walkover'!I77)","v":""},"",null,null,null,null,null,null,null,null,null,null,null,null,null,null,null,null,null,null,null,null,null,null,null,null,null,null,null,null,null,null,null,null,null,null,null,null,null,null,74,0]
[null,null,null,"","",{"$f":"IF($A77=\"\",\"\",'Fig 1 Ballet Leg'!H78)","v":""},{"$f":"IF($A77=\"\",\"\",'Fig 2 Barracuda'!H78)","v":""},{"$f":"IF($A77=\"\",\"\",'Fig 3 Neptunus'!H78)","v":""},{"$f":"IF($A77=\"\",\"\",'Fig 4 Walkover'!H78)","v":""},{"$f":"IF($A77=\"\",\"\",'Fig 1 Ballet Leg'!I78+'Fig 2 Barracuda'!I78+'Fig 3 Neptunus'!I78+'Fig 4 Walkover'!I78)","v":""},"",null,null,null,null,null,null,null,null,null,null,null,null,null,null,null,null,null,null,null,null,null,null,null,null,null,null,null,null,null,null,null,null,null,null,null,null,null,null,75,0]
[null,null,null,"","",{"$f":"IF($A78=\"\",\"\",'Fig 1 Ballet Leg'!H79)","v":""},{"$f":"IF($A78=\"\",\"\",'Fig 2 Barracuda'!H79)","v":""},{"$f":"IF($A78=\"\",\"\",'Fig 3 Neptunus'!H79)","v":""},{"$f":"IF($A78=\"\",\"\",'Fig 4 Walkover'!H79)","v":""},{"$f":"IF($A78=\"\",\"\",'Fig 1 Ballet Leg'!I79+'Fig 2 Barracuda'!I79+'Fig 3 Neptunus'!I79+'Fig 4 Walkover'!I79)","v":""},"",null,null,null,null,null,null,null,null,null,null,null,null,null,null,null,null,null,null,null,null,null,null,null,null,null,null,null,null,null,null,null,null,null,null,null,null,null,null,76,0]
[null,null,null,"","",{"$f":"IF($A79=\"\",\"\",'Fig 1 Ballet Leg'!H80)","v":""},{"$f":"IF($A79=\"\",\"\",'Fig 2 Barracuda'!H80)","v":""},{"$f":"IF($A79=\"\",\"\",'Fig 3 Neptunus'!H80)","v":""},{"$f":"IF($A79=\"\",\"\",'Fig 4 Walkover'!H80)","v":""},{"$f":"IF($A79=\"\",\"\",'Fig 1 Ballet Leg'!I80+'Fig 2 Barracuda'!I80+'Fig 3 Neptunus'!I80+'Fig 4 Walkover'!I80)","v":""},"",null,null,null,null,null,null,null,null,null,null,null,null,null,null,null,null,null,null,null,null,null,null,null,null,null,null,null,null,null,null,null,null,null,null,null,null,null,null,77,0]
[null,null,null,"","",{"$f":"IF($A80=\"\",\"\",'Fig 1 Ballet Leg'!H81)","v":""},{"$f":"IF($A80=\"\",\"\",'Fig 2 Barracuda'!H81)","v":""},{"$f":"IF($A80=\"\",\"\",'Fig 3 Neptunus'!H81)","v":""},{"$f":"IF($A80=\"\",\"\",'Fig 4 Walkover'!H81)","v":""},{"$f":"IF($A80=\"\",\"\",'Fig 1 Ballet Leg'!I81+'Fig 2 Barracuda'!I81+'Fig 3 Neptunus'!I81+'Fig 4 Walkover'!I81)","v":""},"",null,null,null,null,null,null,null,null,null,null,null,null,null,null,null,null,null,null,null,null,null,null,null,null,null,null,null,null,null,null,null,null,null,null,null,null,null,null,78,0]
[null,null,null,"","",{"$f":"IF($A81=\"\",\"\",'Fig 1 Ballet Leg'!H82)","v":""},{"$f":"IF($A81=\"\",\"\",'Fig 2 Barracuda'!H82)","v":""},{"$f":"IF($A81=\"\",\"\",'Fig 3 Neptunus'!H82)","v":""},{"$f":"IF($A81=\"\",\"\",'Fig 4 Walkover'!H82)","v":""},{"$f":"IF($A81=\"\",\"\",'Fig 1 Ballet Leg'!I82+'Fig 2 Barracuda'!I82+'Fig 3 Neptunus'!I82+'Fig 4 Walkover'!I82)","v":""},"",null,null,null,null,null,null,null,null,null,null,null,null,null,null,null,null,null,null,null,null,null,null,null,null,null,null,null,null,null,null,null,null,null,null,null,null,null,null,79,0]
[null,null,null,"","",{"$f":"IF($A82=\"\",\"\",'Fig 1 Ballet Leg'!H83)","v":""},{"$f":"IF($A82=\"\",\"\",'Fig 2 Barracuda'!H83)","v":""},{"$f":"IF($A82=\"\",\"\",'Fig 3 Neptunus'!H83)","v":""},{"$f":"IF($A82=\"\",\"\",'Fig 4 Walkover'!H83)","v":""},{"$f":"IF($A82=\"\",\"\",'Fig 1 Ballet Leg'!I83+'Fig 2 Barracuda'!I83+'Fig 3 Neptunus'!I83+'Fig 4 Walkover'!I83)","v":""},"",null,null,null,null,null,null,null,null,null,null,null,null,null,null,null,null,null,null,null,null,null,null,null,null,null,null,null,null,null,null,null,null,null,null,null,null,null,null,80,0]
[null,null,null,"","",{"$f":"IF($A83=\"\",\"\",'Fig 1 Ballet Leg'!H84)","v":""},{"$f":"IF($A83=\"\",\"\",'Fig 2 Barracuda'!H84)","v":""},{"$f":"IF($A83=\"\",\"\",'Fig 3 Neptunus'!H84)","v":""},{"$f":"IF($A83=\"\",\"\",'Fig 4 Walkover'!H84)","v":""},{"$f":"IF($A83=\"\",\"\",'Fig 1 Ballet Leg'!I84+'Fig 2 Barracuda'!I84+'Fig 3 Neptunus'!I84+'Fig 4 Walkover'!I84)","v":""},"",null,null,null,null,null,null,null,null,null,null,null,null,null,null,null,null,null,null,null,null,null,null,null,null,null,null,null,null,null,null,null,null,null,null,null,null,null,null,81,0]
[null,null,null,"","",{"$f":"IF($A84=\"\",\"\",'Fig 1 Ballet Leg'!H85)","v":""},{"$f":"IF($A84=\"\",\"\",'Fig 2 Barracuda'!H85)","v":""},{"$f":"IF($A84=\"\",\"\",'Fig 3 Neptunus'!H85)","v":""},{"$f":"IF($A84=\"\",\"\",'Fig 4 Walkover'!H85)","v":""},{"$f":"IF($A84=\"\",\"\",'Fig 1 Ballet Leg'!I85+'Fig 2 Barracuda'!I85+'Fig 3 Neptunus'!I85+'Fig 4 Walkover'!I85)","v":""},"",null,null,null,null,null,null,null,null,null,null,null,null,null,null,null,null,null,null,null,null,null,null,null,null,null,null,null,null,null,null,null,null,null,null,null,null,null,null,82,0]
[null,null,null,"","",{"$f":"IF($A85=\"\",\"\",'Fig 1 Ballet Leg'!H86)","v":""},{"$f":"IF($A85=\"\",\"\",'Fig 2 Barracuda'!H86)","v":""},{"$f":"IF($A85=\"\",\"\",'Fig 3 Neptunus'!H86)","v":""},{"$f":"IF($A85=\"\",\"\",'Fig 4 Walkover'!H86)","v":""},{"$f":"IF($A85=\"\",\"\",'Fig 1 Ballet Leg'!I86+'Fig 2 Barracuda'!I86+'Fig 3 Neptunus'!I86+'Fig 4 Walkover'!I86)","v":""},"",null,null,null,null,null,null,null,null,null,null,null,null,null,null,null,null,null,null,null,null,null,null,null,null,null,null,null,null,null,null,null,null,null,null,null,null,null,null,83,0]
[null,null,null,"","",{"$f":"IF($A86=\"\",\"\",'Fig 1 Ballet Leg'!H87)","v":""},{"$f":"IF($A86=\"\",\"\",'Fig 2 Barracuda'!H87)","v":""},{"$f":"IF($A86=\"\",\"\",'Fig 3 Neptunus'!H87)","v":""},{"$f":"IF($A86=\"\",\"\",'Fig 4 Walkover'!H87)","v":""},{"$f":"IF($A86=\"\",\"\",'Fig 1 Ballet Leg'!I87+'Fig 2 Barracuda'!I87+'Fig 3 Neptunus'!I87+'Fig 4 Walkover'!I87)","v":""},"",null,null,null,null,null,null,null,null,null,null,null,null,null,null,null,null,null,null,null,null,null,null,null,null,null,null,null,null,null,null,null,null,null,null,null,null,null,null,84,0]
[null,null,null,"","",{"$f":"IF($A87=\"\",\"\",'Fig 1 Ballet Leg'!H88)","v":""},{"$f":"IF($A87=\"\",\"\",'Fig 2 Barracuda'!H88)","v":""},{"$f":"IF($A87=\"\",\"\",'Fig 3 Neptunus'!H88)","v":""},{"$f":"IF($A87=\"\",\"\",'Fig 4 Walkover'!H88)","v":""},{"$f":"IF($A87=\"\",\"\",'Fig 1 Ballet Leg'!I88+'Fig 2 Barracuda'!I88+'Fig 3 Neptunus'!I88+'Fig 4 Walkover'!I88)","v":""},"",null,null,null,null,null,null,null,null,null,null,null,null,null,null,null,null,null,null,null,null,null,null,null,null,null,null,null,null,null,null,null,null,null,null,null,null,null,null,85,0]
[null,null,null,"","",{"$f":"IF($A88=\"\",\"\",'Fig 1 Ballet Leg'!H89)","v":""},{"$f":"IF($A88=\"\",\"\",'Fig 2 Barracuda'!H89)","v":""},{"$f":"IF($A88=\"\",\"\",'Fig 3 Neptunus'!H89)","v":""},{"$f":"IF($A88=\"\",\"\",'Fig 4 Walkover'!H89)","v":""},{"$f":"IF($A88=\"\",\"\",'Fig 1 Ballet Leg'!I89+'Fig 2 Barracuda'!I89+'Fig 3 Neptunus'!I89+'Fig 4 Walkover'!I89)","v":""},"",null,null,null,null,null,null,null,null,null,null,null,null,null,null,null,null,null,null,null,null,null,null,null,null,null,null,null,null,null,null,null,null,null,null,null,null,null,null,86,0]
[null,null,null,"","",{"$f":"IF($A89=\"\",\"\",'Fig 1 Ballet Leg'!H90)","v":""},{"$f":"IF($A89=\"\",\"\",'Fig 2 Barracuda'!H90)","v":""},{"$f":"IF($A89=\"\",\"\",'Fig 3 Neptunus'!H90)","v":""},{"$f":"IF($A89=\"\",\"\",'Fig 4 Walkover'!H90)","v":""},{"$f":"IF($A89=\"\",\"\",'Fig 1 Ballet Leg'!I90+'Fig 2 Barracuda'!I90+'Fig 3 Neptunus'!I90+'Fig 4 Walkover'!I90)","v":""},"",null,null,null,null,null,null,null,null,null,null,null,null,null,null,null,null,null,null,null,null,null,null,null,null,null,null,null,null,null,null,null,null,null,null,null,null,null,null,87,0]
[null,null,null,"","",{"$f":"IF($A90=\"\",\"\",'Fig 1 Ballet Leg'!H91)","v":""},{"$f":"IF($A90=\"\",\"\",'Fig 2 Barracuda'!H91)","v":""},{"$f":"IF($A90=\"\",\"\",'Fig 3 Neptunus'!H91)","v":""},{"$f":"IF($A90=\"\",\"\",'Fig 4 Walkover'!H91)","v":""},{"$f":"IF($A90=\"\",\"\",'Fig 1 Ballet Leg'!I91+'Fig 2 Barracuda'!I91+'Fig 3 Neptunus'!I91+'Fig 4 Walkover'!I91)","v":""},"",null,null,null,null,null,null,null,null,null,null,null,null,null,null,null,null,null,null,null,null,null,null,null,null,null,null,null,null,null,null,null,null,null,null,null,null,null,null,88,0]
[null,null,null,"","",{"$f":"IF($A91=\"\",\"\",'Fig 1 Ballet Leg'!H92)","v":""},{"$f":"IF($A91=\"\",\"\",'Fig 2 Barracuda'!H92)","v":""},{"$f":"IF($A91=\"\",\"\",'Fig 3 Neptunus'!H92)","v":""},{"$f":"IF($A91=\"\",\"\",'Fig 4 Walkover'!H92)","v":""},{"$f":"IF($A91=\"\",\"\",'Fig 1 Ballet Leg'!I92+'Fig 2 Barracuda'!I92+'Fig 3 Neptunus'!I92+'Fig 4 Walkover'!I92)","v":""},"",null,null,null,null,null,null,null,null,null,null,null,null,null,null,null,null,null,null,null,null,null,null,null,null,null,null,null,null,null,null,null,null,null,null,null,null,null,null,89,0]
[null,null,null,"","",{"$f":"IF($A92=\"\",\"\",'Fig 1 Ballet Leg'!H93)","v":""},{"$f":"IF($A92=\"\",\"\",'Fig 2 Barracuda'!H93)","v":""},{"$f":"IF($A92=\"\",\"\",'Fig 3 Neptunus'!H93)","v":""},{"$f":"IF($A92=\"\",\"\",'Fig 4 Walkover'!H93)","v":""},{"$f":"IF($A92=\"\",\"\",'Fig 1 Ballet Leg'!I93+'Fig 2 Barracuda'!I93+'Fig 3 Neptunus'!I93+'Fig 4 Walkover'!I93)","v":""},"",null,null,null,null,null,null,null,null,null,null,null,null,null,null,null,null,null,null,null,null,null,null,null,null,null,null,null,null,null,null,null,null,null,null,null,null,null,null,90,0]
[null,null,null,"","",{"$f":"IF($A93=\"\",\"\",'Fig 1 Ballet Leg'!H94)","v":""},{"$f":"IF($A93=\"\",\"\",'Fig 2 Barracuda'!H94)","v":""},{"$f":"IF($A93=\"\",\"\",'Fig 3 Neptunus'!H94)","v":""},{"$f":"IF($A93=\"\",\"\",'Fig 4 Walkover'!H94)","v":""},{"$f":"IF($A93=\"\",\"\",'Fig 1 Ballet Leg'!I94+'Fig 2 Barracuda'!I94+'Fig 3 Neptunus'!I94+'Fig 4 Walkover'!I94)","v":""},"",null,null,null,null,null,null,null,null,null,null,null,null,null,null,null,null,null,null,null,null,null,null,null,null,null,null,null,null,null,null,null,null,null,null,null,null,null,null,91,0]
[null,null,null,"","",{"$f":"IF($A94=\"\",\"\",'Fig 1 Ballet Leg'!H95)","v":""},{"$f":"IF($A94=\"\",\"\",'Fig 2 Barracuda'!H95)","v":""},{"$f":"IF($A94=\"\",\"\",'Fig 3 Neptunus'!H95)","v":""},{"$f":"IF($A94=\"\",\"\",'Fig 4 Walkover'!H95)","v":""},{"$f":"IF($A94=\"\",\"\",'Fig 1 Ballet Leg'!I95+'Fig 2 Barracuda'!I95+'Fig 3 Neptunus'!I95+'Fig 4 Walkover'!I95)","v":""},"",null,null,null,null,null,null,null,null,null,null,null,null,null,null,null,null,null,null,null,null,null,null,null,null,null,null,null,null,null,null,null,null,null,null,null,null,null,null,92,0]
[null,null,null,"","",{"$f":"IF($A95=\"\",\"\",'Fig 1 Ballet Leg'!H96)","v":""},{"$f":"IF($A95=\"\",\"\",'Fig 2 Barracuda'!H96)","v":""},{"$f":"IF($A95=\"\",\"\",'Fig 3 Neptunus'!H96)","v":""},{"$f":"IF($A95=\"\",\"\",'Fig 4 Walkover'!H96)","v":""},{"$f":"IF($A95=\"\",\"\",'Fig 1 Ballet Leg'!I96+'Fig 2 Barracuda'!I96+'Fig 3 Neptunus'!I96+'Fig 4 Walkover'!I96)","v":""},"",null,null,null,null,null,null,null,null,null,null,null,null,null,null,null,null,null,null,null,null,null,null,null,null,null,null,null,null,null,null,null,null,null,null,null,null,null,null,93,0]
[null,null,null,"","",{"$f":"IF($A96=\"\",\"\",'Fig 1 Ballet Leg'!H97)","v":""},{"$f":"IF($A96=\"\",\"\",'Fig 2 Barracuda'!H97)","v":""},{"$f":"IF($A96=\"\",\"\",'Fig 3 Neptunus'!H97)","v":""},{"$f":"IF($A96=\"\",\"\",'Fig 4 Walkover'!H97)","v":""},{"$f":"IF($A96=\"\",\"\",'Fig 1 Ballet Leg'!I97+'Fig 2 Barracuda'!I97+'Fig 3 Neptunus'!I97+'Fig 4 Walkover'!I97)","v":""},"",null,null,null,null,null,null,null,null,null,null,null,null,null,null,null,null,null,null,null,null,null,null,null,null,null,null,null,null,null,null,null,null,null,null,null,null,null,null,94,0]
[null,null,null,"","",{"$f":"IF($A97=\"\",\"\",'Fig 1 Ballet Leg'!H98)","v":""},{"$f":"IF($A97=\"\",\"\",'Fig 2 Barracuda'!H98)","v":""},{"$f":"IF($A97=\"\",\"\",'Fig 3 Neptunus'!H98)","v":""},{"$f":"IF($A97=\"\",\"\",'Fig 4 Walkover'!H98)","v":""},{"$f":"IF($A97=\"\",\"\",'Fig 1 Ballet Leg'!I98+'Fig 2 Barracuda'!I98+'Fig 3 Neptunus'!I98+'Fig 4 Walkover'!I98)","v":""},"",null,null,null,null,null,null,null,null,null,null,null,null,null,null,null,null,null,null,null,null,null,null,null,null,null,null,null,null,null,null,null,null,null,null,null,null,null,null,95,0]
[null,null,null,"","",{"$f":"IF($A98=\"\",\"\",'Fig 1 Ballet Leg'!H99)","v":""},{"$f":"IF($A98=\"\",\"\",'Fig 2 Barracuda'!H99)","v":""},{"$f":"IF($A98=\"\",\"\",'Fig 3 Neptunus'!H99)","v":""},{"$f":"IF($A98=\"\",\"\",'Fig 4 Walkover'!H99)","v":""},{"$f":"IF($A98=\"\",\"\",'Fig 1 Ballet Leg'!I99+'Fig 2 Barracuda'!I99+'Fig 3 Neptunus'!I99+'Fig 4 Walkover'!I99)","v":""},"",null,null,null,null,null,null,null,null,null,null,null,null,null,null,null,null,null,null,null,null,null,null,null,null,null,null,null,null,null,null,null,null,null,null,null,null,null,null,96,0]
[null,null,null,"","",{"$f":"IF($A99=\"\",\"\",'Fig 1 Ballet Leg'!H100)","v":""},{"$f":"IF($A99=\"\",\"\",'Fig 2 Barracuda'!H100)","v":""},{"$f":"IF($A99=\"\",\"\",'Fig 3 Neptunus'!H100)","v":""},{"$f":"IF($A99=\"\",\"\",'Fig 4 Walkover'!H100)","v":""},{"$f":"IF($A99=\"\",\"\",'Fig 1 Ballet Leg'!I100+'Fig 2 Barracuda'!I100+'Fig 3 Neptunus'!I100+'Fig 4 Walkover'!I100)","v":""},"",null,null,null,null,null,null,null,null,null,null,null,null,null,null,null,null,null,null,null,null,null,null,null,null,null,null,null,null,null,null,null,null,null,null,null,null,null,null,97,0]
[null,null,null,"","",{"$f":"IF($A100=\"\",\"\",'Fig 1 Ballet Leg'!H101)","v":""},{"$f":"IF($A100=\"\",\"\",'Fig 2 Barracuda'!H101)","v":""},{"$f":"IF($A100=\"\",\"\",'Fig 3 Neptunus'!H101)","v":""},{"$f":"IF($A100=\"\",\"\",'Fig 4 Walkover'!H101)","v":""},{"$f":"IF($A100=\"\",\"\",'Fig 1 Ballet Leg'!I101+'Fig 2 Barracuda'!I101+'Fig 3 Neptunus'!I101+'Fig 4 Walkover'!I101)","v":""},"",null,null,null,null,null,null,null,null,null,null,null,null,null,null,null,null,null,null,null,null,null,null,null,null,null,null,null,null,null,null,null,null,null,null,null,null,null,null,98,0]
[null,null,null,"","",{"$f":"IF($A101=\"\",\"\",'Fig 1 Ballet Leg'!H102)","v":""},{"$f":"IF($A101=\"\",\"\",'Fig 2 Barracuda'!H102)","v":""},{"$f":"IF($A101=\"\",\"\",'Fig 3 Neptunus'!H102)","v":""},{"$f":"IF($A101=\"\",\"\",'Fig 4 Walkover'!H102)","v":""},{"$f":"IF($A101=\"\",\"\",'Fig 1 Ballet Leg'!I102+'Fig 2 Barracuda'!I102+'Fig 3 Neptunus'!I102+'Fig 4 Walkover'!I102)","v":""},"",null,null,null,null,null,null,null,null,null,null,null,null,null,null,null,null,null,null,null,null,null,null,null,null,null,null,null,null,null,null,null,null,null,null,null,null,null,null,99,0]
[null,null,null,"","",{"$f":"IF($A102=\"\",\"\",'Fig 1 Ballet Leg'!H103)","v":""},{"$f":"IF($A102=\"\",\"\",'Fig 2 Barracuda'!H103)","v":""},{"$f":"IF($A102=\"\",\"\",'Fig 3 Neptunus'!H103)","v":""},{"$f":"IF($A102=\"\",\"\",'Fig 4 Walkover'!H103)","v":""},{"$f":"IF($A102=\"\",\"\",'Fig 1 Ballet Leg'!I103+'Fig 2 Barracuda'!I103+'Fig 3 Neptunus'!I103+'Fig 4 Walkover'!I103)","v":""},"",null,null,null,null,null,null,null,null,null,null,null,null,null,null,null,null,null,null,null,null,null,null,null,null,null,null,null,null,null,null,null,null,null,null,null,null,null,null,100,0]
[null,null,null,"","",{"$f":"IF($A103=\"\",\"\",'Fig 1 Ballet Leg'!H104)","v":""},{"$f":"IF($A103=\"\",\"\",'Fig 2 Barracuda'!H104)","v":""},{"$f":"IF($A103=\"\",\"\",'Fig 3 Neptunus'!H104)","v":""},{"$f":"IF($A103=\"\",\"\",'Fig 4 Walkover'!H104)","v":""},{"$f":"IF($A103=\"\",\"\",'Fig 1 Ballet Leg'!I104+'Fig 2 Barracuda'!I104+'Fig 3 Neptunus'!I104+'Fig 4 Walkover'!I104)","v":""},""]
[null,null,null,"","",{"$f":"IF($A104=\"\",\"\",'Fig 1 Ballet Leg'!H105)","v":""},{"$f":"IF($A104=\"\",\"\",'Fig 2 Barracuda'!H105)","v":""},{"$f":"IF($A104=\"\",\"\",'Fig 3 Neptunus'!H105)","v":""},{"$f":"IF($A104=\"\",\"\",'Fig 4 Walkover'!H105)","v":""},{"$f":"IF($A104=\"\",\"\",'Fig 1 Ballet Leg'!I105+'Fig 2 Barracuda'!I105+'Fig 3 Neptunus'!I105+'Fig 4 Walkover'!I105)","v":""},""]
[null,null,null,"","",{"$f":"IF($A105=\"\",\"\",'Fig 1 Ballet Leg'!H106)","v":""},{"$f":"IF($A105=\"\",\"\",'Fig 2 Barracuda'!H106)","v":""},{"$f":"IF($A105=\"\",\"\",'Fig 3 Neptunus'!H106)","v":""},{"$f":"IF($A105=\"\",\"\",'Fig 4 Walkover'!H106)","v":""},{"$f":"IF($A105=\"\",\"\",'Fig 1 Ballet Leg'!I106+'Fig 2 Barracuda'!I106+'Fig 3 Neptunus'!I106+'Fig 4 Walkover'!I106)","v":""},""]
[null,null,null,"","",{"$f":"IF($A106=\"\",\"\",'Fig 1 Ballet Leg'!H107)","v":""},{"$f":"IF($A106=\"\",\"\",'Fig 2 Barracuda'!H107)","v":""},{"$f":"IF($A106=\"\",\"\",'Fig 3 Neptunus'!H107)","v":""},{"$f":"IF($A106=\"\",\"\",'Fig 4 Walkover'!H107)","v":""},{"$f":"IF($A106=\"\",\"\",'Fig 1 Ballet Leg'!I107+'Fig 2 Barracuda'!I107+'Fig 3 Neptunus'!I107+'Fig 4 Walkover'!I107)","v":""},""]
[null,null,null,"","",{"$f":"IF($A107=\"\",\"\",'Fig 1 Ballet Leg'!H108)","v":""},{"$f":"IF($A107=\"\",\"\",'Fig 2 Barracuda'!H108)","v":""},{"$f":"IF($A107=\"\",\"\",'Fig 3 Neptunus'!H108)","v":""},{"$f":"IF($A107=\"\",\"\",'Fig 4 Walkover'!H108)","v":""},{"$f":"IF($A107=\"\",\"\",'Fig 1 Ballet Leg'!I108+'Fig 2 Barracuda'!I108+'Fig 3 Neptunus'!I108+'Fig 4 Walkover'!I108)","v":""},""]
[null,null,null,"","",{"$f":"IF($A108=\"\",\"\",'Fig 1 Ballet Leg'!H109)","v":""},{"$f":"IF($A108=\"\",\"\",'Fig 2 Barracuda'!H109)","v":""},{"$f":"IF($A108=\"\",\"\",'Fig 3 Neptunus'!H109)","v":""},{"$f":"IF($A108=\"\",\"\",'Fig 4 Walkover'!H109)","v":""},{"$f":"IF($A108=\"\",\"\",'Fig 1 Ballet Leg'!I109+'Fig 2 Barracuda'!I109+'Fig 3 Neptunus'!I109+'Fig 4 Walkover'!I109)","v":""},""]
[null,null,null,"","",{"$f":"IF($A109=\"\",\"\",'Fig 1 Ballet Leg'!H110)","v":""},{"$f":"IF($A109=\"\",\"\",'Fig 2 Barracuda'!H110)","v":""},{"$f":"IF($A109=\"\",\"\",'Fig 3 Neptunus'!H110)","v":""},{"$f":"IF($A109=\"\",\"\",'Fig 4 Walkover'!H110)","v":""},{"$f":"IF($A109=\"\",\"\",'Fig 1 Ballet Leg'!I110+'Fig 2 Barracuda'!I110+'Fig 3 Neptunus'!I110+'Fig 4 Walkover'!I110)","v":""},""]
[null,null,null,"","",{"$f":"IF($A110=\"\",\"\",'Fig 1 Ballet Leg'!H111)","v":""},{"$f":"IF($A110=\"\",\"\",'Fig 2 Barracuda'!H111)","v":""},{"$f":"IF($A110=\"\",\"\",'Fig 3 Neptunus'!H111)","v":""},{"$f":"IF($A110=\"\",\"\",'Fig 4 Walkover'!H111)","v":""},{"$f":"IF($A110=\"\",\"\",'Fig 1 Ballet Leg'!I111+'Fig 2 Barracuda'!I111+'Fig 3 Neptunus'!I111+'Fig 4 Walkover'!I111)","v":""},""]
[null,null,null,"","",{"$f":"IF($A111=\"\",\"\",'Fig 1 Ballet Leg'!H112)","v":""},{"$f":"IF($A111=\"\",\"\",'Fig 2 Barracuda'!H112)","v":""},{"$f":"IF($A111=\"\",\"\",'Fig 3 Neptunus'!H112)","v":""},{"$f":"IF($A111=\"\",\"\",'Fig 4 Walkover'!H112)","v":""},{"$f":"IF($A111=\"\",\"\",'Fig 1 Ballet Leg'!I112+'Fig 2 Barracuda'!I112+'Fig 3 Neptunus'!I112+'Fig 4 Walkover'!I112)","v":""},""]
[null,null,null,"","",{"$f":"IF($A112=\"\",\"\",'Fig 1 Ballet Leg'!H113)","v":""},{"$f":"IF($A112=\"\",\"\",'Fig 2 Barracuda'!H113)","v":""},{"$f":"IF($A112=\"\",\"\",'Fig 3 Neptunus'!H113)","v":""},{"$f":"IF($A112=\"\",\"\",'Fig 4 Walkover'!H113)","v":""},{"$f":"IF($A112=\"\",\"\",'Fig 1 Ballet Leg'!I113+'Fig 2 Barracuda'!I113+'Fig 3 Neptunus'!I113+'Fig 4 Walkover'!I113)","v":""},""]
[null,null,null,"","",{"$f":"IF($A113=\"\",\"\",'Fig 1 Ballet Leg'!H114)","v":""},{"$f":"IF($A113=\"\",\"\",'Fig 2 Barracuda'!H114)","v":""},{"$f":"IF($A113=\"\",\"\",'Fig 3 Neptunus'!H114)","v":""},{"$f":"IF($A113=\"\",\"\",'Fig 4 Walkover'!H114)","v":""},{"$f":"IF($A113=\"\",\"\",'Fig 1 Ballet Leg'!I114+'Fig 2 Barracuda'!I114+'Fig 3 Neptunus'!I114+'Fig 4 Walkover'!I114)","v":""},""]
[null,null,null,"","",{"$f":"IF($A114=\"\",\"\",'Fig 1 Ballet Leg'!H115)","v":""},{"$f":"IF($A114=\"\",\"\",'Fig 2 Barracuda'!H115)","v":""},{"$f":"IF($A114=\"\",\"\",'Fig 3 Neptunus'!H115)","v":""},{"$f":"IF($A114=\"\",\"\",'Fig 4 Walkover'!H115)","v":""},{"$f":"IF($A114=\"\",\"\",'Fig 1 Ballet Leg'!I115+'Fig 2 Barracuda'!I115+'Fig 3 Neptunus'!I115+'Fig 4 Walkover'!I115)","v":""},""]
[null,null,null,"","",{"$f":"IF($A115=\"\",\"\",'Fig 1 Ballet Leg'!H116)","v":""},{"$f":"IF($A115=\"\",\"\",'Fig 2 Barracuda'!H116)","v":""},{"$f":"IF($A115=\"\",\"\",'Fig 3 Neptunus'!H116)","v":""},{"$f":"IF($A115=\"\",\"\",'Fig 4 Walkover'!H116)","v":""},{"$f":"IF($A115=\"\",\"\",'Fig 1 Ballet Leg'!I116+'Fig 2 Barracuda'!I116+'Fig 3 Neptunus'!I116+'Fig 4 Walkover'!I116)","v":""},""]
[null,null,null,"","",{"$f":"IF($A116=\"\",\"\",'Fig 1 Ballet Leg'!H117)","v":""},{"$f":"IF($A116=\"\",\"\",'Fig 2 Barracuda'!H117)","v":""},{"$f":"IF($A116=\"\",\"\",'Fig 3 Neptunus'!H117)","v":""},{"$f":"IF($A116=\"\",\"\",'Fig 4 Walkover'!H117)","v":""},{"$f":"IF($A116=\"\",\"\",'Fig 1 Ballet Leg'!I117+'Fig 2 Barracuda'!I117+'Fig 3 Neptunus'!I117+'Fig 4 Walkover'!I117)","v":""},""]
[null,null,null,"","",{"$f":"IF($A117=\"\",\"\",'Fig 1 Ballet Leg'!H118)","v":""},{"$f":"IF($A117=\"\",\"\",'Fig 2 Barracuda'!H118)","v":""},{"$f":"IF($A117=\"\",\"\",'Fig 3 Neptunus'!H118)","v":""},{"$f":"IF($A117=\"\",\"\",'Fig 4 Walkover'!H118)","v":""},{"$f":"IF($A117=\"\",\"\",'Fig 1 Ballet Leg'!I118+'Fig 2 Barracuda'!I118+'Fig 3 Neptunus'!I118+'Fig 4 Walkover'!I118)","v":""},""]
[null,null,null,"","",{"$f":"IF($A118=\"\",\"\",'Fig 1 Ballet Leg'!H119)","v":""},{"$f":"IF($A118=\"\",\"\",'Fig 2 Barracuda'!H119)","v":""},{"$f":"IF($A118=\"\",\"\",'Fig 3 Neptunus'!H119)","v":""},{"$f":"IF($A118=\"\",\"\",'Fig 4 Walkover'!H119)","v":""},{"$f":"IF($A118=\"\",\"\",'Fig 1 Ballet Leg'!I119+'Fig 2 Barracuda'!I119+'Fig 3 Neptunus'!I119+'Fig 4 Walkover'!I119)","v":""},""]
[null,null,null,"","",{"$f":"IF($A119=\"\",\"\",'Fig 1 Ballet Leg'!H120)","v":""},{"$f":"IF($A119=\"\",\"\",'Fig 2 Barracuda'!H120)","v":""},{"$f":"IF($A119=\"\",\"\",'Fig 3 Neptunus'!H120)","v":""},{"$f":"IF($A119=\"\",\"\",'Fig 4 Walkover'!H120)","v":""},{"$f":"IF($A119=\"\",\"\",'Fig 1 Ballet Leg'!I120+'Fig 2 Barracuda'!I120+'Fig 3 Neptunus'!I120+'Fig 4 Walkover'!I120)","v":""},""]
[null,null,null,"","",{"$f":"IF($A120=\"\",\"\",'Fig 1 Ballet Leg'!H121)","v":""},{"$f":"IF($A120=\"\",\"\",'Fig 2 Barracuda'!H121)","v":""},{"$f":"IF($A120=\"\",\"\",'Fig 3 Neptunus'!H121)","v":""},{"$f":"IF($A120=\"\",\"\",'Fig 4 Walkover'!H121)","v":""},{"$f":"IF($A120=\"\",\"\",'Fig 1 Ballet Leg'!I121+'Fig 2 Barracuda'!I121+'Fig 3 Neptunus'!I121+'Fig 4 Walkover'!I121)","v":""},""]
[null,null,null,"","",{"$f":"IF($A121=\"\",\"\",'Fig 1 Ballet Leg'!H122)","v":""},{"$f":"IF($A121=\"\",\"\",'Fig 2 Barracuda'!H122)","v":""},{"$f":"IF($A121=\"\",\"\",'Fig 3 Neptunus'!H122)","v":""},{"$f":"IF($A121=\"\",\"\",'Fig 4 Walkover'!H122)","v":""},{"$f":"IF($A121=\"\",\"\",'Fig 1 Ballet Leg'!I122+'Fig 2 Barracuda'!I122+'Fig 3 Neptunus'!I122+'Fig 4 Walkover'!I122)","v":""},""]
[null,null,null,"","",{"$f":"IF($A122=\"\",\"\",'Fig 1 Ballet Leg'!H123)","v":""},{"$f":"IF($A122=\"\",\"\",'Fig 2 Barracuda'!H123)","v":""},{"$f":"IF($A122=\"\",\"\",'Fig 3 Neptunus'!H123)","v":""},{"$f":"IF($A122=\"\",\"\",'Fig 4 Walkover'!H123)","v":""},{"$f":"IF($A122=\"\",\"\",'Fig 1 Ballet Leg'!I123+'Fig 2 Barracuda'!I123+'Fig 3 Neptunus'!I123+'Fig 4 Walkover'!I123)","v":""},""]
[null,null,null,"","",{"$f":"IF($A123=\"\",\"\",'Fig 1 Ballet Leg'!H124)","v":""},{"$f":"IF($A123=\"\",\"\",'Fig 2 Barracuda'!H124)","v":""},{"$f":"IF($A123=\"\",\"\",'Fig 3 Neptunus'!H124)","v":""},{"$f":"IF($A123=\"\",\"\",'Fig 4 Walkover'!H124)","v":""},{"$f":"IF($A123=\"\",\"\",'Fig 1 Ballet Leg'!I124+'Fig 2 Barracuda'!I124+'Fig 3 Neptunus'!I124+'Fig 4 Walkover'!I124)","v":""},""]
[null,null,null,"","",{"$f":"IF($A124=\"\",\"\",'Fig 1 Ballet Leg'!H125)","v":""},{"$f":"IF($A124=\"\",\"\",'Fig 2 Barracuda'!H125)","v":""},{"$f":"IF($A124=\"\",\"\",'Fig 3 Neptunus'!H125)","v":""},{"$f":"IF($A124=\"\",\"\",'Fig 4 Walkover'!H125)","v":""},{"$f":"IF($A124=\"\",\"\",'Fig 1 Ballet Leg'!I125+'Fig 2 Barracuda'!I125+'Fig 3 Neptunus'!I125+'Fig 4 Walkover'!I125)","v":""},""]
[null,null,null,"","",{"$f":"IF($A125=\"\",\"\",'Fig 1 Ballet Leg'!H126)","v":""},{"$f":"IF($A125=\"\",\"\",'Fig 2 Barracuda'!H126)","v":""},{"$f":"IF($A125=\"\",\"\",'Fig 3 Neptunus'!H126)","v":""},{"$f":"IF($A125=\"\",\"\",'Fig 4 Walkover'!H126)","v":""},{"$f":"IF($A125=\"\",\"\",'Fig 1 Ballet Leg'!I126+'Fig 2 Barracuda'!I126+'Fig 3 Neptunus'!I126+'Fig 4 Walkover'!I126)","v":""},""]
[null,null,null,"","",{"$f":"IF($A126=\"\",\"\",'Fig 1 Ballet Leg'!H127)","v":""},{"$f":"IF($A126=\"\",\"\",'Fig 2 Barracuda'!H127)","v":""},{"$f":"IF($A126=\"\",\"\",'Fig 3 Neptunus'!H127)","v":""},{"$f":"IF($A126=\"\",\"\",'Fig 4 Walkover'!H127)","v":""},{"$f":"IF($A126=\"\",\"\",'Fig 1 Ballet Leg'!I127+'Fig 2 Barracuda'!I127+'Fig 3 Neptunus'!I127+'Fig 4 Walkover'!I127)","v":""},""]
[null,null,null,"","",{"$f":"IF($A127=\"\",\"\",'Fig 1 Ballet Leg'!H128)","v":""},{"$f":"IF($A127=\"\",\"\",'Fig 2 Barracuda'!H128)","v":""},{"$f":"IF($A127=\"\",\"\",'Fig 3 Neptunus'!H128)","v":""},{"$f":"IF($A127=\"\",\"\",'Fig 4 Walkover'!H128)","v":""},{"$f":"IF($A127=\"\",\"\",'Fig 1 Ballet Leg'!I128+'Fig 2 Barracuda'!I128+'Fig 3 Neptunus'!I128+'Fig 4 Walkover'!I128)","v":""},""]
[null,null,null,"","",{"$f":"IF($A128=\"\",\"\",'Fig 1 Ballet Leg'!H129)","v":""},{"$f":"IF($A128=\"\",\"\",'Fig 2 Barracuda'!H129)","v":""},{"$f":"IF($A128=\"\",\"\",'Fig 3 Neptunus'!H129)","v":""},{"$f":"IF($A128=\"\",\"\",'Fig 4 Walkover'!H129)","v":""},{"$f":"IF($A128=\"\",\"\",'Fig 1 Ballet Leg'!I129+'Fig 2 Barracuda'!I129+'Fig 3 Neptunus'!I129+'Fig 4 Walkover'!I129)","v":""},""]
[null,null,null,"","",{"$f":"IF($A129=\"\",\"\",'Fig 1 Ballet Leg'!H130)","v":""},{"$f":"IF($A129=\"\",\"\",'Fig 2 Barracuda'!H130)","v":""},{"$f":"IF($A129=\"\",\"\",'Fig 3 Neptunus'!H130)","v":""},{"$f":"IF($A129=\"\",\"\",'Fig 4 Walkover'!H130)","v":""},{"$f":"IF($A129=\"\",\"\",'Fig 1 Ballet Leg'!I130+'Fig 2 Barracuda'!I130+'Fig 3 Neptunus'!I130+'Fig 4 Walkover'!I130)","v":""},""]
[null,null,null,"","",{"$f":"IF($A130=\"\",\"\",'Fig 1 Ballet Leg'!H131)","v":""},{"$f":"IF($A130=\"\",\"\",'Fig 2 Barracuda'!H131)","v":""},{"$f":"IF($A130=\"\",\"\",'Fig 3 Neptunus'!H131)","v":""},{"$f":"IF($A130=\"\",\"\",'Fig 4 Walkover'!H131)","v":""},{"$f":"IF($A130=\"\",\"\",'Fig 1 Ballet Leg'!I131+'Fig 2 Barracuda'!I131+'Fig 3 Neptunus'!I131+'Fig 4 Walkover'!I131)","v":""},""]
[null,null,null,"","",{"$f":"IF($A131=\"\",\"\",'Fig 1 Ballet Leg'!H132)","v":""},{"$f":"IF($A131=\"\",\"\",'Fig 2 Barracuda'!H132)","v":""},{"$f":"IF($A131=\"\",\"\",'Fig 3 Neptunus'!H132)","v":""},{"$f":"IF($A131=\"\",\"\",'Fig 4 Walkover'!H132)","v":""},{"$f":"IF($A131=\"\",\"\",'Fig 1 Ballet Leg'!I132+'Fig 2 Barracuda'!I132+'Fig 3 Neptunus'!I132+'Fig 4 Walkover'!I132)","v":""},""]
[null,null,null,"","",{"$f":"IF($A132=\"\",\"\",'Fig 1 Ballet Leg'!H133)","v":""},{"$f":"IF($A132=\"\",\"\",'Fig 2 Barracuda'!H133)","v":""},{"$f":"IF($A132=\"\",\"\",'Fig 3 Neptunus'!H133)","v":""},{"$f":"IF($A132=\"\",\"\",'Fig 4 Walkover'!H133)","v":""},{"$f":"IF($A132=\"\",\"\",'Fig 1 Ballet Leg'!I133+'Fig 2 Barracuda'!I133+'Fig 3 Neptunus'!I133+'Fig 4 Walkover'!I133)","v":""},""]
[null,null,null,{"$f":"IF($A133=\"\",\"\",SUM(F133:I133)-J133)","v":""},{"$f":"IF($A133=\"\",\"\",RANK(D133,D$2:D$150))","v":""},{"$f":"IF($A133=\"\",\"\",'Fig 1 Ballet Leg'!H134)","v":""},{"$f":"IF($A133=\"\",\"\",'Fig 2 Barracuda'!H134)","v":""},{"$f":"IF($A133=\"\",\"\",'Fig 3 Neptunus'!H134)","v":""},{"$f":"IF($A133=\"\",\"\",'Fig 4 Walkover'!H134)","v":""},{"$f":"IF($A133=\"\",\"\",'Fig 1 Ballet Leg'!I134+'Fig 2 Barracuda'!I134+'Fig 3 Neptunus'!I134+'Fig 4 Walkover'!I134)","v":""},{"$f":"IF($A133=\"\",\"\",IF(A133=\"\",\"\",VLOOKUP(E133,AX$3:AY$102,2,FALSE)))","v":""}]
[null,null,null,"","",{"$f":"IF($A134=\"\",\"\",'Fig 1 Ballet Leg'!H135)","v":""},{"$f":"IF($A134=\"\",\"\",'Fig 2 Barracuda'!H135)","v":""},{"$f":"IF($A134=\"\",\"\",'Fig 3 Neptunus'!H135)","v":""},{"$f":"IF($A134=\"\",\"\",'Fig 4 Walkover'!H135)","v":""},{"$f":"IF($A134=\"\",\"\",'Fig 1 Ballet Leg'!I135+'Fig 2 Barracuda'!I135+'Fig 3 Neptunus'!I135+'Fig 4 Walkover'!I135)","v":""},""]
[null,null,null,"","",{"$f":"IF($A135=\"\",\"\",'Fig 1 Ballet Leg'!H136)","v":""},{"$f":"IF($A135=\"\",\"\",'Fig 2 Barracuda'!H136)","v":""},{"$f":"IF($A135=\"\",\"\",'Fig 3 Neptunus'!H136)","v":""},{"$f":"IF($A135=\"\",\"\",'Fig 4 Walkover'!H136)","v":""},{"$f":"IF($A135=\"\",\"\",'Fig 1 Ballet Leg'!I136+'Fig 2 Barracuda'!I136+'Fig 3 Neptunus'!I136+'Fig 4 Walkover'!I136)","v":""},""]
[null,null,null,"","",{"$f":"IF($A136=\"\",\"\",'Fig 1 Ballet Leg'!H137)","v":""},{"$f":"IF($A136=\"\",\"\",'Fig 2 Barracuda'!H137)","v":""},{"$f":"IF($A136=\"\",\"\",'Fig 3 Neptunus'!H137)","v":""},{"$f":"IF($A136=\"\",\"\",'Fig 4 Walkover'!H137)","v":""},{"$f":"IF($A136=\"\",\"\",'Fig 1 Ballet Leg'!I137+'Fig 2 Barracuda'!I137+'Fig 3 Neptunus'!I137+'Fig 4 Walkover'!I137)","v":""},""]
[null,null,null,"","",{"$f":"IF($A137=\"\",\"\",'Fig 1 Ballet Leg'!H138)","v":""},{"$f":"IF($A137=\"\",\"\",'Fig 2 Barracuda'!H138)","v":""},{"$f":"IF($A137=\"\",\"\",'Fig 3 Neptunus'!H138)","v":""},{"$f":"IF($A137=\"\",\"\",'Fig 4 Walkover'!H138)","v":""},{"$f":"IF($A137=\"\",\"\",'Fig 1 Ballet Leg'!I138+'Fig 2 Barracuda'!I138+'Fig 3 Neptunus'!I138+'Fig 4 Walkover'!I138)","v":""},""]
[null,null,null,"","",{"$f":"IF($A138=\"\",\"\",'Fig 1 Ballet Leg'!H139)","v":""},{"$f":"IF($A138=\"\",\"\",'Fig 2 Barracuda'!H139)","v":""},{"$f":"IF($A138=\"\",\"\",'Fig 3 Neptunus'!H139)","v":""},{"$f":"IF($A138=\"\",\"\",'Fig 4 Walkover'!H139)","v":""},{"$f":"IF($A138=\"\",\"\",'Fig 1 Ballet Leg'!I139+'Fig 2 Barracuda'!I139+'Fig 3 Neptunus'!I139+'Fig 4 Walkover'!I139)","v":""},""]
[null,null,null,"","",{"$f":"IF($A139=\"\",\"\",'Fig 1 Ballet Leg'!H140)","v":""},{"$f":"IF($A139=\"\",\"\",'Fig 2 Barracuda'!H140)","v":""},{"$f":"IF($A139=\"\",\"\",'Fig 3 Neptunus'!H140)","v":""},{"$f":"IF($A139=\"\",\"\",'Fig 4 Walkover'!H140)","v":""},{"$f":"IF($A139=\"\",\"\",'Fig 1 Ballet Leg'!I140+'Fig 2 Barracuda'!I140+'Fig 3 Neptunus'!I140+'Fig 4 Walkover'!I140)","v":""},""]
[null,null,null,"","",{"$f":"IF($A140=\"\",\"\",'Fig 1 Ballet Leg'!H141)","v":""},{"$f":"IF($A140=\"\",\"\",'Fig 2 Barracuda'!H141)","v":""},{"$f":"IF($A140=\"\",\"\",'Fig 3 Neptunus'!H141)","v":""},{"$f":"IF($A140=\"\",\"\",'Fig 4 Walkover'!H141)","v":""},{"$f":"IF($A140=\"\",\"\",'Fig 1 Ballet Leg'!I141+'Fig 2 Barracuda'!I141+'Fig 3 Neptunus'!I141+'Fig 4 Walkover'!I141)","v":""},""]
[null,null,null,"","",{"$f":"IF($A141=\"\",\"\",'Fig 1 Ballet Leg'!H142)","v":""},{"$f":"IF($A141=\"\",\"\",'Fig 2 Barracuda'!H142)","v":""},{"$f":"IF($A141=\"\",\"\",'Fig 3 Neptunus'!H142)","v":""},{"$f":"IF($A141=\"\",\"\",'Fig 4 Walkover'!H142)","v":""},{"$f":"IF($A141=\"\",\"\",'Fig 1 Ballet Leg'!I142+'Fig 2 Barracuda'!I142+'Fig 3 Neptunus'!I142+'Fig 4 Walkover'!I142)","v":""},""]
[null,null,null,"","",{"$f":"IF($A142=\"\",\"\",'Fig 1 Ballet Leg'!H143)","v":""},{"$f":"IF($A142=\"\",\"\",'Fig 2 Barracuda'!H143)","v":""},{"$f":"IF($A142=\"\",\"\",'Fig 3 Neptunus'!H143)","v":""},{"$f":"IF($A142=\"\",\"\",'Fig 4 Walkover'!H143)","v":""},{"$f":"IF($A142=\"\",\"\",'Fig 1 Ballet Leg'!I143+'Fig 2 Barracuda'!I143+'Fig 3 Neptunus'!I143+'Fig 4 Walkover'!I143)","v":""},""]
[null,null,null,"","",{"$f":"IF($A143=\"\",\"\",'Fig 1 Ballet Leg'!H144)","v":""},{"$f":"IF($A143=\"\",\"\",'Fig 2 Barracuda'!H144)","v":""},{"$f":"IF($A143=\"\",\"\",'Fig 3 Neptunus'!H144)","v":""},{"$f":"IF($A143=\"\",\"\",'Fig 4 Walkover'!H144)","v":""},{"$f":"IF($A143=\"\",\"\",'Fig 1 Ballet Leg'!I144+'Fig 2 Barracuda'!I144+'Fig 3 Neptunus'!I144+'Fig 4 Walkover'!I144)","v":""},""]
[null,null,null,"","",{"$f":"IF($A144=\"\",\"\",'Fig 1 Ballet Leg'!H145)","v":""},{"$f":"IF($A144=\"\",\"\",'Fig 2 Barracuda'!H145)","v":""},{"$f":"IF($A144=\"\",\"\",'Fig 3 Neptunus'!H145)","v":""},{"$f":"IF($A144=\"\",\"\",'Fig 4 Walkover'!H145)","v":""},{"$f":"IF($A144=\"\",\"\",'Fig 1 Ballet Leg'!I145+'Fig 2 Barracuda'!I145+'Fig 3 Neptunus'!I145+'Fig 4 Walkover'!I145)","v":""},""]
[null,null,null,"","",{"$f":"IF($A145=\"\",\"\",'Fig 1 Ballet Leg'!H146)","v":""},{"$f":"IF($A145=\"\",\"\",'Fig 2 Barracuda'!H146)","v":""},{"$f":"IF($A145=\"\",\"\",'Fig 3 Neptunus'!H146)","v":""},{"$f":"IF($A145=\"\",\"\",'Fig 4 Walkover'!H146)","v":""},{"$f":"IF($A145=\"\",\"\",'Fig 1 Ballet Leg'!I146+'Fig 2 Barracuda'!I146+'Fig 3 Neptunus'!I146+'Fig 4 Walkover'!I146)","v":""},""]
[null,null,null,"","",{"$f":"IF($A146=\"\",\"\",'Fig 1 Ballet Leg'!H147)","v":""},{"$f":"IF($A146=\"\",\"\",'Fig 2 Barracuda'!H147)","v":""},{"$f":"IF($A146=\"\",\"\",'Fig 3 Neptunus'!H147)","v":""},{"$f":"IF($A146=\"\",\"\",'Fig 4 Walkover'!H147)","v":""},{"$f":"IF($A146=\"\",\"\",'Fig 1 Ballet Leg'!I147+'Fig 2 Barracuda'!I147+'Fig 3 Neptunus'!I147+'Fig 4 Walkover'!I147)","v":""},""]
[null,null,null,"","",{"$f":"IF($A147=\"\",\"\",'Fig 1 Ballet Leg'!H148)","v":""},{"$f":"IF($A147=\"\",\"\",'Fig 2 Barracuda'!H148)","v":""},{"$f":"IF($A147=\"\",\"\",'Fig 3 Neptunus'!H148)","v":""},{"$f":"IF($A147=\"\",\"\",'Fig 4 Walkover'!H148)","v":""},{"$f":"IF($A147=\"\",\"\",'Fig 1 Ballet Leg'!I148+'Fig 2 Barracuda'!I148+'Fig 3 Neptunus'!I148+'Fig 4 Walkover'!I148)","v":""},""]
[null,null,null,"","",{"$f":"IF($A148=\"\",\"\",'Fig 1 Ballet Leg'!H149)","v":""},{"$f":"IF($A148=\"\",\"\",'Fig 2 Barracuda'!H149)","v":""},{"$f":"IF($A148=\"\",\"\",'Fig 3 Neptunus'!H149)","v":""},{"$f":"IF($A148=\"\",\"\",'Fig 4 Walkover'!H149)","v":""},{"$f":"IF($A148=\"\",\"\",'Fig 1 Ballet Leg'!I149+'Fig 2 Barracuda'!I149+'Fig 3 Neptunus'!I149+'Fig 4 Walkover'!I149)","v":""},""]
[null,null,null,"","",{"$f":"IF($A149=\"\",\"\",'Fig 1 Ballet Leg'!H150)","v":""},{"$f":"IF($A149=\"\",\"\",'Fig 2 Barracuda'!H150)","v":""},{"$f":"IF($A149=\"\",\"\",'Fig 3 Neptunus'!H150)","v":""},{"$f":"IF($A149=\"\",\"\",'Fig 4 Walkover'!H150)","v":""},{"$f":"IF($A149=\"\",\"\",'Fig 1 Ballet Leg'!I150+'Fig 2 Barracuda'!I150+'Fig 3 Neptunus'!I150+'Fig 4 Walkover'!I150)","v":""},""]
[null,null,null,"","",{"$f":"IF($A150=\"\",\"\",'Fig 1 Ballet Leg'!H151)","v":""},{"$f":"IF($A150=\"\",\"\",'Fig 2 Barracuda'!H151)","v":""},{"$f":"IF($A150=\"\",\"\",'Fig 3 Neptunus'!H151)","v":""},{"$f":"IF($A150=\"\",\"\",'Fig 4 Walkover'!H151)","v":""},{"$f":"IF($A150=\"\",\"\",'Fig 1 Ballet Leg'!I151+'Fig 2 Barracuda'!I151+'Fig 3 Neptunus'!I151+'Fig 4 Walkover'!I151)","v":""},""]
[null,null,null,null,null,null,null,null,null,null,{"$f":"IF($A151=\"\",\"\",IF(A151=\"\",\"\",VLOOKUP(E151,AX$3:AY$102,2,FALSE)))","v":""}]

{"sheet":"Draw","index":6,"n_rows":151,"n_cols":16,"rows_kept":151,"cut":false,"hidden":true,"merged":[]}
[1,"Bloomington",{"$f":"RAND()","v":0.18406528106030096},null,null,null,"School","Name","Draw #","Name","School"]
["Student Names:","Edina",{"$f":"RAND()","v":0.56056759299385883},{"$f":"IF(ISNA(RANK(C2,C$2:C$150,1)),\"\",RANK(C2,C$2:C$150,1))","v":1},{"$f":"IF(B2<>\"\",F2,\"\")","v":1},1,{"$f":"B2","v":"Edina"},{"$f":"A2","v":"Student Names:"},{"$f":"E2","v":1},{"$f":"IF(ISNA(VLOOKUP(I2,D$2:H$150,5,FALSE)),\"\",VLOOKUP(I2,D$2:H$150,5,FALSE))","v":"Student Names:"},{"$f":"IF(ISNA(VLOOKUP(I2,D$2:G$150,4,FALSE)),\"\",VLOOKUP(I2,D$2:G$150,4,FALSE))","v":"Edina"},null,null,1,"Student Names:","Edina"]
["Student Names:","Hopkins",{"$f":"RAND()","v":0.92160924543102585},{"$f":"IF(ISNA(RANK(C3,C$2:C$150,1)),\"\",RANK(C3,C$2:C$150,1))","v":2},{"$f":"IF(B3<>\"\",F3,\"\")","v":2},2,{"$f":"B3","v":"Hopkins"},{"$f":"A3","v":"Student Names:"},{"$f":"E3","v":2},{"$f":"IF(ISNA(VLOOKUP(I3,D$2:H$150,5,FALSE)),\"\",VLOOKUP(I3,D$2:H$150,5,FALSE))","v":"Student Names:"},{"$f":"IF(ISNA(VLOOKUP(I3,D$2:G$150,4,FALSE)),\"\",VLOOKUP(I3,D$2:G$150,4,FALSE))","v":"Hopkins"},null,null,2,"Student Names:","Hopkins"]
[null,null,null,"","",3,0,0,"",0,0,null,null,""]
[null,null,null,"","",4,0,0,"",0,0,null,null,""]
[null,null,null,"","",5,0,0,"",0,0,null,null,""]
[null,null,null,"","",6,0,0,"",0,0,null,null,""]
[null,null,null,"","",7,0,0,"",0,0,null,null,""]
[null,null,null,"","",8,0,0,"",0,0,null,null,""]
[null,null,null,"","",9,0,0,"",0,0,null,null,""]
[null,null,null,"","",10,0,0,"",0,0,null,null,""]
[null,null,null,"","",11,0,0,"",0,0,null,null,""]
[null,null,null,"","",12,0,0,"",0,0,null,null,""]
[null,null,null,"","",13,0,0,"",0,0,null,null,""]
[null,null,null,"","",14,0,0,"",0,0,null,null,""]
[null,null,null,"","",15,0,0,"",0,0,null,null,""]
[null,null,null,"","",16,0,0,"",0,0,null,null,""]
[null,null,null,"","",17,0,0,"",0,0,null,null,""]
[null,null,null,"","",18,0,0,"",0,0,null,null,""]
[null,null,null,"","",19,0,0,"",0,0,null,null,""]
[null,null,null,"","",20,0,0,"",0,0,null,null,""]
[null,null,null,"","",21,0,0,"",0,0,null,null,""]
[null,null,null,"","",22,0,0,"",0,0,null,null,""]
[null,null,null,"","",23,0,0,"",0,0,null,null,""]
[null,null,null,"","",24,0,0,"",0,0,null,null,""]
[null,null,null,"","",25,0,0,"",0,0,null,null,""]
[null,null,null,"","",26,0,0,"",0,0,null,null,""]
[null,null,null,"","",27,0,0,"",0,0,null,null,""]
[null,null,null,"","",28,0,0,"",0,0,null,null,""]
[null,null,null,"","",29,0,0,"",0,0,null,null,""]
[null,null,null,"","",30,0,0,"",0,0,null,null,""]
[null,null,null,null,{"$f":"IF(B32<>\"\",F32,\"\")","v":""},31,0,0,"",0,0,null,null,""]
[null,null,null,null,"",32,0,0,"",0,0,null,null,""]
[null,null,null,null,"",33,0,0,"",0,0,null,null,""]
[null,null,null,null,"",34,0,0,"",0,0,null,null,""]
[null,null,null,null,"",35,0,0,"",0,0,null,null,""]
[null,null,null,null,"",36,0,0,"",0,0,null,null,""]
[null,null,null,null,"",37,0,0,"",0,0,null,null,""]
[null,null,null,null,"",38,0,0,"",0,0,null,null,""]
[null,null,null,null,"",39,0,0,"",0,0,null,null,""]
[null,null,null,null,"",40,0,0,"",0,0,null,null,""]
[null,null,null,null,"",41,0,0,"",0,0,null,null,""]
[null,null,null,null,"",42,0,0,"",0,0,null,null,""]
[null,null,null,null,"",43,0,0,"",0,0,null,null,""]
[null,null,null,null,"",44,0,0,"",0,0,null,null,""]
[null,null,null,null,"",45,0,0,"",0,0,null,null,""]
[null,null,null,null,"",46,0,0,"",0,0,null,null,""]
[null,null,null,null,"",47,0,0,"",0,0,null,null,""]
[null,null,null,null,"",48,0,0,"",0,0,null,null,""]
[null,null,null,null,"",49,0,0,"",0,0,null,null,""]
[null,null,null,null,"",50,0,0,"",0,0,null,null,""]
[null,null,null,null,"",51,0,0,"",0,0,null,null,""]
[null,null,null,null,"",52,0,0,"",0,0,null,null,""]
[null,null,null,null,"",53,0,0,"",0,0,null,null,""]
[null,null,null,null,"",54,0,0,"",0,0,null,null,""]
[null,null,null,null,"",55,0,0,"",0,0,null,null,""]
[null,null,null,null,"",56,0,0,"",0,0,null,null,""]
[null,null,null,null,"",57,0,0,"",0,0,null,null,""]
[null,null,null,null,"",58,0,0,"",0,0,null,null,""]
[null,null,null,null,"",59,0,0,"",0,0,null,null,""]
[null,null,null,null,"",60,0,0,"",0,0,null,null,""]
[null,null,null,null,"",61,0,0,"",0,0,null,null,""]
[null,null,null,null,"",62,0,0,"",0,0,null,null,""]
[null,null,null,null,"",63,0,0,"",0,0,null,null,""]
[null,null,null,null,"",64,0,0,"",0,0,null,null,""]
[null,null,null,null,"",65,0,0,"",0,0,null,null,""]
[null,null,null,null,"",66,{"$f":"B67","v":0},{"$f":"A67","v":0},{"$f":"E67","v":""},{"$f":"IF(ISNA(VLOOKUP(I67,D$2:H$150,5,FALSE)),\"\",VLOOKUP(I67,D$2:H$150,5,FALSE))","v":0},{"$f":"IF(ISNA(VLOOKUP(I67,D$2:G$150,4,FALSE)),\"\",VLOOKUP(I67,D$2:G$150,4,FALSE))","v":0},null,null,""]
[null,null,null,null,"",67,0,0,"",0,0,null,null,""]
[null,null,null,null,"",68,0,0,"",0,0,null,null,""]
[null,null,null,null,"",69,0,0,"",0,0,null,null,""]
[null,null,null,null,"",70,0,0,"",0,0,null,null,""]
[null,null,null,null,"",71,0,0,"",0,0,null,null,""]
[null,null,null,null,"",72,0,0,"",0,0,null,null,""]
[null,null,null,null,"",73,0,0,"",0,0,null,null,""]
[null,null,null,null,"",74,0,0,"",0,0,null,null,""]
[null,null,null,null,"",75,0,0,"",0,0,null,null,""]
[null,null,null,null,"",76,0,0,"",0,0,null,null,""]
[null,null,null,null,"",77,0,0,"",0,0,null,null,""]
[null,null,null,null,"",78,0,0,"",0,0,null,null,""]
[null,null,null,null,"",79,0,0,"",0,0,null,null,""]
[null,null,null,null,"",80,0,0,"",0,0,null,null,""]
[null,null,null,null,"",81,0,0,"",0,0,null,null,""]
[null,null,null,null,"",82,0,0,"",0,0,null,null,""]
[null,null,null,null,"",83,0,0,"",0,0,null,null,""]
[null,null,null,null,"",84,0,0,"",0,0,null,null,""]
[null,null,null,null,"",85,0,0,"",0,0,null,null,""]
[null,null,null,null,"",86,0,0,"",0,0,null,null,""]
[null,null,null,null,"",87,0,0,"",0,0,null,null,""]
[null,null,null,null,"",88,0,0,"",0,0,null,null,""]
[null,null,null,null,"",89,0,0,"",0,0,null,null,""]
[null,null,null,null,"",90,0,0,"",0,0,null,null,""]
[null,null,null,null,"",91,0,0,"",0,0,null,null,""]
[null,null,null,null,"",92,0,0,"",0,0,null,null,""]
[null,null,null,null,"",93,0,0,"",0,0,null,null,""]
[null,null,null,null,"",94,{"$f":"B95","v":0},{"$f":"A95","v":0},{"$f":"E95","v":""},0,0,null,null,""]
[null,null,null,null,{"$f":"IF(B96<>\"\",F96,\"\")","v":""},95,0,0,"",0,0,null,null,""]
[null,null,null,null,"",96,0,0,"",0,0,null,null,""]
[null,null,null,null,"",97,0,0,"",0,0,null,null,""]
[null,null,null,null,"",98,0,0,"",0,0,null,null,""]
[null,null,null,null,"",99,0,0,"",0,0,null,null,""]
[null,null,null,null,"",100,0,0,"",0,0,null,null,""]
[null,null,null,null,"",101,0,0,"",0,0,null,null,""]
[null,null,null,null,"",102,0,0,"",0,0,null,null,""]
[null,null,null,null,"",103,0,0,"",0,0,null,null,""]
[null,null,null,null,"",104,0,0,"",0,0,null,null,""]
[null,null,null,null,"",105,0,0,"",0,0,null,null,""]
[null,null,null,null,"",106,0,0,"",0,0,null,null,""]
[null,null,null,null,"",107,0,0,"",0,0,null,null,""]
[null,null,null,null,"",108,0,0,"",0,0,null,null,""]
[null,null,null,null,"",109,0,0,"",0,0,null,null,""]
[null,null,null,null,"",110,0,0,"",0,0,null,null,""]
[null,null,null,null,"",111,0,0,"",0,0,null,null,""]
[null,null,null,null,"",112,0,0,"",0,0,null,null,""]
[null,null,null,null,"",113,0,0,"",0,0,null,null,""]
[null,null,null,null,"",114,0,0,"",0,0,null,null,""]
[null,null,null,null,"",115,0,0,"",0,0,null,null,""]
[null,null,null,null,"",116,0,0,"",0,0,null,null,""]
[null,null,null,null,"",117,0,0,"",0,0,null,null,""]
[null,null,null,null,"",118,0,0,"",0,0,null,null,""]
[null,null,null,null,"",119,0,0,"",0,0,null,null,""]
[null,null,null,null,"",120,0,0,"",0,0,null,null,""]
[null,null,null,null,"",121,0,0,"",0,0,null,null,""]
[null,null,null,null,"",122,0,0,"",0,0,null,null,""]
[null,null,null,null,"",123,0,0,"",0,0,null,null,""]
[null,null,null,null,"",124,0,0,"",0,0,null,null,""]
[null,null,null,null,"",125,0,0,"",0,0,null,null,""]
[null,null,null,null,"",126,0,0,"",0,0,null,null,""]
[null,null,null,null,"",127,0,0,"",0,0,null,null,""]
[null,null,null,null,"",128,0,0,"",0,0,null,null,""]
[null,null,null,null,"",129,0,0,"",0,0,null,null,""]
[null,null,null,null,"",130,0,0,"",{"$f":"IF(ISNA(VLOOKUP(I131,D$2:H$150,5,FALSE)),\"\",VLOOKUP(I131,D$2:H$150,5,FALSE))","v":0},{"$f":"IF(ISNA(VLOOKUP(I131,D$2:G$150,4,FALSE)),\"\",VLOOKUP(I131,D$2:G$150,4,FALSE))","v":0},null,null,""]
[null,null,null,null,"",131,0,0,"",0,0,null,null,""]
[null,null,null,null,"",132,0,0,"",0,0,null,null,""]
[null,null,null,null,"",133,0,0,"",0,0,null,null,""]
[null,null,null,null,"",134,0,0,"",0,0,null,null,""]
[null,null,null,null,"",135,0,0,"",0,0,null,null,""]
[null,null,null,null,"",136,0,0,"",0,0,null,null,""]
[null,null,null,null,"",137,0,0,"",0,0,null,null,""]
[null,null,null,null,"",138,0,0,"",0,0,null,null,""]
[null,null,null,null,"",139,0,0,"",0,0,null,null,""]
[null,null,null,null,"",140,0,0,"",0,0,null,null,""]
[null,null,null,null,"",141,0,0,"",0,0,null,null,""]
[null,null,null,null,"",142,0,0,"",0,0,null,null,""]
[null,null,null,null,"",143,0,0,"",0,0,null,null,""]
[null,null,null,null,"",144,0,0,"",0,0,null,null,""]
[null,null,null,null,"",145,0,0,"",0,0,null,null,""]
[null,null,null,null,"",146,0,0,"",0,0,null,null,""]
[null,null,null,null,"",147,0,0,"",0,0,null,null,""]
[null,null,null,null,"",148,0,0,"",0,0,null,null,""]
[null,null,null,null,"",149,0,0,"",0,0,null,null,""]
[null,null,null,null,""]

{"sheet":"Schools","index":7,"n_rows":14,"n_cols":1,"rows_kept":14,"cut":false,"hidden":true,"merged":[]}
["List of Schools:"]
["Bloomington"]
["Columbia Heights"]
["Eden Prairie"]
["Edina"]
["Forest Lake"]
["Hopkins"]
["Itasca"]
["Osseo-Maple Grove"]
["Prior Lake"]
["Richfield"]
["St. Louis Park"]
["Stillwater"]
["Wayzata"]

{"sheet":"Official Draw","index":8,"n_rows":151,"n_cols":4,"rows_kept":151,"cut":false,"hidden":false,"merged":[[0,1,0,3]]}
[null,"VARSITY - Osseo Maple Grove v. Forest Lake"]
[null,{"$f":"Draw!I1","v":"Draw #"},{"$f":"Draw!J1","v":"Name"},{"$f":"Draw!K1","v":"School"}]
[null,1,"Anna Stockinger","Forest Lake"]
[null,2,"Abigail Tollas","Osseo-Maple Grove"]
[null,3,"Tessa Crohn","Forest Lake"]
[null,4,"Ella Anderson","Forest Lake"]
[null,5,"Lydia Bergeron","Forest Lake"]
[null,6,"Elena Vrba","Osseo-Maple Grove"]
[null,7,"Hannah Littel","Osseo-Maple Grove"]
[null,8,"Megan Ihfe","Forest Lake"]
[null,9,"Katherine Olsen","Osseo-Maple Grove"]
[null,10,"Leigh Boettner Johnson","Forest Lake"]
[null,11,"Alise Ostercamp","Forest Lake"]
[null,12,"Lindsey Biebl","Forest Lake"]
[null,13,"Gabriela Marick","Osseo-Maple Grove"]
[null,14,"Emma Stockinger","Forest Lake"]
[null,15,"Sierra Nutter","Forest Lake"]
[null,16,"Rachel Knox","Osseo-Maple Grove"]
[null,17,"LaCresia Meyer","Forest Lake"]
[null,18,"Emily Ostercamp","Forest Lake"]
[null,19,"Naomi Krueger","Forest Lake"]
[null,20,"Jessica Hentges","Forest Lake"]
[null,21,"Bridget Beynon","Forest Lake"]
[null,22,"Emily Barr","Osseo-Maple Grove"]
[null,23,"Michelle Perkins","Forest Lake"]
[null,24,"Malissa Ball","Forest Lake"]
[null,25,"Heather Breidenbach","Osseo-Maple Grove"]
[null,26,"Dani Sardeson","Forest Lake"]
[null,27,"Amanda Pothen","Forest Lake"]
[null,28,"Lacey Wedell","Forest Lake"]
[null,29,"Andrea Dunrud","Forest Lake"]
[null,30,"Marie Vanderwarn","Osseo-Maple Grove"]
[null,31,"Elisabeth Heitzig","Osseo-Maple Grove"]
[null,32,"Mika Peterson","Forest Lake"]
[null,33,"Kelly McNamee","Osseo-Maple Grove"]
[null,34,"Mia Janisch","Forest Lake"]
[null,35,"Jane Burk","Forest Lake"]
[null,36,"Moriah Ulbricht","Forest Lake"]
[null,37,"Elizabeth Campbell","Forest Lake"]
[null,38,"Annie Larson","Forest Lake"]
[null,39,"Danielle Hawes","Osseo-Maple Grove"]
[null,40,"Paige Thurnbeck","Forest Lake"]
[null,41,"Brecken Carr","Forest Lake"]
[null,42,"Bridget Olson","Forest Lake"]
[null,43,"Elizabeth Blount","Forest Lake"]
[null,44,"Megan Palmer","Forest Lake"]
[null,45,"Holly Drazenovich","Osseo-Maple Grove"]
[null,46,"Jessica Ruohoniemi","Osseo-Maple Grove"]
[null,47,"Cora Martinez","Forest Lake"]
[null,48,"Kenzie Klein","Forest Lake"]
[null,49,"Alle Hale","Forest Lake"]
[null,50,"Sophie Jarosz","Forest Lake"]
[null,51,"Elizabeth McBride","Osseo-Maple Grove"]
[null,52,"Lydia Hansen","Forest Lake"]
[null,53,"Anna Ganser","Osseo-Maple Grove"]
[null,54,"Fallon Olson","Forest Lake"]
[null,55,"Caroline LaBord","Osseo-Maple Grove"]
[null,null,{"$f":"Draw!O57","v":0},{"$f":"Draw!P57","v":0}]
[null,null,{"$f":"Draw!O58","v":0},{"$f":"Draw!P58","v":0}]
[null,null,{"$f":"Draw!O59","v":0},{"$f":"Draw!P59","v":0}]
[null,null,{"$f":"Draw!O60","v":0},{"$f":"Draw!P60","v":0}]
[null,null,{"$f":"Draw!O61","v":0},{"$f":"Draw!P61","v":0}]
[null,null,{"$f":"Draw!O62","v":0},{"$f":"Draw!P62","v":0}]
[null,null,{"$f":"Draw!O63","v":0},{"$f":"Draw!P63","v":0}]
[null,null,{"$f":"Draw!O64","v":0},{"$f":"Draw!P64","v":0}]
[null,null,{"$f":"Draw!O65","v":0},{"$f":"Draw!P65","v":0}]
[null,null,{"$f":"Draw!O66","v":0},{"$f":"Draw!P66","v":0}]
[null,null,{"$f":"Draw!O67","v":0},{"$f":"Draw!P67","v":0}]
[null,null,{"$f":"Draw!O68","v":0},{"$f":"Draw!P68","v":0}]
[null,null,{"$f":"Draw!O69","v":0},{"$f":"Draw!P69","v":0}]
[null,null,{"$f":"Draw!O70","v":0},{"$f":"Draw!P70","v":0}]
[null,null,{"$f":"Draw!O71","v":0},{"$f":"Draw!P71","v":0}]
[null,null,{"$f":"Draw!O72","v":0},{"$f":"Draw!P72","v":0}]
[null,null,{"$f":"Draw!O73","v":0},{"$f":"Draw!P73","v":0}]
[null,null,{"$f":"Draw!O74","v":0},{"$f":"Draw!P74","v":0}]
[null,null,{"$f":"Draw!O75","v":0},{"$f":"Draw!P75","v":0}]
[null,null,{"$f":"Draw!O76","v":0},{"$f":"Draw!P76","v":0}]
[null,null,{"$f":"Draw!O77","v":0},{"$f":"Draw!P77","v":0}]
[null,null,{"$f":"Draw!O78","v":0},{"$f":"Draw!P78","v":0}]
[null,null,{"$f":"Draw!O79","v":0},{"$f":"Draw!P79","v":0}]
[null,null,{"$f":"Draw!O80","v":0},{"$f":"Draw!P80","v":0}]
[null,null,{"$f":"Draw!O81","v":0},{"$f":"Draw!P81","v":0}]
[null,null,{"$f":"Draw!O82","v":0},{"$f":"Draw!P82","v":0}]
[null,null,{"$f":"Draw!O83","v":0},{"$f":"Draw!P83","v":0}]
[null,null,{"$f":"Draw!O84","v":0},{"$f":"Draw!P84","v":0}]
[null,null,{"$f":"Draw!O85","v":0},{"$f":"Draw!P85","v":0}]
[null,null,{"$f":"Draw!O86","v":0},{"$f":"Draw!P86","v":0}]
[null,null,{"$f":"Draw!O87","v":0},{"$f":"Draw!P87","v":0}]
[null,null,{"$f":"Draw!O88","v":0},{"$f":"Draw!P88","v":0}]
[null,null,{"$f":"Draw!O89","v":0},{"$f":"Draw!P89","v":0}]
[null,null,{"$f":"Draw!O90","v":0},{"$f":"Draw!P90","v":0}]
[null,null,{"$f":"Draw!O91","v":0},{"$f":"Draw!P91","v":0}]
[null,null,{"$f":"Draw!O92","v":0},{"$f":"Draw!P92","v":0}]
[null,null,{"$f":"Draw!O93","v":0},{"$f":"Draw!P93","v":0}]
[null,null,{"$f":"Draw!O94","v":0},{"$f":"Draw!P94","v":0}]
[null,null,{"$f":"Draw!O95","v":0},{"$f":"Draw!P95","v":0}]
[null,null,{"$f":"Draw!O96","v":0},{"$f":"Draw!P96","v":0}]
[null,null,{"$f":"Draw!O97","v":0},{"$f":"Draw!P97","v":0}]
[null,null,{"$f":"Draw!O98","v":0},{"$f":"Draw!P98","v":0}]
[null,null,{"$f":"Draw!O99","v":0},{"$f":"Draw!P99","v":0}]
[null,null,{"$f":"Draw!O100","v":0},{"$f":"Draw!P100","v":0}]
[null,null,{"$f":"Draw!O101","v":0},{"$f":"Draw!P101","v":0}]
[null,null,{"$f":"Draw!O102","v":0},{"$f":"Draw!P102","v":0}]
[null,null,{"$f":"Draw!O103","v":0},{"$f":"Draw!P103","v":0}]
[null,null,{"$f":"Draw!O104","v":0},{"$f":"Draw!P104","v":0}]
[null,null,{"$f":"Draw!O105","v":0},{"$f":"Draw!P105","v":0}]
[null,null,{"$f":"Draw!O106","v":0},{"$f":"Draw!P106","v":0}]
[null,null,{"$f":"Draw!O107","v":0},{"$f":"Draw!P107","v":0}]
[null,null,{"$f":"Draw!O108","v":0},{"$f":"Draw!P108","v":0}]
[null,null,{"$f":"Draw!O109","v":0},{"$f":"Draw!P109","v":0}]
[null,null,{"$f":"Draw!O110","v":0},{"$f":"Draw!P110","v":0}]
[null,null,{"$f":"Draw!O111","v":0},{"$f":"Draw!P111","v":0}]
[null,null,{"$f":"Draw!O112","v":0},{"$f":"Draw!P112","v":0}]
[null,null,{"$f":"Draw!O113","v":0},{"$f":"Draw!P113","v":0}]
[null,null,{"$f":"Draw!O114","v":0},{"$f":"Draw!P114","v":0}]
[null,null,{"$f":"Draw!O115","v":0},{"$f":"Draw!P115","v":0}]
[null,null,{"$f":"Draw!O116","v":0},{"$f":"Draw!P116","v":0}]
[null,null,{"$f":"Draw!O117","v":0},{"$f":"Draw!P117","v":0}]
[null,null,{"$f":"Draw!O118","v":0},{"$f":"Draw!P118","v":0}]
[null,null,{"$f":"Draw!O119","v":0},{"$f":"Draw!P119","v":0}]
[null,null,{"$f":"Draw!O120","v":0},{"$f":"Draw!P120","v":0}]
[null,null,{"$f":"Draw!O121","v":0},{"$f":"Draw!P121","v":0}]
[null,null,{"$f":"Draw!O122","v":0},{"$f":"Draw!P122","v":0}]
[null,null,{"$f":"Draw!O123","v":0},{"$f":"Draw!P123","v":0}]
[null,null,{"$f":"Draw!O124","v":0},{"$f":"Draw!P124","v":0}]
[null,null,{"$f":"Draw!O125","v":0},{"$f":"Draw!P125","v":0}]
[null,null,{"$f":"Draw!O126","v":0},{"$f":"Draw!P126","v":0}]
[null,null,{"$f":"Draw!O127","v":0},{"$f":"Draw!P127","v":0}]
[null,null,{"$f":"Draw!O128","v":0},{"$f":"Draw!P128","v":0}]
[null,null,{"$f":"Draw!O129","v":0},{"$f":"Draw!P129","v":0}]
[null,null,{"$f":"Draw!O130","v":0},{"$f":"Draw!P130","v":0}]
[null,null,{"$f":"Draw!O131","v":0},{"$f":"Draw!P131","v":0}]
[null,null,{"$f":"Draw!O132","v":0},{"$f":"Draw!P132","v":0}]
[null,null,{"$f":"Draw!O133","v":0},{"$f":"Draw!P133","v":0}]
[null,null,{"$f":"Draw!O134","v":0},{"$f":"Draw!P134","v":0}]
[null,null,{"$f":"Draw!O135","v":0},{"$f":"Draw!P135","v":0}]
[null,null,{"$f":"Draw!O136","v":0},{"$f":"Draw!P136","v":0}]
[null,null,{"$f":"Draw!O137","v":0},{"$f":"Draw!P137","v":0}]
[null,null,{"$f":"Draw!O138","v":0},{"$f":"Draw!P138","v":0}]
[null,null,{"$f":"Draw!O139","v":0},{"$f":"Draw!P139","v":0}]
[null,null,{"$f":"Draw!O140","v":0},{"$f":"Draw!P140","v":0}]
[null,null,{"$f":"Draw!O141","v":0},{"$f":"Draw!P141","v":0}]
[null,null,{"$f":"Draw!O142","v":0},{"$f":"Draw!P142","v":0}]
[null,null,{"$f":"Draw!O143","v":0},{"$f":"Draw!P143","v":0}]
[null,null,{"$f":"Draw!O144","v":0},{"$f":"Draw!P144","v":0}]
[null,null,{"$f":"Draw!O145","v":0},{"$f":"Draw!P145","v":0}]
[null,null,{"$f":"Draw!O146","v":0},{"$f":"Draw!P146","v":0}]
[null,null,{"$f":"Draw!O147","v":0},{"$f":"Draw!P147","v":0}]
[null,null,{"$f":"Draw!O148","v":0},{"$f":"Draw!P148","v":0}]
[null,null,{"$f":"Draw!O149","v":0},{"$f":"Draw!P149","v":0}]
[null,null,{"$f":"Draw!O150","v":0},{"$f":"Draw!P150","v":0}]

{"sheet":"Meet Results","index":9,"n_rows":150,"n_cols":23,"rows_kept":150,"cut":false,"hidden":false,"merged":[]}
[]
[null,null,null,"Osseo-Maple Grove",{"$f":"SUMIF($F5:$G24,D2,$H5:$H24)","v":1},"Forest Lake",{"$f":"SUMIF($F5:$G24,F2,$H5:$H24)","v":28},null,null,null,"Edina",{"$f":"SUMIF($M5:$N24,K2,$O5:$O24)","v":0},"Edina",{"$f":"SUMIF($M5:$N24,M2,$O5:$O24)","v":0},null,null,null,"Hopkins",{"$f":"SUMIF($T5:$U24,R2,$V5:$V24)","v":0},"Hopkins",{"$f":"SUMIF($T5:$U24,T2,$V5:$V24)","v":0}]
[null,null,null," Total Score",null,null,null,null,null,null," Total Score",null,null,null,null,null,null," Total Score"]
[null,null,null,"#","Swimmer","School","Total","SCORE","PLACE",null,"#","Swimmer","School","Total","SCORE","PLACE",null,"#","Swimmer","School","Total","SCORE","PLACE"]
[null,null,null,29,"Andrea Dunrud","Forest Lake",67.925438596491233,{"$f":"IF(ISNA(VLOOKUP(I5,Totals!$AX$3:$AY$102,2,FALSE)),\"\",VLOOKUP(I5,Totals!$AX$3:$AY$102,2,FALSE))","v":8},{"$f":"IF(ISNA(RANK(G5,G$5:G$150)),\"\",RANK(G5,G$5:G$150))","v":1},null,29,"Andrea Dunrud","Forest Lake",67.925438596491233,{"$f":"IF(ISNA(VLOOKUP(P5,Totals!$AX$3:$AY$102,2,FALSE)),\"\",VLOOKUP(P5,Totals!$AX$3:$AY$102,2,FALSE))","v":8},{"$f":"IF(ISNA(RANK(N5,N$5:N$150)),\"\",RANK(N5,N$5:N$150))","v":1},null,29,"Andrea Dunrud","Forest Lake",67.925438596491233,{"$f":"IF(ISNA(VLOOKUP(W5,Totals!$AX$3:$AY$102,2,FALSE)),\"\",VLOOKUP(W5,Totals!$AX$3:$AY$102,2,FALSE))","v":8},{"$f":"IF(ISNA(RANK(U5,U$5:U$150)),\"\",RANK(U5,U$5:U$150))","v":1}]
[null,null,null,48,"Kenzie Klein","Forest Lake",63.94736842105263,{"$f":"IF(ISNA(VLOOKUP(I6,Totals!$AX$3:$AY$102,2,FALSE)),\"\",VLOOKUP(I6,Totals!$AX$3:$AY$102,2,FALSE))","v":6},{"$f":"IF(G6=G5,I5,IF(ISNA(RANK(G6,G$5:G$150)),\"\",RANK(G6,G$5:G$150)))","v":2},null,48,"Kenzie Klein","Forest Lake",63.94736842105263,{"$f":"IF(ISNA(VLOOKUP(P6,Totals!$AX$3:$AY$102,2,FALSE)),\"\",VLOOKUP(P6,Totals!$AX$3:$AY$102,2,FALSE))","v":6},{"$f":"IF(ISNA(RANK(N6,N$5:N$150)),\"\",RANK(N6,N$5:N$150))","v":2},null,48,"Kenzie Klein","Forest Lake",63.94736842105263,{"$f":"IF(ISNA(VLOOKUP(W6,Totals!$AX$3:$AY$102,2,FALSE)),\"\",VLOOKUP(W6,Totals!$AX$3:$AY$102,2,FALSE))","v":6},{"$f":"IF(ISNA(RANK(U6,U$5:U$150)),\"\",RANK(U6,U$5:U$150))","v":2}]
[null,null,null,54,"Fallon Olson","Forest Lake",63.798245614035082,{"$f":"IF(ISNA(VLOOKUP(I7,Totals!$AX$3:$AY$102,2,FALSE)),\"\",VLOOKUP(I7,Totals!$AX$3:$AY$102,2,FALSE))","v":5},{"$f":"IF(G7=G6,I6,IF(ISNA(RANK(G7,G$5:G$150)),\"\",RANK(G7,G$5:G$150)))","v":3},null,54,"Fallon Olson","Forest Lake",63.798245614035082,{"$f":"IF(ISNA(VLOOKUP(P7,Totals!$AX$3:$AY$102,2,FALSE)),\"\",VLOOKUP(P7,Totals!$AX$3:$AY$102,2,FALSE))","v":5},3,null,54,"Fallon Olson","Forest Lake",63.798245614035082,{"$f":"IF(ISNA(VLOOKUP(W7,Totals!$AX$3:$AY$102,2,FALSE)),\"\",VLOOKUP(W7,Totals!$AX$3:$AY$102,2,FALSE))","v":5},3]
[null,null,null,32,"Mika Peterson","Forest Lake",62.653508771929829,{"$f":"IF(ISNA(VLOOKUP(I8,Totals!$AX$3:$AY$102,2,FALSE)),\"\",VLOOKUP(I8,Totals!$AX$3:$AY$102,2,FALSE))","v":4},4,null,32,"Mika Peterson","Forest Lake",62.653508771929829,{"$f":"IF(ISNA(VLOOKUP(P8,Totals!$AX$3:$AY$102,2,FALSE)),\"\",VLOOKUP(P8,Totals!$AX$3:$AY$102,2,FALSE))","v":4},4,null,32,"Mika Peterson","Forest Lake",62.653508771929829,{"$f":"IF(ISNA(VLOOKUP(W8,Totals!$AX$3:$AY$102,2,FALSE)),\"\",VLOOKUP(W8,Totals!$AX$3:$AY$102,2,FALSE))","v":4},4]
[null,null,null,23,"Michelle Perkins","Forest Lake",61.587719298245617,{"$f":"IF(ISNA(VLOOKUP(I9,Totals!$AX$3:$AY$102,2,FALSE)),\"\",VLOOKUP(I9,Totals!$AX$3:$AY$102,2,FALSE))","v":3},5,null,23,"Michelle Perkins","Forest Lake",61.587719298245617,{"$f":"IF(ISNA(VLOOKUP(P9,Totals!$AX$3:$AY$102,2,FALSE)),\"\",VLOOKUP(P9,Totals!$AX$3:$AY$102,2,FALSE))","v":3},5,null,23,"Michelle Perkins","Forest Lake",61.587719298245617,{"$f":"IF(ISNA(VLOOKUP(W9,Totals!$AX$3:$AY$102,2,FALSE)),\"\",VLOOKUP(W9,Totals!$AX$3:$AY$102,2,FALSE))","v":3},5]
[null,null,null,26,"Dani Sardeson","Forest Lake",61.350877192982459,{"$f":"IF(ISNA(VLOOKUP(I10,Totals!$AX$3:$AY$102,2,FALSE)),\"\",VLOOKUP(I10,Totals!$AX$3:$AY$102,2,FALSE))","v":2},6,null,26,"Dani Sardeson","Forest Lake",61.350877192982459,{"$f":"IF(ISNA(VLOOKUP(P10,Totals!$AX$3:$AY$102,2,FALSE)),\"\",VLOOKUP(P10,Totals!$AX$3:$AY$102,2,FALSE))","v":2},6,null,26,"Dani Sardeson","Forest Lake",61.350877192982459,{"$f":"IF(ISNA(VLOOKUP(W10,Totals!$AX$3:$AY$102,2,FALSE)),\"\",VLOOKUP(W10,Totals!$AX$3:$AY$102,2,FALSE))","v":2},6]
[null,null,null,51,"Elizabeth McBride","Osseo-Maple Grove",60.162280701754383,{"$f":"IF(ISNA(VLOOKUP(I11,Totals!$AX$3:$AY$102,2,FALSE)),\"\",VLOOKUP(I11,Totals!$AX$3:$AY$102,2,FALSE))","v":1},7,null,51,"Elizabeth McBride","Osseo-Maple Grove",60.162280701754383,{"$f":"IF(ISNA(VLOOKUP(P11,Totals!$AX$3:$AY$102,2,FALSE)),\"\",VLOOKUP(P11,Totals!$AX$3:$AY$102,2,FALSE))","v":1},7,null,51,"Elizabeth McBride","Osseo-Maple Grove",60.162280701754383,{"$f":"IF(ISNA(VLOOKUP(W11,Totals!$AX$3:$AY$102,2,FALSE)),\"\",VLOOKUP(W11,Totals!$AX$3:$AY$102,2,FALSE))","v":1},7]
[null,null,null,40,"Paige Thurnbeck","Forest Lake",60.096491228070178,{"$f":"IF(ISNA(VLOOKUP(I12,Totals!$AX$3:$AY$102,2,FALSE)),\"\",VLOOKUP(I12,Totals!$AX$3:$AY$102,2,FALSE))","v":0},8,null,40,"Paige Thurnbeck","Forest Lake",60.096491228070178,{"$f":"IF(ISNA(VLOOKUP(P12,Totals!$AX$3:$AY$102,2,FALSE)),\"\",VLOOKUP(P12,Totals!$AX$3:$AY$102,2,FALSE))","v":0},8,null,40,"Paige Thurnbeck","Forest Lake",60.096491228070178,{"$f":"IF(ISNA(VLOOKUP(W12,Totals!$AX$3:$AY$102,2,FALSE)),\"\",VLOOKUP(W12,Totals!$AX$3:$AY$102,2,FALSE))","v":0},8]
[null,null,null,28,"Lacey Wedell","Forest Lake",60.021929824561404,{"$f":"IF(ISNA(VLOOKUP(I13,Totals!$AX$3:$AY$102,2,FALSE)),\"\",VLOOKUP(I13,Totals!$AX$3:$AY$102,2,FALSE))","v":0},9,null,28,"Lacey Wedell","Forest Lake",60.021929824561404,{"$f":"IF(ISNA(VLOOKUP(P13,Totals!$AX$3:$AY$102,2,FALSE)),\"\",VLOOKUP(P13,Totals!$AX$3:$AY$102,2,FALSE))","v":0},9,null,28,"Lacey Wedell","Forest Lake",60.021929824561404,{"$f":"IF(ISNA(VLOOKUP(W13,Totals!$AX$3:$AY$102,2,FALSE)),\"\",VLOOKUP(W13,Totals!$AX$3:$AY$102,2,FALSE))","v":0},9]
[null,null,null,44,"Megan Palmer","Forest Lake",59.978070175438603,{"$f":"IF(ISNA(VLOOKUP(I14,Totals!$AX$3:$AY$102,2,FALSE)),\"\",VLOOKUP(I14,Totals!$AX$3:$AY$102,2,FALSE))","v":0},10,null,44,"Megan Palmer","Forest Lake",59.978070175438603,{"$f":"IF(ISNA(VLOOKUP(P14,Totals!$AX$3:$AY$102,2,FALSE)),\"\",VLOOKUP(P14,Totals!$AX$3:$AY$102,2,FALSE))","v":0},10,null,44,"Megan Palmer","Forest Lake",59.978070175438603,{"$f":"IF(ISNA(VLOOKUP(W14,Totals!$AX$3:$AY$102,2,FALSE)),\"\",VLOOKUP(W14,Totals!$AX$3:$AY$102,2,FALSE))","v":0},10]
[null,null,null,27,"Amanda Pothen","Forest Lake",59.899122807017548,{"$f":"IF(ISNA(VLOOKUP(I15,Totals!$AX$3:$AY$102,2,FALSE)),\"\",VLOOKUP(I15,Totals!$AX$3:$AY$102,2,FALSE))","v":0},11,null,27,"Amanda Pothen","Forest Lake",59.899122807017548,{"$f":"IF(ISNA(VLOOKUP(P15,Totals!$AX$3:$AY$102,2,FALSE)),\"\",VLOOKUP(P15,Totals!$AX$3:$AY$102,2,FALSE))","v":0},11,null,27,"Amanda Pothen","Forest Lake",59.899122807017548,{"$f":"IF(ISNA(VLOOKUP(W15,Totals!$AX$3:$AY$102,2,FALSE)),\"\",VLOOKUP(W15,Totals!$AX$3:$AY$102,2,FALSE))","v":0},11]
[null,null,null,53,"Anna Ganser","Osseo-Maple Grove",59.40789473684211,{"$f":"IF(ISNA(VLOOKUP(I16,Totals!$AX$3:$AY$102,2,FALSE)),\"\",VLOOKUP(I16,Totals!$AX$3:$AY$102,2,FALSE))","v":0},12,null,53,"Anna Ganser","Osseo-Maple Grove",59.40789473684211,{"$f":"IF(ISNA(VLOOKUP(P16,Totals!$AX$3:$AY$102,2,FALSE)),\"\",VLOOKUP(P16,Totals!$AX$3:$AY$102,2,FALSE))","v":0},12,null,53,"Anna Ganser","Osseo-Maple Grove",59.40789473684211,{"$f":"IF(ISNA(VLOOKUP(W16,Totals!$AX$3:$AY$102,2,FALSE)),\"\",VLOOKUP(W16,Totals!$AX$3:$AY$102,2,FALSE))","v":0},12]
[null,null,null,41,"Brecken Carr","Forest Lake",59.223684210526315,{"$f":"IF(ISNA(VLOOKUP(I17,Totals!$AX$3:$AY$102,2,FALSE)),\"\",VLOOKUP(I17,Totals!$AX$3:$AY$102,2,FALSE))","v":0},13,null,41,"Brecken Carr","Forest Lake",59.223684210526315,{"$f":"IF(ISNA(VLOOKUP(P17,Totals!$AX$3:$AY$102,2,FALSE)),\"\",VLOOKUP(P17,Totals!$AX$3:$AY$102,2,FALSE))","v":0},13,null,41,"Brecken Carr","Forest Lake",59.223684210526315,{"$f":"IF(ISNA(VLOOKUP(W17,Totals!$AX$3:$AY$102,2,FALSE)),\"\",VLOOKUP(W17,Totals!$AX$3:$AY$102,2,FALSE))","v":0},13]
[null,null,null,18,"Emily Ostercamp","Forest Lake",57.464912280701753,{"$f":"IF(ISNA(VLOOKUP(I18,Totals!$AX$3:$AY$102,2,FALSE)),\"\",VLOOKUP(I18,Totals!$AX$3:$AY$102,2,FALSE))","v":0},14,null,18,"Emily Ostercamp","Forest Lake",57.464912280701753,{"$f":"IF(ISNA(VLOOKUP(P18,Totals!$AX$3:$AY$102,2,FALSE)),\"\",VLOOKUP(P18,Totals!$AX$3:$AY$102,2,FALSE))","v":0},14,null,18,"Emily Ostercamp","Forest Lake",57.464912280701753,{"$f":"IF(ISNA(VLOOKUP(W18,Totals!$AX$3:$AY$102,2,FALSE)),\"\",VLOOKUP(W18,Totals!$AX$3:$AY$102,2,FALSE))","v":0},14]
[null,null,null,13,"Gabriela Marick","Osseo-Maple Grove",57.381578947368425,{"$f":"IF(ISNA(VLOOKUP(I19,Totals!$AX$3:$AY$102,2,FALSE)),\"\",VLOOKUP(I19,Totals!$AX$3:$AY$102,2,FALSE))","v":0},15,null,13,"Gabriela Marick","Osseo-Maple Grove",57.381578947368425,{"$f":"IF(ISNA(VLOOKUP(P19,Totals!$AX$3:$AY$102,2,FALSE)),\"\",VLOOKUP(P19,Totals!$AX$3:$AY$102,2,FALSE))","v":0},15,null,13,"Gabriela Marick","Osseo-Maple Grove",57.381578947368425,{"$f":"IF(ISNA(VLOOKUP(W19,Totals!$AX$3:$AY$102,2,FALSE)),\"\",VLOOKUP(W19,Totals!$AX$3:$AY$102,2,FALSE))","v":0},15]
[null,null,null,5,"Lydia Bergeron","Forest Lake",57.048245614035096,{"$f":"IF(ISNA(VLOOKUP(I20,Totals!$AX$3:$AY$102,2,FALSE)),\"\",VLOOKUP(I20,Totals!$AX$3:$AY$102,2,FALSE))","v":0},16,null,5,"Lydia Bergeron","Forest Lake",57.048245614035096,{"$f":"IF(ISNA(VLOOKUP(P20,Totals!$AX$3:$AY$102,2,FALSE)),\"\",VLOOKUP(P20,Totals!$AX$3:$AY$102,2,FALSE))","v":0},16,null,5,"Lydia Bergeron","Forest Lake",57.048245614035096,{"$f":"IF(ISNA(VLOOKUP(W20,Totals!$AX$3:$AY$102,2,FALSE)),\"\",VLOOKUP(W20,Totals!$AX$3:$AY$102,2,FALSE))","v":0},16]
[null,null,null,42,"Bridget Olson","Forest Lake",56.596491228070178,{"$f":"IF(ISNA(VLOOKUP(I21,Totals!$AX$3:$AY$102,2,FALSE)),\"\",VLOOKUP(I21,Totals!$AX$3:$AY$102,2,FALSE))","v":0},17,null,42,"Bridget Olson","Forest Lake",56.596491228070178,{"$f":"IF(ISNA(VLOOKUP(P21,Totals!$AX$3:$AY$102,2,FALSE)),\"\",VLOOKUP(P21,Totals!$AX$3:$AY$102,2,FALSE))","v":0},17,null,42,"Bridget Olson","Forest Lake",56.596491228070178,{"$f":"IF(ISNA(VLOOKUP(W21,Totals!$AX$3:$AY$102,2,FALSE)),\"\",VLOOKUP(W21,Totals!$AX$3:$AY$102,2,FALSE))","v":0},17]
[null,null,null,8,"Megan Ihfe","Forest Lake",56.21052631578948,{"$f":"IF(ISNA(VLOOKUP(I22,Totals!$AX$3:$AY$102,2,FALSE)),\"\",VLOOKUP(I22,Totals!$AX$3:$AY$102,2,FALSE))","v":0},18,null,8,"Megan Ihfe","Forest Lake",56.21052631578948,{"$f":"IF(ISNA(VLOOKUP(P22,Totals!$AX$3:$AY$102,2,FALSE)),\"\",VLOOKUP(P22,Totals!$AX$3:$AY$102,2,FALSE))","v":0},18,null,8,"Megan Ihfe","Forest Lake",56.21052631578948,{"$f":"IF(ISNA(VLOOKUP(W22,Totals!$AX$3:$AY$102,2,FALSE)),\"\",VLOOKUP(W22,Totals!$AX$3:$AY$102,2,FALSE))","v":0},18]
[null,null,null,50,"Sophie Jarosz","Forest Lake",56.175438596491233,{"$f":"IF(ISNA(VLOOKUP(I23,Totals!$AX$3:$AY$102,2,FALSE)),\"\",VLOOKUP(I23,Totals!$AX$3:$AY$102,2,FALSE))","v":0},19,null,50,"Sophie Jarosz","Forest Lake",56.175438596491233,{"$f":"IF(ISNA(VLOOKUP(P23,Totals!$AX$3:$AY$102,2,FALSE)),\"\",VLOOKUP(P23,Totals!$AX$3:$AY$102,2,FALSE))","v":0},19,null,50,"Sophie Jarosz","Forest Lake",56.175438596491233,{"$f":"IF(ISNA(VLOOKUP(W23,Totals!$AX$3:$AY$102,2,FALSE)),\"\",VLOOKUP(W23,Totals!$AX$3:$AY$102,2,FALSE))","v":0},19]
[null,null,null,17,"LaCresia Meyer","Forest Lake",56.175438596491233,{"$f":"IF(ISNA(VLOOKUP(I24,Totals!$AX$3:$AY$102,2,FALSE)),\"\",VLOOKUP(I24,Totals!$AX$3:$AY$102,2,FALSE))","v":0},19,null,17,"LaCresia Meyer","Forest Lake",56.175438596491233,{"$f":"IF(ISNA(VLOOKUP(P24,Totals!$AX$3:$AY$102,2,FALSE)),\"\",VLOOKUP(P24,Totals!$AX$3:$AY$102,2,FALSE))","v":0},19,null,17,"LaCresia Meyer","Forest Lake",56.175438596491233,{"$f":"IF(ISNA(VLOOKUP(W24,Totals!$AX$3:$AY$102,2,FALSE)),\"\",VLOOKUP(W24,Totals!$AX$3:$AY$102,2,FALSE))","v":0},19]
[null,null,null,39,"Danielle Hawes","Osseo-Maple Grove",56.100877192982452,{"$f":"IF(ISNA(VLOOKUP(I25,Totals!$AX$3:$AY$102,2,FALSE)),\"\",VLOOKUP(I25,Totals!$AX$3:$AY$102,2,FALSE))","v":0},21,null,39,"Danielle Hawes","Osseo-Maple Grove",56.100877192982452,{"$f":"IF(ISNA(VLOOKUP(P25,Totals!$AX$3:$AY$102,2,FALSE)),\"\",VLOOKUP(P25,Totals!$AX$3:$AY$102,2,FALSE))","v":0},21,null,39,"Danielle Hawes","Osseo-Maple Grove",56.100877192982452,{"$f":"IF(ISNA(VLOOKUP(W25,Totals!$AX$3:$AY$102,2,FALSE)),\"\",VLOOKUP(W25,Totals!$AX$3:$AY$102,2,FALSE))","v":0},21]
[null,null,null,31,"Elisabeth Heitzig","Osseo-Maple Grove",56.087719298245617,{"$f":"IF(ISNA(VLOOKUP(I26,Totals!$AX$3:$AY$102,2,FALSE)),\"\",VLOOKUP(I26,Totals!$AX$3:$AY$102,2,FALSE))","v":0},22,null,31,"Elisabeth Heitzig","Osseo-Maple Grove",56.087719298245617,{"$f":"IF(ISNA(VLOOKUP(P26,Totals!$AX$3:$AY$102,2,FALSE)),\"\",VLOOKUP(P26,Totals!$AX$3:$AY$102,2,FALSE))","v":0},22,null,31,"Elisabeth Heitzig","Osseo-Maple Grove",56.087719298245617,{"$f":"IF(ISNA(VLOOKUP(W26,Totals!$AX$3:$AY$102,2,FALSE)),\"\",VLOOKUP(W26,Totals!$AX$3:$AY$102,2,FALSE))","v":0},22]
[null,null,null,1,"Anna Stockinger","Forest Lake",55.951754385964918,{"$f":"IF(ISNA(VLOOKUP(I27,Totals!$AX$3:$AY$102,2,FALSE)),\"\",VLOOKUP(I27,Totals!$AX$3:$AY$102,2,FALSE))","v":0},23,null,1,"Anna Stockinger","Forest Lake",55.951754385964918,{"$f":"IF(ISNA(VLOOKUP(P27,Totals!$AX$3:$AY$102,2,FALSE)),\"\",VLOOKUP(P27,Totals!$AX$3:$AY$102,2,FALSE))","v":0},23,null,1,"Anna Stockinger","Forest Lake",55.951754385964918,{"$f":"IF(ISNA(VLOOKUP(W27,Totals!$AX$3:$AY$102,2,FALSE)),\"\",VLOOKUP(W27,Totals!$AX$3:$AY$102,2,FALSE))","v":0},23]
[null,null,null,14,"Emma Stockinger","Forest Lake",55.75,{"$f":"IF(ISNA(VLOOKUP(I28,Totals!$AX$3:$AY$102,2,FALSE)),\"\",VLOOKUP(I28,Totals!$AX$3:$AY$102,2,FALSE))","v":0},24,null,14,"Emma Stockinger","Forest Lake",55.75,{"$f":"IF(ISNA(VLOOKUP(P28,Totals!$AX$3:$AY$102,2,FALSE)),\"\",VLOOKUP(P28,Totals!$AX$3:$AY$102,2,FALSE))","v":0},24,null,14,"Emma Stockinger","Forest Lake",55.75,{"$f":"IF(ISNA(VLOOKUP(W28,Totals!$AX$3:$AY$102,2,FALSE)),\"\",VLOOKUP(W28,Totals!$AX$3:$AY$102,2,FALSE))","v":0},24]
[null,null,null,43,"Elizabeth Blount","Forest Lake",55.574561403508774,{"$f":"IF(ISNA(VLOOKUP(I29,Totals!$AX$3:$AY$102,2,FALSE)),\"\",VLOOKUP(I29,Totals!$AX$3:$AY$102,2,FALSE))","v":0},25,null,43,"Elizabeth Blount","Forest Lake",55.574561403508774,{"$f":"IF(ISNA(VLOOKUP(P29,Totals!$AX$3:$AY$102,2,FALSE)),\"\",VLOOKUP(P29,Totals!$AX$3:$AY$102,2,FALSE))","v":0},25,null,43,"Elizabeth Blount","Forest Lake",55.574561403508774,{"$f":"IF(ISNA(VLOOKUP(W29,Totals!$AX$3:$AY$102,2,FALSE)),\"\",VLOOKUP(W29,Totals!$AX$3:$AY$102,2,FALSE))","v":0},25]
[null,null,null,3,"Tessa Crohn","Forest Lake",55.324561403508781,{"$f":"IF(ISNA(VLOOKUP(I30,Totals!$AX$3:$AY$102,2,FALSE)),\"\",VLOOKUP(I30,Totals!$AX$3:$AY$102,2,FALSE))","v":0},26,null,3,"Tessa Crohn","Forest Lake",55.324561403508781,{"$f":"IF(ISNA(VLOOKUP(P30,Totals!$AX$3:$AY$102,2,FALSE)),\"\",VLOOKUP(P30,Totals!$AX$3:$AY$102,2,FALSE))","v":0},26,null,3,"Tessa Crohn","Forest Lake",55.324561403508781,{"$f":"IF(ISNA(VLOOKUP(W30,Totals!$AX$3:$AY$102,2,FALSE)),\"\",VLOOKUP(W30,Totals!$AX$3:$AY$102,2,FALSE))","v":0},26]
[null,null,null,4,"Ella Anderson","Forest Lake",55.15789473684211,{"$f":"IF(ISNA(VLOOKUP(I31,Totals!$AX$3:$AY$102,2,FALSE)),\"\",VLOOKUP(I31,Totals!$AX$3:$AY$102,2,FALSE))","v":0},27,null,4,"Ella Anderson","Forest Lake",55.15789473684211,{"$f":"IF(ISNA(VLOOKUP(P31,Totals!$AX$3:$AY$102,2,FALSE)),\"\",VLOOKUP(P31,Totals!$AX$3:$AY$102,2,FALSE))","v":0},27,null,4,"Ella Anderson","Forest Lake",55.15789473684211,{"$f":"IF(ISNA(VLOOKUP(W31,Totals!$AX$3:$AY$102,2,FALSE)),\"\",VLOOKUP(W31,Totals!$AX$3:$AY$102,2,FALSE))","v":0},27]
[null,null,null,37,"Elizabeth Campbell","Forest Lake",54.969298245614041,{"$f":"IF(ISNA(VLOOKUP(I32,Totals!$AX$3:$AY$102,2,FALSE)),\"\",VLOOKUP(I32,Totals!$AX$3:$AY$102,2,FALSE))","v":0},28,null,37,"Elizabeth Campbell","Forest Lake",54.969298245614041,{"$f":"IF(ISNA(VLOOKUP(P32,Totals!$AX$3:$AY$102,2,FALSE)),\"\",VLOOKUP(P32,Totals!$AX$3:$AY$102,2,FALSE))","v":0},28,null,37,"Elizabeth Campbell","Forest Lake",54.969298245614041,{"$f":"IF(ISNA(VLOOKUP(W32,Totals!$AX$3:$AY$102,2,FALSE)),\"\",VLOOKUP(W32,Totals!$AX$3:$AY$102,2,FALSE))","v":0},28]
[null,null,null,30,"Marie Vanderwarn","Osseo-Maple Grove",54.811403508771932,{"$f":"IF(ISNA(VLOOKUP(I33,Totals!$AX$3:$AY$102,2,FALSE)),\"\",VLOOKUP(I33,Totals!$AX$3:$AY$102,2,FALSE))","v":0},29,null,30,"Marie Vanderwarn","Osseo-Maple Grove",54.811403508771932,{"$f":"IF(ISNA(VLOOKUP(P33,Totals!$AX$3:$AY$102,2,FALSE)),\"\",VLOOKUP(P33,Totals!$AX$3:$AY$102,2,FALSE))","v":0},29,null,30,"Marie Vanderwarn","Osseo-Maple Grove",54.811403508771932,{"$f":"IF(ISNA(VLOOKUP(W33,Totals!$AX$3:$AY$102,2,FALSE)),\"\",VLOOKUP(W33,Totals!$AX$3:$AY$102,2,FALSE))","v":0},29]
[null,null,null,7,"Hannah Littel","Osseo-Maple Grove",54.780701754385973,{"$f":"IF(ISNA(VLOOKUP(I34,Totals!$AX$3:$AY$102,2,FALSE)),\"\",VLOOKUP(I34,Totals!$AX$3:$AY$102,2,FALSE))","v":0},30,null,7,"Hannah Littel","Osseo-Maple Grove",54.780701754385973,{"$f":"IF(ISNA(VLOOKUP(P34,Totals!$AX$3:$AY$102,2,FALSE)),\"\",VLOOKUP(P34,Totals!$AX$3:$AY$102,2,FALSE))","v":0},30,null,7,"Hannah Littel","Osseo-Maple Grove",54.780701754385973,{"$f":"IF(ISNA(VLOOKUP(W34,Totals!$AX$3:$AY$102,2,FALSE)),\"\",VLOOKUP(W34,Totals!$AX$3:$AY$102,2,FALSE))","v":0},30]
[null,null,null,36,"Moriah Ulbricht","Forest Lake",54.513157894736842,{"$f":"IF(ISNA(VLOOKUP(I35,Totals!$AX$3:$AY$102,2,FALSE)),\"\",VLOOKUP(I35,Totals!$AX$3:$AY$102,2,FALSE))","v":0},31,null,36,"Moriah Ulbricht","Forest Lake",54.513157894736842,{"$f":"IF(ISNA(VLOOKUP(P35,Totals!$AX$3:$AY$102,2,FALSE)),\"\",VLOOKUP(P35,Totals!$AX$3:$AY$102,2,FALSE))","v":0},31,null,36,"Moriah Ulbricht","Forest Lake",54.513157894736842,{"$f":"IF(ISNA(VLOOKUP(W35,Totals!$AX$3:$AY$102,2,FALSE)),\"\",VLOOKUP(W35,Totals!$AX$3:$AY$102,2,FALSE))","v":0},31]
[null,null,null,21,"Bridget Beynon","Forest Lake",54.491228070175445,{"$f":"IF(ISNA(VLOOKUP(I36,Totals!$AX$3:$AY$102,2,FALSE)),\"\",VLOOKUP(I36,Totals!$AX$3:$AY$102,2,FALSE))","v":0},32,null,21,"Bridget Beynon","Forest Lake",54.491228070175445,{"$f":"IF(ISNA(VLOOKUP(P36,Totals!$AX$3:$AY$102,2,FALSE)),\"\",VLOOKUP(P36,Totals!$AX$3:$AY$102,2,FALSE))","v":0},32,null,21,"Bridget Beynon","Forest Lake",54.491228070175445,{"$f":"IF(ISNA(VLOOKUP(W36,Totals!$AX$3:$AY$102,2,FALSE)),\"\",VLOOKUP(W36,Totals!$AX$3:$AY$102,2,FALSE))","v":0},32]
[null,null,null,2,"Abigail Tollas","Osseo-Maple Grove",54.473684210526322,{"$f":"IF(ISNA(VLOOKUP(I37,Totals!$AX$3:$AY$102,2,FALSE)),\"\",VLOOKUP(I37,Totals!$AX$3:$AY$102,2,FALSE))","v":0},33,null,2,"Abigail Tollas","Osseo-Maple Grove",54.473684210526322,{"$f":"IF(ISNA(VLOOKUP(P37,Totals!$AX$3:$AY$102,2,FALSE)),\"\",VLOOKUP(P37,Totals!$AX$3:$AY$102,2,FALSE))","v":0},33,null,2,"Abigail Tollas","Osseo-Maple Grove",54.473684210526322,{"$f":"IF(ISNA(VLOOKUP(W37,Totals!$AX$3:$AY$102,2,FALSE)),\"\",VLOOKUP(W37,Totals!$AX$3:$AY$102,2,FALSE))","v":0},33]
[null,null,null,12,"Lindsey Biebl","Forest Lake",54.399122807017548,{"$f":"IF(ISNA(VLOOKUP(I38,Totals!$AX$3:$AY$102,2,FALSE)),\"\",VLOOKUP(I38,Totals!$AX$3:$AY$102,2,FALSE))","v":0},{"$f":"IF(G38=G37,I37,IF(ISNA(RANK(G38,G$5:G$150)),\"\",RANK(G38,G$5:G$150)))","v":34},null,12,"Lindsey Biebl","Forest Lake",54.399122807017548,{"$f":"IF(ISNA(VLOOKUP(P38,Totals!$AX$3:$AY$102,2,FALSE)),\"\",VLOOKUP(P38,Totals!$AX$3:$AY$102,2,FALSE))","v":0},34,null,12,"Lindsey Biebl","Forest Lake",54.399122807017548,{"$f":"IF(ISNA(VLOOKUP(W38,Totals!$AX$3:$AY$102,2,FALSE)),\"\",VLOOKUP(W38,Totals!$AX$3:$AY$102,2,FALSE))","v":0},34]
[null,null,null,11,"Alise Ostercamp","Forest Lake",54.035087719298247,{"$f":"IF(ISNA(VLOOKUP(I39,Totals!$AX$3:$AY$102,2,FALSE)),\"\",VLOOKUP(I39,Totals!$AX$3:$AY$102,2,FALSE))","v":0},35,null,11,"Alise Ostercamp","Forest Lake",54.035087719298247,{"$f":"IF(ISNA(VLOOKUP(P39,Totals!$AX$3:$AY$102,2,FALSE)),\"\",VLOOKUP(P39,Totals!$AX$3:$AY$102,2,FALSE))","v":0},35,null,11,"Alise Ostercamp","Forest Lake",54.035087719298247,{"$f":"IF(ISNA(VLOOKUP(W39,Totals!$AX$3:$AY$102,2,FALSE)),\"\",VLOOKUP(W39,Totals!$AX$3:$AY$102,2,FALSE))","v":0},35]
[null,null,null,6,"Elena Vrba","Osseo-Maple Grove",53.885964912280699,{"$f":"IF(ISNA(VLOOKUP(I40,Totals!$AX$3:$AY$102,2,FALSE)),\"\",VLOOKUP(I40,Totals!$AX$3:$AY$102,2,FALSE))","v":0},36,null,6,"Elena Vrba","Osseo-Maple Grove",53.885964912280699,{"$f":"IF(ISNA(VLOOKUP(P40,Totals!$AX$3:$AY$102,2,FALSE)),\"\",VLOOKUP(P40,Totals!$AX$3:$AY$102,2,FALSE))","v":0},36,null,6,"Elena Vrba","Osseo-Maple Grove",53.885964912280699,{"$f":"IF(ISNA(VLOOKUP(W40,Totals!$AX$3:$AY$102,2,FALSE)),\"\",VLOOKUP(W40,Totals!$AX$3:$AY$102,2,FALSE))","v":0},36]
[null,null,null,20,"Jessica Hentges","Forest Lake",53.478070175438603,{"$f":"IF(ISNA(VLOOKUP(I41,Totals!$AX$3:$AY$102,2,FALSE)),\"\",VLOOKUP(I41,Totals!$AX$3:$AY$102,2,FALSE))","v":0},37,null,20,"Jessica Hentges","Forest Lake",53.478070175438603,{"$f":"IF(ISNA(VLOOKUP(P41,Totals!$AX$3:$AY$102,2,FALSE)),\"\",VLOOKUP(P41,Totals!$AX$3:$AY$102,2,FALSE))","v":0},37,null,20,"Jessica Hentges","Forest Lake",53.478070175438603,{"$f":"IF(ISNA(VLOOKUP(W41,Totals!$AX$3:$AY$102,2,FALSE)),\"\",VLOOKUP(W41,Totals!$AX$3:$AY$102,2,FALSE))","v":0},37]
[null,null,null,35,"Jane Burk","Forest Lake",53.478070175438603,{"$f":"IF(ISNA(VLOOKUP(I42,Totals!$AX$3:$AY$102,2,FALSE)),\"\",VLOOKUP(I42,Totals!$AX$3:$AY$102,2,FALSE))","v":0},37,null,35,"Jane Burk","Forest Lake",53.478070175438603,{"$f":"IF(ISNA(VLOOKUP(P42,Totals!$AX$3:$AY$102,2,FALSE)),\"\",VLOOKUP(P42,Totals!$AX$3:$AY$102,2,FALSE))","v":0},37,null,35,"Jane Burk","Forest Lake",53.478070175438603,{"$f":"IF(ISNA(VLOOKUP(W42,Totals!$AX$3:$AY$102,2,FALSE)),\"\",VLOOKUP(W42,Totals!$AX$3:$AY$102,2,FALSE))","v":0},37]
[null,null,null,19,"Naomi Krueger","Forest Lake",52.80263157894737,{"$f":"IF(ISNA(VLOOKUP(I43,Totals!$AX$3:$AY$102,2,FALSE)),\"\",VLOOKUP(I43,Totals!$AX$3:$AY$102,2,FALSE))","v":0},39,null,19,"Naomi Krueger","Forest Lake",52.80263157894737,{"$f":"IF(ISNA(VLOOKUP(P43,Totals!$AX$3:$AY$102,2,FALSE)),\"\",VLOOKUP(P43,Totals!$AX$3:$AY$102,2,FALSE))","v":0},39,null,19,"Naomi Krueger","Forest Lake",52.80263157894737,{"$f":"IF(ISNA(VLOOKUP(W43,Totals!$AX$3:$AY$102,2,FALSE)),\"\",VLOOKUP(W43,Totals!$AX$3:$AY$102,2,FALSE))","v":0},39]
[null,null,null,15,"Sierra Nutter","Forest Lake",52.732456140350877,{"$f":"IF(ISNA(VLOOKUP(I44,Totals!$AX$3:$AY$102,2,FALSE)),\"\",VLOOKUP(I44,Totals!$AX$3:$AY$102,2,FALSE))","v":0},40,null,15,"Sierra Nutter","Forest Lake",52.732456140350877,{"$f":"IF(ISNA(VLOOKUP(P44,Totals!$AX$3:$AY$102,2,FALSE)),\"\",VLOOKUP(P44,Totals!$AX$3:$AY$102,2,FALSE))","v":0},40,null,15,"Sierra Nutter","Forest Lake",52.732456140350877,{"$f":"IF(ISNA(VLOOKUP(W44,Totals!$AX$3:$AY$102,2,FALSE)),\"\",VLOOKUP(W44,Totals!$AX$3:$AY$102,2,FALSE))","v":0},40]
[null,null,null,52,"Lydia Hansen","Forest Lake",51.578947368421055,{"$f":"IF(ISNA(VLOOKUP(I45,Totals!$AX$3:$AY$102,2,FALSE)),\"\",VLOOKUP(I45,Totals!$AX$3:$AY$102,2,FALSE))","v":0},41,null,52,"Lydia Hansen","Forest Lake",51.578947368421055,{"$f":"IF(ISNA(VLOOKUP(P45,Totals!$AX$3:$AY$102,2,FALSE)),\"\",VLOOKUP(P45,Totals!$AX$3:$AY$102,2,FALSE))","v":0},41,null,52,"Lydia Hansen","Forest Lake",51.578947368421055,{"$f":"IF(ISNA(VLOOKUP(W45,Totals!$AX$3:$AY$102,2,FALSE)),\"\",VLOOKUP(W45,Totals!$AX$3:$AY$102,2,FALSE))","v":0},41]
[null,null,null,49,"Alle Hale","Forest Lake",51.434210526315795,{"$f":"IF(ISNA(VLOOKUP(I46,Totals!$AX$3:$AY$102,2,FALSE)),\"\",VLOOKUP(I46,Totals!$AX$3:$AY$102,2,FALSE))","v":0},42,null,49,"Alle Hale","Forest Lake",51.434210526315795,{"$f":"IF(ISNA(VLOOKUP(P46,Totals!$AX$3:$AY$102,2,FALSE)),\"\",VLOOKUP(P46,Totals!$AX$3:$AY$102,2,FALSE))","v":0},42,null,49,"Alle Hale","Forest Lake",51.434210526315795,{"$f":"IF(ISNA(VLOOKUP(W46,Totals!$AX$3:$AY$102,2,FALSE)),\"\",VLOOKUP(W46,Totals!$AX$3:$AY$102,2,FALSE))","v":0},42]
[null,null,null,24,"Malissa Ball","Forest Lake",51.171052631578952,{"$f":"IF(ISNA(VLOOKUP(I47,Totals!$AX$3:$AY$102,2,FALSE)),\"\",VLOOKUP(I47,Totals!$AX$3:$AY$102,2,FALSE))","v":0},43,null,24,"Malissa Ball","Forest Lake",51.171052631578952,{"$f":"IF(ISNA(VLOOKUP(P47,Totals!$AX$3:$AY$102,2,FALSE)),\"\",VLOOKUP(P47,Totals!$AX$3:$AY$102,2,FALSE))","v":0},43,null,24,"Malissa Ball","Forest Lake",51.171052631578952,{"$f":"IF(ISNA(VLOOKUP(W47,Totals!$AX$3:$AY$102,2,FALSE)),\"\",VLOOKUP(W47,Totals!$AX$3:$AY$102,2,FALSE))","v":0},43]
[null,null,null,45,"Holly Drazenovich","Osseo-Maple Grove",51.065789473684212,{"$f":"IF(ISNA(VLOOKUP(I48,Totals!$AX$3:$AY$102,2,FALSE)),\"\",VLOOKUP(I48,Totals!$AX$3:$AY$102,2,FALSE))","v":0},44,null,45,"Holly Drazenovich","Osseo-Maple Grove",51.065789473684212,{"$f":"IF(ISNA(VLOOKUP(P48,Totals!$AX$3:$AY$102,2,FALSE)),\"\",VLOOKUP(P48,Totals!$AX$3:$AY$102,2,FALSE))","v":0},44,null,45,"Holly Drazenovich","Osseo-Maple Grove",51.065789473684212,{"$f":"IF(ISNA(VLOOKUP(W48,Totals!$AX$3:$AY$102,2,FALSE)),\"\",VLOOKUP(W48,Totals!$AX$3:$AY$102,2,FALSE))","v":0},44]
[null,null,null,22,"Emily Barr","Osseo-Maple Grove",51.008771929824562,{"$f":"IF(ISNA(VLOOKUP(I49,Totals!$AX$3:$AY$102,2,FALSE)),\"\",VLOOKUP(I49,Totals!$AX$3:$AY$102,2,FALSE))","v":0},45,null,22,"Emily Barr","Osseo-Maple Grove",51.008771929824562,{"$f":"IF(ISNA(VLOOKUP(P49,Totals!$AX$3:$AY$102,2,FALSE)),\"\",VLOOKUP(P49,Totals!$AX$3:$AY$102,2,FALSE))","v":0},45,null,22,"Emily Barr","Osseo-Maple Grove",51.008771929824562,{"$f":"IF(ISNA(VLOOKUP(W49,Totals!$AX$3:$AY$102,2,FALSE)),\"\",VLOOKUP(W49,Totals!$AX$3:$AY$102,2,FALSE))","v":0},45]
[null,null,null,34,"Mia Janisch","Forest Lake",50.929824561403514,{"$f":"IF(ISNA(VLOOKUP(I50,Totals!$AX$3:$AY$102,2,FALSE)),\"\",VLOOKUP(I50,Totals!$AX$3:$AY$102,2,FALSE))","v":0},46,null,34,"Mia Janisch","Forest Lake",50.929824561403514,{"$f":"IF(ISNA(VLOOKUP(P50,Totals!$AX$3:$AY$102,2,FALSE)),\"\",VLOOKUP(P50,Totals!$AX$3:$AY$102,2,FALSE))","v":0},46,null,34,"Mia Janisch","Forest Lake",50.929824561403514,{"$f":"IF(ISNA(VLOOKUP(W50,Totals!$AX$3:$AY$102,2,FALSE)),\"\",VLOOKUP(W50,Totals!$AX$3:$AY$102,2,FALSE))","v":0},46]
[null,null,null,46,"Jessica Ruohoniemi","Osseo-Maple Grove",50.412280701754398,{"$f":"IF(ISNA(VLOOKUP(I51,Totals!$AX$3:$AY$102,2,FALSE)),\"\",VLOOKUP(I51,Totals!$AX$3:$AY$102,2,FALSE))","v":0},47,null,46,"Jessica Ruohoniemi","Osseo-Maple Grove",50.412280701754398,{"$f":"IF(ISNA(VLOOKUP(P51,Totals!$AX$3:$AY$102,2,FALSE)),\"\",VLOOKUP(P51,Totals!$AX$3:$AY$102,2,FALSE))","v":0},47,null,46,"Jessica Ruohoniemi","Osseo-Maple Grove",50.412280701754398,{"$f":"IF(ISNA(VLOOKUP(W51,Totals!$AX$3:$AY$102,2,FALSE)),\"\",VLOOKUP(W51,Totals!$AX$3:$AY$102,2,FALSE))","v":0},47]
[null,null,null,33,"Kelly McNamee","Osseo-Maple Grove",50.140350877192986,{"$f":"IF(ISNA(VLOOKUP(I52,Totals!$AX$3:$AY$102,2,FALSE)),\"\",VLOOKUP(I52,Totals!$AX$3:$AY$102,2,FALSE))","v":0},48,null,33,"Kelly McNamee","Osseo-Maple Grove",50.140350877192986,{"$f":"IF(ISNA(VLOOKUP(P52,Totals!$AX$3:$AY$102,2,FALSE)),\"\",VLOOKUP(P52,Totals!$AX$3:$AY$102,2,FALSE))","v":0},48,null,33,"Kelly McNamee","Osseo-Maple Grove",50.140350877192986,{"$f":"IF(ISNA(VLOOKUP(W52,Totals!$AX$3:$AY$102,2,FALSE)),\"\",VLOOKUP(W52,Totals!$AX$3:$AY$102,2,FALSE))","v":0},48]
[null,null,null,9,"Katherine Olsen","Osseo-Maple Grove",49.929824561403514,{"$f":"IF(ISNA(VLOOKUP(I53,Totals!$AX$3:$AY$102,2,FALSE)),\"\",VLOOKUP(I53,Totals!$AX$3:$AY$102,2,FALSE))","v":0},49,null,9,"Katherine Olsen","Osseo-Maple Grove",49.929824561403514,{"$f":"IF(ISNA(VLOOKUP(P53,Totals!$AX$3:$AY$102,2,FALSE)),\"\",VLOOKUP(P53,Totals!$AX$3:$AY$102,2,FALSE))","v":0},49,null,9,"Katherine Olsen","Osseo-Maple Grove",49.929824561403514,{"$f":"IF(ISNA(VLOOKUP(W53,Totals!$AX$3:$AY$102,2,FALSE)),\"\",VLOOKUP(W53,Totals!$AX$3:$AY$102,2,FALSE))","v":0},49]
[null,null,null,38,"Annie Larson","Forest Lake",49.714912280701753,{"$f":"IF(ISNA(VLOOKUP(I54,Totals!$AX$3:$AY$102,2,FALSE)),\"\",VLOOKUP(I54,Totals!$AX$3:$AY$102,2,FALSE))","v":0},50,null,38,"Annie Larson","Forest Lake",49.714912280701753,{"$f":"IF(ISNA(VLOOKUP(P54,Totals!$AX$3:$AY$102,2,FALSE)),\"\",VLOOKUP(P54,Totals!$AX$3:$AY$102,2,FALSE))","v":0},50,null,38,"Annie Larson","Forest Lake",49.714912280701753,{"$f":"IF(ISNA(VLOOKUP(W54,Totals!$AX$3:$AY$102,2,FALSE)),\"\",VLOOKUP(W54,Totals!$AX$3:$AY$102,2,FALSE))","v":0},50]
[null,null,null,10,"Leigh Boettner Johnson","Forest Lake",48.81578947368422,{"$f":"IF(ISNA(VLOOKUP(I55,Totals!$AX$3:$AY$102,2,FALSE)),\"\",VLOOKUP(I55,Totals!$AX$3:$AY$102,2,FALSE))","v":0},51,null,10,"Leigh Boettner Johnson","Forest Lake",48.81578947368422,{"$f":"IF(ISNA(VLOOKUP(P55,Totals!$AX$3:$AY$102,2,FALSE)),\"\",VLOOKUP(P55,Totals!$AX$3:$AY$102,2,FALSE))","v":0},51,null,10,"Leigh Boettner Johnson","Forest Lake",48.81578947368422,{"$f":"IF(ISNA(VLOOKUP(W55,Totals!$AX$3:$AY$102,2,FALSE)),\"\",VLOOKUP(W55,Totals!$AX$3:$AY$102,2,FALSE))","v":0},51]
[null,null,null,47,"Cora Martinez","Forest Lake",48.807017543859651,{"$f":"IF(ISNA(VLOOKUP(I56,Totals!$AX$3:$AY$102,2,FALSE)),\"\",VLOOKUP(I56,Totals!$AX$3:$AY$102,2,FALSE))","v":0},52,null,47,"Cora Martinez","Forest Lake",48.807017543859651,{"$f":"IF(ISNA(VLOOKUP(P56,Totals!$AX$3:$AY$102,2,FALSE)),\"\",VLOOKUP(P56,Totals!$AX$3:$AY$102,2,FALSE))","v":0},52,null,47,"Cora Martinez","Forest Lake",48.807017543859651,{"$f":"IF(ISNA(VLOOKUP(W56,Totals!$AX$3:$AY$102,2,FALSE)),\"\",VLOOKUP(W56,Totals!$AX$3:$AY$102,2,FALSE))","v":0},52]
[null,null,null,55,"Caroline LaBord","Osseo-Maple Grove",47.377192982456137,{"$f":"IF(ISNA(VLOOKUP(I57,Totals!$AX$3:$AY$102,2,FALSE)),\"\",VLOOKUP(I57,Totals!$AX$3:$AY$102,2,FALSE))","v":0},53,null,55,"Caroline LaBord","Osseo-Maple Grove",47.377192982456137,{"$f":"IF(ISNA(VLOOKUP(P57,Totals!$AX$3:$AY$102,2,FALSE)),\"\",VLOOKUP(P57,Totals!$AX$3:$AY$102,2,FALSE))","v":0},53,null,55,"Caroline LaBord","Osseo-Maple Grove",47.377192982456137,{"$f":"IF(ISNA(VLOOKUP(W57,Totals!$AX$3:$AY$102,2,FALSE)),\"\",VLOOKUP(W57,Totals!$AX$3:$AY$102,2,FALSE))","v":0},53]
[null,null,null,25,"Heather Breidenbach","Osseo-Maple Grove",47.070175438596493,{"$f":"IF(ISNA(VLOOKUP(I58,Totals!$AX$3:$AY$102,2,FALSE)),\"\",VLOOKUP(I58,Totals!$AX$3:$AY$102,2,FALSE))","v":0},54,null,25,"Heather Breidenbach","Osseo-Maple Grove",47.070175438596493,{"$f":"IF(ISNA(VLOOKUP(P58,Totals!$AX$3:$AY$102,2,FALSE)),\"\",VLOOKUP(P58,Totals!$AX$3:$AY$102,2,FALSE))","v":0},54,null,25,"Heather Breidenbach","Osseo-Maple Grove",47.070175438596493,{"$f":"IF(ISNA(VLOOKUP(W58,Totals!$AX$3:$AY$102,2,FALSE)),\"\",VLOOKUP(W58,Totals!$AX$3:$AY$102,2,FALSE))","v":0},54]
[null,null,null,16,"Rachel Knox","Osseo-Maple Grove",0,{"$f":"IF(ISNA(VLOOKUP(I59,Totals!$AX$3:$AY$102,2,FALSE)),\"\",VLOOKUP(I59,Totals!$AX$3:$AY$102,2,FALSE))","v":0},55,null,16,"Rachel Knox","Osseo-Maple Grove",0,{"$f":"IF(ISNA(VLOOKUP(P59,Totals!$AX$3:$AY$102,2,FALSE)),\"\",VLOOKUP(P59,Totals!$AX$3:$AY$102,2,FALSE))","v":0},55,null,16,"Rachel Knox","Osseo-Maple Grove",0,{"$f":"IF(ISNA(VLOOKUP(W59,Totals!$AX$3:$AY$102,2,FALSE)),\"\",VLOOKUP(W59,Totals!$AX$3:$AY$102,2,FALSE))","v":0},55]
[null,null,null,null,null,null,null,{"$f":"IF(ISNA(VLOOKUP(I60,Totals!$AX$3:$AY$102,2,FALSE)),\"\",VLOOKUP(I60,Totals!$AX$3:$AY$102,2,FALSE))","v":0},55,null,null,null,null,null,{"$f":"IF(ISNA(VLOOKUP(P60,Totals!$AX$3:$AY$102,2,FALSE)),\"\",VLOOKUP(P60,Totals!$AX$3:$AY$102,2,FALSE))","v":0},55,null,null,null,null,null,{"$f":"IF(ISNA(VLOOKUP(W60,Totals!$AX$3:$AY$102,2,FALSE)),\"\",VLOOKUP(W60,Totals!$AX$3:$AY$102,2,FALSE))","v":0},55]
[null,null,null,null,null,null,null,{"$f":"IF(ISNA(VLOOKUP(I61,Totals!$AX$3:$AY$102,2,FALSE)),\"\",VLOOKUP(I61,Totals!$AX$3:$AY$102,2,FALSE))","v":0},55,null,null,null,null,null,{"$f":"IF(ISNA(VLOOKUP(P61,Totals!$AX$3:$AY$102,2,FALSE)),\"\",VLOOKUP(P61,Totals!$AX$3:$AY$102,2,FALSE))","v":0},55,null,null,null,null,null,{"$f":"IF(ISNA(VLOOKUP(W61,Totals!$AX$3:$AY$102,2,FALSE)),\"\",VLOOKUP(W61,Totals!$AX$3:$AY$102,2,FALSE))","v":0},55]
[null,null,null,null,null,null,null,{"$f":"IF(ISNA(VLOOKUP(I62,Totals!$AX$3:$AY$102,2,FALSE)),\"\",VLOOKUP(I62,Totals!$AX$3:$AY$102,2,FALSE))","v":0},55,null,null,null,null,null,{"$f":"IF(ISNA(VLOOKUP(P62,Totals!$AX$3:$AY$102,2,FALSE)),\"\",VLOOKUP(P62,Totals!$AX$3:$AY$102,2,FALSE))","v":0},55,null,null,null,null,null,{"$f":"IF(ISNA(VLOOKUP(W62,Totals!$AX$3:$AY$102,2,FALSE)),\"\",VLOOKUP(W62,Totals!$AX$3:$AY$102,2,FALSE))","v":0},55]
[null,null,null,null,null,null,null,{"$f":"IF(ISNA(VLOOKUP(I63,Totals!$AX$3:$AY$102,2,FALSE)),\"\",VLOOKUP(I63,Totals!$AX$3:$AY$102,2,FALSE))","v":0},55,null,null,null,null,null,{"$f":"IF(ISNA(VLOOKUP(P63,Totals!$AX$3:$AY$102,2,FALSE)),\"\",VLOOKUP(P63,Totals!$AX$3:$AY$102,2,FALSE))","v":0},55,null,null,null,null,null,{"$f":"IF(ISNA(VLOOKUP(W63,Totals!$AX$3:$AY$102,2,FALSE)),\"\",VLOOKUP(W63,Totals!$AX$3:$AY$102,2,FALSE))","v":0},55]
[null,null,null,null,null,null,null,{"$f":"IF(ISNA(VLOOKUP(I64,Totals!$AX$3:$AY$102,2,FALSE)),\"\",VLOOKUP(I64,Totals!$AX$3:$AY$102,2,FALSE))","v":0},55,null,null,null,null,null,{"$f":"IF(ISNA(VLOOKUP(P64,Totals!$AX$3:$AY$102,2,FALSE)),\"\",VLOOKUP(P64,Totals!$AX$3:$AY$102,2,FALSE))","v":0},55,null,null,null,null,null,{"$f":"IF(ISNA(VLOOKUP(W64,Totals!$AX$3:$AY$102,2,FALSE)),\"\",VLOOKUP(W64,Totals!$AX$3:$AY$102,2,FALSE))","v":0},55]
[null,null,null,null,null,null,null,{"$f":"IF(ISNA(VLOOKUP(I65,Totals!$AX$3:$AY$102,2,FALSE)),\"\",VLOOKUP(I65,Totals!$AX$3:$AY$102,2,FALSE))","v":0},55,null,null,null,null,null,{"$f":"IF(ISNA(VLOOKUP(P65,Totals!$AX$3:$AY$102,2,FALSE)),\"\",VLOOKUP(P65,Totals!$AX$3:$AY$102,2,FALSE))","v":0},55,null,null,null,null,null,{"$f":"IF(ISNA(VLOOKUP(W65,Totals!$AX$3:$AY$102,2,FALSE)),\"\",VLOOKUP(W65,Totals!$AX$3:$AY$102,2,FALSE))","v":0},55]
[null,null,null,null,null,null,null,{"$f":"IF(ISNA(VLOOKUP(I66,Totals!$AX$3:$AY$102,2,FALSE)),\"\",VLOOKUP(I66,Totals!$AX$3:$AY$102,2,FALSE))","v":0},55,null,null,null,null,null,{"$f":"IF(ISNA(VLOOKUP(P66,Totals!$AX$3:$AY$102,2,FALSE)),\"\",VLOOKUP(P66,Totals!$AX$3:$AY$102,2,FALSE))","v":0},55,null,null,null,null,null,{"$f":"IF(ISNA(VLOOKUP(W66,Totals!$AX$3:$AY$102,2,FALSE)),\"\",VLOOKUP(W66,Totals!$AX$3:$AY$102,2,FALSE))","v":0},55]
[null,null,null,null,null,null,null,{"$f":"IF(ISNA(VLOOKUP(I67,Totals!$AX$3:$AY$102,2,FALSE)),\"\",VLOOKUP(I67,Totals!$AX$3:$AY$102,2,FALSE))","v":0},55,null,null,null,null,null,{"$f":"IF(ISNA(VLOOKUP(P67,Totals!$AX$3:$AY$102,2,FALSE)),\"\",VLOOKUP(P67,Totals!$AX$3:$AY$102,2,FALSE))","v":0},55,null,null,null,null,null,{"$f":"IF(ISNA(VLOOKUP(W67,Totals!$AX$3:$AY$102,2,FALSE)),\"\",VLOOKUP(W67,Totals!$AX$3:$AY$102,2,FALSE))","v":0},55]
[null,null,null,null,null,null,null,{"$f":"IF(ISNA(VLOOKUP(I68,Totals!$AX$3:$AY$102,2,FALSE)),\"\",VLOOKUP(I68,Totals!$AX$3:$AY$102,2,FALSE))","v":0},55,null,null,null,null,null,{"$f":"IF(ISNA(VLOOKUP(P68,Totals!$AX$3:$AY$102,2,FALSE)),\"\",VLOOKUP(P68,Totals!$AX$3:$AY$102,2,FALSE))","v":0},55,null,null,null,null,null,{"$f":"IF(ISNA(VLOOKUP(W68,Totals!$AX$3:$AY$102,2,FALSE)),\"\",VLOOKUP(W68,Totals!$AX$3:$AY$102,2,FALSE))","v":0},55]
[null,null,null,null,null,null,null,{"$f":"IF(ISNA(VLOOKUP(I69,Totals!$AX$3:$AY$102,2,FALSE)),\"\",VLOOKUP(I69,Totals!$AX$3:$AY$102,2,FALSE))","v":0},55,null,null,null,null,null,{"$f":"IF(ISNA(VLOOKUP(P69,Totals!$AX$3:$AY$102,2,FALSE)),\"\",VLOOKUP(P69,Totals!$AX$3:$AY$102,2,FALSE))","v":0},55,null,null,null,null,null,{"$f":"IF(ISNA(VLOOKUP(W69,Totals!$AX$3:$AY$102,2,FALSE)),\"\",VLOOKUP(W69,Totals!$AX$3:$AY$102,2,FALSE))","v":0},55]
[null,null,null,null,null,null,null,{"$f":"IF(ISNA(VLOOKUP(I70,Totals!$AX$3:$AY$102,2,FALSE)),\"\",VLOOKUP(I70,Totals!$AX$3:$AY$102,2,FALSE))","v":0},55,null,null,null,null,null,{"$f":"IF(ISNA(VLOOKUP(P70,Totals!$AX$3:$AY$102,2,FALSE)),\"\",VLOOKUP(P70,Totals!$AX$3:$AY$102,2,FALSE))","v":0},{"$f":"IF(ISNA(RANK(N70,N$5:N$150)),\"\",RANK(N70,N$5:N$150))","v":55},null,null,null,null,null,{"$f":"IF(ISNA(VLOOKUP(W70,Totals!$AX$3:$AY$102,2,FALSE)),\"\",VLOOKUP(W70,Totals!$AX$3:$AY$102,2,FALSE))","v":0},{"$f":"IF(ISNA(RANK(U70,U$5:U$150)),\"\",RANK(U70,U$5:U$150))","v":55}]
[null,null,null,null,null,null,null,{"$f":"IF(ISNA(VLOOKUP(I71,Totals!$AX$3:$AY$102,2,FALSE)),\"\",VLOOKUP(I71,Totals!$AX$3:$AY$102,2,FALSE))","v":0},{"$f":"IF(G71=G70,I70,IF(ISNA(RANK(G71,G$5:G$150)),\"\",RANK(G71,G$5:G$150)))","v":55},null,null,null,null,null,{"$f":"IF(ISNA(VLOOKUP(P71,Totals!$AX$3:$AY$102,2,FALSE)),\"\",VLOOKUP(P71,Totals!$AX$3:$AY$102,2,FALSE))","v":0},55,null,null,null,null,null,{"$f":"IF(ISNA(VLOOKUP(W71,Totals!$AX$3:$AY$102,2,FALSE)),\"\",VLOOKUP(W71,Totals!$AX$3:$AY$102,2,FALSE))","v":0},55]
[null,null,null,null,null,null,null,{"$f":"IF(ISNA(VLOOKUP(I72,Totals!$AX$3:$AY$102,2,FALSE)),\"\",VLOOKUP(I72,Totals!$AX$3:$AY$102,2,FALSE))","v":0},55,null,null,null,null,null,{"$f":"IF(ISNA(VLOOKUP(P72,Totals!$AX$3:$AY$102,2,FALSE)),\"\",VLOOKUP(P72,Totals!$AX$3:$AY$102,2,FALSE))","v":0},55,null,null,null,null,null,{"$f":"IF(ISNA(VLOOKUP(W72,Totals!$AX$3:$AY$102,2,FALSE)),\"\",VLOOKUP(W72,Totals!$AX$3:$AY$102,2,FALSE))","v":0},55]
[null,null,null,null,null,null,null,{"$f":"IF(ISNA(VLOOKUP(I73,Totals!$AX$3:$AY$102,2,FALSE)),\"\",VLOOKUP(I73,Totals!$AX$3:$AY$102,2,FALSE))","v":0},55,null,null,null,null,null,{"$f":"IF(ISNA(VLOOKUP(P73,Totals!$AX$3:$AY$102,2,FALSE)),\"\",VLOOKUP(P73,Totals!$AX$3:$AY$102,2,FALSE))","v":0},55,null,null,null,null,null,{"$f":"IF(ISNA(VLOOKUP(W73,Totals!$AX$3:$AY$102,2,FALSE)),\"\",VLOOKUP(W73,Totals!$AX$3:$AY$102,2,FALSE))","v":0},55]
[null,null,null,null,null,null,null,{"$f":"IF(ISNA(VLOOKUP(I74,Totals!$AX$3:$AY$102,2,FALSE)),\"\",VLOOKUP(I74,Totals!$AX$3:$AY$102,2,FALSE))","v":0},55,null,null,null,null,null,{"$f":"IF(ISNA(VLOOKUP(P74,Totals!$AX$3:$AY$102,2,FALSE)),\"\",VLOOKUP(P74,Totals!$AX$3:$AY$102,2,FALSE))","v":0},55,null,null,null,null,null,{"$f":"IF(ISNA(VLOOKUP(W74,Totals!$AX$3:$AY$102,2,FALSE)),\"\",VLOOKUP(W74,Totals!$AX$3:$AY$102,2,FALSE))","v":0},55]
[null,null,null,null,null,null,null,{"$f":"IF(ISNA(VLOOKUP(I75,Totals!$AX$3:$AY$102,2,FALSE)),\"\",VLOOKUP(I75,Totals!$AX$3:$AY$102,2,FALSE))","v":0},55,null,null,null,null,null,{"$f":"IF(ISNA(VLOOKUP(P75,Totals!$AX$3:$AY$102,2,FALSE)),\"\",VLOOKUP(P75,Totals!$AX$3:$AY$102,2,FALSE))","v":0},55,null,null,null,null,null,{"$f":"IF(ISNA(VLOOKUP(W75,Totals!$AX$3:$AY$102,2,FALSE)),\"\",VLOOKUP(W75,Totals!$AX$3:$AY$102,2,FALSE))","v":0},55]
[null,null,null,null,null,null,null,{"$f":"IF(ISNA(VLOOKUP(I76,Totals!$AX$3:$AY$102,2,FALSE)),\"\",VLOOKUP(I76,Totals!$AX$3:$AY$102,2,FALSE))","v":0},55,null,null,null,null,null,{"$f":"IF(ISNA(VLOOKUP(P76,Totals!$AX$3:$AY$102,2,FALSE)),\"\",VLOOKUP(P76,Totals!$AX$3:$AY$102,2,FALSE))","v":0},55,null,null,null,null,null,{"$f":"IF(ISNA(VLOOKUP(W76,Totals!$AX$3:$AY$102,2,FALSE)),\"\",VLOOKUP(W76,Totals!$AX$3:$AY$102,2,FALSE))","v":0},55]
[null,null,null,null,null,null,null,{"$f":"IF(ISNA(VLOOKUP(I77,Totals!$AX$3:$AY$102,2,FALSE)),\"\",VLOOKUP(I77,Totals!$AX$3:$AY$102,2,FALSE))","v":0},55,null,null,null,null,null,{"$f":"IF(ISNA(VLOOKUP(P77,Totals!$AX$3:$AY$102,2,FALSE)),\"\",VLOOKUP(P77,Totals!$AX$3:$AY$102,2,FALSE))","v":0},55,null,null,null,null,null,{"$f":"IF(ISNA(VLOOKUP(W77,Totals!$AX$3:$AY$102,2,FALSE)),\"\",VLOOKUP(W77,Totals!$AX$3:$AY$102,2,FALSE))","v":0},55]
[null,null,null,null,null,null,null,{"$f":"IF(ISNA(VLOOKUP(I78,Totals!$AX$3:$AY$102,2,FALSE)),\"\",VLOOKUP(I78,Totals!$AX$3:$AY$102,2,FALSE))","v":0},55,null,null,null,null,null,{"$f":"IF(ISNA(VLOOKUP(P78,Totals!$AX$3:$AY$102,2,FALSE)),\"\",VLOOKUP(P78,Totals!$AX$3:$AY$102,2,FALSE))","v":0},55,null,null,null,null,null,{"$f":"IF(ISNA(VLOOKUP(W78,Totals!$AX$3:$AY$102,2,FALSE)),\"\",VLOOKUP(W78,Totals!$AX$3:$AY$102,2,FALSE))","v":0},55]
[null,null,null,null,null,null,null,{"$f":"IF(ISNA(VLOOKUP(I79,Totals!$AX$3:$AY$102,2,FALSE)),\"\",VLOOKUP(I79,Totals!$AX$3:$AY$102,2,FALSE))","v":0},55,null,null,null,null,null,{"$f":"IF(ISNA(VLOOKUP(P79,Totals!$AX$3:$AY$102,2,FALSE)),\"\",VLOOKUP(P79,Totals!$AX$3:$AY$102,2,FALSE))","v":0},55,null,null,null,null,null,{"$f":"IF(ISNA(VLOOKUP(W79,Totals!$AX$3:$AY$102,2,FALSE)),\"\",VLOOKUP(W79,Totals!$AX$3:$AY$102,2,FALSE))","v":0},55]
[null,null,null,null,null,null,null,{"$f":"IF(ISNA(VLOOKUP(I80,Totals!$AX$3:$AY$102,2,FALSE)),\"\",VLOOKUP(I80,Totals!$AX$3:$AY$102,2,FALSE))","v":0},55,null,null,null,null,null,{"$f":"IF(ISNA(VLOOKUP(P80,Totals!$AX$3:$AY$102,2,FALSE)),\"\",VLOOKUP(P80,Totals!$AX$3:$AY$102,2,FALSE))","v":0},55,null,null,null,null,null,{"$f":"IF(ISNA(VLOOKUP(W80,Totals!$AX$3:$AY$102,2,FALSE)),\"\",VLOOKUP(W80,Totals!$AX$3:$AY$102,2,FALSE))","v":0},55]
[null,null,null,null,null,null,null,{"$f":"IF(ISNA(VLOOKUP(I81,Totals!$AX$3:$AY$102,2,FALSE)),\"\",VLOOKUP(I81,Totals!$AX$3:$AY$102,2,FALSE))","v":0},55,null,null,null,null,null,{"$f":"IF(ISNA(VLOOKUP(P81,Totals!$AX$3:$AY$102,2,FALSE)),\"\",VLOOKUP(P81,Totals!$AX$3:$AY$102,2,FALSE))","v":0},55,null,null,null,null,null,{"$f":"IF(ISNA(VLOOKUP(W81,Totals!$AX$3:$AY$102,2,FALSE)),\"\",VLOOKUP(W81,Totals!$AX$3:$AY$102,2,FALSE))","v":0},55]
[null,null,null,null,null,null,null,{"$f":"IF(ISNA(VLOOKUP(I82,Totals!$AX$3:$AY$102,2,FALSE)),\"\",VLOOKUP(I82,Totals!$AX$3:$AY$102,2,FALSE))","v":0},55,null,null,null,null,null,{"$f":"IF(ISNA(VLOOKUP(P82,Totals!$AX$3:$AY$102,2,FALSE)),\"\",VLOOKUP(P82,Totals!$AX$3:$AY$102,2,FALSE))","v":0},55,null,null,null,null,null,{"$f":"IF(ISNA(VLOOKUP(W82,Totals!$AX$3:$AY$102,2,FALSE)),\"\",VLOOKUP(W82,Totals!$AX$3:$AY$102,2,FALSE))","v":0},55]
[null,null,null,null,null,null,null,{"$f":"IF(ISNA(VLOOKUP(I83,Totals!$AX$3:$AY$102,2,FALSE)),\"\",VLOOKUP(I83,Totals!$AX$3:$AY$102,2,FALSE))","v":0},55,null,null,null,null,null,{"$f":"IF(ISNA(VLOOKUP(P83,Totals!$AX$3:$AY$102,2,FALSE)),\"\",VLOOKUP(P83,Totals!$AX$3:$AY$102,2,FALSE))","v":0},55,null,null,null,null,null,{"$f":"IF(ISNA(VLOOKUP(W83,Totals!$AX$3:$AY$102,2,FALSE)),\"\",VLOOKUP(W83,Totals!$AX$3:$AY$102,2,FALSE))","v":0},55]
[null,null,null,null,null,null,null,{"$f":"IF(ISNA(VLOOKUP(I84,Totals!$AX$3:$AY$102,2,FALSE)),\"\",VLOOKUP(I84,Totals!$AX$3:$AY$102,2,FALSE))","v":0},55,null,null,null,null,null,{"$f":"IF(ISNA(VLOOKUP(P84,Totals!$AX$3:$AY$102,2,FALSE)),\"\",VLOOKUP(P84,Totals!$AX$3:$AY$102,2,FALSE))","v":0},55,null,null,null,null,null,{"$f":"IF(ISNA(VLOOKUP(W84,Totals!$AX$3:$AY$102,2,FALSE)),\"\",VLOOKUP(W84,Totals!$AX$3:$AY$102,2,FALSE))","v":0},55]
[null,null,null,null,null,null,null,{"$f":"IF(ISNA(VLOOKUP(I85,Totals!$AX$3:$AY$102,2,FALSE)),\"\",VLOOKUP(I85,Totals!$AX$3:$AY$102,2,FALSE))","v":0},55,null,null,null,null,null,{"$f":"IF(ISNA(VLOOKUP(P85,Totals!$AX$3:$AY$102,2,FALSE)),\"\",VLOOKUP(P85,Totals!$AX$3:$AY$102,2,FALSE))","v":0},55,null,null,null,null,null,{"$f":"IF(ISNA(VLOOKUP(W85,Totals!$AX$3:$AY$102,2,FALSE)),\"\",VLOOKUP(W85,Totals!$AX$3:$AY$102,2,FALSE))","v":0},55]
[null,null,null,null,null,null,null,{"$f":"IF(ISNA(VLOOKUP(I86,Totals!$AX$3:$AY$102,2,FALSE)),\"\",VLOOKUP(I86,Totals!$AX$3:$AY$102,2,FALSE))","v":0},55,null,null,null,null,null,{"$f":"IF(ISNA(VLOOKUP(P86,Totals!$AX$3:$AY$102,2,FALSE)),\"\",VLOOKUP(P86,Totals!$AX$3:$AY$102,2,FALSE))","v":0},55,null,null,null,null,null,{"$f":"IF(ISNA(VLOOKUP(W86,Totals!$AX$3:$AY$102,2,FALSE)),\"\",VLOOKUP(W86,Totals!$AX$3:$AY$102,2,FALSE))","v":0},55]
[null,null,null,null,null,null,null,{"$f":"IF(ISNA(VLOOKUP(I87,Totals!$AX$3:$AY$102,2,FALSE)),\"\",VLOOKUP(I87,Totals!$AX$3:$AY$102,2,FALSE))","v":0},55,null,null,null,null,null,{"$f":"IF(ISNA(VLOOKUP(P87,Totals!$AX$3:$AY$102,2,FALSE)),\"\",VLOOKUP(P87,Totals!$AX$3:$AY$102,2,FALSE))","v":0},55,null,null,null,null,null,{"$f":"IF(ISNA(VLOOKUP(W87,Totals!$AX$3:$AY$102,2,FALSE)),\"\",VLOOKUP(W87,Totals!$AX$3:$AY$102,2,FALSE))","v":0},55]
[null,null,null,null,null,null,null,{"$f":"IF(ISNA(VLOOKUP(I88,Totals!$AX$3:$AY$102,2,FALSE)),\"\",VLOOKUP(I88,Totals!$AX$3:$AY$102,2,FALSE))","v":0},55,null,null,null,null,null,{"$f":"IF(ISNA(VLOOKUP(P88,Totals!$AX$3:$AY$102,2,FALSE)),\"\",VLOOKUP(P88,Totals!$AX$3:$AY$102,2,FALSE))","v":0},55,null,null,null,null,null,{"$f":"IF(ISNA(VLOOKUP(W88,Totals!$AX$3:$AY$102,2,FALSE)),\"\",VLOOKUP(W88,Totals!$AX$3:$AY$102,2,FALSE))","v":0},55]
[null,null,null,null,null,null,null,{"$f":"IF(ISNA(VLOOKUP(I89,Totals!$AX$3:$AY$102,2,FALSE)),\"\",VLOOKUP(I89,Totals!$AX$3:$AY$102,2,FALSE))","v":0},55,null,null,null,null,null,{"$f":"IF(ISNA(VLOOKUP(P89,Totals!$AX$3:$AY$102,2,FALSE)),\"\",VLOOKUP(P89,Totals!$AX$3:$AY$102,2,FALSE))","v":0},55,null,null,null,null,null,{"$f":"IF(ISNA(VLOOKUP(W89,Totals!$AX$3:$AY$102,2,FALSE)),\"\",VLOOKUP(W89,Totals!$AX$3:$AY$102,2,FALSE))","v":0},55]
[null,null,null,null,null,null,null,{"$f":"IF(ISNA(VLOOKUP(I90,Totals!$AX$3:$AY$102,2,FALSE)),\"\",VLOOKUP(I90,Totals!$AX$3:$AY$102,2,FALSE))","v":0},55,null,null,null,null,null,{"$f":"IF(ISNA(VLOOKUP(P90,Totals!$AX$3:$AY$102,2,FALSE)),\"\",VLOOKUP(P90,Totals!$AX$3:$AY$102,2,FALSE))","v":0},55,null,null,null,null,null,{"$f":"IF(ISNA(VLOOKUP(W90,Totals!$AX$3:$AY$102,2,FALSE)),\"\",VLOOKUP(W90,Totals!$AX$3:$AY$102,2,FALSE))","v":0},55]
[null,null,null,null,null,null,null,{"$f":"IF(ISNA(VLOOKUP(I91,Totals!$AX$3:$AY$102,2,FALSE)),\"\",VLOOKUP(I91,Totals!$AX$3:$AY$102,2,FALSE))","v":0},55,null,null,null,null,null,{"$f":"IF(ISNA(VLOOKUP(P91,Totals!$AX$3:$AY$102,2,FALSE)),\"\",VLOOKUP(P91,Totals!$AX$3:$AY$102,2,FALSE))","v":0},55,null,null,null,null,null,{"$f":"IF(ISNA(VLOOKUP(W91,Totals!$AX$3:$AY$102,2,FALSE)),\"\",VLOOKUP(W91,Totals!$AX$3:$AY$102,2,FALSE))","v":0},55]
[null,null,null,null,null,null,null,{"$f":"IF(ISNA(VLOOKUP(I92,Totals!$AX$3:$AY$102,2,FALSE)),\"\",VLOOKUP(I92,Totals!$AX$3:$AY$102,2,FALSE))","v":0},55,null,null,null,null,null,{"$f":"IF(ISNA(VLOOKUP(P92,Totals!$AX$3:$AY$102,2,FALSE)),\"\",VLOOKUP(P92,Totals!$AX$3:$AY$102,2,FALSE))","v":0},55,null,null,null,null,null,{"$f":"IF(ISNA(VLOOKUP(W92,Totals!$AX$3:$AY$102,2,FALSE)),\"\",VLOOKUP(W92,Totals!$AX$3:$AY$102,2,FALSE))","v":0},55]
[null,null,null,null,null,null,null,{"$f":"IF(ISNA(VLOOKUP(I93,Totals!$AX$3:$AY$102,2,FALSE)),\"\",VLOOKUP(I93,Totals!$AX$3:$AY$102,2,FALSE))","v":0},55,null,null,null,null,null,{"$f":"IF(ISNA(VLOOKUP(P93,Totals!$AX$3:$AY$102,2,FALSE)),\"\",VLOOKUP(P93,Totals!$AX$3:$AY$102,2,FALSE))","v":0},55,null,null,null,null,null,{"$f":"IF(ISNA(VLOOKUP(W93,Totals!$AX$3:$AY$102,2,FALSE)),\"\",VLOOKUP(W93,Totals!$AX$3:$AY$102,2,FALSE))","v":0},55]
[null,null,null,null,null,null,null,{"$f":"IF(ISNA(VLOOKUP(I94,Totals!$AX$3:$AY$102,2,FALSE)),\"\",VLOOKUP(I94,Totals!$AX$3:$AY$102,2,FALSE))","v":0},55,null,null,null,null,null,{"$f":"IF(ISNA(VLOOKUP(P94,Totals!$AX$3:$AY$102,2,FALSE)),\"\",VLOOKUP(P94,Totals!$AX$3:$AY$102,2,FALSE))","v":0},55,null,null,null,null,null,{"$f":"IF(ISNA(VLOOKUP(W94,Totals!$AX$3:$AY$102,2,FALSE)),\"\",VLOOKUP(W94,Totals!$AX$3:$AY$102,2,FALSE))","v":0},55]
[null,null,null,null,null,null,null,{"$f":"IF(ISNA(VLOOKUP(I95,Totals!$AX$3:$AY$102,2,FALSE)),\"\",VLOOKUP(I95,Totals!$AX$3:$AY$102,2,FALSE))","v":0},55,null,null,null,null,null,{"$f":"IF(ISNA(VLOOKUP(P95,Totals!$AX$3:$AY$102,2,FALSE)),\"\",VLOOKUP(P95,Totals!$AX$3:$AY$102,2,FALSE))","v":0},55,null,null,null,null,null,{"$f":"IF(ISNA(VLOOKUP(W95,Totals!$AX$3:$AY$102,2,FALSE)),\"\",VLOOKUP(W95,Totals!$AX$3:$AY$102,2,FALSE))","v":0},55]
[null,null,null,null,null,null,null,{"$f":"IF(ISNA(VLOOKUP(I96,Totals!$AX$3:$AY$102,2,FALSE)),\"\",VLOOKUP(I96,Totals!$AX$3:$AY$102,2,FALSE))","v":0},55,null,null,null,null,null,{"$f":"IF(ISNA(VLOOKUP(P96,Totals!$AX$3:$AY$102,2,FALSE)),\"\",VLOOKUP(P96,Totals!$AX$3:$AY$102,2,FALSE))","v":0},55,null,null,null,null,null,{"$f":"IF(ISNA(VLOOKUP(W96,Totals!$AX$3:$AY$102,2,FALSE)),\"\",VLOOKUP(W96,Totals!$AX$3:$AY$102,2,FALSE))","v":0},55]
[null,null,null,null,null,null,null,{"$f":"IF(ISNA(VLOOKUP(I97,Totals!$AX$3:$AY$102,2,FALSE)),\"\",VLOOKUP(I97,Totals!$AX$3:$AY$102,2,FALSE))","v":0},55,null,null,null,null,null,{"$f":"IF(ISNA(VLOOKUP(P97,Totals!$AX$3:$AY$102,2,FALSE)),\"\",VLOOKUP(P97,Totals!$AX$3:$AY$102,2,FALSE))","v":0},55,null,null,null,null,null,{"$f":"IF(ISNA(VLOOKUP(W97,Totals!$AX$3:$AY$102,2,FALSE)),\"\",VLOOKUP(W97,Totals!$AX$3:$AY$102,2,FALSE))","v":0},55]
[null,null,null,null,null,null,null,{"$f":"IF(ISNA(VLOOKUP(I98,Totals!$AX$3:$AY$102,2,FALSE)),\"\",VLOOKUP(I98,Totals!$AX$3:$AY$102,2,FALSE))","v":0},55,null,null,null,null,null,{"$f":"IF(ISNA(VLOOKUP(P98,Totals!$AX$3:$AY$102,2,FALSE)),\"\",VLOOKUP(P98,Totals!$AX$3:$AY$102,2,FALSE))","v":0},55,null,null,null,null,null,{"$f":"IF(ISNA(VLOOKUP(W98,Totals!$AX$3:$AY$102,2,FALSE)),\"\",VLOOKUP(W98,Totals!$AX$3:$AY$102,2,FALSE))","v":0},55]
[null,null,null,null,null,null,null,{"$f":"IF(ISNA(VLOOKUP(I99,Totals!$AX$3:$AY$102,2,FALSE)),\"\",VLOOKUP(I99,Totals!$AX$3:$AY$102,2,FALSE))","v":0},55,null,null,null,null,null,{"$f":"IF(ISNA(VLOOKUP(P99,Totals!$AX$3:$AY$102,2,FALSE)),\"\",VLOOKUP(P99,Totals!$AX$3:$AY$102,2,FALSE))","v":0},55,null,null,null,null,null,{"$f":"IF(ISNA(VLOOKUP(W99,Totals!$AX$3:$AY$102,2,FALSE)),\"\",VLOOKUP(W99,Totals!$AX$3:$AY$102,2,FALSE))","v":0},55]
[null,null,null,null,null,null,null,{"$f":"IF(ISNA(VLOOKUP(I100,Totals!$AX$3:$AY$102,2,FALSE)),\"\",VLOOKUP(I100,Totals!$AX$3:$AY$102,2,FALSE))","v":0},55,null,null,null,null,null,{"$f":"IF(ISNA(VLOOKUP(P100,Totals!$AX$3:$AY$102,2,FALSE)),\"\",VLOOKUP(P100,Totals!$AX$3:$AY$102,2,FALSE))","v":0},55,null,null,null,null,null,{"$f":"IF(ISNA(VLOOKUP(W100,Totals!$AX$3:$AY$102,2,FALSE)),\"\",VLOOKUP(W100,Totals!$AX$3:$AY$102,2,FALSE))","v":0},55]
[null,null,null,null,null,null,null,{"$f":"IF(ISNA(VLOOKUP(I101,Totals!$AX$3:$AY$102,2,FALSE)),\"\",VLOOKUP(I101,Totals!$AX$3:$AY$102,2,FALSE))","v":0},55,null,null,null,null,null,{"$f":"IF(ISNA(VLOOKUP(P101,Totals!$AX$3:$AY$102,2,FALSE)),\"\",VLOOKUP(P101,Totals!$AX$3:$AY$102,2,FALSE))","v":0},55,null,null,null,null,null,{"$f":"IF(ISNA(VLOOKUP(W101,Totals!$AX$3:$AY$102,2,FALSE)),\"\",VLOOKUP(W101,Totals!$AX$3:$AY$102,2,FALSE))","v":0},55]
[null,null,null,null,null,null,null,{"$f":"IF(ISNA(VLOOKUP(I102,Totals!$AX$3:$AY$102,2,FALSE)),\"\",VLOOKUP(I102,Totals!$AX$3:$AY$102,2,FALSE))","v":0},55,null,null,null,null,null,{"$f":"IF(ISNA(VLOOKUP(P102,Totals!$AX$3:$AY$102,2,FALSE)),\"\",VLOOKUP(P102,Totals!$AX$3:$AY$102,2,FALSE))","v":0},55,null,null,null,null,null,{"$f":"IF(ISNA(VLOOKUP(W102,Totals!$AX$3:$AY$102,2,FALSE)),\"\",VLOOKUP(W102,Totals!$AX$3:$AY$102,2,FALSE))","v":0},55]
[null,null,null,null,null,null,null,{"$f":"IF(ISNA(VLOOKUP(I103,Totals!$AX$3:$AY$102,2,FALSE)),\"\",VLOOKUP(I103,Totals!$AX$3:$AY$102,2,FALSE))","v":0},55,null,null,null,null,null,{"$f":"IF(ISNA(VLOOKUP(P103,Totals!$AX$3:$AY$102,2,FALSE)),\"\",VLOOKUP(P103,Totals!$AX$3:$AY$102,2,FALSE))","v":0},55,null,null,null,null,null,{"$f":"IF(ISNA(VLOOKUP(W103,Totals!$AX$3:$AY$102,2,FALSE)),\"\",VLOOKUP(W103,Totals!$AX$3:$AY$102,2,FALSE))","v":0},55]
[null,null,null,null,null,null,null,{"$f":"IF(ISNA(VLOOKUP(I104,Totals!$AX$3:$AY$102,2,FALSE)),\"\",VLOOKUP(I104,Totals!$AX$3:$AY$102,2,FALSE))","v":0},55,null,null,null,null,null,{"$f":"IF(ISNA(VLOOKUP(P104,Totals!$AX$3:$AY$102,2,FALSE)),\"\",VLOOKUP(P104,Totals!$AX$3:$AY$102,2,FALSE))","v":0},55,null,null,null,null,null,{"$f":"IF(ISNA(VLOOKUP(W104,Totals!$AX$3:$AY$102,2,FALSE)),\"\",VLOOKUP(W104,Totals!$AX$3:$AY$102,2,FALSE))","v":0},55]
[null,null,null,null,null,null,null,{"$f":"IF(ISNA(VLOOKUP(I105,Totals!$AX$3:$AY$102,2,FALSE)),\"\",VLOOKUP(I105,Totals!$AX$3:$AY$102,2,FALSE))","v":0},55,null,null,null,null,null,{"$f":"IF(ISNA(VLOOKUP(P105,Totals!$AX$3:$AY$102,2,FALSE)),\"\",VLOOKUP(P105,Totals!$AX$3:$AY$102,2,FALSE))","v":0},55,null,null,null,null,null,{"$f":"IF(ISNA(VLOOKUP(W105,Totals!$AX$3:$AY$102,2,FALSE)),\"\",VLOOKUP(W105,Totals!$AX$3:$AY$102,2,FALSE))","v":0},55]
[null,null,null,null,null,null,null,{"$f":"IF(ISNA(VLOOKUP(I106,Totals!$AX$3:$AY$102,2,FALSE)),\"\",VLOOKUP(I106,Totals!$AX$3:$AY$102,2,FALSE))","v":0},55,null,null,null,null,null,{"$f":"IF(ISNA(VLOOKUP(P106,Totals!$AX$3:$AY$102,2,FALSE)),\"\",VLOOKUP(P106,Totals!$AX$3:$AY$102,2,FALSE))","v":0},55,null,null,null,null,null,{"$f":"IF(ISNA(VLOOKUP(W106,Totals!$AX$3:$AY$102,2,FALSE)),\"\",VLOOKUP(W106,Totals!$AX$3:$AY$102,2,FALSE))","v":0},55]
[null,null,null,null,null,null,null,{"$f":"IF(ISNA(VLOOKUP(I107,Totals!$AX$3:$AY$102,2,FALSE)),\"\",VLOOKUP(I107,Totals!$AX$3:$AY$102,2,FALSE))","v":0},55,null,null,null,null,null,{"$f":"IF(ISNA(VLOOKUP(P107,Totals!$AX$3:$AY$102,2,FALSE)),\"\",VLOOKUP(P107,Totals!$AX$3:$AY$102,2,FALSE))","v":0},55,null,null,null,null,null,{"$f":"IF(ISNA(VLOOKUP(W107,Totals!$AX$3:$AY$102,2,FALSE)),\"\",VLOOKUP(W107,Totals!$AX$3:$AY$102,2,FALSE))","v":0},55]
[null,null,null,null,null,null,null,{"$f":"IF(ISNA(VLOOKUP(I108,Totals!$AX$3:$AY$102,2,FALSE)),\"\",VLOOKUP(I108,Totals!$AX$3:$AY$102,2,FALSE))","v":0},55,null,null,null,null,null,{"$f":"IF(ISNA(VLOOKUP(P108,Totals!$AX$3:$AY$102,2,FALSE)),\"\",VLOOKUP(P108,Totals!$AX$3:$AY$102,2,FALSE))","v":0},55,null,null,null,null,null,{"$f":"IF(ISNA(VLOOKUP(W108,Totals!$AX$3:$AY$102,2,FALSE)),\"\",VLOOKUP(W108,Totals!$AX$3:$AY$102,2,FALSE))","v":0},55]
[null,null,null,null,null,null,null,{"$f":"IF(ISNA(VLOOKUP(I109,Totals!$AX$3:$AY$102,2,FALSE)),\"\",VLOOKUP(I109,Totals!$AX$3:$AY$102,2,FALSE))","v":0},55,null,null,null,null,null,{"$f":"IF(ISNA(VLOOKUP(P109,Totals!$AX$3:$AY$102,2,FALSE)),\"\",VLOOKUP(P109,Totals!$AX$3:$AY$102,2,FALSE))","v":0},55,null,null,null,null,null,{"$f":"IF(ISNA(VLOOKUP(W109,Totals!$AX$3:$AY$102,2,FALSE)),\"\",VLOOKUP(W109,Totals!$AX$3:$AY$102,2,FALSE))","v":0},55]
[null,null,null,null,null,null,null,{"$f":"IF(ISNA(VLOOKUP(I110,Totals!$AX$3:$AY$102,2,FALSE)),\"\",VLOOKUP(I110,Totals!$AX$3:$AY$102,2,FALSE))","v":0},55,null,null,null,null,null,{"$f":"IF(ISNA(VLOOKUP(P110,Totals!$AX$3:$AY$102,2,FALSE)),\"\",VLOOKUP(P110,Totals!$AX$3:$AY$102,2,FALSE))","v":0},55,null,null,null,null,null,{"$f":"IF(ISNA(VLOOKUP(W110,Totals!$AX$3:$AY$102,2,FALSE)),\"\",VLOOKUP(W110,Totals!$AX$3:$AY$102,2,FALSE))","v":0},55]
[null,null,null,null,null,null,null,{"$f":"IF(ISNA(VLOOKUP(I111,Totals!$AX$3:$AY$102,2,FALSE)),\"\",VLOOKUP(I111,Totals!$AX$3:$AY$102,2,FALSE))","v":0},55,null,null,null,null,null,{"$f":"IF(ISNA(VLOOKUP(P111,Totals!$AX$3:$AY$102,2,FALSE)),\"\",VLOOKUP(P111,Totals!$AX$3:$AY$102,2,FALSE))","v":0},55,null,null,null,null,null,{"$f":"IF(ISNA(VLOOKUP(W111,Totals!$AX$3:$AY$102,2,FALSE)),\"\",VLOOKUP(W111,Totals!$AX$3:$AY$102,2,FALSE))","v":0},55]
[null,null,null,null,null,null,null,{"$f":"IF(ISNA(VLOOKUP(I112,Totals!$AX$3:$AY$102,2,FALSE)),\"\",VLOOKUP(I112,Totals!$AX$3:$AY$102,2,FALSE))","v":0},55,null,null,null,null,null,{"$f":"IF(ISNA(VLOOKUP(P112,Totals!$AX$3:$AY$102,2,FALSE)),\"\",VLOOKUP(P112,Totals!$AX$3:$AY$102,2,FALSE))","v":0},55,null,null,null,null,null,{"$f":"IF(ISNA(VLOOKUP(W112,Totals!$AX$3:$AY$102,2,FALSE)),\"\",VLOOKUP(W112,Totals!$AX$3:$AY$102,2,FALSE))","v":0},55]
[null,null,null,null,null,null,null,{"$f":"IF(ISNA(VLOOKUP(I113,Totals!$AX$3:$AY$102,2,FALSE)),\"\",VLOOKUP(I113,Totals!$AX$3:$AY$102,2,FALSE))","v":0},55,null,null,null,null,null,{"$f":"IF(ISNA(VLOOKUP(P113,Totals!$AX$3:$AY$102,2,FALSE)),\"\",VLOOKUP(P113,Totals!$AX$3:$AY$102,2,FALSE))","v":0},55,null,null,null,null,null,{"$f":"IF(ISNA(VLOOKUP(W113,Totals!$AX$3:$AY$102,2,FALSE)),\"\",VLOOKUP(W113,Totals!$AX$3:$AY$102,2,FALSE))","v":0},55]
[null,null,null,null,null,null,null,{"$f":"IF(ISNA(VLOOKUP(I114,Totals!$AX$3:$AY$102,2,FALSE)),\"\",VLOOKUP(I114,Totals!$AX$3:$AY$102,2,FALSE))","v":0},55,null,null,null,null,null,{"$f":"IF(ISNA(VLOOKUP(P114,Totals!$AX$3:$AY$102,2,FALSE)),\"\",VLOOKUP(P114,Totals!$AX$3:$AY$102,2,FALSE))","v":0},55,null,null,null,null,null,{"$f":"IF(ISNA(VLOOKUP(W114,Totals!$AX$3:$AY$102,2,FALSE)),\"\",VLOOKUP(W114,Totals!$AX$3:$AY$102,2,FALSE))","v":0},55]
[null,null,null,null,null,null,null,{"$f":"IF(ISNA(VLOOKUP(I115,Totals!$AX$3:$AY$102,2,FALSE)),\"\",VLOOKUP(I115,Totals!$AX$3:$AY$102,2,FALSE))","v":0},55,null,null,null,null,null,{"$f":"IF(ISNA(VLOOKUP(P115,Totals!$AX$3:$AY$102,2,FALSE)),\"\",VLOOKUP(P115,Totals!$AX$3:$AY$102,2,FALSE))","v":0},55,null,null,null,null,null,{"$f":"IF(ISNA(VLOOKUP(W115,Totals!$AX$3:$AY$102,2,FALSE)),\"\",VLOOKUP(W115,Totals!$AX$3:$AY$102,2,FALSE))","v":0},55]
[null,null,null,null,null,null,null,{"$f":"IF(ISNA(VLOOKUP(I116,Totals!$AX$3:$AY$102,2,FALSE)),\"\",VLOOKUP(I116,Totals!$AX$3:$AY$102,2,FALSE))","v":0},55,null,null,null,null,null,{"$f":"IF(ISNA(VLOOKUP(P116,Totals!$AX$3:$AY$102,2,FALSE)),\"\",VLOOKUP(P116,Totals!$AX$3:$AY$102,2,FALSE))","v":0},55,null,null,null,null,null,{"$f":"IF(ISNA(VLOOKUP(W116,Totals!$AX$3:$AY$102,2,FALSE)),\"\",VLOOKUP(W116,Totals!$AX$3:$AY$102,2,FALSE))","v":0},55]
[null,null,null,null,null,null,null,{"$f":"IF(ISNA(VLOOKUP(I117,Totals!$AX$3:$AY$102,2,FALSE)),\"\",VLOOKUP(I117,Totals!$AX$3:$AY$102,2,FALSE))","v":0},55,null,null,null,null,null,{"$f":"IF(ISNA(VLOOKUP(P117,Totals!$AX$3:$AY$102,2,FALSE)),\"\",VLOOKUP(P117,Totals!$AX$3:$AY$102,2,FALSE))","v":0},55,null,null,null,null,null,{"$f":"IF(ISNA(VLOOKUP(W117,Totals!$AX$3:$AY$102,2,FALSE)),\"\",VLOOKUP(W117,Totals!$AX$3:$AY$102,2,FALSE))","v":0},55]
[null,null,null,null,null,null,null,{"$f":"IF(ISNA(VLOOKUP(I118,Totals!$AX$3:$AY$102,2,FALSE)),\"\",VLOOKUP(I118,Totals!$AX$3:$AY$102,2,FALSE))","v":0},55,null,null,null,null,null,{"$f":"IF(ISNA(VLOOKUP(P118,Totals!$AX$3:$AY$102,2,FALSE)),\"\",VLOOKUP(P118,Totals!$AX$3:$AY$102,2,FALSE))","v":0},55,null,null,null,null,null,{"$f":"IF(ISNA(VLOOKUP(W118,Totals!$AX$3:$AY$102,2,FALSE)),\"\",VLOOKUP(W118,Totals!$AX$3:$AY$102,2,FALSE))","v":0},55]
[null,null,null,null,null,null,null,{"$f":"IF(ISNA(VLOOKUP(I119,Totals!$AX$3:$AY$102,2,FALSE)),\"\",VLOOKUP(I119,Totals!$AX$3:$AY$102,2,FALSE))","v":0},55,null,null,null,null,null,{"$f":"IF(ISNA(VLOOKUP(P119,Totals!$AX$3:$AY$102,2,FALSE)),\"\",VLOOKUP(P119,Totals!$AX$3:$AY$102,2,FALSE))","v":0},55,null,null,null,null,null,{"$f":"IF(ISNA(VLOOKUP(W119,Totals!$AX$3:$AY$102,2,FALSE)),\"\",VLOOKUP(W119,Totals!$AX$3:$AY$102,2,FALSE))","v":0},55]
[null,null,null,null,null,null,null,{"$f":"IF(ISNA(VLOOKUP(I120,Totals!$AX$3:$AY$102,2,FALSE)),\"\",VLOOKUP(I120,Totals!$AX$3:$AY$102,2,FALSE))","v":0},55,null,null,null,null,null,{"$f":"IF(ISNA(VLOOKUP(P120,Totals!$AX$3:$AY$102,2,FALSE)),\"\",VLOOKUP(P120,Totals!$AX$3:$AY$102,2,FALSE))","v":0},55,null,null,null,null,null,{"$f":"IF(ISNA(VLOOKUP(W120,Totals!$AX$3:$AY$102,2,FALSE)),\"\",VLOOKUP(W120,Totals!$AX$3:$AY$102,2,FALSE))","v":0},55]
[null,null,null,null,null,null,null,{"$f":"IF(ISNA(VLOOKUP(I121,Totals!$AX$3:$AY$102,2,FALSE)),\"\",VLOOKUP(I121,Totals!$AX$3:$AY$102,2,FALSE))","v":0},55,null,null,null,null,null,{"$f":"IF(ISNA(VLOOKUP(P121,Totals!$AX$3:$AY$102,2,FALSE)),\"\",VLOOKUP(P121,Totals!$AX$3:$AY$102,2,FALSE))","v":0},55,null,null,null,null,null,{"$f":"IF(ISNA(VLOOKUP(W121,Totals!$AX$3:$AY$102,2,FALSE)),\"\",VLOOKUP(W121,Totals!$AX$3:$AY$102,2,FALSE))","v":0},55]
[null,null,null,null,null,null,null,{"$f":"IF(ISNA(VLOOKUP(I122,Totals!$AX$3:$AY$102,2,FALSE)),\"\",VLOOKUP(I122,Totals!$AX$3:$AY$102,2,FALSE))","v":0},55,null,null,null,null,null,{"$f":"IF(ISNA(VLOOKUP(P122,Totals!$AX$3:$AY$102,2,FALSE)),\"\",VLOOKUP(P122,Totals!$AX$3:$AY$102,2,FALSE))","v":0},55,null,null,null,null,null,{"$f":"IF(ISNA(VLOOKUP(W122,Totals!$AX$3:$AY$102,2,FALSE)),\"\",VLOOKUP(W122,Totals!$AX$3:$AY$102,2,FALSE))","v":0},55]
[null,null,null,null,null,null,null,{"$f":"IF(ISNA(VLOOKUP(I123,Totals!$AX$3:$AY$102,2,FALSE)),\"\",VLOOKUP(I123,Totals!$AX$3:$AY$102,2,FALSE))","v":0},55,null,null,null,null,null,{"$f":"IF(ISNA(VLOOKUP(P123,Totals!$AX$3:$AY$102,2,FALSE)),\"\",VLOOKUP(P123,Totals!$AX$3:$AY$102,2,FALSE))","v":0},55,null,null,null,null,null,{"$f":"IF(ISNA(VLOOKUP(W123,Totals!$AX$3:$AY$102,2,FALSE)),\"\",VLOOKUP(W123,Totals!$AX$3:$AY$102,2,FALSE))","v":0},55]
[null,null,null,null,null,null,null,{"$f":"IF(ISNA(VLOOKUP(I124,Totals!$AX$3:$AY$102,2,FALSE)),\"\",VLOOKUP(I124,Totals!$AX$3:$AY$102,2,FALSE))","v":0},55,null,null,null,null,null,{"$f":"IF(ISNA(VLOOKUP(P124,Totals!$AX$3:$AY$102,2,FALSE)),\"\",VLOOKUP(P124,Totals!$AX$3:$AY$102,2,FALSE))","v":0},55,null,null,null,null,null,{"$f":"IF(ISNA(VLOOKUP(W124,Totals!$AX$3:$AY$102,2,FALSE)),\"\",VLOOKUP(W124,Totals!$AX$3:$AY$102,2,FALSE))","v":0},55]
[null,null,null,null,null,null,null,{"$f":"IF(ISNA(VLOOKUP(I125,Totals!$AX$3:$AY$102,2,FALSE)),\"\",VLOOKUP(I125,Totals!$AX$3:$AY$102,2,FALSE))","v":0},55,null,null,null,null,null,{"$f":"IF(ISNA(VLOOKUP(P125,Totals!$AX$3:$AY$102,2,FALSE)),\"\",VLOOKUP(P125,Totals!$AX$3:$AY$102,2,FALSE))","v":0},55,null,null,null,null,null,{"$f":"IF(ISNA(VLOOKUP(W125,Totals!$AX$3:$AY$102,2,FALSE)),\"\",VLOOKUP(W125,Totals!$AX$3:$AY$102,2,FALSE))","v":0},55]
[null,null,null,null,null,null,null,{"$f":"IF(ISNA(VLOOKUP(I126,Totals!$AX$3:$AY$102,2,FALSE)),\"\",VLOOKUP(I126,Totals!$AX$3:$AY$102,2,FALSE))","v":0},55,null,null,null,null,null,{"$f":"IF(ISNA(VLOOKUP(P126,Totals!$AX$3:$AY$102,2,FALSE)),\"\",VLOOKUP(P126,Totals!$AX$3:$AY$102,2,FALSE))","v":0},55,null,null,null,null,null,{"$f":"IF(ISNA(VLOOKUP(W126,Totals!$AX$3:$AY$102,2,FALSE)),\"\",VLOOKUP(W126,Totals!$AX$3:$AY$102,2,FALSE))","v":0},55]
[null,null,null,null,null,null,null,{"$f":"IF(ISNA(VLOOKUP(I127,Totals!$AX$3:$AY$102,2,FALSE)),\"\",VLOOKUP(I127,Totals!$AX$3:$AY$102,2,FALSE))","v":0},55,null,null,null,null,null,{"$f":"IF(ISNA(VLOOKUP(P127,Totals!$AX$3:$AY$102,2,FALSE)),\"\",VLOOKUP(P127,Totals!$AX$3:$AY$102,2,FALSE))","v":0},55,null,null,null,null,null,{"$f":"IF(ISNA(VLOOKUP(W127,Totals!$AX$3:$AY$102,2,FALSE)),\"\",VLOOKUP(W127,Totals!$AX$3:$AY$102,2,FALSE))","v":0},55]
[null,null,null,null,null,null,null,{"$f":"IF(ISNA(VLOOKUP(I128,Totals!$AX$3:$AY$102,2,FALSE)),\"\",VLOOKUP(I128,Totals!$AX$3:$AY$102,2,FALSE))","v":0},55,null,null,null,null,null,{"$f":"IF(ISNA(VLOOKUP(P128,Totals!$AX$3:$AY$102,2,FALSE)),\"\",VLOOKUP(P128,Totals!$AX$3:$AY$102,2,FALSE))","v":0},55,null,null,null,null,null,{"$f":"IF(ISNA(VLOOKUP(W128,Totals!$AX$3:$AY$102,2,FALSE)),\"\",VLOOKUP(W128,Totals!$AX$3:$AY$102,2,FALSE))","v":0},55]
[null,null,null,null,null,null,null,{"$f":"IF(ISNA(VLOOKUP(I129,Totals!$AX$3:$AY$102,2,FALSE)),\"\",VLOOKUP(I129,Totals!$AX$3:$AY$102,2,FALSE))","v":0},55,null,null,null,null,null,{"$f":"IF(ISNA(VLOOKUP(P129,Totals!$AX$3:$AY$102,2,FALSE)),\"\",VLOOKUP(P129,Totals!$AX$3:$AY$102,2,FALSE))","v":0},55,null,null,null,null,null,{"$f":"IF(ISNA(VLOOKUP(W129,Totals!$AX$3:$AY$102,2,FALSE)),\"\",VLOOKUP(W129,Totals!$AX$3:$AY$102,2,FALSE))","v":0},55]
[null,null,null,null,null,null,null,{"$f":"IF(ISNA(VLOOKUP(I130,Totals!$AX$3:$AY$102,2,FALSE)),\"\",VLOOKUP(I130,Totals!$AX$3:$AY$102,2,FALSE))","v":0},55,null,null,null,null,null,{"$f":"IF(ISNA(VLOOKUP(P130,Totals!$AX$3:$AY$102,2,FALSE)),\"\",VLOOKUP(P130,Totals!$AX$3:$AY$102,2,FALSE))","v":0},55,null,null,null,null,null,{"$f":"IF(ISNA(VLOOKUP(W130,Totals!$AX$3:$AY$102,2,FALSE)),\"\",VLOOKUP(W130,Totals!$AX$3:$AY$102,2,FALSE))","v":0},55]
[null,null,null,null,null,null,null,{"$f":"IF(ISNA(VLOOKUP(I131,Totals!$AX$3:$AY$102,2,FALSE)),\"\",VLOOKUP(I131,Totals!$AX$3:$AY$102,2,FALSE))","v":0},55,null,null,null,null,null,{"$f":"IF(ISNA(VLOOKUP(P131,Totals!$AX$3:$AY$102,2,FALSE)),\"\",VLOOKUP(P131,Totals!$AX$3:$AY$102,2,FALSE))","v":0},55,null,null,null,null,null,{"$f":"IF(ISNA(VLOOKUP(W131,Totals!$AX$3:$AY$102,2,FALSE)),\"\",VLOOKUP(W131,Totals!$AX$3:$AY$102,2,FALSE))","v":0},55]
[null,null,null,null,null,null,null,{"$f":"IF(ISNA(VLOOKUP(I132,Totals!$AX$3:$AY$102,2,FALSE)),\"\",VLOOKUP(I132,Totals!$AX$3:$AY$102,2,FALSE))","v":0},55,null,null,null,null,null,{"$f":"IF(ISNA(VLOOKUP(P132,Totals!$AX$3:$AY$102,2,FALSE)),\"\",VLOOKUP(P132,Totals!$AX$3:$AY$102,2,FALSE))","v":0},55,null,null,null,null,null,{"$f":"IF(ISNA(VLOOKUP(W132,Totals!$AX$3:$AY$102,2,FALSE)),\"\",VLOOKUP(W132,Totals!$AX$3:$AY$102,2,FALSE))","v":0},55]
[null,null,null,null,null,null,null,{"$f":"IF(ISNA(VLOOKUP(I133,Totals!$AX$3:$AY$102,2,FALSE)),\"\",VLOOKUP(I133,Totals!$AX$3:$AY$102,2,FALSE))","v":0},55,null,null,null,null,null,{"$f":"IF(ISNA(VLOOKUP(P133,Totals!$AX$3:$AY$102,2,FALSE)),\"\",VLOOKUP(P133,Totals!$AX$3:$AY$102,2,FALSE))","v":0},55,null,null,null,null,null,{"$f":"IF(ISNA(VLOOKUP(W133,Totals!$AX$3:$AY$102,2,FALSE)),\"\",VLOOKUP(W133,Totals!$AX$3:$AY$102,2,FALSE))","v":0},55]
[null,null,null,null,null,null,null,{"$f":"IF(ISNA(VLOOKUP(I134,Totals!$AX$3:$AY$102,2,FALSE)),\"\",VLOOKUP(I134,Totals!$AX$3:$AY$102,2,FALSE))","v":0},55,null,null,null,null,null,{"$f":"IF(ISNA(VLOOKUP(P134,Totals!$AX$3:$AY$102,2,FALSE)),\"\",VLOOKUP(P134,Totals!$AX$3:$AY$102,2,FALSE))","v":0},{"$f":"IF(ISNA(RANK(N134,N$5:N$150)),\"\",RANK(N134,N$5:N$150))","v":55},null,null,null,null,null,{"$f":"IF(ISNA(VLOOKUP(W134,Totals!$AX$3:$AY$102,2,FALSE)),\"\",VLOOKUP(W134,Totals!$AX$3:$AY$102,2,FALSE))","v":0},{"$f":"IF(ISNA(RANK(U134,U$5:U$150)),\"\",RANK(U134,U$5:U$150))","v":55}]
[null,null,null,null,null,null,null,{"$f":"IF(ISNA(VLOOKUP(I135,Totals!$AX$3:$AY$102,2,FALSE)),\"\",VLOOKUP(I135,Totals!$AX$3:$AY$102,2,FALSE))","v":0},{"$f":"IF(G135=G134,I134,IF(ISNA(RANK(G135,G$5:G$150)),\"\",RANK(G135,G$5:G$150)))","v":55},null,null,null,null,null,{"$f":"IF(ISNA(VLOOKUP(P135,Totals!$AX$3:$AY$102,2,FALSE)),\"\",VLOOKUP(P135,Totals!$AX$3:$AY$102,2,FALSE))","v":0},55,null,null,null,null,null,{"$f":"IF(ISNA(VLOOKUP(W135,Totals!$AX$3:$AY$102,2,FALSE)),\"\",VLOOKUP(W135,Totals!$AX$3:$AY$102,2,FALSE))","v":0},55]
[null,null,null,null,null,null,null,{"$f":"IF(ISNA(VLOOKUP(I136,Totals!$AX$3:$AY$102,2,FALSE)),\"\",VLOOKUP(I136,Totals!$AX$3:$AY$102,2,FALSE))","v":0},55,null,null,null,null,null,{"$f":"IF(ISNA(VLOOKUP(P136,Totals!$AX$3:$AY$102,2,FALSE)),\"\",VLOOKUP(P136,Totals!$AX$3:$AY$102,2,FALSE))","v":0},55,null,null,null,null,null,{"$f":"IF(ISNA(VLOOKUP(W136,Totals!$AX$3:$AY$102,2,FALSE)),\"\",VLOOKUP(W136,Totals!$AX$3:$AY$102,2,FALSE))","v":0},55]
[null,null,null,null,null,null,null,{"$f":"IF(ISNA(VLOOKUP(I137,Totals!$AX$3:$AY$102,2,FALSE)),\"\",VLOOKUP(I137,Totals!$AX$3:$AY$102,2,FALSE))","v":0},55,null,null,null,null,null,{"$f":"IF(ISNA(VLOOKUP(P137,Totals!$AX$3:$AY$102,2,FALSE)),\"\",VLOOKUP(P137,Totals!$AX$3:$AY$102,2,FALSE))","v":0},55,null,null,null,null,null,{"$f":"IF(ISNA(VLOOKUP(W137,Totals!$AX$3:$AY$102,2,FALSE)),\"\",VLOOKUP(W137,Totals!$AX$3:$AY$102,2,FALSE))","v":0},55]
[null,null,null,null,null,null,null,{"$f":"IF(ISNA(VLOOKUP(I138,Totals!$AX$3:$AY$102,2,FALSE)),\"\",VLOOKUP(I138,Totals!$AX$3:$AY$102,2,FALSE))","v":0},55,null,null,null,null,null,{"$f":"IF(ISNA(VLOOKUP(P138,Totals!$AX$3:$AY$102,2,FALSE)),\"\",VLOOKUP(P138,Totals!$AX$3:$AY$102,2,FALSE))","v":0},55,null,null,null,null,null,{"$f":"IF(ISNA(VLOOKUP(W138,Totals!$AX$3:$AY$102,2,FALSE)),\"\",VLOOKUP(W138,Totals!$AX$3:$AY$102,2,FALSE))","v":0},55]
[null,null,null,null,null,null,null,{"$f":"IF(ISNA(VLOOKUP(I139,Totals!$AX$3:$AY$102,2,FALSE)),\"\",VLOOKUP(I139,Totals!$AX$3:$AY$102,2,FALSE))","v":0},55,null,null,null,null,null,{"$f":"IF(ISNA(VLOOKUP(P139,Totals!$AX$3:$AY$102,2,FALSE)),\"\",VLOOKUP(P139,Totals!$AX$3:$AY$102,2,FALSE))","v":0},55,null,null,null,null,null,{"$f":"IF(ISNA(VLOOKUP(W139,Totals!$AX$3:$AY$102,2,FALSE)),\"\",VLOOKUP(W139,Totals!$AX$3:$AY$102,2,FALSE))","v":0},55]
[null,null,null,null,null,null,null,{"$f":"IF(ISNA(VLOOKUP(I140,Totals!$AX$3:$AY$102,2,FALSE)),\"\",VLOOKUP(I140,Totals!$AX$3:$AY$102,2,FALSE))","v":0},55,null,null,null,null,null,{"$f":"IF(ISNA(VLOOKUP(P140,Totals!$AX$3:$AY$102,2,FALSE)),\"\",VLOOKUP(P140,Totals!$AX$3:$AY$102,2,FALSE))","v":0},55,null,null,null,null,null,{"$f":"IF(ISNA(VLOOKUP(W140,Totals!$AX$3:$AY$102,2,FALSE)),\"\",VLOOKUP(W140,Totals!$AX$3:$AY$102,2,FALSE))","v":0},55]
[null,null,null,null,null,null,null,{"$f":"IF(ISNA(VLOOKUP(I141,Totals!$AX$3:$AY$102,2,FALSE)),\"\",VLOOKUP(I141,Totals!$AX$3:$AY$102,2,FALSE))","v":0},55,null,null,null,null,null,{"$f":"IF(ISNA(VLOOKUP(P141,Totals!$AX$3:$AY$102,2,FALSE)),\"\",VLOOKUP(P141,Totals!$AX$3:$AY$102,2,FALSE))","v":0},55,null,null,null,null,null,{"$f":"IF(ISNA(VLOOKUP(W141,Totals!$AX$3:$AY$102,2,FALSE)),\"\",VLOOKUP(W141,Totals!$AX$3:$AY$102,2,FALSE))","v":0},55]
[null,null,null,null,null,null,null,{"$f":"IF(ISNA(VLOOKUP(I142,Totals!$AX$3:$AY$102,2,FALSE)),\"\",VLOOKUP(I142,Totals!$AX$3:$AY$102,2,FALSE))","v":0},55,null,null,null,null,null,{"$f":"IF(ISNA(VLOOKUP(P142,Totals!$AX$3:$AY$102,2,FALSE)),\"\",VLOOKUP(P142,Totals!$AX$3:$AY$102,2,FALSE))","v":0},55,null,null,null,null,null,{"$f":"IF(ISNA(VLOOKUP(W142,Totals!$AX$3:$AY$102,2,FALSE)),\"\",VLOOKUP(W142,Totals!$AX$3:$AY$102,2,FALSE))","v":0},55]
[null,null,null,null,null,null,null,{"$f":"IF(ISNA(VLOOKUP(I143,Totals!$AX$3:$AY$102,2,FALSE)),\"\",VLOOKUP(I143,Totals!$AX$3:$AY$102,2,FALSE))","v":0},55,null,null,null,null,null,{"$f":"IF(ISNA(VLOOKUP(P143,Totals!$AX$3:$AY$102,2,FALSE)),\"\",VLOOKUP(P143,Totals!$AX$3:$AY$102,2,FALSE))","v":0},55,null,null,null,null,null,{"$f":"IF(ISNA(VLOOKUP(W143,Totals!$AX$3:$AY$102,2,FALSE)),\"\",VLOOKUP(W143,Totals!$AX$3:$AY$102,2,FALSE))","v":0},55]
[null,null,null,null,null,null,null,{"$f":"IF(ISNA(VLOOKUP(I144,Totals!$AX$3:$AY$102,2,FALSE)),\"\",VLOOKUP(I144,Totals!$AX$3:$AY$102,2,FALSE))","v":0},55,null,null,null,null,null,{"$f":"IF(ISNA(VLOOKUP(P144,Totals!$AX$3:$AY$102,2,FALSE)),\"\",VLOOKUP(P144,Totals!$AX$3:$AY$102,2,FALSE))","v":0},55,null,null,null,null,null,{"$f":"IF(ISNA(VLOOKUP(W144,Totals!$AX$3:$AY$102,2,FALSE)),\"\",VLOOKUP(W144,Totals!$AX$3:$AY$102,2,FALSE))","v":0},55]
[null,null,null,null,null,null,null,{"$f":"IF(ISNA(VLOOKUP(I145,Totals!$AX$3:$AY$102,2,FALSE)),\"\",VLOOKUP(I145,Totals!$AX$3:$AY$102,2,FALSE))","v":0},55,null,null,null,null,null,{"$f":"IF(ISNA(VLOOKUP(P145,Totals!$AX$3:$AY$102,2,FALSE)),\"\",VLOOKUP(P145,Totals!$AX$3:$AY$102,2,FALSE))","v":0},55,null,null,null,null,null,{"$f":"IF(ISNA(VLOOKUP(W145,Totals!$AX$3:$AY$102,2,FALSE)),\"\",VLOOKUP(W145,Totals!$AX$3:$AY$102,2,FALSE))","v":0},55]
[null,null,null,null,null,null,null,{"$f":"IF(ISNA(VLOOKUP(I146,Totals!$AX$3:$AY$102,2,FALSE)),\"\",VLOOKUP(I146,Totals!$AX$3:$AY$102,2,FALSE))","v":0},55,null,null,null,null,null,{"$f":"IF(ISNA(VLOOKUP(P146,Totals!$AX$3:$AY$102,2,FALSE)),\"\",VLOOKUP(P146,Totals!$AX$3:$AY$102,2,FALSE))","v":0},55,null,null,null,null,null,{"$f":"IF(ISNA(VLOOKUP(W146,Totals!$AX$3:$AY$102,2,FALSE)),\"\",VLOOKUP(W146,Totals!$AX$3:$AY$102,2,FALSE))","v":0},55]
[null,null,null,null,null,null,null,{"$f":"IF(ISNA(VLOOKUP(I147,Totals!$AX$3:$AY$102,2,FALSE)),\"\",VLOOKUP(I147,Totals!$AX$3:$AY$102,2,FALSE))","v":0},55,null,null,null,null,null,{"$f":"IF(ISNA(VLOOKUP(P147,Totals!$AX$3:$AY$102,2,FALSE)),\"\",VLOOKUP(P147,Totals!$AX$3:$AY$102,2,FALSE))","v":0},55,null,null,null,null,null,{"$f":"IF(ISNA(VLOOKUP(W147,Totals!$AX$3:$AY$102,2,FALSE)),\"\",VLOOKUP(W147,Totals!$AX$3:$AY$102,2,FALSE))","v":0},55]
[null,null,null,null,null,null,null,{"$f":"IF(ISNA(VLOOKUP(I148,Totals!$AX$3:$AY$102,2,FALSE)),\"\",VLOOKUP(I148,Totals!$AX$3:$AY$102,2,FALSE))","v":0},55,null,null,null,null,null,{"$f":"IF(ISNA(VLOOKUP(P148,Totals!$AX$3:$AY$102,2,FALSE)),\"\",VLOOKUP(P148,Totals!$AX$3:$AY$102,2,FALSE))","v":0},55,null,null,null,null,null,{"$f":"IF(ISNA(VLOOKUP(W148,Totals!$AX$3:$AY$102,2,FALSE)),\"\",VLOOKUP(W148,Totals!$AX$3:$AY$102,2,FALSE))","v":0},55]
[null,null,null,null,null,null,null,{"$f":"IF(ISNA(VLOOKUP(I149,Totals!$AX$3:$AY$102,2,FALSE)),\"\",VLOOKUP(I149,Totals!$AX$3:$AY$102,2,FALSE))","v":0},55,null,null,null,null,null,{"$f":"IF(ISNA(VLOOKUP(P149,Totals!$AX$3:$AY$102,2,FALSE)),\"\",VLOOKUP(P149,Totals!$AX$3:$AY$102,2,FALSE))","v":0},55,null,null,null,null,null,{"$f":"IF(ISNA(VLOOKUP(W149,Totals!$AX$3:$AY$102,2,FALSE)),\"\",VLOOKUP(W149,Totals!$AX$3:$AY$102,2,FALSE))","v":0},55]
[null,null,null,null,null,null,null,{"$f":"IF(ISNA(VLOOKUP(I150,Totals!$AX$3:$AY$102,2,FALSE)),\"\",VLOOKUP(I150,Totals!$AX$3:$AY$102,2,FALSE))","v":0},55,null,null,null,null,null,{"$f":"IF(ISNA(VLOOKUP(P150,Totals!$AX$3:$AY$102,2,FALSE)),\"\",VLOOKUP(P150,Totals!$AX$3:$AY$102,2,FALSE))","v":0},55,null,null,null,null,null,{"$f":"IF(ISNA(VLOOKUP(W150,Totals!$AX$3:$AY$102,2,FALSE)),\"\",VLOOKUP(W150,Totals!$AX$3:$AY$102,2,FALSE))","v":0},55]