{"text_format":"1","workbook":"xlsx","n_sheets":10,"sheets":["Student Entry","Fig 1 Ballet Leg","Fig 2 Barracuda","Fig 3 Neptunus","Fig 4 Walkover","Totals","Draw","Schools","Official Draw","Meet Results"],"not_rendered":{"charts":0,"images":1,"macros":1,"external_links":0,"defined_names":4,"comments":0,"pivot_tables":1},"unopened":[],"bounds":{"document_bytes":16777216,"sheet_cells":100000,"rows_first":2000,"rows_last":500,"rows_between":2000,"halvings":0,"cell_chars":16384,"cell_head_chars":4096},"cells_cut":0,"cells_raw":0,"read":"whole","date_system":"1900"}

{"sheet":"Student Entry","index":0,"n_rows":22,"n_cols":3,"rows_kept":22,"cut":false,"hidden":false,"merged":[[0,0,0,2]]}
["Student Entry"]
["School # 1 Name:","School # 2 Name:","School # 3 Name:"]
["Columbia Heights","Osseo-Maple Grove"]
["Student Names:","Student Names:","Student Names:"]
["Samantha Alexon","Emily Barr"]
["Lily Dickson","Heather Breidenbach"]
["Issy Rardin","Holly Drazenovich"]
["Hannah Thalhuber","Anna Ganser"]
["Shakila Hoke","Danielle Hawes"]
["Ava Rosengren","Elisabeth Heitzig"]
[null,"Caroline LaBord"]
[null,"Hannah Littel"]
[null,"Gabriela Marick"]
[null,"Elizabeth McBride"]
[null,"Kelly McNamee"]
[null,"Katelyn Moline"]
[null,"Katherine Olsen"]
[null,"Jessica Ruohoniemi"]
[null,"Abigail Tollas"]
[null,"Alexadra Trudeau"]
[null,"Marie Vanderwarn"]
[null,"Elena Vrba"]

{"sheet":"Fig 1 Ballet Leg","index":1,"n_rows":150,"n_cols":11,"rows_kept":150,"cut":false,"hidden":false,"merged":[]}
[null,"Figure #1:","101 R/L Ballet Leg, single, *right or *left"]
["#","Degree of Difficulty","Judge 1","Judge 2","Judge 3","Judge 4","Judge 5","Score","Penalty"]
[{"$f":"IF(Draw!E2=0,\"\",Draw!E2)","v":1},1.6,61,62,61,null,null,{"$f":"IF(B3=\"\",\"\",IF(K3=5,(SUM(C3:G3)-MAX(C3:G3)-MIN(C3:G3))/3,IF(K3=4,(SUM(C3:G3)-MAX(C3:G3))/3,SUM(C3:G3)/3))*B3/7.6)","v":12.912280701754387},null,null,{"$f":"COUNT(C3:G3)","v":3}]
[{"$f":"IF(Draw!E3=0,\"\",Draw!E3)","v":2},{"$f":"IF(A4=\"\",\"\",B$3)","v":1.6},56,60,58,null,null,{"$f":"IF(B4=\"\",\"\",IF(K4=5,(SUM(C4:G4)-MAX(C4:G4)-MIN(C4:G4))/3,IF(K4=4,(SUM(C4:G4)-MAX(C4:G4))/3,SUM(C4:G4)/3))*B4/7.6)","v":12.210526315789476},null,null,{"$f":"COUNT(C4:G4)","v":3}]
[{"$f":"IF(Draw!E4=0,\"\",Draw!E4)","v":3},1.6,null,null,null,null,null,0,null,null,0]
[{"$f":"IF(Draw!E5=0,\"\",Draw!E5)","v":4},{"$f":"IF(A6=\"\",\"\",B$3)","v":1.6},57,57,58,null,null,{"$f":"IF(B6=\"\",\"\",IF(K6=5,(SUM(C6:G6)-MAX(C6:G6)-MIN(C6:G6))/3,IF(K6=4,(SUM(C6:G6)-MAX(C6:G6))/3,SUM(C6:G6)/3))*B6/7.6)","v":12.070175438596493},null,null,3]
[{"$f":"IF(Draw!E6=0,\"\",Draw!E6)","v":5},1.6,50,52,52,null,null,10.807017543859651,null,null,3]
[{"$f":"IF(Draw!E7=0,\"\",Draw!E7)","v":6},1.6,51,50,54,null,null,10.877192982456142,null,null,3]
[{"$f":"IF(Draw!E8=0,\"\",Draw!E8)","v":7},1.6,null,null,null,null,null,0,null,null,0]
[{"$f":"IF(Draw!E9=0,\"\",Draw!E9)","v":8},1.6,62,63,65,null,null,13.333333333333336,null,null,3]
[{"$f":"IF(Draw!E10=0,\"\",Draw!E10)","v":9},1.6,46,49,50,null,null,10.17543859649123,null,null,3]
[{"$f":"IF(Draw!E11=0,\"\",Draw!E11)","v":10},1.6,54,56,57,null,null,11.719298245614036,null,null,3]
[{"$f":"IF(Draw!E12=0,\"\",Draw!E12)","v":11},1.6,49,49,46,null,null,10.105263157894738,null,null,3]
[{"$f":"IF(Draw!E13=0,\"\",Draw!E13)","v":12},1.6,50,51,49,null,null,10.526315789473685,null,null,3]
[{"$f":"IF(Draw!E14=0,\"\",Draw!E14)","v":13},1.6,57,59,60,null,null,12.350877192982457,null,null,3]
[{"$f":"IF(Draw!E15=0,\"\",Draw!E15)","v":14},1.6,47,53,46,null,null,10.245614035087721,null,null,3]
[{"$f":"IF(Draw!E16=0,\"\",Draw!E16)","v":15},1.6,56,58,58,null,null,12.070175438596493,null,null,3]
[{"$f":"IF(Draw!E17=0,\"\",Draw!E17)","v":16},1.6,59,60,59,null,null,12.49122807017544,null,null,3]
[{"$f":"IF(Draw!E18=0,\"\",Draw!E18)","v":17},1.6,55,57,56,null,null,11.789473684210527,null,null,3]
[{"$f":"IF(Draw!E19=0,\"\",Draw!E19)","v":18},1.6,49,49,49,null,null,10.315789473684212,null,null,3]
[{"$f":"IF(Draw!E20=0,\"\",Draw!E20)","v":19},1.6,null,null,null,null,null,0,null,null,0]
[{"$f":"IF(Draw!E21=0,\"\",Draw!E21)","v":20},1.6,null,null,null,null,null,0,null,null,0]
[{"$f":"IF(Draw!E22=0,\"\",Draw!E22)","v":21},1.6,47,48,47,null,null,9.9649122807017552,null,null,3]
[{"$f":"IF(Draw!E23=0,\"\",Draw!E23)","v":22},1.6,61,61,62,null,null,12.912280701754387,null,null,3]
[{"$f":"IF(Draw!E24=0,\"\",Draw!E24)","v":23},1.6,50,50,43,null,null,10.035087719298247,null,null,3]
[{"$f":"IF(Draw!E25=0,\"\",Draw!E25)","v":24},1.6,55,58,56,null,null,11.859649122807019,null,null,3]
[{"$f":"IF(Draw!E26=0,\"\",Draw!E26)","v":""},"",null,null,null,null,null,"",null,null,0]
[{"$f":"IF(Draw!E27=0,\"\",Draw!E27)","v":""},"",null,null,null,null,null,"",null,null,0]
[{"$f":"IF(Draw!E28=0,\"\",Draw!E28)","v":""},"",null,null,null,null,null,"",null,null,0]
[{"$f":"IF(Draw!E29=0,\"\",Draw!E29)","v":""},"",null,null,214,null,null,"",null,null,1]
[16,1.6,null,null,220,null,null,15.43859649122807,null,null,1]
[{"$f":"IF(Draw!E31=0,\"\",Draw!E31)","v":""},"",null,null,226,null,null,"",null,null,1]
[17,1.6,null,null,232,null,null,16.280701754385966,null,null,1]
[{"$f":"IF(Draw!E33=0,\"\",Draw!E33)","v":""},"",null,237,238,null,null,"",null,null,2]
[18,1.6,null,243,244,null,null,34.175438596491233,null,null,2]
[{"$f":"IF(Draw!E35=0,\"\",Draw!E35)","v":""},"",null,249,250,null,null,"",null,null,2]
[19,1.6,null,255,256,null,null,35.859649122807021,null,null,2]
[{"$f":"IF(Draw!E37=0,\"\",Draw!E37)","v":""},"",null,261,262,null,null,"",null,null,2]
[20,1.6,null,267,268,null,null,37.543859649122815,null,null,2]
[{"$f":"IF(Draw!E39=0,\"\",Draw!E39)","v":""},"",null,273,274,null,null,"",null,null,2]
[21,1.6,null,279,280,null,null,39.228070175438603,null,null,2]
[{"$f":"IF(Draw!E41=0,\"\",Draw!E41)","v":""},"",null,285,286,null,null,"",null,null,2]
[22,1.6,null,291,292,null,null,40.912280701754398,null,null,2]
[{"$f":"IF(Draw!E43=0,\"\",Draw!E43)","v":""},"",null,297,298,null,null,"",null,null,2]
[23,1.6,null,303,304,null,null,42.596491228070178,null,null,2]
[{"$f":"IF(Draw!E45=0,\"\",Draw!E45)","v":""},"",null,309,310,null,null,"",null,null,2]
[24,1.6,null,315,316,null,null,44.280701754385973,null,null,2]
[{"$f":"IF(Draw!E47=0,\"\",Draw!E47)","v":""},"",null,321,322,null,null,"",null,null,2]
[25,1.6,null,327,328,null,null,45.96491228070176,null,null,2]
[{"$f":"IF(Draw!E49=0,\"\",Draw!E49)","v":""},"",null,333,334,null,null,"",null,null,2]
[26,1.6,null,339,340,null,null,47.649122807017555,null,null,2]
[{"$f":"IF(Draw!E51=0,\"\",Draw!E51)","v":""},"",null,345,346,null,null,"",null,null,2]
[27,1.6,null,351,352,null,null,49.333333333333343,null,null,2]
[{"$f":"IF(Draw!E53=0,\"\",Draw!E53)","v":""},"",null,357,358,null,null,"",null,null,2]
[28,1.6,null,363,364,null,null,51.01754385964913,null,null,2]
[{"$f":"IF(Draw!E55=0,\"\",Draw!E55)","v":""},"",null,369,370,null,null,"",null,null,2]
[29,1.6,null,375,376,null,null,52.701754385964918,null,null,2]
[{"$f":"IF(Draw!E57=0,\"\",Draw!E57)","v":""},"",null,381,382,null,null,"",null,null,2]
[30,1.6,null,387,388,null,null,54.385964912280699,null,null,2]
[{"$f":"IF(Draw!E59=0,\"\",Draw!E59)","v":""},"",null,393,394,null,null,"",null,null,2]
[31,1.6,null,399,400,null,null,56.070175438596493,null,null,2]
[{"$f":"IF(Draw!E61=0,\"\",Draw!E61)","v":""},"",null,405,406,null,null,"",null,null,2]
[32,1.6,null,411,412,null,null,57.754385964912281,null,null,2]
[{"$f":"IF(Draw!E63=0,\"\",Draw!E63)","v":""},"",null,417,418,null,null,"",null,null,2]
[33,1.6,null,423,424,null,null,59.438596491228076,null,null,2]
[{"$f":"IF(Draw!E65=0,\"\",Draw!E65)","v":""},"",null,429,430,null,null,"",null,null,2]
[34,1.6,null,435,436,null,null,61.122807017543856,null,null,2]
[{"$f":"IF(Draw!E67=0,\"\",Draw!E67)","v":""},"",null,441,442,null,null,"",null,null,{"$f":"COUNT(C68:G68)","v":2}]
[35,1.6,null,447,448,null,null,62.807017543859651,null,null,2]
[{"$f":"IF(Draw!E69=0,\"\",Draw!E69)","v":""},{"$f":"IF(A70=\"\",\"\",B$3)","v":""},null,453,454,null,null,{"$f":"IF(B70=\"\",\"\",IF(K70=5,(SUM(C70:G70)-MAX(C70:G70)-MIN(C70:G70))/3,IF(K70=4,(SUM(C70:G70)-MAX(C70:G70))/3,SUM(C70:G70)/3))*B70/7.6)","v":""},null,null,2]
[36,1.6,null,459,460,null,null,64.491228070175438,null,null,2]
[{"$f":"IF(Draw!E71=0,\"\",Draw!E71)","v":""},"",null,465,466,null,null,"",null,null,2]
[37,1.6,null,471,472,null,null,66.175438596491233,null,null,2]
[{"$f":"IF(Draw!E73=0,\"\",Draw!E73)","v":""},"",null,477,478,null,null,"",null,null,2]
[38,1.6,341,483,484,null,null,91.789473684210535,null,null,3]
[{"$f":"IF(Draw!E75=0,\"\",Draw!E75)","v":""},"",345,489,490,null,null,"",null,null,3]
[39,1.6,349,495,496,null,null,94.035087719298261,null,null,3]
[{"$f":"IF(Draw!E77=0,\"\",Draw!E77)","v":""},"",353,501,502,null,null,"",null,null,3]
[40,1.6,357,507,508,null,null,96.280701754385973,null,null,3]
[{"$f":"IF(Draw!E79=0,\"\",Draw!E79)","v":""},"",361,513,514,null,null,"",null,null,3]
[41,1.6,365,519,520,null,null,98.526315789473699,null,null,3]
[{"$f":"IF(Draw!E81=0,\"\",Draw!E81)","v":""},"",369,525,526,null,null,"",null,null,3]
[42,1.6,373,531,532,null,null,100.77192982456143,null,null,3]
[{"$f":"IF(Draw!E83=0,\"\",Draw!E83)","v":""},"",377,537,538,null,null,"",null,null,3]
[43,1.6,381,543,544,null,null,103.01754385964914,null,null,3]
[{"$f":"IF(Draw!E85=0,\"\",Draw!E85)","v":""},"",385,549,550,null,null,"",null,null,3]
[44,1.6,389,555,556,null,null,105.26315789473685,null,null,3]
[{"$f":"IF(Draw!E87=0,\"\",Draw!E87)","v":""},"",393,561,562,null,null,"",null,null,3]
[45,1.6,397,567,568,null,null,107.50877192982458,null,null,3]
[{"$f":"IF(Draw!E89=0,\"\",Draw!E89)","v":""},"",401,573,574,null,null,"",null,null,3]
[46,1.6,405,579,580,null,null,109.7543859649123,null,null,3]
[{"$f":"IF(Draw!E91=0,\"\",Draw!E91)","v":""},"",409,585,586,null,null,"",null,null,3]
[47,1.6,413,591,592,null,null,112.00000000000001,null,null,3]
[{"$f":"IF(Draw!E93=0,\"\",Draw!E93)","v":""},"",417,597,598,null,null,"",null,null,3]
[48,1.6,421,603,604,null,null,114.24561403508773,null,null,3]
[{"$f":"IF(Draw!E95=0,\"\",Draw!E95)","v":""},"",425,609,610,null,null,"",null,null,3]
[49,1.6,429,615,616,null,null,116.49122807017547,null,null,3]
[{"$f":"IF(Draw!E97=0,\"\",Draw!E97)","v":""},"",433,621,622,null,null,"",null,null,3]
[50,1.6,437,627,628,null,null,118.73684210526318,null,null,3]
[{"$f":"IF(Draw!E99=0,\"\",Draw!E99)","v":""},"",441,633,634,null,null,"",null,null,3]
[51,1.6,445,639,640,null,null,120.98245614035089,null,null,3]
[{"$f":"IF(Draw!E101=0,\"\",Draw!E101)","v":""},"",449,645,646,null,null,"",null,null,3]
[52,1.6,453,651,652,null,null,123.22807017543862,null,null,3]
[{"$f":"IF(Draw!E103=0,\"\",Draw!E103)","v":""},"",457,657,658,null,null,"",null,null,3]
[53,1.6,461,663,664,null,null,125.47368421052633,null,null,3]
[{"$f":"IF(Draw!E105=0,\"\",Draw!E105)","v":""},"",465,669,670,null,null,"",null,null,3]
[54,1.6,469,675,676,null,null,127.71929824561404,null,null,3]
[{"$f":"IF(Draw!E107=0,\"\",Draw!E107)","v":""},"",473,681,682,null,null,"",null,null,3]
[55,1.6,477,687,688,null,null,129.96491228070178,null,null,3]
[{"$f":"IF(Draw!E109=0,\"\",Draw!E109)","v":""},"",481,693,694,null,null,"",null,null,3]
[56,1.6,485,699,700,null,null,132.21052631578948,null,null,3]
[{"$f":"IF(Draw!E111=0,\"\",Draw!E111)","v":""},"",489,705,706,null,null,"",null,null,3]
[57,1.6,493,711,712,null,null,134.45614035087721,null,null,3]
[{"$f":"IF(Draw!E113=0,\"\",Draw!E113)","v":""},"",497,717,718,null,null,"",null,null,3]
[58,1.6,501,723,724,null,null,136.70175438596493,null,null,3]
[{"$f":"IF(Draw!E115=0,\"\",Draw!E115)","v":""},"",505,729,730,null,null,"",null,null,3]
[59,1.6,509,735,736,null,null,138.94736842105263,null,null,3]
[{"$f":"IF(Draw!E117=0,\"\",Draw!E117)","v":""},"",513,741,742,null,null,"",null,null,3]
[60,1.6,517,747,748,null,null,141.19298245614036,null,null,3]
[{"$f":"IF(Draw!E119=0,\"\",Draw!E119)","v":""},"",521,753,754,null,null,"",null,null,3]
[61,1.6,525,759,760,null,null,143.43859649122808,null,null,3]
[{"$f":"IF(Draw!E121=0,\"\",Draw!E121)","v":""},"",529,765,766,null,null,"",null,null,3]
[62,1.6,533,771,772,null,null,145.68421052631581,null,null,3]
[{"$f":"IF(Draw!E123=0,\"\",Draw!E123)","v":""},"",537,777,778,null,null,"",null,null,3]
[63,1.6,541,783,784,null,null,147.92982456140351,null,null,3]
[{"$f":"IF(Draw!E125=0,\"\",Draw!E125)","v":""},"",545,789,790,null,null,"",null,null,3]
[64,1.6,549,795,796,null,null,150.17543859649126,null,null,3]
[{"$f":"IF(Draw!E127=0,\"\",Draw!E127)","v":""},"",553,801,802,null,null,"",null,null,3]
[65,1.6,557,807,808,null,null,152.42105263157896,null,null,3]
[{"$f":"IF(Draw!E129=0,\"\",Draw!E129)","v":""},"",561,813,814,null,null,"",null,null,3]
[66,1.6,565,819,820,null,null,154.66666666666669,null,null,3]
[{"$f":"IF(Draw!E131=0,\"\",Draw!E131)","v":""},"",569,825,826,null,null,"",null,null,{"$f":"COUNT(C132:G132)","v":3}]
[67,1.6,573,831,832,null,null,156.91228070175441,null,null,3]
[{"$f":"IF(Draw!E133=0,\"\",Draw!E133)","v":""},{"$f":"IF(A134=\"\",\"\",B$3)","v":""},577,837,838,null,null,{"$f":"IF(B134=\"\",\"\",IF(K134=5,(SUM(C134:G134)-MAX(C134:G134)-MIN(C134:G134))/3,IF(K134=4,(SUM(C134:G134)-MAX(C134:G134))/3,SUM(C134:G134)/3))*B134/7.6)","v":""},null,null,3]
[68,1.6,581,843,844,null,null,159.15789473684214,null,null,3]
[{"$f":"IF(Draw!E135=0,\"\",Draw!E135)","v":""},"",585,849,850,null,null,"",null,null,3]
[69,1.6,589,855,856,null,null,161.40350877192984,null,null,3]
[{"$f":"IF(Draw!E137=0,\"\",Draw!E137)","v":""},"",593,861,862,null,null,"",null,null,3]
[70,1.6,597,867,868,null,null,163.64912280701759,null,null,3]
[{"$f":"IF(Draw!E139=0,\"\",Draw!E139)","v":""},"",601,873,874,null,null,"",null,null,3]
[71,1.6,605,879,880,null,null,165.89473684210529,null,null,3]
[{"$f":"IF(Draw!E141=0,\"\",Draw!E141)","v":""},"",609,885,886,null,null,"",null,null,3]
[72,1.6,613,891,892,null,null,168.14035087719301,null,null,3]
[{"$f":"IF(Draw!E143=0,\"\",Draw!E143)","v":""},"",617,897,898,null,null,"",null,null,3]
[73,1.6,621,903,904,null,null,170.38596491228071,null,null,3]
[{"$f":"IF(Draw!E145=0,\"\",Draw!E145)","v":""},"",625,909,910,null,null,"",null,null,3]
[74,1.6,629,915,916,null,null,172.63157894736844,null,null,3]
[{"$f":"IF(Draw!E147=0,\"\",Draw!E147)","v":""},"",633,921,922,null,null,"",null,null,3]
[75,1.6,637,927,928,null,null,174.87719298245614,null,null,3]
[{"$f":"IF(Draw!E149=0,\"\",Draw!E149)","v":""},"",641,933,934,null,null,"",null,null,3]

{"sheet":"Fig 2 Barracuda","index":2,"n_rows":150,"n_cols":11,"rows_kept":150,"cut":false,"hidden":false,"merged":[[0,2,0,6]]}
[null,"Figure #2:"," 301 Barracuda"]
["#","Degree of Difficulty","Judge 1","Judge 2","Judge 3","Judge 4","Judge 5","Score","Penalty"]
[{"$f":"IF(Draw!E2=0,\"\",Draw!E2)","v":1},2,58,60,59,null,null,{"$f":"IF(B3=\"\",\"\",IF(K3=5,(SUM(C3:G3)-MAX(C3:G3)-MIN(C3:G3))/3,IF(K3=4,(SUM(C3:G3)-MAX(C3:G3))/3,SUM(C3:G3)/3))*B3/7.6)","v":15.526315789473685},null,null,{"$f":"COUNT(C3:G3)","v":3}]
[{"$f":"IF(Draw!E3=0,\"\",Draw!E3)","v":2},{"$f":"IF(A4=\"\",\"\",B$3)","v":2},56,55,55,null,null,{"$f":"IF(B4=\"\",\"\",IF(K4=5,(SUM(C4:G4)-MAX(C4:G4)-MIN(C4:G4))/3,IF(K4=4,(SUM(C4:G4)-MAX(C4:G4))/3,SUM(C4:G4)/3))*B4/7.6)","v":14.561403508771932},null,null,{"$f":"COUNT(C4:G4)","v":3}]
[{"$f":"IF(Draw!E4=0,\"\",Draw!E4)","v":3},2,null,null,null,null,null,0,null,null,0]
[{"$f":"IF(Draw!E5=0,\"\",Draw!E5)","v":4},{"$f":"IF(A6=\"\",\"\",B$3)","v":2},52,52,54,null,null,{"$f":"IF(B6=\"\",\"\",IF(K6=5,(SUM(C6:G6)-MAX(C6:G6)-MIN(C6:G6))/3,IF(K6=4,(SUM(C6:G6)-MAX(C6:G6))/3,SUM(C6:G6)/3))*B6/7.6)","v":13.859649122807017},null,null,3]
[{"$f":"IF(Draw!E6=0,\"\",Draw!E6)","v":5},2,53,53,53,null,null,13.947368421052632,null,null,3]
[{"$f":"IF(Draw!E7=0,\"\",Draw!E7)","v":6},2,51,49,51,null,null,13.245614035087721,null,null,3]
[{"$f":"IF(Draw!E8=0,\"\",Draw!E8)","v":7},2,null,null,null,null,null,0,null,null,0]
[{"$f":"IF(Draw!E9=0,\"\",Draw!E9)","v":8},2,56,54,59,null,null,14.824561403508774,null,null,3]
[{"$f":"IF(Draw!E10=0,\"\",Draw!E10)","v":9},2,55,55,54,null,null,14.385964912280702,null,null,3]
[{"$f":"IF(Draw!E11=0,\"\",Draw!E11)","v":10},2,51,50,48,null,null,13.070175438596491,null,null,3]
[{"$f":"IF(Draw!E12=0,\"\",Draw!E12)","v":11},2,48,46,46,null,null,12.280701754385964,null,null,3]
[{"$f":"IF(Draw!E13=0,\"\",Draw!E13)","v":12},2,53,54,52,null,null,13.947368421052632,null,null,3]
[{"$f":"IF(Draw!E14=0,\"\",Draw!E14)","v":13},2,55,57,58,null,null,14.912280701754385,1,null,3]
[{"$f":"IF(Draw!E15=0,\"\",Draw!E15)","v":14},2,50,48,50,null,null,12.982456140350878,null,null,3]
[{"$f":"IF(Draw!E16=0,\"\",Draw!E16)","v":15},2,53,56,56,null,null,14.473684210526317,null,null,3]
[{"$f":"IF(Draw!E17=0,\"\",Draw!E17)","v":16},2,54,57,57,null,null,14.736842105263159,null,null,3]
[{"$f":"IF(Draw!E18=0,\"\",Draw!E18)","v":17},2,57,58,59,null,null,15.263157894736842,null,null,3]
[{"$f":"IF(Draw!E19=0,\"\",Draw!E19)","v":18},2,55,56,55,null,null,14.561403508771932,null,null,3]
[{"$f":"IF(Draw!E20=0,\"\",Draw!E20)","v":19},2,null,null,null,null,null,0,null,null,0]
[{"$f":"IF(Draw!E21=0,\"\",Draw!E21)","v":20},2,null,null,null,null,null,0,null,null,0]
[{"$f":"IF(Draw!E22=0,\"\",Draw!E22)","v":21},2,53,50,51,null,null,13.508771929824563,null,null,3]
[{"$f":"IF(Draw!E23=0,\"\",Draw!E23)","v":22},2,61,63,62,null,null,16.315789473684212,null,null,3]
[{"$f":"IF(Draw!E24=0,\"\",Draw!E24)","v":23},2,55,54,53,null,null,14.210526315789474,null,null,3]
[{"$f":"IF(Draw!E25=0,\"\",Draw!E25)","v":24},2,55,57,57,null,null,14.824561403508774,null,null,3]
[{"$f":"IF(Draw!E26=0,\"\",Draw!E26)","v":""},"",null,null,null,null,null,"",null,null,0]
[{"$f":"IF(Draw!E27=0,\"\",Draw!E27)","v":""},"",null,null,null,null,null,"",null,null,0]
[{"$f":"IF(Draw!E28=0,\"\",Draw!E28)","v":""},"",306,null,null,null,null,"",null,null,1]
[{"$f":"IF(Draw!E29=0,\"\",Draw!E29)","v":""},"",316,null,215,214,null,"",null,null,3]
[{"$f":"IF(Draw!E30=0,\"\",Draw!E30)","v":""},"",326,273,221,220,null,"",null,null,4]
[{"$f":"IF(Draw!E31=0,\"\",Draw!E31)","v":""},"",336,281,227,226,null,"",null,null,4]
[{"$f":"IF(Draw!E32=0,\"\",Draw!E32)","v":""},"",346,289,233,232,null,"",null,null,4]
[{"$f":"IF(Draw!E33=0,\"\",Draw!E33)","v":""},"",356,297,239,238,null,"",null,null,4]
[{"$f":"IF(Draw!E34=0,\"\",Draw!E34)","v":""},"",366,305,245,244,null,"",null,null,4]
[{"$f":"IF(Draw!E35=0,\"\",Draw!E35)","v":""},"",376,313,251,250,null,"",null,null,4]
[{"$f":"IF(Draw!E36=0,\"\",Draw!E36)","v":""},"",386,321,257,256,null,"",null,null,4]
[{"$f":"IF(Draw!E37=0,\"\",Draw!E37)","v":""},"",396,329,263,262,null,"",null,null,4]
[{"$f":"IF(Draw!E38=0,\"\",Draw!E38)","v":""},"",406,337,269,268,null,"",null,null,4]
[{"$f":"IF(Draw!E39=0,\"\",Draw!E39)","v":""},"",416,345,275,274,null,"",null,null,4]
[{"$f":"IF(Draw!E40=0,\"\",Draw!E40)","v":""},"",426,353,281,280,null,"",null,null,4]
[{"$f":"IF(Draw!E41=0,\"\",Draw!E41)","v":""},"",436,361,287,286,null,"",null,null,4]
[{"$f":"IF(Draw!E42=0,\"\",Draw!E42)","v":""},"",446,369,293,292,null,"",null,null,4]
[{"$f":"IF(Draw!E43=0,\"\",Draw!E43)","v":""},"",456,377,299,298,null,"",null,null,4]
[{"$f":"IF(Draw!E44=0,\"\",Draw!E44)","v":""},"",466,385,305,304,null,"",null,null,4]
[{"$f":"IF(Draw!E45=0,\"\",Draw!E45)","v":""},"",476,393,311,310,null,"",null,null,4]
[{"$f":"IF(Draw!E46=0,\"\",Draw!E46)","v":""},"",486,401,317,316,null,"",null,null,4]
[{"$f":"IF(Draw!E47=0,\"\",Draw!E47)","v":""},"",496,409,323,322,null,"",null,null,4]
[{"$f":"IF(Draw!E48=0,\"\",Draw!E48)","v":""},"",506,417,329,328,null,"",null,null,4]
[{"$f":"IF(Draw!E49=0,\"\",Draw!E49)","v":""},"",516,425,335,334,null,"",null,null,4]
[{"$f":"IF(Draw!E50=0,\"\",Draw!E50)","v":""},"",526,433,341,340,null,"",null,null,4]
[{"$f":"IF(Draw!E51=0,\"\",Draw!E51)","v":""},"",536,441,347,346,null,"",null,null,4]
[{"$f":"IF(Draw!E52=0,\"\",Draw!E52)","v":""},"",546,449,353,352,null,"",null,null,4]
[{"$f":"IF(Draw!E53=0,\"\",Draw!E53)","v":""},"",556,457,359,358,null,"",null,null,4]
[{"$f":"IF(Draw!E54=0,\"\",Draw!E54)","v":""},"",566,465,365,364,null,"",null,null,4]
[{"$f":"IF(Draw!E55=0,\"\",Draw!E55)","v":""},"",576,473,371,370,null,"",null,null,4]
[{"$f":"IF(Draw!E56=0,\"\",Draw!E56)","v":""},"",586,481,377,376,null,"",null,null,4]
[{"$f":"IF(Draw!E57=0,\"\",Draw!E57)","v":""},"",596,489,383,382,null,"",null,null,4]
[{"$f":"IF(Draw!E58=0,\"\",Draw!E58)","v":""},"",606,497,389,388,null,"",null,null,4]
[{"$f":"IF(Draw!E59=0,\"\",Draw!E59)","v":""},"",616,505,395,394,null,"",null,null,4]
[{"$f":"IF(Draw!E60=0,\"\",Draw!E60)","v":""},"",626,513,401,400,null,"",null,null,4]
[{"$f":"IF(Draw!E61=0,\"\",Draw!E61)","v":""},"",636,521,407,406,null,"",null,null,4]
[{"$f":"IF(Draw!E62=0,\"\",Draw!E62)","v":""},"",646,529,413,412,null,"",null,null,4]
[{"$f":"IF(Draw!E63=0,\"\",Draw!E63)","v":""},"",656,537,419,418,null,"",null,null,4]
[{"$f":"IF(Draw!E64=0,\"\",Draw!E64)","v":""},"",666,545,425,424,null,"",null,null,4]
[{"$f":"IF(Draw!E65=0,\"\",Draw!E65)","v":""},"",676,553,431,430,null,"",null,null,4]
[{"$f":"IF(Draw!E66=0,\"\",Draw!E66)","v":""},"",686,561,437,436,null,"",null,null,4]
[{"$f":"IF(Draw!E67=0,\"\",Draw!E67)","v":""},"",696,569,443,442,null,"",null,null,{"$f":"COUNT(C68:G68)","v":4}]
[{"$f":"IF(Draw!E68=0,\"\",Draw!E68)","v":""},"",706,577,449,448,null,"",null,null,4]
[{"$f":"IF(Draw!E69=0,\"\",Draw!E69)","v":""},{"$f":"IF(A70=\"\",\"\",B$3)","v":""},716,585,455,454,null,{"$f":"IF(B70=\"\",\"\",IF(K70=5,(SUM(C70:G70)-MAX(C70:G70)-MIN(C70:G70))/3,IF(K70=4,(SUM(C70:G70)-MAX(C70:G70))/3,SUM(C70:G70)/3))*B70/7.6)","v":""},null,null,4]
[{"$f":"IF(Draw!E70=0,\"\",Draw!E70)","v":""},"",726,593,461,460,null,"",null,null,4]
[{"$f":"IF(Draw!E71=0,\"\",Draw!E71)","v":""},"",736,601,467,466,null,"",null,null,4]
[{"$f":"IF(Draw!E72=0,\"\",Draw!E72)","v":""},"",746,609,473,472,null,"",null,null,4]
[{"$f":"IF(Draw!E73=0,\"\",Draw!E73)","v":""},"",756,617,479,478,null,"",null,null,4]
[{"$f":"IF(Draw!E74=0,\"\",Draw!E74)","v":""},"",766,625,485,484,null,"",null,null,4]
[{"$f":"IF(Draw!E75=0,\"\",Draw!E75)","v":""},"",776,633,491,490,null,"",null,null,4]
[{"$f":"IF(Draw!E76=0,\"\",Draw!E76)","v":""},"",786,641,497,496,null,"",null,null,4]
[{"$f":"IF(Draw!E77=0,\"\",Draw!E77)","v":""},"",796,649,503,502,null,"",null,null,4]
[{"$f":"IF(Draw!E78=0,\"\",Draw!E78)","v":""},"",806,657,509,508,null,"",null,null,4]
[{"$f":"IF(Draw!E79=0,\"\",Draw!E79)","v":""},"",816,665,515,514,null,"",null,null,4]
[{"$f":"IF(Draw!E80=0,\"\",Draw!E80)","v":""},"",826,673,521,520,null,"",null,null,4]
[{"$f":"IF(Draw!E81=0,\"\",Draw!E81)","v":""},"",836,681,527,526,null,"",null,null,4]
[{"$f":"IF(Draw!E82=0,\"\",Draw!E82)","v":""},"",846,689,533,532,null,"",null,null,4]
[{"$f":"IF(Draw!E83=0,\"\",Draw!E83)","v":""},"",856,697,539,538,null,"",null,null,4]
[{"$f":"IF(Draw!E84=0,\"\",Draw!E84)","v":""},"",866,705,545,544,null,"",null,null,4]
[{"$f":"IF(Draw!E85=0,\"\",Draw!E85)","v":""},"",876,713,551,550,null,"",null,null,4]
[{"$f":"IF(Draw!E86=0,\"\",Draw!E86)","v":""},"",886,721,557,556,null,"",null,null,4]
[{"$f":"IF(Draw!E87=0,\"\",Draw!E87)","v":""},"",896,729,563,562,null,"",null,null,4]
[{"$f":"IF(Draw!E88=0,\"\",Draw!E88)","v":""},"",906,737,569,568,null,"",null,null,4]
[{"$f":"IF(Draw!E89=0,\"\",Draw!E89)","v":""},"",916,745,575,574,null,"",null,null,4]
[{"$f":"IF(Draw!E90=0,\"\",Draw!E90)","v":""},"",926,753,581,580,null,"",null,null,4]
[{"$f":"IF(Draw!E91=0,\"\",Draw!E91)","v":""},"",936,761,587,586,null,"",null,null,4]
[{"$f":"IF(Draw!E92=0,\"\",Draw!E92)","v":""},"",946,769,593,592,null,"",null,null,4]
[{"$f":"IF(Draw!E93=0,\"\",Draw!E93)","v":""},"",956,777,599,598,null,"",null,null,4]
[{"$f":"IF(Draw!E94=0,\"\",Draw!E94)","v":""},"",966,785,605,604,null,"",null,null,4]
[{"$f":"IF(Draw!E95=0,\"\",Draw!E95)","v":""},"",976,793,611,610,null,"",null,null,4]
[{"$f":"IF(Draw!E96=0,\"\",Draw!E96)","v":""},"",986,801,617,616,null,"",null,null,4]
[{"$f":"IF(Draw!E97=0,\"\",Draw!E97)","v":""},"",996,809,623,622,null,"",null,null,4]
[{"$f":"IF(Draw!E98=0,\"\",Draw!E98)","v":""},"",1006,817,629,628,null,"",null,null,4]
[{"$f":"IF(Draw!E99=0,\"\",Draw!E99)","v":""},"",1016,825,635,634,null,"",null,null,4]
[{"$f":"IF(Draw!E100=0,\"\",Draw!E100)","v":""},"",1026,833,641,640,null,"",null,null,4]
[{"$f":"IF(Draw!E101=0,\"\",Draw!E101)","v":""},"",1036,841,647,646,null,"",null,null,4]
[{"$f":"IF(Draw!E102=0,\"\",Draw!E102)","v":""},"",1046,849,653,652,null,"",null,null,4]
[{"$f":"IF(Draw!E103=0,\"\",Draw!E103)","v":""},"",1056,857,659,658,null,"",null,null,4]
[{"$f":"IF(Draw!E104=0,\"\",Draw!E104)","v":""},"",1066,865,665,664,null,"",null,null,4]
[{"$f":"IF(Draw!E105=0,\"\",Draw!E105)","v":""},"",1076,873,671,670,null,"",null,null,4]
[{"$f":"IF(Draw!E106=0,\"\",Draw!E106)","v":""},"",1086,881,677,676,null,"",null,null,4]
[{"$f":"IF(Draw!E107=0,\"\",Draw!E107)","v":""},"",1096,889,683,682,null,"",null,null,4]
[{"$f":"IF(Draw!E108=0,\"\",Draw!E108)","v":""},"",1106,897,689,688,null,"",null,null,4]
[{"$f":"IF(Draw!E109=0,\"\",Draw!E109)","v":""},"",1116,905,695,694,null,"",null,null,4]
[{"$f":"IF(Draw!E110=0,\"\",Draw!E110)","v":""},"",1126,913,701,700,null,"",null,null,4]
[{"$f":"IF(Draw!E111=0,\"\",Draw!E111)","v":""},"",1136,921,707,706,null,"",null,null,4]
[{"$f":"IF(Draw!E112=0,\"\",Draw!E112)","v":""},"",1146,929,713,712,null,"",null,null,4]
[{"$f":"IF(Draw!E113=0,\"\",Draw!E113)","v":""},"",1156,937,719,718,null,"",null,null,4]
[{"$f":"IF(Draw!E114=0,\"\",Draw!E114)","v":""},"",1166,945,725,724,null,"",null,null,4]
[{"$f":"IF(Draw!E115=0,\"\",Draw!E115)","v":""},"",1176,953,731,730,null,"",null,null,4]
[{"$f":"IF(Draw!E116=0,\"\",Draw!E116)","v":""},"",1186,961,737,736,null,"",null,null,4]
[{"$f":"IF(Draw!E117=0,\"\",Draw!E117)","v":""},"",1196,969,743,742,null,"",null,null,4]
[{"$f":"IF(Draw!E118=0,\"\",Draw!E118)","v":""},"",1206,977,749,748,null,"",null,null,4]
[{"$f":"IF(Draw!E119=0,\"\",Draw!E119)","v":""},"",1216,985,755,754,null,"",null,null,4]
[{"$f":"IF(Draw!E120=0,\"\",Draw!E120)","v":""},"",1226,993,761,760,null,"",null,null,4]
[{"$f":"IF(Draw!E121=0,\"\",Draw!E121)","v":""},"",1236,1001,767,766,null,"",null,null,4]
[{"$f":"IF(Draw!E122=0,\"\",Draw!E122)","v":""},"",1246,1009,773,772,null,"",null,null,4]
[{"$f":"IF(Draw!E123=0,\"\",Draw!E123)","v":""},"",1256,1017,779,778,null,"",null,null,4]
[{"$f":"IF(Draw!E124=0,\"\",Draw!E124)","v":""},"",1266,1025,785,784,null,"",null,null,4]
[{"$f":"IF(Draw!E125=0,\"\",Draw!E125)","v":""},"",1276,1033,791,790,null,"",null,null,4]
[{"$f":"IF(Draw!E126=0,\"\",Draw!E126)","v":""},"",1286,1041,797,796,null,"",null,null,4]
[{"$f":"IF(Draw!E127=0,\"\",Draw!E127)","v":""},"",1296,1049,803,802,null,"",null,null,4]
[{"$f":"IF(Draw!E128=0,\"\",Draw!E128)","v":""},"",1306,1057,809,808,null,"",null,null,4]
[{"$f":"IF(Draw!E129=0,\"\",Draw!E129)","v":""},"",1316,1065,815,814,null,"",null,null,4]
[{"$f":"IF(Draw!E130=0,\"\",Draw!E130)","v":""},"",1326,1073,821,820,null,"",null,null,4]
[{"$f":"IF(Draw!E131=0,\"\",Draw!E131)","v":""},"",1336,1081,827,826,null,"",null,null,{"$f":"COUNT(C132:G132)","v":4}]
[{"$f":"IF(Draw!E132=0,\"\",Draw!E132)","v":""},"",1346,1089,833,832,null,"",null,null,4]
[{"$f":"IF(Draw!E133=0,\"\",Draw!E133)","v":""},{"$f":"IF(A134=\"\",\"\",B$3)","v":""},1356,1097,839,838,null,{"$f":"IF(B134=\"\",\"\",IF(K134=5,(SUM(C134:G134)-MAX(C134:G134)-MIN(C134:G134))/3,IF(K134=4,(SUM(C134:G134)-MAX(C134:G134))/3,SUM(C134:G134)/3))*B134/7.6)","v":""},null,null,4]
[{"$f":"IF(Draw!E134=0,\"\",Draw!E134)","v":""},"",1366,1105,845,844,null,"",null,null,4]
[{"$f":"IF(Draw!E135=0,\"\",Draw!E135)","v":""},"",1376,1113,851,850,null,"",null,null,4]
[{"$f":"IF(Draw!E136=0,\"\",Draw!E136)","v":""},"",1386,1121,857,856,null,"",null,null,4]
[{"$f":"IF(Draw!E137=0,\"\",Draw!E137)","v":""},"",1396,1129,863,862,null,"",null,null,4]
[{"$f":"IF(Draw!E138=0,\"\",Draw!E138)","v":""},"",1406,1137,869,868,null,"",null,null,4]
[{"$f":"IF(Draw!E139=0,\"\",Draw!E139)","v":""},"",1416,1145,875,874,null,"",null,null,4]
[{"$f":"IF(Draw!E140=0,\"\",Draw!E140)","v":""},"",1426,1153,881,880,null,"",null,null,4]
[{"$f":"IF(Draw!E141=0,\"\",Draw!E141)","v":""},"",1436,1161,887,886,null,"",null,null,4]
[{"$f":"IF(Draw!E142=0,\"\",Draw!E142)","v":""},"",1446,1169,893,892,null,"",null,null,4]
[{"$f":"IF(Draw!E143=0,\"\",Draw!E143)","v":""},"",1456,1177,899,898,null,"",null,null,4]
[{"$f":"IF(Draw!E144=0,\"\",Draw!E144)","v":""},"",1466,1185,905,904,null,"",null,null,4]
[{"$f":"IF(Draw!E145=0,\"\",Draw!E145)","v":""},"",1476,1193,911,910,null,"",null,null,4]
[{"$f":"IF(Draw!E146=0,\"\",Draw!E146)","v":""},"",1486,1201,917,916,null,"",null,null,4]
[{"$f":"IF(Draw!E147=0,\"\",Draw!E147)","v":""},"",1496,1209,923,922,null,"",null,null,4]
[{"$f":"IF(Draw!E148=0,\"\",Draw!E148)","v":""},"",1506,1217,929,928,null,"",null,null,4]
[{"$f":"IF(Draw!E149=0,\"\",Draw!E149)","v":""},"",1516,1225,935,934,null,"",null,null,4]

{"sheet":"Fig 3 Neptunus","index":3,"n_rows":150,"n_cols":11,"rows_kept":150,"cut":false,"hidden":false,"merged":[[0,2,0,6]]}
[null,"Figure #3:","344 Neptunus"]
["#","Degree of Difficulty","Judge 1","Judge 2","Judge 3","Judge 4","Judge 5","Score","Penalty"]
[{"$f":"IF(Draw!E2=0,\"\",Draw!E2)","v":1},1.8,59,60,61,null,null,{"$f":"IF(B3=\"\",\"\",IF(K3=5,(SUM(C3:G3)-MAX(C3:G3)-MIN(C3:G3))/3,IF(K3=4,(SUM(C3:G3)-MAX(C3:G3))/3,SUM(C3:G3)/3))*B3/7.6)","v":14.210526315789474},null,null,{"$f":"COUNT(C3:G3)","v":3}]
[{"$f":"IF(Draw!E3=0,\"\",Draw!E3)","v":2},{"$f":"IF(A4=\"\",\"\",B$3)","v":1.8},58,58,57,null,null,{"$f":"IF(B4=\"\",\"\",IF(K4=5,(SUM(C4:G4)-MAX(C4:G4)-MIN(C4:G4))/3,IF(K4=4,(SUM(C4:G4)-MAX(C4:G4))/3,SUM(C4:G4)/3))*B4/7.6)","v":13.657894736842106},null,null,{"$f":"COUNT(C4:G4)","v":3}]
[{"$f":"IF(Draw!E4=0,\"\",Draw!E4)","v":3},1.8,null,null,null,null,null,0,null,null,0]
[{"$f":"IF(Draw!E5=0,\"\",Draw!E5)","v":4},{"$f":"IF(A6=\"\",\"\",B$3)","v":1.8},50,52,53,null,null,{"$f":"IF(B6=\"\",\"\",IF(K6=5,(SUM(C6:G6)-MAX(C6:G6)-MIN(C6:G6))/3,IF(K6=4,(SUM(C6:G6)-MAX(C6:G6))/3,SUM(C6:G6)/3))*B6/7.6)","v":12.236842105263159},null,null,3]
[{"$f":"IF(Draw!E6=0,\"\",Draw!E6)","v":5},1.8,50,53,52,null,null,12.236842105263159,null,null,3]
[{"$f":"IF(Draw!E7=0,\"\",Draw!E7)","v":6},1.8,49,48,48,null,null,11.447368421052632,null,null,3]
[{"$f":"IF(Draw!E8=0,\"\",Draw!E8)","v":7},1.8,null,null,null,null,null,0,null,null,0]
[{"$f":"IF(Draw!E9=0,\"\",Draw!E9)","v":8},1.8,58,61,61,null,null,14.210526315789474,null,null,3]
[{"$f":"IF(Draw!E10=0,\"\",Draw!E10)","v":9},1.8,52,50,55,null,null,12.394736842105264,null,null,3]
[{"$f":"IF(Draw!E11=0,\"\",Draw!E11)","v":10},1.8,54,57,56,null,null,13.184210526315791,null,null,3]
[{"$f":"IF(Draw!E12=0,\"\",Draw!E12)","v":11},1.8,46,42,46,null,null,10.578947368421051,null,null,3]
[{"$f":"IF(Draw!E13=0,\"\",Draw!E13)","v":12},1.8,51,45,52,null,null,11.684210526315791,null,null,3]
[{"$f":"IF(Draw!E14=0,\"\",Draw!E14)","v":13},1.8,53,57,54,null,null,12.947368421052632,null,null,3]
[{"$f":"IF(Draw!E15=0,\"\",Draw!E15)","v":14},1.8,50,52,51,null,null,12.078947368421053,null,null,3]
[{"$f":"IF(Draw!E16=0,\"\",Draw!E16)","v":15},1.8,53,54,58,null,null,13.026315789473685,null,null,3]
[{"$f":"IF(Draw!E17=0,\"\",Draw!E17)","v":16},1.8,53,56,55,null,null,12.947368421052632,null,null,3]
[{"$f":"IF(Draw!E18=0,\"\",Draw!E18)","v":17},1.8,52,52,56,null,null,12.631578947368421,null,null,3]
[{"$f":"IF(Draw!E19=0,\"\",Draw!E19)","v":18},1.8,50,48,47,null,null,11.447368421052632,null,null,3]
[{"$f":"IF(Draw!E20=0,\"\",Draw!E20)","v":19},1.8,null,null,null,null,null,0,null,null,0]
[{"$f":"IF(Draw!E21=0,\"\",Draw!E21)","v":20},1.8,null,null,null,null,null,0,null,null,0]
[{"$f":"IF(Draw!E22=0,\"\",Draw!E22)","v":21},1.8,47,47,46,null,null,11.052631578947368,null,null,3]
[{"$f":"IF(Draw!E23=0,\"\",Draw!E23)","v":22},1.8,60,62,64,null,null,14.684210526315791,null,null,3]
[{"$f":"IF(Draw!E24=0,\"\",Draw!E24)","v":23},1.8,57,53,53,null,null,12.868421052631581,null,null,3]
[{"$f":"IF(Draw!E25=0,\"\",Draw!E25)","v":24},1.8,56,56,57,null,null,13.342105263157896,null,null,3]
[{"$f":"IF(Draw!E26=0,\"\",Draw!E26)","v":""},"",null,null,null,null,null,"",null,null,0]
[{"$f":"IF(Draw!E27=0,\"\",Draw!E27)","v":""},"",null,null,null,null,null,"",null,null,0]
[{"$f":"IF(Draw!E28=0,\"\",Draw!E28)","v":""},"",null,null,null,null,null,"",null,null,0]
[{"$f":"IF(Draw!E29=0,\"\",Draw!E29)","v":""},"",86,null,null,null,null,"",null,null,1]
[{"$f":"IF(Draw!E30=0,\"\",Draw!E30)","v":""},"",87,140,272,null,null,"",null,null,3]
[{"$f":"IF(Draw!E31=0,\"\",Draw!E31)","v":""},"",88,143,280,null,null,"",null,null,3]
[{"$f":"IF(Draw!E32=0,\"\",Draw!E32)","v":""},"",89,146,288,null,null,"",null,null,3]
[{"$f":"IF(Draw!E33=0,\"\",Draw!E33)","v":""},"",90,149,296,null,null,"",null,null,3]
[{"$f":"IF(Draw!E34=0,\"\",Draw!E34)","v":""},"",91,152,304,null,null,"",null,null,3]
[{"$f":"IF(Draw!E35=0,\"\",Draw!E35)","v":""},"",92,155,312,null,null,"",null,null,3]
[{"$f":"IF(Draw!E36=0,\"\",Draw!E36)","v":""},"",93,158,320,null,null,"",null,null,3]
[{"$f":"IF(Draw!E37=0,\"\",Draw!E37)","v":""},"",94,161,328,null,null,"",null,null,3]
[{"$f":"IF(Draw!E38=0,\"\",Draw!E38)","v":""},"",95,164,336,null,null,"",null,null,3]
[{"$f":"IF(Draw!E39=0,\"\",Draw!E39)","v":""},"",96,167,344,null,null,"",null,null,3]
[{"$f":"IF(Draw!E40=0,\"\",Draw!E40)","v":""},"",97,170,352,null,null,"",null,null,3]
[{"$f":"IF(Draw!E41=0,\"\",Draw!E41)","v":""},"",98,173,360,null,null,"",null,null,3]
[{"$f":"IF(Draw!E42=0,\"\",Draw!E42)","v":""},"",99,176,368,null,null,"",null,null,3]
[{"$f":"IF(Draw!E43=0,\"\",Draw!E43)","v":""},"",100,179,376,null,null,"",null,null,3]
[{"$f":"IF(Draw!E44=0,\"\",Draw!E44)","v":""},"",101,182,384,null,null,"",null,null,3]
[{"$f":"IF(Draw!E45=0,\"\",Draw!E45)","v":""},"",102,185,392,null,null,"",null,null,3]
[{"$f":"IF(Draw!E46=0,\"\",Draw!E46)","v":""},"",103,188,400,null,null,"",null,null,3]
[{"$f":"IF(Draw!E47=0,\"\",Draw!E47)","v":""},"",104,191,408,null,null,"",null,null,3]
[{"$f":"IF(Draw!E48=0,\"\",Draw!E48)","v":""},"",105,194,416,null,null,"",null,null,3]
[{"$f":"IF(Draw!E49=0,\"\",Draw!E49)","v":""},"",106,197,424,null,null,"",null,null,3]
[{"$f":"IF(Draw!E50=0,\"\",Draw!E50)","v":""},"",107,200,432,null,null,"",null,null,3]
[{"$f":"IF(Draw!E51=0,\"\",Draw!E51)","v":""},"",108,203,440,null,null,"",null,null,3]
[{"$f":"IF(Draw!E52=0,\"\",Draw!E52)","v":""},"",109,206,448,null,null,"",null,null,3]
[{"$f":"IF(Draw!E53=0,\"\",Draw!E53)","v":""},"",110,209,456,null,null,"",null,null,3]
[{"$f":"IF(Draw!E54=0,\"\",Draw!E54)","v":""},"",111,212,464,null,null,"",null,null,3]
[{"$f":"IF(Draw!E55=0,\"\",Draw!E55)","v":""},"",112,215,472,null,null,"",null,null,3]
[{"$f":"IF(Draw!E56=0,\"\",Draw!E56)","v":""},"",113,218,480,null,null,"",null,null,3]
[{"$f":"IF(Draw!E57=0,\"\",Draw!E57)","v":""},"",114,221,488,null,null,"",null,null,3]
[{"$f":"IF(Draw!E58=0,\"\",Draw!E58)","v":""},"",115,224,496,null,null,"",null,null,3]
[{"$f":"IF(Draw!E59=0,\"\",Draw!E59)","v":""},"",116,227,504,null,null,"",null,null,3]
[{"$f":"IF(Draw!E60=0,\"\",Draw!E60)","v":""},"",117,230,512,null,null,"",null,null,3]
[{"$f":"IF(Draw!E61=0,\"\",Draw!E61)","v":""},"",118,233,520,null,null,"",null,null,3]
[{"$f":"IF(Draw!E62=0,\"\",Draw!E62)","v":""},"",119,236,528,null,null,"",null,null,3]
[{"$f":"IF(Draw!E63=0,\"\",Draw!E63)","v":""},"",120,239,536,null,null,"",null,null,3]
[{"$f":"IF(Draw!E64=0,\"\",Draw!E64)","v":""},"",121,242,544,null,null,"",null,null,3]
[{"$f":"IF(Draw!E65=0,\"\",Draw!E65)","v":""},"",122,245,552,null,null,"",null,null,3]
[{"$f":"IF(Draw!E66=0,\"\",Draw!E66)","v":""},"",123,248,560,null,null,"",null,null,3]
[{"$f":"IF(Draw!E67=0,\"\",Draw!E67)","v":""},"",124,251,568,null,null,"",null,null,{"$f":"COUNT(C68:G68)","v":3}]
[{"$f":"IF(Draw!E68=0,\"\",Draw!E68)","v":""},"",125,254,576,null,null,"",null,null,3]
[{"$f":"IF(Draw!E69=0,\"\",Draw!E69)","v":""},{"$f":"IF(A70=\"\",\"\",B$3)","v":""},126,257,584,null,null,{"$f":"IF(B70=\"\",\"\",IF(K70=5,(SUM(C70:G70)-MAX(C70:G70)-MIN(C70:G70))/3,IF(K70=4,(SUM(C70:G70)-MAX(C70:G70))/3,SUM(C70:G70)/3))*B70/7.6)","v":""},null,null,3]
[{"$f":"IF(Draw!E70=0,\"\",Draw!E70)","v":""},"",127,260,592,null,null,"",null,null,3]
[{"$f":"IF(Draw!E71=0,\"\",Draw!E71)","v":""},"",128,263,600,null,null,"",null,null,3]
[{"$f":"IF(Draw!E72=0,\"\",Draw!E72)","v":""},"",129,266,608,null,null,"",null,null,3]
[{"$f":"IF(Draw!E73=0,\"\",Draw!E73)","v":""},"",130,269,616,null,null,"",null,null,3]
[{"$f":"IF(Draw!E74=0,\"\",Draw!E74)","v":""},"",131,272,624,null,null,"",null,null,3]
[{"$f":"IF(Draw!E75=0,\"\",Draw!E75)","v":""},"",132,275,632,null,null,"",null,null,3]
[{"$f":"IF(Draw!E76=0,\"\",Draw!E76)","v":""},"",133,278,640,null,null,"",null,null,3]
[{"$f":"IF(Draw!E77=0,\"\",Draw!E77)","v":""},"",134,281,648,null,null,"",null,null,3]
[{"$f":"IF(Draw!E78=0,\"\",Draw!E78)","v":""},"",135,284,656,null,null,"",null,null,3]
[{"$f":"IF(Draw!E79=0,\"\",Draw!E79)","v":""},"",136,287,664,null,null,"",null,null,3]
[{"$f":"IF(Draw!E80=0,\"\",Draw!E80)","v":""},"",137,290,672,null,null,"",null,null,3]
[{"$f":"IF(Draw!E81=0,\"\",Draw!E81)","v":""},"",138,293,680,null,null,"",null,null,3]
[{"$f":"IF(Draw!E82=0,\"\",Draw!E82)","v":""},"",139,296,688,null,null,"",null,null,3]
[{"$f":"IF(Draw!E83=0,\"\",Draw!E83)","v":""},"",140,299,696,null,null,"",null,null,3]
[{"$f":"IF(Draw!E84=0,\"\",Draw!E84)","v":""},"",141,302,704,null,null,"",null,null,3]
[{"$f":"IF(Draw!E85=0,\"\",Draw!E85)","v":""},"",142,305,712,null,null,"",null,null,3]
[{"$f":"IF(Draw!E86=0,\"\",Draw!E86)","v":""},"",143,308,720,null,null,"",null,null,3]
[{"$f":"IF(Draw!E87=0,\"\",Draw!E87)","v":""},"",144,311,728,null,null,"",null,null,3]
[{"$f":"IF(Draw!E88=0,\"\",Draw!E88)","v":""},"",145,314,736,null,null,"",null,null,3]
[{"$f":"IF(Draw!E89=0,\"\",Draw!E89)","v":""},"",146,317,744,null,null,"",null,null,3]
[{"$f":"IF(Draw!E90=0,\"\",Draw!E90)","v":""},"",147,320,752,null,null,"",null,null,3]
[{"$f":"IF(Draw!E91=0,\"\",Draw!E91)","v":""},"",148,323,760,null,null,"",null,null,3]
[{"$f":"IF(Draw!E92=0,\"\",Draw!E92)","v":""},"",149,326,768,null,null,"",null,null,3]
[{"$f":"IF(Draw!E93=0,\"\",Draw!E93)","v":""},"",150,329,776,null,null,"",null,null,3]
[{"$f":"IF(Draw!E94=0,\"\",Draw!E94)","v":""},"",151,332,784,null,null,"",null,null,3]
[{"$f":"IF(Draw!E95=0,\"\",Draw!E95)","v":""},"",152,335,792,null,null,"",null,null,3]
[{"$f":"IF(Draw!E96=0,\"\",Draw!E96)","v":""},"",153,338,800,null,null,"",null,null,3]
[{"$f":"IF(Draw!E97=0,\"\",Draw!E97)","v":""},"",154,341,808,null,null,"",null,null,3]
[{"$f":"IF(Draw!E98=0,\"\",Draw!E98)","v":""},"",155,344,816,null,null,"",null,null,3]
[{"$f":"IF(Draw!E99=0,\"\",Draw!E99)","v":""},"",156,347,824,null,null,"",null,null,3]
[{"$f":"IF(Draw!E100=0,\"\",Draw!E100)","v":""},"",157,350,832,null,null,"",null,null,3]
[{"$f":"IF(Draw!E101=0,\"\",Draw!E101)","v":""},"",158,353,840,null,null,"",null,null,3]
[{"$f":"IF(Draw!E102=0,\"\",Draw!E102)","v":""},"",159,356,848,null,null,"",null,null,3]
[{"$f":"IF(Draw!E103=0,\"\",Draw!E103)","v":""},"",160,359,856,null,null,"",null,null,3]
[{"$f":"IF(Draw!E104=0,\"\",Draw!E104)","v":""},"",161,362,864,null,null,"",null,null,3]
[{"$f":"IF(Draw!E105=0,\"\",Draw!E105)","v":""},"",162,365,872,null,null,"",null,null,3]
[{"$f":"IF(Draw!E106=0,\"\",Draw!E106)","v":""},"",163,368,880,null,null,"",null,null,3]
[{"$f":"IF(Draw!E107=0,\"\",Draw!E107)","v":""},"",164,371,888,null,null,"",null,null,3]
[{"$f":"IF(Draw!E108=0,\"\",Draw!E108)","v":""},"",165,374,896,null,null,"",null,null,3]
[{"$f":"IF(Draw!E109=0,\"\",Draw!E109)","v":""},"",166,377,904,null,null,"",null,null,3]
[{"$f":"IF(Draw!E110=0,\"\",Draw!E110)","v":""},"",167,380,912,null,null,"",null,null,3]
[{"$f":"IF(Draw!E111=0,\"\",Draw!E111)","v":""},"",168,383,920,null,null,"",null,null,3]
[{"$f":"IF(Draw!E112=0,\"\",Draw!E112)","v":""},"",169,386,928,null,null,"",null,null,3]
[{"$f":"IF(Draw!E113=0,\"\",Draw!E113)","v":""},"",170,389,936,null,null,"",null,null,3]
[{"$f":"IF(Draw!E114=0,\"\",Draw!E114)","v":""},"",171,392,944,null,null,"",null,null,3]
[{"$f":"IF(Draw!E115=0,\"\",Draw!E115)","v":""},"",172,395,952,null,null,"",null,null,3]
[{"$f":"IF(Draw!E116=0,\"\",Draw!E116)","v":""},"",173,398,960,null,null,"",null,null,3]
[{"$f":"IF(Draw!E117=0,\"\",Draw!E117)","v":""},"",174,401,968,null,null,"",null,null,3]
[{"$f":"IF(Draw!E118=0,\"\",Draw!E118)","v":""},"",175,404,976,null,null,"",null,null,3]
[{"$f":"IF(Draw!E119=0,\"\",Draw!E119)","v":""},"",176,407,984,null,null,"",null,null,3]
[{"$f":"IF(Draw!E120=0,\"\",Draw!E120)","v":""},"",177,410,992,null,null,"",null,null,3]
[{"$f":"IF(Draw!E121=0,\"\",Draw!E121)","v":""},"",178,413,1000,null,null,"",null,null,3]
[{"$f":"IF(Draw!E122=0,\"\",Draw!E122)","v":""},"",179,416,1008,null,null,"",null,null,3]
[{"$f":"IF(Draw!E123=0,\"\",Draw!E123)","v":""},"",180,419,1016,null,null,"",null,null,3]
[{"$f":"IF(Draw!E124=0,\"\",Draw!E124)","v":""},"",181,422,1024,null,null,"",null,null,3]
[{"$f":"IF(Draw!E125=0,\"\",Draw!E125)","v":""},"",182,425,1032,null,null,"",null,null,3]
[{"$f":"IF(Draw!E126=0,\"\",Draw!E126)","v":""},"",183,428,1040,null,null,"",null,null,3]
[{"$f":"IF(Draw!E127=0,\"\",Draw!E127)","v":""},"",184,431,1048,null,null,"",null,null,3]
[{"$f":"IF(Draw!E128=0,\"\",Draw!E128)","v":""},"",185,434,1056,null,null,"",null,null,3]
[{"$f":"IF(Draw!E129=0,\"\",Draw!E129)","v":""},"",186,437,1064,null,null,"",null,null,3]
[{"$f":"IF(Draw!E130=0,\"\",Draw!E130)","v":""},"",187,440,1072,null,null,"",null,null,3]
[{"$f":"IF(Draw!E131=0,\"\",Draw!E131)","v":""},"",188,443,1080,null,null,"",null,null,{"$f":"COUNT(C132:G132)","v":3}]
[{"$f":"IF(Draw!E132=0,\"\",Draw!E132)","v":""},"",189,446,1088,null,null,"",null,null,3]
[{"$f":"IF(Draw!E133=0,\"\",Draw!E133)","v":""},{"$f":"IF(A134=\"\",\"\",B$3)","v":""},190,449,1096,null,null,{"$f":"IF(B134=\"\",\"\",IF(K134=5,(SUM(C134:G134)-MAX(C134:G134)-MIN(C134:G134))/3,IF(K134=4,(SUM(C134:G134)-MAX(C134:G134))/3,SUM(C134:G134)/3))*B134/7.6)","v":""},null,null,3]
[{"$f":"IF(Draw!E134=0,\"\",Draw!E134)","v":""},"",191,452,1104,null,null,"",null,null,3]
[{"$f":"IF(Draw!E135=0,\"\",Draw!E135)","v":""},"",192,455,1112,null,null,"",null,null,3]
[{"$f":"IF(Draw!E136=0,\"\",Draw!E136)","v":""},"",193,458,1120,null,null,"",null,null,3]
[{"$f":"IF(Draw!E137=0,\"\",Draw!E137)","v":""},"",194,461,1128,null,null,"",null,null,3]
[{"$f":"IF(Draw!E138=0,\"\",Draw!E138)","v":""},"",195,464,1136,null,null,"",null,null,3]
[{"$f":"IF(Draw!E139=0,\"\",Draw!E139)","v":""},"",196,467,1144,null,null,"",null,null,3]
[{"$f":"IF(Draw!E140=0,\"\",Draw!E140)","v":""},"",197,470,1152,null,null,"",null,null,3]
[{"$f":"IF(Draw!E141=0,\"\",Draw!E141)","v":""},"",198,473,1160,null,null,"",null,null,3]
[{"$f":"IF(Draw!E142=0,\"\",Draw!E142)","v":""},"",199,476,1168,null,null,"",null,null,3]
[{"$f":"IF(Draw!E143=0,\"\",Draw!E143)","v":""},"",200,479,1176,null,null,"",null,null,3]
[{"$f":"IF(Draw!E144=0,\"\",Draw!E144)","v":""},"",201,482,1184,null,null,"",null,null,3]
[{"$f":"IF(Draw!E145=0,\"\",Draw!E145)","v":""},"",202,485,1192,null,null,"",null,null,3]
[{"$f":"IF(Draw!E146=0,\"\",Draw!E146)","v":""},"",203,488,1200,null,null,"",null,null,3]
[{"$f":"IF(Draw!E147=0,\"\",Draw!E147)","v":""},"",204,491,1208,null,null,"",null,null,3]
[{"$f":"IF(Draw!E148=0,\"\",Draw!E148)","v":""},"",205,494,1216,null,null,"",null,null,3]
[{"$f":"IF(Draw!E149=0,\"\",Draw!E149)","v":""},"",206,497,1224,null,null,"",null,null,3]

{"sheet":"Fig 4 Walkover","index":4,"n_rows":150,"n_cols":11,"rows_kept":150,"cut":false,"hidden":false,"merged":[[0,2,0,6]]}
[null,"Figure #4:","360 Walkover Front"]
["#","Degree of Difficulty","Judge 1","Judge 2","Judge 3","Judge 4","Judge 5","Score","Penalty"]
[{"$f":"IF(Draw!E2=0,\"\",Draw!E2)","v":1},2.1,58,58,61,null,null,{"$f":"IF(B3=\"\",\"\",IF(K3=5,(SUM(C3:G3)-MAX(C3:G3)-MIN(C3:G3))/3,IF(K3=4,(SUM(C3:G3)-MAX(C3:G3))/3,SUM(C3:G3)/3))*B3/7.6)","v":16.30263157894737},null,null,{"$f":"COUNT(C3:G3)","v":3}]
[{"$f":"IF(Draw!E3=0,\"\",Draw!E3)","v":2},{"$f":"IF(A4=\"\",\"\",B$3)","v":2.1},53,57,57,null,null,{"$f":"IF(B4=\"\",\"\",IF(K4=5,(SUM(C4:G4)-MAX(C4:G4)-MIN(C4:G4))/3,IF(K4=4,(SUM(C4:G4)-MAX(C4:G4))/3,SUM(C4:G4)/3))*B4/7.6)","v":15.381578947368423},null,null,{"$f":"COUNT(C4:G4)","v":3}]
[{"$f":"IF(Draw!E4=0,\"\",Draw!E4)","v":3},2.1,null,null,null,null,null,0,null,null,0]
[{"$f":"IF(Draw!E5=0,\"\",Draw!E5)","v":4},{"$f":"IF(A6=\"\",\"\",B$3)","v":2.1},55,56,56,null,null,{"$f":"IF(B6=\"\",\"\",IF(K6=5,(SUM(C6:G6)-MAX(C6:G6)-MIN(C6:G6))/3,IF(K6=4,(SUM(C6:G6)-MAX(C6:G6))/3,SUM(C6:G6)/3))*B6/7.6)","v":15.381578947368423},null,null,3]
[{"$f":"IF(Draw!E6=0,\"\",Draw!E6)","v":5},2.1,54,52,50,null,null,14.368421052631581,null,null,3]
[{"$f":"IF(Draw!E7=0,\"\",Draw!E7)","v":6},2.1,54,52,53,null,null,14.644736842105265,null,null,3]
[{"$f":"IF(Draw!E8=0,\"\",Draw!E8)","v":7},2.1,null,null,null,null,null,0,null,null,0]
[{"$f":"IF(Draw!E9=0,\"\",Draw!E9)","v":8},2.1,59,59,55,null,null,15.934210526315789,null,null,3]
[{"$f":"IF(Draw!E10=0,\"\",Draw!E10)","v":9},2.1,52,50,48,null,null,13.815789473684211,null,null,3]
[{"$f":"IF(Draw!E11=0,\"\",Draw!E11)","v":10},2.1,55,55,56,null,null,15.289473684210527,null,null,3]
[{"$f":"IF(Draw!E12=0,\"\",Draw!E12)","v":11},2.1,48,47,45,null,null,12.894736842105264,null,null,3]
[{"$f":"IF(Draw!E13=0,\"\",Draw!E13)","v":12},2.1,52,46,47,null,null,13.35526315789474,null,null,3]
[{"$f":"IF(Draw!E14=0,\"\",Draw!E14)","v":13},2.1,57,59,58,null,null,16.026315789473685,null,null,3]
[{"$f":"IF(Draw!E15=0,\"\",Draw!E15)","v":14},2.1,48,45,46,null,null,12.80263157894737,null,null,3]
[{"$f":"IF(Draw!E16=0,\"\",Draw!E16)","v":15},2.1,49,51,52,null,null,14.000000000000002,null,null,3]
[{"$f":"IF(Draw!E17=0,\"\",Draw!E17)","v":16},2.1,58,58,56,null,null,15.842105263157896,null,null,3]
[{"$f":"IF(Draw!E18=0,\"\",Draw!E18)","v":17},2.1,55,57,55,null,null,15.381578947368423,null,null,3]
[{"$f":"IF(Draw!E19=0,\"\",Draw!E19)","v":18},2.1,51,50,49,null,null,13.815789473684211,null,null,3]
[{"$f":"IF(Draw!E20=0,\"\",Draw!E20)","v":19},2.1,null,null,null,null,null,0,null,null,0]
[{"$f":"IF(Draw!E21=0,\"\",Draw!E21)","v":20},2.1,null,null,null,null,null,0,null,null,0]
[{"$f":"IF(Draw!E22=0,\"\",Draw!E22)","v":21},2.1,47,44,48,null,null,12.80263157894737,null,null,3]
[{"$f":"IF(Draw!E23=0,\"\",Draw!E23)","v":22},2.1,61,60,63,null,null,16.947368421052634,null,null,3]
[{"$f":"IF(Draw!E24=0,\"\",Draw!E24)","v":23},2.1,50,50,49,null,null,13.723684210526317,null,null,3]
[{"$f":"IF(Draw!E25=0,\"\",Draw!E25)","v":24},2.1,58,60,62,null,null,16.578947368421055,null,null,3]
[{"$f":"IF(Draw!E26=0,\"\",Draw!E26)","v":""},"",null,null,null,null,null,"",null,null,0]
[{"$f":"IF(Draw!E27=0,\"\",Draw!E27)","v":""},"",null,null,null,null,null,"",null,null,0]
[{"$f":"IF(Draw!E28=0,\"\",Draw!E28)","v":""},"",null,null,null,null,null,"",null,null,0]
[{"$f":"IF(Draw!E29=0,\"\",Draw!E29)","v":""},"",null,185,214,135,null,"",null,null,3]
[{"$f":"IF(Draw!E30=0,\"\",Draw!E30)","v":""},"",null,190,220,138,null,"",null,null,3]
[{"$f":"IF(Draw!E31=0,\"\",Draw!E31)","v":""},"",195,195,226,141,null,"",null,null,4]
[{"$f":"IF(Draw!E32=0,\"\",Draw!E32)","v":""},"",200,200,232,144,null,"",null,null,4]
[{"$f":"IF(Draw!E33=0,\"\",Draw!E33)","v":""},"",205,205,238,147,null,"",null,null,4]
[{"$f":"IF(Draw!E34=0,\"\",Draw!E34)","v":""},"",210,210,244,150,null,"",null,null,4]
[{"$f":"IF(Draw!E35=0,\"\",Draw!E35)","v":""},"",215,215,250,153,null,"",null,null,4]
[{"$f":"IF(Draw!E36=0,\"\",Draw!E36)","v":""},"",220,220,256,156,null,"",null,null,4]
[{"$f":"IF(Draw!E37=0,\"\",Draw!E37)","v":""},"",225,225,262,159,null,"",null,null,4]
[{"$f":"IF(Draw!E38=0,\"\",Draw!E38)","v":""},"",230,230,268,162,null,"",null,null,4]
[{"$f":"IF(Draw!E39=0,\"\",Draw!E39)","v":""},"",235,235,274,165,null,"",null,null,4]
[{"$f":"IF(Draw!E40=0,\"\",Draw!E40)","v":""},"",240,240,280,168,null,"",null,null,4]
[{"$f":"IF(Draw!E41=0,\"\",Draw!E41)","v":""},"",245,245,286,171,null,"",null,null,4]
[{"$f":"IF(Draw!E42=0,\"\",Draw!E42)","v":""},"",250,250,292,174,null,"",null,null,4]
[{"$f":"IF(Draw!E43=0,\"\",Draw!E43)","v":""},"",255,255,298,177,null,"",null,null,4]
[{"$f":"IF(Draw!E44=0,\"\",Draw!E44)","v":""},"",260,260,304,180,null,"",null,null,4]
[{"$f":"IF(Draw!E45=0,\"\",Draw!E45)","v":""},"",265,265,310,183,null,"",null,null,4]
[{"$f":"IF(Draw!E46=0,\"\",Draw!E46)","v":""},"",270,270,316,186,null,"",null,null,4]
[{"$f":"IF(Draw!E47=0,\"\",Draw!E47)","v":""},"",275,275,322,189,null,"",null,null,4]
[{"$f":"IF(Draw!E48=0,\"\",Draw!E48)","v":""},"",280,280,328,192,null,"",null,null,4]
[{"$f":"IF(Draw!E49=0,\"\",Draw!E49)","v":""},"",285,285,334,195,null,"",null,null,4]
[{"$f":"IF(Draw!E50=0,\"\",Draw!E50)","v":""},"",290,290,340,198,null,"",null,null,4]
[{"$f":"IF(Draw!E51=0,\"\",Draw!E51)","v":""},"",295,295,346,201,null,"",null,null,4]
[{"$f":"IF(Draw!E52=0,\"\",Draw!E52)","v":""},"",300,300,352,204,null,"",null,null,4]
[{"$f":"IF(Draw!E53=0,\"\",Draw!E53)","v":""},"",305,305,358,207,null,"",null,null,4]
[{"$f":"IF(Draw!E54=0,\"\",Draw!E54)","v":""},"",310,310,364,210,null,"",null,null,4]
[{"$f":"IF(Draw!E55=0,\"\",Draw!E55)","v":""},"",315,315,370,213,null,"",null,null,4]
[{"$f":"IF(Draw!E56=0,\"\",Draw!E56)","v":""},"",320,320,376,216,null,"",null,null,4]
[{"$f":"IF(Draw!E57=0,\"\",Draw!E57)","v":""},"",325,325,382,219,null,"",null,null,4]
[{"$f":"IF(Draw!E58=0,\"\",Draw!E58)","v":""},"",330,330,388,222,null,"",null,null,4]
[{"$f":"IF(Draw!E59=0,\"\",Draw!E59)","v":""},"",335,335,394,225,null,"",null,null,4]
[{"$f":"IF(Draw!E60=0,\"\",Draw!E60)","v":""},"",340,340,400,228,null,"",null,null,4]
[{"$f":"IF(Draw!E61=0,\"\",Draw!E61)","v":""},"",345,345,406,231,null,"",null,null,4]
[{"$f":"IF(Draw!E62=0,\"\",Draw!E62)","v":""},"",350,350,412,234,null,"",null,null,4]
[{"$f":"IF(Draw!E63=0,\"\",Draw!E63)","v":""},"",355,355,418,237,null,"",null,null,4]
[{"$f":"IF(Draw!E64=0,\"\",Draw!E64)","v":""},"",360,360,424,240,null,"",null,null,4]
[{"$f":"IF(Draw!E65=0,\"\",Draw!E65)","v":""},"",365,365,430,243,null,"",null,null,4]
[{"$f":"IF(Draw!E66=0,\"\",Draw!E66)","v":""},"",370,370,436,246,null,"",null,null,4]
[{"$f":"IF(Draw!E67=0,\"\",Draw!E67)","v":""},"",375,375,442,249,null,"",null,null,{"$f":"COUNT(C68:G68)","v":4}]
[{"$f":"IF(Draw!E68=0,\"\",Draw!E68)","v":""},"",380,380,448,252,null,"",null,null,4]
[{"$f":"IF(Draw!E69=0,\"\",Draw!E69)","v":""},{"$f":"IF(A70=\"\",\"\",B$3)","v":""},385,385,454,255,null,{"$f":"IF(B70=\"\",\"\",IF(K70=5,(SUM(C70:G70)-MAX(C70:G70)-MIN(C70:G70))/3,IF(K70=4,(SUM(C70:G70)-MAX(C70:G70))/3,SUM(C70:G70)/3))*B70/7.6)","v":""},null,null,4]
[{"$f":"IF(Draw!E70=0,\"\",Draw!E70)","v":""},"",390,390,460,258,null,"",null,null,4]
[{"$f":"IF(Draw!E71=0,\"\",Draw!E71)","v":""},"",395,395,466,261,null,"",null,null,4]
[{"$f":"IF(Draw!E72=0,\"\",Draw!E72)","v":""},"",400,400,472,264,null,"",null,null,4]
[{"$f":"IF(Draw!E73=0,\"\",Draw!E73)","v":""},"",405,405,478,267,null,"",null,null,4]
[{"$f":"IF(Draw!E74=0,\"\",Draw!E74)","v":""},"",410,410,484,270,null,"",null,null,4]
[{"$f":"IF(Draw!E75=0,\"\",Draw!E75)","v":""},"",415,415,490,273,null,"",null,null,4]
[{"$f":"IF(Draw!E76=0,\"\",Draw!E76)","v":""},"",420,420,496,276,null,"",null,null,4]
[{"$f":"IF(Draw!E77=0,\"\",Draw!E77)","v":""},"",425,425,502,279,null,"",null,null,4]
[{"$f":"IF(Draw!E78=0,\"\",Draw!E78)","v":""},"",430,430,508,282,null,"",null,null,4]
[{"$f":"IF(Draw!E79=0,\"\",Draw!E79)","v":""},"",435,435,514,285,null,"",null,null,4]
[{"$f":"IF(Draw!E80=0,\"\",Draw!E80)","v":""},"",440,440,520,288,null,"",null,null,4]
[{"$f":"IF(Draw!E81=0,\"\",Draw!E81)","v":""},"",445,445,526,291,null,"",null,null,4]
[{"$f":"IF(Draw!E82=0,\"\",Draw!E82)","v":""},"",450,450,532,294,null,"",null,null,4]
[{"$f":"IF(Draw!E83=0,\"\",Draw!E83)","v":""},"",455,455,538,297,null,"",null,null,4]
[{"$f":"IF(Draw!E84=0,\"\",Draw!E84)","v":""},"",460,460,544,300,null,"",null,null,4]
[{"$f":"IF(Draw!E85=0,\"\",Draw!E85)","v":""},"",465,465,550,303,null,"",null,null,4]
[{"$f":"IF(Draw!E86=0,\"\",Draw!E86)","v":""},"",470,470,556,306,null,"",null,null,4]
[{"$f":"IF(Draw!E87=0,\"\",Draw!E87)","v":""},"",475,475,562,309,null,"",null,null,4]
[{"$f":"IF(Draw!E88=0,\"\",Draw!E88)","v":""},"",480,480,568,312,null,"",null,null,4]
[{"$f":"IF(Draw!E89=0,\"\",Draw!E89)","v":""},"",485,485,574,315,null,"",null,null,4]
[{"$f":"IF(Draw!E90=0,\"\",Draw!E90)","v":""},"",490,490,580,318,null,"",null,null,4]
[{"$f":"IF(Draw!E91=0,\"\",Draw!E91)","v":""},"",495,495,586,321,null,"",null,null,4]
[{"$f":"IF(Draw!E92=0,\"\",Draw!E92)","v":""},"",500,500,592,324,null,"",null,null,4]
[{"$f":"IF(Draw!E93=0,\"\",Draw!E93)","v":""},"",505,505,598,327,null,"",null,null,4]
[{"$f":"IF(Draw!E94=0,\"\",Draw!E94)","v":""},"",510,510,604,330,null,"",null,null,4]
[{"$f":"IF(Draw!E95=0,\"\",Draw!E95)","v":""},"",515,515,610,333,null,"",null,null,4]
[{"$f":"IF(Draw!E96=0,\"\",Draw!E96)","v":""},"",520,520,616,336,null,"",null,null,4]
[{"$f":"IF(Draw!E97=0,\"\",Draw!E97)","v":""},"",525,525,622,339,null,"",null,null,4]
[{"$f":"IF(Draw!E98=0,\"\",Draw!E98)","v":""},"",530,530,628,342,null,"",null,null,4]
[{"$f":"IF(Draw!E99=0,\"\",Draw!E99)","v":""},"",535,535,634,345,null,"",null,null,4]
[{"$f":"IF(Draw!E100=0,\"\",Draw!E100)","v":""},"",540,540,640,348,null,"",null,null,4]
[{"$f":"IF(Draw!E101=0,\"\",Draw!E101)","v":""},"",545,545,646,351,null,"",null,null,4]
[{"$f":"IF(Draw!E102=0,\"\",Draw!E102)","v":""},"",550,550,652,354,null,"",null,null,4]
[{"$f":"IF(Draw!E103=0,\"\",Draw!E103)","v":""},"",555,555,658,357,null,"",null,null,4]
[{"$f":"IF(Draw!E104=0,\"\",Draw!E104)","v":""},"",560,560,664,360,null,"",null,null,4]
[{"$f":"IF(Draw!E105=0,\"\",Draw!E105)","v":""},"",565,565,670,363,null,"",null,null,4]
[{"$f":"IF(Draw!E106=0,\"\",Draw!E106)","v":""},"",570,570,676,366,null,"",null,null,4]
[{"$f":"IF(Draw!E107=0,\"\",Draw!E107)","v":""},"",575,575,682,369,null,"",null,null,4]
[{"$f":"IF(Draw!E108=0,\"\",Draw!E108)","v":""},"",580,580,688,372,null,"",null,null,4]
[{"$f":"IF(Draw!E109=0,\"\",Draw!E109)","v":""},"",585,585,694,375,null,"",null,null,4]
[{"$f":"IF(Draw!E110=0,\"\",Draw!E110)","v":""},"",590,590,700,378,null,"",null,null,4]
[{"$f":"IF(Draw!E111=0,\"\",Draw!E111)","v":""},"",595,595,706,381,null,"",null,null,4]
[{"$f":"IF(Draw!E112=0,\"\",Draw!E112)","v":""},"",600,600,712,384,null,"",null,null,4]
[{"$f":"IF(Draw!E113=0,\"\",Draw!E113)","v":""},"",605,605,718,387,null,"",null,null,4]
[{"$f":"IF(Draw!E114=0,\"\",Draw!E114)","v":""},"",610,610,724,390,null,"",null,null,4]
[{"$f":"IF(Draw!E115=0,\"\",Draw!E115)","v":""},"",615,615,730,393,null,"",null,null,4]
[{"$f":"IF(Draw!E116=0,\"\",Draw!E116)","v":""},"",620,620,736,396,null,"",null,null,4]
[{"$f":"IF(Draw!E117=0,\"\",Draw!E117)","v":""},"",625,625,742,399,null,"",null,null,4]
[{"$f":"IF(Draw!E118=0,\"\",Draw!E118)","v":""},"",630,630,748,402,null,"",null,null,4]
[{"$f":"IF(Draw!E119=0,\"\",Draw!E119)","v":""},"",635,635,754,405,null,"",null,null,4]
[{"$f":"IF(Draw!E120=0,\"\",Draw!E120)","v":""},"",640,640,760,408,null,"",null,null,4]
[{"$f":"IF(Draw!E121=0,\"\",Draw!E121)","v":""},"",645,645,766,411,null,"",null,null,4]
[{"$f":"IF(Draw!E122=0,\"\",Draw!E122)","v":""},"",650,650,772,414,null,"",null,null,4]
[{"$f":"IF(Draw!E123=0,\"\",Draw!E123)","v":""},"",655,655,778,417,null,"",null,null,4]
[{"$f":"IF(Draw!E124=0,\"\",Draw!E124)","v":""},"",660,660,784,420,null,"",null,null,4]
[{"$f":"IF(Draw!E125=0,\"\",Draw!E125)","v":""},"",665,665,790,423,null,"",null,null,4]
[{"$f":"IF(Draw!E126=0,\"\",Draw!E126)","v":""},"",670,670,796,426,null,"",null,null,4]
[{"$f":"IF(Draw!E127=0,\"\",Draw!E127)","v":""},"",675,675,802,429,null,"",null,null,4]
[{"$f":"IF(Draw!E128=0,\"\",Draw!E128)","v":""},"",680,680,808,432,null,"",null,null,4]
[{"$f":"IF(Draw!E129=0,\"\",Draw!E129)","v":""},"",685,685,814,435,null,"",null,null,4]
[{"$f":"IF(Draw!E130=0,\"\",Draw!E130)","v":""},"",690,690,820,438,null,"",null,null,4]
[{"$f":"IF(Draw!E131=0,\"\",Draw!E131)","v":""},"",695,695,826,441,null,"",null,null,{"$f":"COUNT(C132:G132)","v":4}]
[{"$f":"IF(Draw!E132=0,\"\",Draw!E132)","v":""},"",700,700,832,444,null,"",null,null,4]
[{"$f":"IF(Draw!E133=0,\"\",Draw!E133)","v":""},{"$f":"IF(A134=\"\",\"\",B$3)","v":""},705,705,838,447,null,{"$f":"IF(B134=\"\",\"\",IF(K134=5,(SUM(C134:G134)-MAX(C134:G134)-MIN(C134:G134))/3,IF(K134=4,(SUM(C134:G134)-MAX(C134:G134))/3,SUM(C134:G134)/3))*B134/7.6)","v":""},null,null,4]
[{"$f":"IF(Draw!E134=0,\"\",Draw!E134)","v":""},"",710,710,844,450,null,"",null,null,4]
[{"$f":"IF(Draw!E135=0,\"\",Draw!E135)","v":""},"",715,715,850,453,null,"",null,null,4]
[{"$f":"IF(Draw!E136=0,\"\",Draw!E136)","v":""},"",720,720,856,456,null,"",null,null,4]
[{"$f":"IF(Draw!E137=0,\"\",Draw!E137)","v":""},"",725,725,862,459,null,"",null,null,4]
[{"$f":"IF(Draw!E138=0,\"\",Draw!E138)","v":""},"",730,730,868,462,null,"",null,null,4]
[{"$f":"IF(Draw!E139=0,\"\",Draw!E139)","v":""},"",735,735,874,465,null,"",null,null,4]
[{"$f":"IF(Draw!E140=0,\"\",Draw!E140)","v":""},"",740,740,880,468,null,"",null,null,4]
[{"$f":"IF(Draw!E141=0,\"\",Draw!E141)","v":""},"",745,745,886,471,null,"",null,null,4]
[{"$f":"IF(Draw!E142=0,\"\",Draw!E142)","v":""},"",750,750,892,474,null,"",null,null,4]
[{"$f":"IF(Draw!E143=0,\"\",Draw!E143)","v":""},"",755,755,898,477,null,"",null,null,4]
[{"$f":"IF(Draw!E144=0,\"\",Draw!E144)","v":""},"",760,760,904,480,null,"",null,null,4]
[{"$f":"IF(Draw!E145=0,\"\",Draw!E145)","v":""},"",765,765,910,483,null,"",null,null,4]
[{"$f":"IF(Draw!E146=0,\"\",Draw!E146)","v":""},"",770,770,916,486,null,"",null,null,4]
[{"$f":"IF(Draw!E147=0,\"\",Draw!E147)","v":""},"",775,775,922,489,null,"",null,null,4]
[{"$f":"IF(Draw!E148=0,\"\",Draw!E148)","v":""},"",780,780,928,492,null,"",null,null,4]
[{"$f":"IF(Draw!E149=0,\"\",Draw!E149)","v":""},"",785,785,934,495,null,"",null,null,4]

{"sheet":"Totals","index":5,"n_rows":151,"n_cols":51,"rows_kept":151,"cut":false,"hidden":false,"merged":[]}
["#","Swimmer","School","Total Score","Place","Figure 1","Figure 2","Figure 3","Figure 4","Penalties","Score"]
[{"$f":"IF(Draw!E2=0,\"\",Draw!E2)","v":1},"Anna Ganser","Osseo-Maple Grove",{"$f":"IF($A2=\"\",\"\",SUM(F2:I2)-J2)","v":58.951754385964918},{"$f":"IF($A2=\"\",\"\",RANK(D2,D$2:D$150))","v":2},{"$f":"IF($A2=\"\",\"\",'Fig 1 Ballet Leg'!H3)","v":12.912280701754387},{"$f":"IF($A2=\"\",\"\",'Fig 2 Barracuda'!H3)","v":15.526315789473685},{"$f":"IF($A2=\"\",\"\",'Fig 3 Neptunus'!H3)","v":14.210526315789474},{"$f":"IF($A2=\"\",\"\",'Fig 4 Walkover'!H3)","v":16.30263157894737},{"$f":"IF($A2=\"\",\"\",'Fig 1 Ballet Leg'!I3+'Fig 2 Barracuda'!I3+'Fig 3 Neptunus'!I3+'Fig 4 Walkover'!I3)","v":0},{"$f":"IF($A2=\"\",\"\",IF(A2=\"\",\"\",VLOOKUP(E2,AX$3:AY$102,2,FALSE)))","v":6}]
[{"$f":"IF(Draw!E3=0,\"\",Draw!E3)","v":2},"Abigail Tollas","Osseo-Maple Grove",{"$f":"IF($A3=\"\",\"\",SUM(F3:I3)-J3)","v":55.811403508771939},{"$f":"IF($A3=\"\",\"\",RANK(D3,D$2:D$150))","v":6},{"$f":"IF($A3=\"\",\"\",'Fig 1 Ballet Leg'!H4)","v":12.210526315789476},{"$f":"IF($A3=\"\",\"\",'Fig 2 Barracuda'!H4)","v":14.561403508771932},{"$f":"IF($A3=\"\",\"\",'Fig 3 Neptunus'!H4)","v":13.657894736842106},{"$f":"IF($A3=\"\",\"\",'Fig 4 Walkover'!H4)","v":15.381578947368423},{"$f":"IF($A3=\"\",\"\",'Fig 1 Ballet Leg'!I4+'Fig 2 Barracuda'!I4+'Fig 3 Neptunus'!I4+'Fig 4 Walkover'!I4)","v":0},{"$f":"IF($A3=\"\",\"\",IF(A3=\"\",\"\",VLOOKUP(E3,AX$3:AY$102,2,FALSE)))","v":2},null,null,null,null,null,null,null,null,null,null,null,null,null,null,null,null,null,null,null,null,null,null,null,null,null,null,null,null,null,null,null,null,null,null,null,null,null,null,1,8]
[{"$f":"IF(Draw!E4=0,\"\",Draw!E4)","v":3},"Shakila Hoke","Columbia Heights",0,21,{"$f":"IF($A4=\"\",\"\",'Fig 1 Ballet Leg'!H5)","v":0},{"$f":"IF($A4=\"\",\"\",'Fig 2 Barracuda'!H5)","v":0},{"$f":"IF($A4=\"\",\"\",'Fig 3 Neptunus'!H5)","v":0},{"$f":"IF($A4=\"\",\"\",'Fig 4 Walkover'!H5)","v":0},{"$f":"IF($A4=\"\",\"\",'Fig 1 Ballet Leg'!I5+'Fig 2 Barracuda'!I5+'Fig 3 Neptunus'!I5+'Fig 4 Walkover'!I5)","v":0},0,null,null,null,null,null,null,null,null,null,null,null,null,null,null,null,null,null,null,null,null,null,null,null,null,null,null,null,null,null,null,null,null,null,null,null,null,null,null,2,6]
[{"$f":"IF(Draw!E5=0,\"\",Draw!E5)","v":4},"Kelly McNamee","Osseo-Maple Grove",{"$f":"IF($A5=\"\",\"\",SUM(F5:I5)-J5)","v":53.548245614035096},{"$f":"IF($A5=\"\",\"\",RANK(D5,D$2:D$150))","v":10},{"$f":"IF($A5=\"\",\"\",'Fig 1 Ballet Leg'!H6)","v":12.070175438596493},{"$f":"IF($A5=\"\",\"\",'Fig 2 Barracuda'!H6)","v":13.859649122807017},{"$f":"IF($A5=\"\",\"\",'Fig 3 Neptunus'!H6)","v":12.236842105263159},{"$f":"IF($A5=\"\",\"\",'Fig 4 Walkover'!H6)","v":15.381578947368423},{"$f":"IF($A5=\"\",\"\",'Fig 1 Ballet Leg'!I6+'Fig 2 Barracuda'!I6+'Fig 3 Neptunus'!I6+'Fig 4 Walkover'!I6)","v":0},{"$f":"IF($A5=\"\",\"\",IF(A5=\"\",\"\",VLOOKUP(E5,AX$3:AY$102,2,FALSE)))","v":0},null,null,null,null,null,null,null,null,null,null,null,null,null,null,null,null,null,null,null,null,null,null,null,null,null,null,null,null,null,null,null,null,null,null,null,null,null,null,3,5]
[{"$f":"IF(Draw!E6=0,\"\",Draw!E6)","v":5},"Jessica Ruohoniemi","Osseo-Maple Grove",51.359649122807021,12,{"$f":"IF($A6=\"\",\"\",'Fig 1 Ballet Leg'!H7)","v":10.807017543859651},{"$f":"IF($A6=\"\",\"\",'Fig 2 Barracuda'!H7)","v":13.947368421052632},{"$f":"IF($A6=\"\",\"\",'Fig 3 Neptunus'!H7)","v":12.236842105263159},{"$f":"IF($A6=\"\",\"\",'Fig 4 Walkover'!H7)","v":14.368421052631581},{"$f":"IF($A6=\"\",\"\",'Fig 1 Ballet Leg'!I7+'Fig 2 Barracuda'!I7+'Fig 3 Neptunus'!I7+'Fig 4 Walkover'!I7)","v":0},0,null,null,null,null,null,null,null,null,null,null,null,null,null,null,null,null,null,null,null,null,null,null,null,null,null,null,null,null,null,null,null,null,null,null,null,null,null,null,4,4]
[{"$f":"IF(Draw!E7=0,\"\",Draw!E7)","v":6},"Katherine Olsen","Osseo-Maple Grove",50.21491228070176,15,{"$f":"IF($A7=\"\",\"\",'Fig 1 Ballet Leg'!H8)","v":10.877192982456142},{"$f":"IF($A7=\"\",\"\",'Fig 2 Barracuda'!H8)","v":13.245614035087721},{"$f":"IF($A7=\"\",\"\",'Fig 3 Neptunus'!H8)","v":11.447368421052632},{"$f":"IF($A7=\"\",\"\",'Fig 4 Walkover'!H8)","v":14.644736842105265},{"$f":"IF($A7=\"\",\"\",'Fig 1 Ballet Leg'!I8+'Fig 2 Barracuda'!I8+'Fig 3 Neptunus'!I8+'Fig 4 Walkover'!I8)","v":0},0,null,null,null,null,null,null,null,null,null,null,null,null,null,null,null,null,null,null,null,null,null,null,null,null,null,null,null,null,null,null,null,null,null,null,null,null,null,null,5,3]
[{"$f":"IF(Draw!E8=0,\"\",Draw!E8)","v":7},"Holly Drazenovich","Osseo-Maple Grove",0,21,{"$f":"IF($A8=\"\",\"\",'Fig 1 Ballet Leg'!H9)","v":0},{"$f":"IF($A8=\"\",\"\",'Fig 2 Barracuda'!H9)","v":0},{"$f":"IF($A8=\"\",\"\",'Fig 3 Neptunus'!H9)","v":0},{"$f":"IF($A8=\"\",\"\",'Fig 4 Walkover'!H9)","v":0},{"$f":"IF($A8=\"\",\"\",'Fig 1 Ballet Leg'!I9+'Fig 2 Barracuda'!I9+'Fig 3 Neptunus'!I9+'Fig 4 Walkover'!I9)","v":0},0,null,null,null,null,null,null,null,null,null,null,null,null,null,null,null,null,null,null,null,null,null,null,null,null,null,null,null,null,null,null,null,null,null,null,null,null,null,null,6,2]
[{"$f":"IF(Draw!E9=0,\"\",Draw!E9)","v":8},"Gabriela Marick","Osseo-Maple Grove",58.30263157894737,3,{"$f":"IF($A9=\"\",\"\",'Fig 1 Ballet Leg'!H10)","v":13.333333333333336},{"$f":"IF($A9=\"\",\"\",'Fig 2 Barracuda'!H10)","v":14.824561403508774},{"$f":"IF($A9=\"\",\"\",'Fig 3 Neptunus'!H10)","v":14.210526315789474},{"$f":"IF($A9=\"\",\"\",'Fig 4 Walkover'!H10)","v":15.934210526315789},{"$f":"IF($A9=\"\",\"\",'Fig 1 Ballet Leg'!I10+'Fig 2 Barracuda'!I10+'Fig 3 Neptunus'!I10+'Fig 4 Walkover'!I10)","v":0},5,null,null,null,null,null,null,null,null,null,null,null,null,null,null,null,null,null,null,null,null,null,null,null,null,null,null,null,null,null,null,null,null,null,null,null,null,null,null,7,1]
[{"$f":"IF(Draw!E10=0,\"\",Draw!E10)","v":9},"Danielle Hawes","Osseo-Maple Grove",50.771929824561404,14,{"$f":"IF($A10=\"\",\"\",'Fig 1 Ballet Leg'!H11)","v":10.17543859649123},{"$f":"IF($A10=\"\",\"\",'Fig 2 Barracuda'!H11)","v":14.385964912280702},{"$f":"IF($A10=\"\",\"\",'Fig 3 Neptunus'!H11)","v":12.394736842105264},{"$f":"IF($A10=\"\",\"\",'Fig 4 Walkover'!H11)","v":13.815789473684211},{"$f":"IF($A10=\"\",\"\",'Fig 1 Ballet Leg'!I11+'Fig 2 Barracuda'!I11+'Fig 3 Neptunus'!I11+'Fig 4 Walkover'!I11)","v":0},0,null,null,null,null,null,null,null,null,null,null,null,null,null,null,null,null,null,null,null,null,null,null,null,null,null,null,null,null,null,null,null,null,null,null,null,null,null,null,8,0]
[{"$f":"IF(Draw!E11=0,\"\",Draw!E11)","v":10},"Hannah Littel","Osseo-Maple Grove",53.263157894736842,11,{"$f":"IF($A11=\"\",\"\",'Fig 1 Ballet Leg'!H12)","v":11.719298245614036},{"$f":"IF($A11=\"\",\"\",'Fig 2 Barracuda'!H12)","v":13.070175438596491},{"$f":"IF($A11=\"\",\"\",'Fig 3 Neptunus'!H12)","v":13.184210526315791},{"$f":"IF($A11=\"\",\"\",'Fig 4 Walkover'!H12)","v":15.289473684210527},{"$f":"IF($A11=\"\",\"\",'Fig 1 Ballet Leg'!I12+'Fig 2 Barracuda'!I12+'Fig 3 Neptunus'!I12+'Fig 4 Walkover'!I12)","v":0},0,null,null,null,null,null,null,null,null,null,null,null,null,null,null,null,null,null,null,null,null,null,null,null,null,null,null,null,null,null,null,null,null,null,null,null,null,null,null,9,0]
[{"$f":"IF(Draw!E12=0,\"\",Draw!E12)","v":11},"Katelyn Moline","Osseo-Maple Grove",45.859649122807014,20,{"$f":"IF($A12=\"\",\"\",'Fig 1 Ballet Leg'!H13)","v":10.105263157894738},{"$f":"IF($A12=\"\",\"\",'Fig 2 Barracuda'!H13)","v":12.280701754385964},{"$f":"IF($A12=\"\",\"\",'Fig 3 Neptunus'!H13)","v":10.578947368421051},{"$f":"IF($A12=\"\",\"\",'Fig 4 Walkover'!H13)","v":12.894736842105264},{"$f":"IF($A12=\"\",\"\",'Fig 1 Ballet Leg'!I13+'Fig 2 Barracuda'!I13+'Fig 3 Neptunus'!I13+'Fig 4 Walkover'!I13)","v":0},0,null,null,null,null,null,null,null,null,null,null,null,null,null,null,null,null,null,null,null,null,null,null,null,null,null,null,null,null,null,null,null,null,null,null,null,null,null,null,10,0]
[{"$f":"IF(Draw!E13=0,\"\",Draw!E13)","v":12},"Hannah Thalhuber","Columbia Heights",49.51315789473685,17,{"$f":"IF($A13=\"\",\"\",'Fig 1 Ballet Leg'!H14)","v":10.526315789473685},{"$f":"IF($A13=\"\",\"\",'Fig 2 Barracuda'!H14)","v":13.947368421052632},{"$f":"IF($A13=\"\",\"\",'Fig 3 Neptunus'!H14)","v":11.684210526315791},{"$f":"IF($A13=\"\",\"\",'Fig 4 Walkover'!H14)","v":13.35526315789474},{"$f":"IF($A13=\"\",\"\",'Fig 1 Ballet Leg'!I14+'Fig 2 Barracuda'!I14+'Fig 3 Neptunus'!I14+'Fig 4 Walkover'!I14)","v":0},0,null,null,null,null,null,null,null,null,null,null,null,null,null,null,null,null,null,null,null,null,null,null,null,null,null,null,null,null,null,null,null,null,null,null,null,null,null,null,11,0]
[{"$f":"IF(Draw!E14=0,\"\",Draw!E14)","v":13},"Marie Vanderwarn","Osseo-Maple Grove",55.236842105263158,7,{"$f":"IF($A14=\"\",\"\",'Fig 1 Ballet Leg'!H15)","v":12.350877192982457},{"$f":"IF($A14=\"\",\"\",'Fig 2 Barracuda'!H15)","v":14.912280701754385},{"$f":"IF($A14=\"\",\"\",'Fig 3 Neptunus'!H15)","v":12.947368421052632},{"$f":"IF($A14=\"\",\"\",'Fig 4 Walkover'!H15)","v":16.026315789473685},{"$f":"IF($A14=\"\",\"\",'Fig 1 Ballet Leg'!I15+'Fig 2 Barracuda'!I15+'Fig 3 Neptunus'!I15+'Fig 4 Walkover'!I15)","v":1},1,null,null,null,null,null,null,null,null,null,null,null,null,null,null,null,null,null,null,null,null,null,null,null,null,null,null,null,null,null,null,null,null,null,null,null,null,null,null,12,0]
[{"$f":"IF(Draw!E15=0,\"\",Draw!E15)","v":14},"Issy Rardin","Columbia Heights",48.109649122807021,18,{"$f":"IF($A15=\"\",\"\",'Fig 1 Ballet Leg'!H16)","v":10.245614035087721},{"$f":"IF($A15=\"\",\"\",'Fig 2 Barracuda'!H16)","v":12.982456140350878},{"$f":"IF($A15=\"\",\"\",'Fig 3 Neptunus'!H16)","v":12.078947368421053},{"$f":"IF($A15=\"\",\"\",'Fig 4 Walkover'!H16)","v":12.80263157894737},{"$f":"IF($A15=\"\",\"\",'Fig 1 Ballet Leg'!I16+'Fig 2 Barracuda'!I16+'Fig 3 Neptunus'!I16+'Fig 4 Walkover'!I16)","v":0},0,null,null,null,null,null,null,null,null,null,null,null,null,null,null,null,null,null,null,null,null,null,null,null,null,null,null,null,null,null,null,null,null,null,null,null,null,null,null,13,0]
[{"$f":"IF(Draw!E16=0,\"\",Draw!E16)","v":15},"Samantha Alexon","Columbia Heights",53.570175438596493,9,{"$f":"IF($A16=\"\",\"\",'Fig 1 Ballet Leg'!H17)","v":12.070175438596493},{"$f":"IF($A16=\"\",\"\",'Fig 2 Barracuda'!H17)","v":14.473684210526317},{"$f":"IF($A16=\"\",\"\",'Fig 3 Neptunus'!H17)","v":13.026315789473685},{"$f":"IF($A16=\"\",\"\",'Fig 4 Walkover'!H17)","v":14.000000000000002},{"$f":"IF($A16=\"\",\"\",'Fig 1 Ballet Leg'!I17+'Fig 2 Barracuda'!I17+'Fig 3 Neptunus'!I17+'Fig 4 Walkover'!I17)","v":0},0,null,null,null,null,null,null,null,null,null,null,null,null,null,null,null,null,null,null,null,null,null,null,null,null,null,null,null,null,null,null,null,null,null,null,null,null,null,null,14,0]
[{"$f":"IF(Draw!E17=0,\"\",Draw!E17)","v":16},"Elisabeth Heitzig","Osseo-Maple Grove",56.01754385964913,5,{"$f":"IF($A17=\"\",\"\",'Fig 1 Ballet Leg'!H18)","v":12.49122807017544},{"$f":"IF($A17=\"\",\"\",'Fig 2 Barracuda'!H18)","v":14.736842105263159},{"$f":"IF($A17=\"\",\"\",'Fig 3 Neptunus'!H18)","v":12.947368421052632},{"$f":"IF($A17=\"\",\"\",'Fig 4 Walkover'!H18)","v":15.842105263157896},{"$f":"IF($A17=\"\",\"\",'Fig 1 Ballet Leg'!I18+'Fig 2 Barracuda'!I18+'Fig 3 Neptunus'!I18+'Fig 4 Walkover'!I18)","v":0},3,null,null,null,null,null,null,null,null,null,null,null,null,null,null,null,null,null,null,null,null,null,null,null,null,null,null,null,null,null,null,null,null,null,null,null,null,null,null,15,0]
[{"$f":"IF(Draw!E18=0,\"\",Draw!E18)","v":17},"Elena Vrba","Osseo-Maple Grove",55.06578947368422,8,{"$f":"IF($A18=\"\",\"\",'Fig 1 Ballet Leg'!H19)","v":11.789473684210527},{"$f":"IF($A18=\"\",\"\",'Fig 2 Barracuda'!H19)","v":15.263157894736842},{"$f":"IF($A18=\"\",\"\",'Fig 3 Neptunus'!H19)","v":12.631578947368421},{"$f":"IF($A18=\"\",\"\",'Fig 4 Walkover'!H19)","v":15.381578947368423},{"$f":"IF($A18=\"\",\"\",'Fig 1 Ballet Leg'!I19+'Fig 2 Barracuda'!I19+'Fig 3 Neptunus'!I19+'Fig 4 Walkover'!I19)","v":0},0,null,null,null,null,null,null,null,null,null,null,null,null,null,null,null,null,null,null,null,null,null,null,null,null,null,null,null,null,null,null,null,null,null,null,null,null,null,null,16,0]
[{"$f":"IF(Draw!E19=0,\"\",Draw!E19)","v":18},"Caroline LaBord","Osseo-Maple Grove",50.140350877192986,16,{"$f":"IF($A19=\"\",\"\",'Fig 1 Ballet Leg'!H20)","v":10.315789473684212},{"$f":"IF($A19=\"\",\"\",'Fig 2 Barracuda'!H20)","v":14.561403508771932},{"$f":"IF($A19=\"\",\"\",'Fig 3 Neptunus'!H20)","v":11.447368421052632},{"$f":"IF($A19=\"\",\"\",'Fig 4 Walkover'!H20)","v":13.815789473684211},{"$f":"IF($A19=\"\",\"\",'Fig 1 Ballet Leg'!I20+'Fig 2 Barracuda'!I20+'Fig 3 Neptunus'!I20+'Fig 4 Walkover'!I20)","v":0},0,null,null,null,null,null,null,null,null,null,null,null,null,null,null,null,null,null,null,null,null,null,null,null,null,null,null,null,null,null,null,null,null,null,null,null,null,null,null,17,0]
[{"$f":"IF(Draw!E20=0,\"\",Draw!E20)","v":19},"Lily Dickson","Columbia Heights",0,21,{"$f":"IF($A20=\"\",\"\",'Fig 1 Ballet Leg'!H21)","v":0},{"$f":"IF($A20=\"\",\"\",'Fig 2 Barracuda'!H21)","v":0},{"$f":"IF($A20=\"\",\"\",'Fig 3 Neptunus'!H21)","v":0},{"$f":"IF($A20=\"\",\"\",'Fig 4 Walkover'!H21)","v":0},{"$f":"IF($A20=\"\",\"\",'Fig 1 Ballet Leg'!I21+'Fig 2 Barracuda'!I21+'Fig 3 Neptunus'!I21+'Fig 4 Walkover'!I21)","v":0},0,null,null,null,null,null,null,null,null,null,null,null,null,null,null,null,null,null,null,null,null,null,null,null,null,null,null,null,null,null,null,null,null,null,null,null,null,null,null,18,0]
[{"$f":"IF(Draw!E21=0,\"\",Draw!E21)","v":20},"Ava Rosengren","Columbia Heights",0,21,{"$f":"IF($A21=\"\",\"\",'Fig 1 Ballet Leg'!H22)","v":0},{"$f":"IF($A21=\"\",\"\",'Fig 2 Barracuda'!H22)","v":0},{"$f":"IF($A21=\"\",\"\",'Fig 3 Neptunus'!H22)","v":0},{"$f":"IF($A21=\"\",\"\",'Fig 4 Walkover'!H22)","v":0},{"$f":"IF($A21=\"\",\"\",'Fig 1 Ballet Leg'!I22+'Fig 2 Barracuda'!I22+'Fig 3 Neptunus'!I22+'Fig 4 Walkover'!I22)","v":0},0,null,null,null,null,null,null,null,null,null,null,null,null,null,null,null,null,null,null,null,null,null,null,null,null,null,null,null,null,null,null,null,null,null,null,null,null,null,null,19,0]
[{"$f":"IF(Draw!E22=0,\"\",Draw!E22)","v":21},"Heather Breidenbach","Osseo-Maple Grove",47.328947368421055,19,{"$f":"IF($A22=\"\",\"\",'Fig 1 Ballet Leg'!H23)","v":9.9649122807017552},{"$f":"IF($A22=\"\",\"\",'Fig 2 Barracuda'!H23)","v":13.508771929824563},{"$f":"IF($A22=\"\",\"\",'Fig 3 Neptunus'!H23)","v":11.052631578947368},{"$f":"IF($A22=\"\",\"\",'Fig 4 Walkover'!H23)","v":12.80263157894737},{"$f":"IF($A22=\"\",\"\",'Fig 1 Ballet Leg'!I23+'Fig 2 Barracuda'!I23+'Fig 3 Neptunus'!I23+'Fig 4 Walkover'!I23)","v":0},0,null,null,null,null,null,null,null,null,null,null,null,null,null,null,null,null,null,null,null,null,null,null,null,null,null,null,null,null,null,null,null,null,null,null,null,null,null,null,20,0]
[{"$f":"IF(Draw!E23=0,\"\",Draw!E23)","v":22},"Elizabeth McBride","Osseo-Maple Grove",60.859649122807028,1,{"$f":"IF($A23=\"\",\"\",'Fig 1 Ballet Leg'!H24)","v":12.912280701754387},{"$f":"IF($A23=\"\",\"\",'Fig 2 Barracuda'!H24)","v":16.315789473684212},{"$f":"IF($A23=\"\",\"\",'Fig 3 Neptunus'!H24)","v":14.684210526315791},{"$f":"IF($A23=\"\",\"\",'Fig 4 Walkover'!H24)","v":16.947368421052634},{"$f":"IF($A23=\"\",\"\",'Fig 1 Ballet Leg'!I24+'Fig 2 Barracuda'!I24+'Fig 3 Neptunus'!I24+'Fig 4 Walkover'!I24)","v":0},8,null,null,null,null,null,null,null,null,null,null,null,null,null,null,null,null,null,null,null,null,null,null,null,null,null,null,null,null,null,null,null,null,null,null,null,null,null,null,21,0]
[{"$f":"IF(Draw!E24=0,\"\",Draw!E24)","v":23},"Emily Barr","Osseo-Maple Grove",50.837719298245617,13,{"$f":"IF($A24=\"\",\"\",'Fig 1 Ballet Leg'!H25)","v":10.035087719298247},{"$f":"IF($A24=\"\",\"\",'Fig 2 Barracuda'!H25)","v":14.210526315789474},{"$f":"IF($A24=\"\",\"\",'Fig 3 Neptunus'!H25)","v":12.868421052631581},{"$f":"IF($A24=\"\",\"\",'Fig 4 Walkover'!H25)","v":13.723684210526317},{"$f":"IF($A24=\"\",\"\",'Fig 1 Ballet Leg'!I25+'Fig 2 Barracuda'!I25+'Fig 3 Neptunus'!I25+'Fig 4 Walkover'!I25)","v":0},0,null,null,null,null,null,null,null,null,null,null,null,null,null,null,null,null,null,null,null,null,null,null,null,null,null,null,null,null,null,null,null,null,null,null,null,null,null,null,22,0]
[{"$f":"IF(Draw!E25=0,\"\",Draw!E25)","v":24},"Alexadra Trudeau","Osseo-Maple Grove",56.605263157894747,4,{"$f":"IF($A25=\"\",\"\",'Fig 1 Ballet Leg'!H26)","v":11.859649122807019},{"$f":"IF($A25=\"\",\"\",'Fig 2 Barracuda'!H26)","v":14.824561403508774},{"$f":"IF($A25=\"\",\"\",'Fig 3 Neptunus'!H26)","v":13.342105263157896},{"$f":"IF($A25=\"\",\"\",'Fig 4 Walkover'!H26)","v":16.578947368421055},{"$f":"IF($A25=\"\",\"\",'Fig 1 Ballet Leg'!I26+'Fig 2 Barracuda'!I26+'Fig 3 Neptunus'!I26+'Fig 4 Walkover'!I26)","v":0},4,null,null,null,null,null,null,null,null,null,null,null,null,null,null,null,null,null,null,null,null,null,null,null,null,null,null,null,null,null,null,null,null,null,null,null,null,null,null,23,0]
[{"$f":"IF(Draw!E26=0,\"\",Draw!E26)","v":""},null,null,"","",{"$f":"IF($A26=\"\",\"\",'Fig 1 Ballet Leg'!H27)","v":""},{"$f":"IF($A26=\"\",\"\",'Fig 2 Barracuda'!H27)","v":""},{"$f":"IF($A26=\"\",\"\",'Fig 3 Neptunus'!H27)","v":""},{"$f":"IF($A26=\"\",\"\",'Fig 4 Walkover'!H27)","v":""},{"$f":"IF($A26=\"\",\"\",'Fig 1 Ballet Leg'!I27+'Fig 2 Barracuda'!I27+'Fig 3 Neptunus'!I27+'Fig 4 Walkover'!I27)","v":""},"",null,null,null,null,null,null,null,null,null,null,null,null,null,null,null,null,null,null,null,null,null,null,null,null,null,null,null,null,null,null,null,null,null,null,null,null,null,null,24,0]
[{"$f":"IF(Draw!E27=0,\"\",Draw!E27)","v":""},null,null,"","",{"$f":"IF($A27=\"\",\"\",'Fig 1 Ballet Leg'!H28)","v":""},{"$f":"IF($A27=\"\",\"\",'Fig 2 Barracuda'!H28)","v":""},{"$f":"IF($A27=\"\",\"\",'Fig 3 Neptunus'!H28)","v":""},{"$f":"IF($A27=\"\",\"\",'Fig 4 Walkover'!H28)","v":""},{"$f":"IF($A27=\"\",\"\",'Fig 1 Ballet Leg'!I28+'Fig 2 Barracuda'!I28+'Fig 3 Neptunus'!I28+'Fig 4 Walkover'!I28)","v":""},"",null,null,null,null,null,null,null,null,null,null,null,null,null,null,null,null,null,null,null,null,null,null,null,null,null,null,null,null,null,null,null,null,null,null,null,null,null,null,25,0]
[{"$f":"IF(Draw!E28=0,\"\",Draw!E28)","v":""},null,null,"","",{"$f":"IF($A28=\"\",\"\",'Fig 1 Ballet Leg'!H29)","v":""},{"$f":"IF($A28=\"\",\"\",'Fig 2 Barracuda'!H29)","v":""},{"$f":"IF($A28=\"\",\"\",'Fig 3 Neptunus'!H29)","v":""},{"$f":"IF($A28=\"\",\"\",'Fig 4 Walkover'!H29)","v":""},{"$f":"IF($A28=\"\",\"\",'Fig 1 Ballet Leg'!I29+'Fig 2 Barracuda'!I29+'Fig 3 Neptunus'!I29+'Fig 4 Walkover'!I29)","v":""},"",null,null,null,null,null,null,null,null,null,null,null,null,null,null,null,null,null,null,null,null,null,null,null,null,null,null,null,null,null,null,null,null,null,null,null,null,null,null,26,0]
[{"$f":"IF(Draw!E29=0,\"\",Draw!E29)","v":""},null,null,"","",{"$f":"IF($A29=\"\",\"\",'Fig 1 Ballet Leg'!H30)","v":""},{"$f":"IF($A29=\"\",\"\",'Fig 2 Barracuda'!H30)","v":""},{"$f":"IF($A29=\"\",\"\",'Fig 3 Neptunus'!H30)","v":""},{"$f":"IF($A29=\"\",\"\",'Fig 4 Walkover'!H30)","v":""},{"$f":"IF($A29=\"\",\"\",'Fig 1 Ballet Leg'!I30+'Fig 2 Barracuda'!I30+'Fig 3 Neptunus'!I30+'Fig 4 Walkover'!I30)","v":""},"",null,null,null,null,null,null,null,null,null,null,null,null,null,null,null,null,null,null,null,null,null,null,null,null,null,null,null,null,null,null,null,null,null,null,null,null,null,null,27,0]
[{"$f":"IF(Draw!E30=0,\"\",Draw!E30)","v":""},null,null,"","",{"$f":"IF($A30=\"\",\"\",'Fig 1 Ballet Leg'!H31)","v":""},{"$f":"IF($A30=\"\",\"\",'Fig 2 Barracuda'!H31)","v":""},{"$f":"IF($A30=\"\",\"\",'Fig 3 Neptunus'!H31)","v":""},{"$f":"IF($A30=\"\",\"\",'Fig 4 Walkover'!H31)","v":""},{"$f":"IF($A30=\"\",\"\",'Fig 1 Ballet Leg'!I31+'Fig 2 Barracuda'!I31+'Fig 3 Neptunus'!I31+'Fig 4 Walkover'!I31)","v":""},"",null,null,null,null,null,null,null,null,null,null,null,null,null,null,null,null,null,null,null,null,null,null,null,null,null,null,null,null,null,null,null,null,null,null,null,null,null,null,28,0]
[{"$f":"IF(Draw!E31=0,\"\",Draw!E31)","v":""},null,null,"","",{"$f":"IF($A31=\"\",\"\",'Fig 1 Ballet Leg'!H32)","v":""},{"$f":"IF($A31=\"\",\"\",'Fig 2 Barracuda'!H32)","v":""},{"$f":"IF($A31=\"\",\"\",'Fig 3 Neptunus'!H32)","v":""},{"$f":"IF($A31=\"\",\"\",'Fig 4 Walkover'!H32)","v":""},{"$f":"IF($A31=\"\",\"\",'Fig 1 Ballet Leg'!I32+'Fig 2 Barracuda'!I32+'Fig 3 Neptunus'!I32+'Fig 4 Walkover'!I32)","v":""},"",null,null,null,null,null,null,null,null,null,null,null,null,null,null,null,null,null,null,null,null,null,null,null,null,null,null,null,null,null,null,null,null,null,null,null,null,null,null,29,0]
[{"$f":"IF(Draw!E32=0,\"\",Draw!E32)","v":""},null,null,"","",{"$f":"IF($A32=\"\",\"\",'Fig 1 Ballet Leg'!H33)","v":""},{"$f":"IF($A32=\"\",\"\",'Fig 2 Barracuda'!H33)","v":""},{"$f":"IF($A32=\"\",\"\",'Fig 3 Neptunus'!H33)","v":""},{"$f":"IF($A32=\"\",\"\",'Fig 4 Walkover'!H33)","v":""},{"$f":"IF($A32=\"\",\"\",'Fig 1 Ballet Leg'!I33+'Fig 2 Barracuda'!I33+'Fig 3 Neptunus'!I33+'Fig 4 Walkover'!I33)","v":""},"",null,null,null,null,null,null,null,null,null,null,null,null,null,null,null,null,null,null,null,null,null,null,null,null,null,null,null,null,null,null,null,null,null,null,null,null,null,null,30,0]
[{"$f":"IF(Draw!E33=0,\"\",Draw!E33)","v":""},null,null,"","",{"$f":"IF($A33=\"\",\"\",'Fig 1 Ballet Leg'!H34)","v":""},{"$f":"IF($A33=\"\",\"\",'Fig 2 Barracuda'!H34)","v":""},{"$f":"IF($A33=\"\",\"\",'Fig 3 Neptunus'!H34)","v":""},{"$f":"IF($A33=\"\",\"\",'Fig 4 Walkover'!H34)","v":""},{"$f":"IF($A33=\"\",\"\",'Fig 1 Ballet Leg'!I34+'Fig 2 Barracuda'!I34+'Fig 3 Neptunus'!I34+'Fig 4 Walkover'!I34)","v":""},"",null,null,null,null,null,null,null,null,null,null,null,null,null,null,null,null,null,null,null,null,null,null,null,null,null,null,null,null,null,null,null,null,null,null,null,null,null,null,31,0]
[{"$f":"IF(Draw!E34=0,\"\",Draw!E34)","v":""},null,null,"","",{"$f":"IF($A34=\"\",\"\",'Fig 1 Ballet Leg'!H35)","v":""},{"$f":"IF($A34=\"\",\"\",'Fig 2 Barracuda'!H35)","v":""},{"$f":"IF($A34=\"\",\"\",'Fig 3 Neptunus'!H35)","v":""},{"$f":"IF($A34=\"\",\"\",'Fig 4 Walkover'!H35)","v":""},{"$f":"IF($A34=\"\",\"\",'Fig 1 Ballet Leg'!I35+'Fig 2 Barracuda'!I35+'Fig 3 Neptunus'!I35+'Fig 4 Walkover'!I35)","v":""},"",null,null,null,null,null,null,null,null,null,null,null,null,null,null,null,null,null,null,null,null,null,null,null,null,null,null,null,null,null,null,null,null,null,null,null,null,null,null,32,0]
[{"$f":"IF(Draw!E35=0,\"\",Draw!E35)","v":""},null,null,"","",{"$f":"IF($A35=\"\",\"\",'Fig 1 Ballet Leg'!H36)","v":""},{"$f":"IF($A35=\"\",\"\",'Fig 2 Barracuda'!H36)","v":""},{"$f":"IF($A35=\"\",\"\",'Fig 3 Neptunus'!H36)","v":""},{"$f":"IF($A35=\"\",\"\",'Fig 4 Walkover'!H36)","v":""},{"$f":"IF($A35=\"\",\"\",'Fig 1 Ballet Leg'!I36+'Fig 2 Barracuda'!I36+'Fig 3 Neptunus'!I36+'Fig 4 Walkover'!I36)","v":""},"",null,null,null,null,null,null,null,null,null,null,null,null,null,null,null,null,null,null,null,null,null,null,null,null,null,null,null,null,null,null,null,null,null,null,null,null,null,null,33,0]
[{"$f":"IF(Draw!E36=0,\"\",Draw!E36)","v":""},null,null,"","",{"$f":"IF($A36=\"\",\"\",'Fig 1 Ballet Leg'!H37)","v":""},{"$f":"IF($A36=\"\",\"\",'Fig 2 Barracuda'!H37)","v":""},{"$f":"IF($A36=\"\",\"\",'Fig 3 Neptunus'!H37)","v":""},{"$f":"IF($A36=\"\",\"\",'Fig 4 Walkover'!H37)","v":""},{"$f":"IF($A36=\"\",\"\",'Fig 1 Ballet Leg'!I37+'Fig 2 Barracuda'!I37+'Fig 3 Neptunus'!I37+'Fig 4 Walkover'!I37)","v":""},"",null,null,null,null,null,null,null,null,null,null,null,null,null,null,null,null,null,null,null,null,null,null,null,null,null,null,null,null,null,null,null,null,null,null,null,null,null,null,34,0]
[{"$f":"IF(Draw!E37=0,\"\",Draw!E37)","v":""},null,null,"","",{"$f":"IF($A37=\"\",\"\",'Fig 1 Ballet Leg'!H38)","v":""},{"$f":"IF($A37=\"\",\"\",'Fig 2 Barracuda'!H38)","v":""},{"$f":"IF($A37=\"\",\"\",'Fig 3 Neptunus'!H38)","v":""},{"$f":"IF($A37=\"\",\"\",'Fig 4 Walkover'!H38)","v":""},{"$f":"IF($A37=\"\",\"\",'Fig 1 Ballet Leg'!I38+'Fig 2 Barracuda'!I38+'Fig 3 Neptunus'!I38+'Fig 4 Walkover'!I38)","v":""},"",null,null,null,null,null,null,null,null,null,null,null,null,null,null,null,null,null,null,null,null,null,null,null,null,null,null,null,null,null,null,null,null,null,null,null,null,null,null,35,0]
[{"$f":"IF(Draw!E38=0,\"\",Draw!E38)","v":""},null,null,"","",{"$f":"IF($A38=\"\",\"\",'Fig 1 Ballet Leg'!H39)","v":""},{"$f":"IF($A38=\"\",\"\",'Fig 2 Barracuda'!H39)","v":""},{"$f":"IF($A38=\"\",\"\",'Fig 3 Neptunus'!H39)","v":""},{"$f":"IF($A38=\"\",\"\",'Fig 4 Walkover'!H39)","v":""},{"$f":"IF($A38=\"\",\"\",'Fig 1 Ballet Leg'!I39+'Fig 2 Barracuda'!I39+'Fig 3 Neptunus'!I39+'Fig 4 Walkover'!I39)","v":""},"",null,null,null,null,null,null,null,null,null,null,null,null,null,null,null,null,null,null,null,null,null,null,null,null,null,null,null,null,null,null,null,null,null,null,null,null,null,null,36,0]
[{"$f":"IF(Draw!E39=0,\"\",Draw!E39)","v":""},null,null,"","",{"$f":"IF($A39=\"\",\"\",'Fig 1 Ballet Leg'!H40)","v":""},{"$f":"IF($A39=\"\",\"\",'Fig 2 Barracuda'!H40)","v":""},{"$f":"IF($A39=\"\",\"\",'Fig 3 Neptunus'!H40)","v":""},{"$f":"IF($A39=\"\",\"\",'Fig 4 Walkover'!H40)","v":""},{"$f":"IF($A39=\"\",\"\",'Fig 1 Ballet Leg'!I40+'Fig 2 Barracuda'!I40+'Fig 3 Neptunus'!I40+'Fig 4 Walkover'!I40)","v":""},"",null,null,null,null,null,null,null,null,null,null,null,null,null,null,null,null,null,null,null,null,null,null,null,null,null,null,null,null,null,null,null,null,null,null,null,null,null,null,37,0]
[{"$f":"IF(Draw!E40=0,\"\",Draw!E40)","v":""},null,null,"","",{"$f":"IF($A40=\"\",\"\",'Fig 1 Ballet Leg'!H41)","v":""},{"$f":"IF($A40=\"\",\"\",'Fig 2 Barracuda'!H41)","v":""},{"$f":"IF($A40=\"\",\"\",'Fig 3 Neptunus'!H41)","v":""},{"$f":"IF($A40=\"\",\"\",'Fig 4 Walkover'!H41)","v":""},{"$f":"IF($A40=\"\",\"\",'Fig 1 Ballet Leg'!I41+'Fig 2 Barracuda'!I41+'Fig 3 Neptunus'!I41+'Fig 4 Walkover'!I41)","v":""},"",null,null,null,null,null,null,null,null,null,null,null,null,null,null,null,null,null,null,null,null,null,null,null,null,null,null,null,null,null,null,null,null,null,null,null,null,null,null,38,0]
[{"$f":"IF(Draw!E41=0,\"\",Draw!E41)","v":""},null,null,"","",{"$f":"IF($A41=\"\",\"\",'Fig 1 Ballet Leg'!H42)","v":""},{"$f":"IF($A41=\"\",\"\",'Fig 2 Barracuda'!H42)","v":""},{"$f":"IF($A41=\"\",\"\",'Fig 3 Neptunus'!H42)","v":""},{"$f":"IF($A41=\"\",\"\",'Fig 4 Walkover'!H42)","v":""},{"$f":"IF($A41=\"\",\"\",'Fig 1 Ballet Leg'!I42+'Fig 2 Barracuda'!I42+'Fig 3 Neptunus'!I42+'Fig 4 Walkover'!I42)","v":""},"",null,null,null,null,null,null,null,null,null,null,null,null,null,null,null,null,null,null,null,null,null,null,null,null,null,null,null,null,null,null,null,null,null,null,null,null,null,null,39,0]
[{"$f":"IF(Draw!E42=0,\"\",Draw!E42)","v":""},null,null,"","",{"$f":"IF($A42=\"\",\"\",'Fig 1 Ballet Leg'!H43)","v":""},{"$f":"IF($A42=\"\",\"\",'Fig 2 Barracuda'!H43)","v":""},{"$f":"IF($A42=\"\",\"\",'Fig 3 Neptunus'!H43)","v":""},{"$f":"IF($A42=\"\",\"\",'Fig 4 Walkover'!H43)","v":""},{"$f":"IF($A42=\"\",\"\",'Fig 1 Ballet Leg'!I43+'Fig 2 Barracuda'!I43+'Fig 3 Neptunus'!I43+'Fig 4 Walkover'!I43)","v":""},"",null,null,null,null,null,null,null,null,null,null,null,null,null,null,null,null,null,null,null,null,null,null,null,null,null,null,null,null,null,null,null,null,null,null,null,null,null,null,40,0]
[{"$f":"IF(Draw!E43=0,\"\",Draw!E43)","v":""},null,null,"","",{"$f":"IF($A43=\"\",\"\",'Fig 1 Ballet Leg'!H44)","v":""},{"$f":"IF($A43=\"\",\"\",'Fig 2 Barracuda'!H44)","v":""},{"$f":"IF($A43=\"\",\"\",'Fig 3 Neptunus'!H44)","v":""},{"$f":"IF($A43=\"\",\"\",'Fig 4 Walkover'!H44)","v":""},{"$f":"IF($A43=\"\",\"\",'Fig 1 Ballet Leg'!I44+'Fig 2 Barracuda'!I44+'Fig 3 Neptunus'!I44+'Fig 4 Walkover'!I44)","v":""},"",null,null,null,null,null,null,null,null,null,null,null,null,null,null,null,null,null,null,null,null,null,null,null,null,null,null,null,null,null,null,null,null,null,null,null,null,null,null,41,0]
[{"$f":"IF(Draw!E44=0,\"\",Draw!E44)","v":""},null,null,"","",{"$f":"IF($A44=\"\",\"\",'Fig 1 Ballet Leg'!H45)","v":""},{"$f":"IF($A44=\"\",\"\",'Fig 2 Barracuda'!H45)","v":""},{"$f":"IF($A44=\"\",\"\",'Fig 3 Neptunus'!H45)","v":""},{"$f":"IF($A44=\"\",\"\",'Fig 4 Walkover'!H45)","v":""},{"$f":"IF($A44=\"\",\"\",'Fig 1 Ballet Leg'!I45+'Fig 2 Barracuda'!I45+'Fig 3 Neptunus'!I45+'Fig 4 Walkover'!I45)","v":""},"",null,null,null,null,null,null,null,null,null,null,null,null,null,null,null,null,null,null,null,null,null,null,null,null,null,null,null,null,null,null,null,null,null,null,null,null,null,null,42,0]
[{"$f":"IF(Draw!E45=0,\"\",Draw!E45)","v":""},null,null,"","",{"$f":"IF($A45=\"\",\"\",'Fig 1 Ballet Leg'!H46)","v":""},{"$f":"IF($A45=\"\",\"\",'Fig 2 Barracuda'!H46)","v":""},{"$f":"IF($A45=\"\",\"\",'Fig 3 Neptunus'!H46)","v":""},{"$f":"IF($A45=\"\",\"\",'Fig 4 Walkover'!H46)","v":""},{"$f":"IF($A45=\"\",\"\",'Fig 1 Ballet Leg'!I46+'Fig 2 Barracuda'!I46+'Fig 3 Neptunus'!I46+'Fig 4 Walkover'!I46)","v":""},"",null,null,null,null,null,null,null,null,null,null,null,null,null,null,null,null,null,null,null,null,null,null,null,null,null,null,null,null,null,null,null,null,null,null,null,null,null,null,43,0]
[{"$f":"IF(Draw!E46=0,\"\",Draw!E46)","v":""},null,null,"","",{"$f":"IF($A46=\"\",\"\",'Fig 1 Ballet Leg'!H47)","v":""},{"$f":"IF($A46=\"\",\"\",'Fig 2 Barracuda'!H47)","v":""},{"$f":"IF($A46=\"\",\"\",'Fig 3 Neptunus'!H47)","v":""},{"$f":"IF($A46=\"\",\"\",'Fig 4 Walkover'!H47)","v":""},{"$f":"IF($A46=\"\",\"\",'Fig 1 Ballet Leg'!I47+'Fig 2 Barracuda'!I47+'Fig 3 Neptunus'!I47+'Fig 4 Walkover'!I47)","v":""},"",null,null,null,null,null,null,null,null,null,null,null,null,null,null,null,null,null,null,null,null,null,null,null,null,null,null,null,null,null,null,null,null,null,null,null,null,null,null,44,0]
[{"$f":"IF(Draw!E47=0,\"\",Draw!E47)","v":""},null,null,"","",{"$f":"IF($A47=\"\",\"\",'Fig 1 Ballet Leg'!H48)","v":""},{"$f":"IF($A47=\"\",\"\",'Fig 2 Barracuda'!H48)","v":""},{"$f":"IF($A47=\"\",\"\",'Fig 3 Neptunus'!H48)","v":""},{"$f":"IF($A47=\"\",\"\",'Fig 4 Walkover'!H48)","v":""},{"$f":"IF($A47=\"\",\"\",'Fig 1 Ballet Leg'!I48+'Fig 2 Barracuda'!I48+'Fig 3 Neptunus'!I48+'Fig 4 Walkover'!I48)","v":""},"",null,null,null,null,null,null,null,null,null,null,null,null,null,null,null,null,null,null,null,null,null,null,null,null,null,null,null,null,null,null,null,null,null,null,null,null,null,null,45,0]
[{"$f":"IF(Draw!E48=0,\"\",Draw!E48)","v":""},null,null,"","",{"$f":"IF($A48=\"\",\"\",'Fig 1 Ballet Leg'!H49)","v":""},{"$f":"IF($A48=\"\",\"\",'Fig 2 Barracuda'!H49)","v":""},{"$f":"IF($A48=\"\",\"\",'Fig 3 Neptunus'!H49)","v":""},{"$f":"IF($A48=\"\",\"\",'Fig 4 Walkover'!H49)","v":""},{"$f":"IF($A48=\"\",\"\",'Fig 1 Ballet Leg'!I49+'Fig 2 Barracuda'!I49+'Fig 3 Neptunus'!I49+'Fig 4 Walkover'!I49)","v":""},"",null,null,null,null,null,null,null,null,null,null,null,null,null,null,null,null,null,null,null,null,null,null,null,null,null,null,null,null,null,null,null,null,null,null,null,null,null,null,46,0]
[{"$f":"IF(Draw!E49=0,\"\",Draw!E49)","v":""},null,null,"","",{"$f":"IF($A49=\"\",\"\",'Fig 1 Ballet Leg'!H50)","v":""},{"$f":"IF($A49=\"\",\"\",'Fig 2 Barracuda'!H50)","v":""},{"$f":"IF($A49=\"\",\"\",'Fig 3 Neptunus'!H50)","v":""},{"$f":"IF($A49=\"\",\"\",'Fig 4 Walkover'!H50)","v":""},{"$f":"IF($A49=\"\",\"\",'Fig 1 Ballet Leg'!I50+'Fig 2 Barracuda'!I50+'Fig 3 Neptunus'!I50+'Fig 4 Walkover'!I50)","v":""},"",null,null,null,null,null,null,null,null,null,null,null,null,null,null,null,null,null,null,null,null,null,null,null,null,null,null,null,null,null,null,null,null,null,null,null,null,null,null,47,0]
[{"$f":"IF(Draw!E50=0,\"\",Draw!E50)","v":""},null,null,"","",{"$f":"IF($A50=\"\",\"\",'Fig 1 Ballet Leg'!H51)","v":""},{"$f":"IF($A50=\"\",\"\",'Fig 2 Barracuda'!H51)","v":""},{"$f":"IF($A50=\"\",\"\",'Fig 3 Neptunus'!H51)","v":""},{"$f":"IF($A50=\"\",\"\",'Fig 4 Walkover'!H51)","v":""},{"$f":"IF($A50=\"\",\"\",'Fig 1 Ballet Leg'!I51+'Fig 2 Barracuda'!I51+'Fig 3 Neptunus'!I51+'Fig 4 Walkover'!I51)","v":""},"",null,null,null,null,null,null,null,null,null,null,null,null,null,null,null,null,null,null,null,null,null,null,null,null,null,null,null,null,null,null,null,null,null,null,null,null,null,null,48,0]
[{"$f":"IF(Draw!E51=0,\"\",Draw!E51)","v":""},null,null,"","",{"$f":"IF($A51=\"\",\"\",'Fig 1 Ballet Leg'!H52)","v":""},{"$f":"IF($A51=\"\",\"\",'Fig 2 Barracuda'!H52)","v":""},{"$f":"IF($A51=\"\",\"\",'Fig 3 Neptunus'!H52)","v":""},{"$f":"IF($A51=\"\",\"\",'Fig 4 Walkover'!H52)","v":""},{"$f":"IF($A51=\"\",\"\",'Fig 1 Ballet Leg'!I52+'Fig 2 Barracuda'!I52+'Fig 3 Neptunus'!I52+'Fig 4 Walkover'!I52)","v":""},"",null,null,null,null,null,null,null,null,null,null,null,null,null,null,null,null,null,null,null,null,null,null,null,null,null,null,null,null,null,null,null,null,null,null,null,null,null,null,49,0]
[{"$f":"IF(Draw!E52=0,\"\",Draw!E52)","v":""},null,null,"","",{"$f":"IF($A52=\"\",\"\",'Fig 1 Ballet Leg'!H53)","v":""},{"$f":"IF($A52=\"\",\"\",'Fig 2 Barracuda'!H53)","v":""},{"$f":"IF($A52=\"\",\"\",'Fig 3 Neptunus'!H53)","v":""},{"$f":"IF($A52=\"\",\"\",'Fig 4 Walkover'!H53)","v":""},{"$f":"IF($A52=\"\",\"\",'Fig 1 Ballet Leg'!I53+'Fig 2 Barracuda'!I53+'Fig 3 Neptunus'!I53+'Fig 4 Walkover'!I53)","v":""},"",null,null,null,null,null,null,null,null,null,null,null,null,null,null,null,null,null,null,null,null,null,null,null,null,null,null,null,null,null,null,null,null,null,null,null,null,null,null,50,0]
[{"$f":"IF(Draw!E53=0,\"\",Draw!E53)","v":""},null,null,"","",{"$f":"IF($A53=\"\",\"\",'Fig 1 Ballet Leg'!H54)","v":""},{"$f":"IF($A53=\"\",\"\",'Fig 2 Barracuda'!H54)","v":""},{"$f":"IF($A53=\"\",\"\",'Fig 3 Neptunus'!H54)","v":""},{"$f":"IF($A53=\"\",\"\",'Fig 4 Walkover'!H54)","v":""},{"$f":"IF($A53=\"\",\"\",'Fig 1 Ballet Leg'!I54+'Fig 2 Barracuda'!I54+'Fig 3 Neptunus'!I54+'Fig 4 Walkover'!I54)","v":""},"",null,null,null,null,null,null,null,null,null,null,null,null,null,null,null,null,null,null,null,null,null,null,null,null,null,null,null,null,null,null,null,null,null,null,null,null,null,null,51,0]
[{"$f":"IF(Draw!E54=0,\"\",Draw!E54)","v":""},null,null,"","",{"$f":"IF($A54=\"\",\"\",'Fig 1 Ballet Leg'!H55)","v":""},{"$f":"IF($A54=\"\",\"\",'Fig 2 Barracuda'!H55)","v":""},{"$f":"IF($A54=\"\",\"\",'Fig 3 Neptunus'!H55)","v":""},{"$f":"IF($A54=\"\",\"\",'Fig 4 Walkover'!H55)","v":""},{"$f":"IF($A54=\"\",\"\",'Fig 1 Ballet Leg'!I55+'Fig 2 Barracuda'!I55+'Fig 3 Neptunus'!I55+'Fig 4 Walkover'!I55)","v":""},"",null,null,null,null,null,null,null,null,null,null,null,null,null,null,null,null,null,null,null,null,null,null,null,null,null,null,null,null,null,null,null,null,null,null,null,null,null,null,52,0]
[{"$f":"IF(Draw!E55=0,\"\",Draw!E55)","v":""},null,null,"","",{"$f":"IF($A55=\"\",\"\",'Fig 1 Ballet Leg'!H56)","v":""},{"$f":"IF($A55=\"\",\"\",'Fig 2 Barracuda'!H56)","v":""},{"$f":"IF($A55=\"\",\"\",'Fig 3 Neptunus'!H56)","v":""},{"$f":"IF($A55=\"\",\"\",'Fig 4 Walkover'!H56)","v":""},{"$f":"IF($A55=\"\",\"\",'Fig 1 Ballet Leg'!I56+'Fig 2 Barracuda'!I56+'Fig 3 Neptunus'!I56+'Fig 4 Walkover'!I56)","v":""},"",null,null,null,null,null,null,null,null,null,null,null,null,null,null,null,null,null,null,null,null,null,null,null,null,null,null,null,null,null,null,null,null,null,null,null,null,null,null,53,0]
[{"$f":"IF(Draw!E56=0,\"\",Draw!E56)","v":""},null,null,"","",{"$f":"IF($A56=\"\",\"\",'Fig 1 Ballet Leg'!H57)","v":""},{"$f":"IF($A56=\"\",\"\",'Fig 2 Barracuda'!H57)","v":""},{"$f":"IF($A56=\"\",\"\",'Fig 3 Neptunus'!H57)","v":""},{"$f":"IF($A56=\"\",\"\",'Fig 4 Walkover'!H57)","v":""},{"$f":"IF($A56=\"\",\"\",'Fig 1 Ballet Leg'!I57+'Fig 2 Barracuda'!I57+'Fig 3 Neptunus'!I57+'Fig 4 Walkover'!I57)","v":""},"",null,null,null,null,null,null,null,null,null,null,null,null,null,null,null,null,null,null,null,null,null,null,null,null,null,null,null,null,null,null,null,null,null,null,null,null,null,null,54,0]
[{"$f":"IF(Draw!E57=0,\"\",Draw!E57)","v":""},null,null,"","",{"$f":"IF($A57=\"\",\"\",'Fig 1 Ballet Leg'!H58)","v":""},{"$f":"IF($A57=\"\",\"\",'Fig 2 Barracuda'!H58)","v":""},{"$f":"IF($A57=\"\",\"\",'Fig 3 Neptunus'!H58)","v":""},{"$f":"IF($A57=\"\",\"\",'Fig 4 Walkover'!H58)","v":""},{"$f":"IF($A57=\"\",\"\",'Fig 1 Ballet Leg'!I58+'Fig 2 Barracuda'!I58+'Fig 3 Neptunus'!I58+'Fig 4 Walkover'!I58)","v":""},"",null,null,null,null,null,null,null,null,null,null,null,null,null,null,null,null,null,null,null,null,null,null,null,null,null,null,null,null,null,null,null,null,null,null,null,null,null,null,55,0]
[{"$f":"IF(Draw!E58=0,\"\",Draw!E58)","v":""},null,null,"","",{"$f":"IF($A58=\"\",\"\",'Fig 1 Ballet Leg'!H59)","v":""},{"$f":"IF($A58=\"\",\"\",'Fig 2 Barracuda'!H59)","v":""},{"$f":"IF($A58=\"\",\"\",'Fig 3 Neptunus'!H59)","v":""},{"$f":"IF($A58=\"\",\"\",'Fig 4 Walkover'!H59)","v":""},{"$f":"IF($A58=\"\",\"\",'Fig 1 Ballet Leg'!I59+'Fig 2 Barracuda'!I59+'Fig 3 Neptunus'!I59+'Fig 4 Walkover'!I59)","v":""},"",null,null,null,null,null,null,null,null,null,null,null,null,null,null,null,null,null,null,null,null,null,null,null,null,null,null,null,null,null,null,null,null,null,null,null,null,null,null,56,0]
[{"$f":"IF(Draw!E59=0,\"\",Draw!E59)","v":""},null,null,"","",{"$f":"IF($A59=\"\",\"\",'Fig 1 Ballet Leg'!H60)","v":""},{"$f":"IF($A59=\"\",\"\",'Fig 2 Barracuda'!H60)","v":""},{"$f":"IF($A59=\"\",\"\",'Fig 3 Neptunus'!H60)","v":""},{"$f":"IF($A59=\"\",\"\",'Fig 4 Walkover'!H60)","v":""},{"$f":"IF($A59=\"\",\"\",'Fig 1 Ballet Leg'!I60+'Fig 2 Barracuda'!I60+'Fig 3 Neptunus'!I60+'Fig 4 Walkover'!I60)","v":""},"",null,null,null,null,null,null,null,null,null,null,null,null,null,null,null,null,null,null,null,null,null,null,null,null,null,null,null,null,null,null,null,null,null,null,null,null,null,null,57,0]
[{"$f":"IF(Draw!E60=0,\"\",Draw!E60)","v":""},null,null,"","",{"$f":"IF($A60=\"\",\"\",'Fig 1 Ballet Leg'!H61)","v":""},{"$f":"IF($A60=\"\",\"\",'Fig 2 Barracuda'!H61)","v":""},{"$f":"IF($A60=\"\",\"\",'Fig 3 Neptunus'!H61)","v":""},{"$f":"IF($A60=\"\",\"\",'Fig 4 Walkover'!H61)","v":""},{"$f":"IF($A60=\"\",\"\",'Fig 1 Ballet Leg'!I61+'Fig 2 Barracuda'!I61+'Fig 3 Neptunus'!I61+'Fig 4 Walkover'!I61)","v":""},"",null,null,null,null,null,null,null,null,null,null,null,null,null,null,null,null,null,null,null,null,null,null,null,null,null,null,null,null,null,null,null,null,null,null,null,null,null,null,58,0]
[{"$f":"IF(Draw!E61=0,\"\",Draw!E61)","v":""},null,null,"","",{"$f":"IF($A61=\"\",\"\",'Fig 1 Ballet Leg'!H62)","v":""},{"$f":"IF($A61=\"\",\"\",'Fig 2 Barracuda'!H62)","v":""},{"$f":"IF($A61=\"\",\"\",'Fig 3 Neptunus'!H62)","v":""},{"$f":"IF($A61=\"\",\"\",'Fig 4 Walkover'!H62)","v":""},{"$f":"IF($A61=\"\",\"\",'Fig 1 Ballet Leg'!I62+'Fig 2 Barracuda'!I62+'Fig 3 Neptunus'!I62+'Fig 4 Walkover'!I62)","v":""},"",null,null,null,null,null,null,null,null,null,null,null,null,null,null,null,null,null,null,null,null,null,null,null,null,null,null,null,null,null,null,null,null,null,null,null,null,null,null,59,0]
[{"$f":"IF(Draw!E62=0,\"\",Draw!E62)","v":""},null,null,"","",{"$f":"IF($A62=\"\",\"\",'Fig 1 Ballet Leg'!H63)","v":""},{"$f":"IF($A62=\"\",\"\",'Fig 2 Barracuda'!H63)","v":""},{"$f":"IF($A62=\"\",\"\",'Fig 3 Neptunus'!H63)","v":""},{"$f":"IF($A62=\"\",\"\",'Fig 4 Walkover'!H63)","v":""},{"$f":"IF($A62=\"\",\"\",'Fig 1 Ballet Leg'!I63+'Fig 2 Barracuda'!I63+'Fig 3 Neptunus'!I63+'Fig 4 Walkover'!I63)","v":""},"",null,null,null,null,null,null,null,null,null,null,null,null,null,null,null,null,null,null,null,null,null,null,null,null,null,null,null,null,null,null,null,null,null,null,null,null,null,null,60,0]
[{"$f":"IF(Draw!E63=0,\"\",Draw!E63)","v":""},null,null,"","",{"$f":"IF($A63=\"\",\"\",'Fig 1 Ballet Leg'!H64)","v":""},{"$f":"IF($A63=\"\",\"\",'Fig 2 Barracuda'!H64)","v":""},{"$f":"IF($A63=\"\",\"\",'Fig 3 Neptunus'!H64)","v":""},{"$f":"IF($A63=\"\",\"\",'Fig 4 Walkover'!H64)","v":""},{"$f":"IF($A63=\"\",\"\",'Fig 1 Ballet Leg'!I64+'Fig 2 Barracuda'!I64+'Fig 3 Neptunus'!I64+'Fig 4 Walkover'!I64)","v":""},"",null,null,null,null,null,null,null,null,null,null,null,null,null,null,null,null,null,null,null,null,null,null,null,null,null,null,null,null,null,null,null,null,null,null,null,null,null,null,61,0]
[{"$f":"IF(Draw!E64=0,\"\",Draw!E64)","v":""},null,null,"","",{"$f":"IF($A64=\"\",\"\",'Fig 1 Ballet Leg'!H65)","v":""},{"$f":"IF($A64=\"\",\"\",'Fig 2 Barracuda'!H65)","v":""},{"$f":"IF($A64=\"\",\"\",'Fig 3 Neptunus'!H65)","v":""},{"$f":"IF($A64=\"\",\"\",'Fig 4 Walkover'!H65)","v":""},{"$f":"IF($A64=\"\",\"\",'Fig 1 Ballet Leg'!I65+'Fig 2 Barracuda'!I65+'Fig 3 Neptunus'!I65+'Fig 4 Walkover'!I65)","v":""},"",null,null,null,null,null,null,null,null,null,null,null,null,null,null,null,null,null,null,null,null,null,null,null,null,null,null,null,null,null,null,null,null,null,null,null,null,null,null,62,0]
[{"$f":"IF(Draw!E65=0,\"\",Draw!E65)","v":""},null,null,"","",{"$f":"IF($A65=\"\",\"\",'Fig 1 Ballet Leg'!H66)","v":""},{"$f":"IF($A65=\"\",\"\",'Fig 2 Barracuda'!H66)","v":""},{"$f":"IF($A65=\"\",\"\",'Fig 3 Neptunus'!H66)","v":""},{"$f":"IF($A65=\"\",\"\",'Fig 4 Walkover'!H66)","v":""},{"$f":"IF($A65=\"\",\"\",'Fig 1 Ballet Leg'!I66+'Fig 2 Barracuda'!I66+'Fig 3 Neptunus'!I66+'Fig 4 Walkover'!I66)","v":""},"",null,null,null,null,null,null,null,null,null,null,null,null,null,null,null,null,null,null,null,null,null,null,null,null,null,null,null,null,null,null,null,null,null,null,null,null,null,null,63,0]
[{"$f":"IF(Draw!E66=0,\"\",Draw!E66)","v":""},null,null,"","",{"$f":"IF($A66=\"\",\"\",'Fig 1 Ballet Leg'!H67)","v":""},{"$f":"IF($A66=\"\",\"\",'Fig 2 Barracuda'!H67)","v":""},{"$f":"IF($A66=\"\",\"\",'Fig 3 Neptunus'!H67)","v":""},{"$f":"IF($A66=\"\",\"\",'Fig 4 Walkover'!H67)","v":""},{"$f":"IF($A66=\"\",\"\",'Fig 1 Ballet Leg'!I67+'Fig 2 Barracuda'!I67+'Fig 3 Neptunus'!I67+'Fig 4 Walkover'!I67)","v":""},"",null,null,null,null,null,null,null,null,null,null,null,null,null,null,null,null,null,null,null,null,null,null,null,null,null,null,null,null,null,null,null,null,null,null,null,null,null,null,64,0]
[{"$f":"IF(Draw!E67=0,\"\",Draw!E67)","v":""},null,null,"","",{"$f":"IF($A67=\"\",\"\",'Fig 1 Ballet Leg'!H68)","v":""},{"$f":"IF($A67=\"\",\"\",'Fig 2 Barracuda'!H68)","v":""},{"$f":"IF($A67=\"\",\"\",'Fig 3 Neptunus'!H68)","v":""},{"$f":"IF($A67=\"\",\"\",'Fig 4 Walkover'!H68)","v":""},{"$f":"IF($A67=\"\",\"\",'Fig 1 Ballet Leg'!I68+'Fig 2 Barracuda'!I68+'Fig 3 Neptunus'!I68+'Fig 4 Walkover'!I68)","v":""},"",null,null,null,null,null,null,null,null,null,null,null,null,null,null,null,null,null,null,null,null,null,null,null,null,null,null,null,null,null,null,null,null,null,null,null,null,null,null,65,0]
[{"$f":"IF(Draw!E68=0,\"\",Draw!E68)","v":""},null,null,"","",{"$f":"IF($A68=\"\",\"\",'Fig 1 Ballet Leg'!H69)","v":""},{"$f":"IF($A68=\"\",\"\",'Fig 2 Barracuda'!H69)","v":""},{"$f":"IF($A68=\"\",\"\",'Fig 3 Neptunus'!H69)","v":""},{"$f":"IF($A68=\"\",\"\",'Fig 4 Walkover'!H69)","v":""},{"$f":"IF($A68=\"\",\"\",'Fig 1 Ballet Leg'!I69+'Fig 2 Barracuda'!I69+'Fig 3 Neptunus'!I69+'Fig 4 Walkover'!I69)","v":""},"",null,null,null,null,null,null,null,null,null,null,null,null,null,null,null,null,null,null,null,null,null,null,null,null,null,null,null,null,null,null,null,null,null,null,null,null,null,null,66,0]
[{"$f":"IF(Draw!E69=0,\"\",Draw!E69)","v":""},null,null,{"$f":"IF($A69=\"\",\"\",SUM(F69:I69)-J69)","v":""},{"$f":"IF($A69=\"\",\"\",RANK(D69,D$2:D$150))","v":""},{"$f":"IF($A69=\"\",\"\",'Fig 1 Ballet Leg'!H70)","v":""},{"$f":"IF($A69=\"\",\"\",'Fig 2 Barracuda'!H70)","v":""},{"$f":"IF($A69=\"\",\"\",'Fig 3 Neptunus'!H70)","v":""},{"$f":"IF($A69=\"\",\"\",'Fig 4 Walkover'!H70)","v":""},{"$f":"IF($A69=\"\",\"\",'Fig 1 Ballet Leg'!I70+'Fig 2 Barracuda'!I70+'Fig 3 Neptunus'!I70+'Fig 4 Walkover'!I70)","v":""},{"$f":"IF($A69=\"\",\"\",IF(A69=\"\",\"\",VLOOKUP(E69,AX$3:AY$102,2,FALSE)))","v":""},null,null,null,null,null,null,null,null,null,null,null,null,null,null,null,null,null,null,null,null,null,null,null,null,null,null,null,null,null,null,null,null,null,null,null,null,null,null,67,0]
[{"$f":"IF(Draw!E70=0,\"\",Draw!E70)","v":""},null,null,"","",{"$f":"IF($A70=\"\",\"\",'Fig 1 Ballet Leg'!H71)","v":""},{"$f":"IF($A70=\"\",\"\",'Fig 2 Barracuda'!H71)","v":""},{"$f":"IF($A70=\"\",\"\",'Fig 3 Neptunus'!H71)","v":""},{"$f":"IF($A70=\"\",\"\",'Fig 4 Walkover'!H71)","v":""},{"$f":"IF($A70=\"\",\"\",'Fig 1 Ballet Leg'!I71+'Fig 2 Barracuda'!I71+'Fig 3 Neptunus'!I71+'Fig 4 Walkover'!I71)","v":""},"",null,null,null,null,null,null,null,null,null,null,null,null,null,null,null,null,null,null,null,null,null,null,null,null,null,null,null,null,null,null,null,null,null,null,null,null,null,null,68,0]
[{"$f":"IF(Draw!E71=0,\"\",Draw!E71)","v":""},null,null,"","",{"$f":"IF($A71=\"\",\"\",'Fig 1 Ballet Leg'!H72)","v":""},{"$f":"IF($A71=\"\",\"\",'Fig 2 Barracuda'!H72)","v":""},{"$f":"IF($A71=\"\",\"\",'Fig 3 Neptunus'!H72)","v":""},{"$f":"IF($A71=\"\",\"\",'Fig 4 Walkover'!H72)","v":""},{"$f":"IF($A71=\"\",\"\",'Fig 1 Ballet Leg'!I72+'Fig 2 Barracuda'!I72+'Fig 3 Neptunus'!I72+'Fig 4 Walkover'!I72)","v":""},"",null,null,null,null,null,null,null,null,null,null,null,null,null,null,null,null,null,null,null,null,null,null,null,null,null,null,null,null,null,null,null,null,null,null,null,null,null,null,69,0]
[{"$f":"IF(Draw!E72=0,\"\",Draw!E72)","v":""},null,null,"","",{"$f":"IF($A72=\"\",\"\",'Fig 1 Ballet Leg'!H73)","v":""},{"$f":"IF($A72=\"\",\"\",'Fig 2 Barracuda'!H73)","v":""},{"$f":"IF($A72=\"\",\"\",'Fig 3 Neptunus'!H73)","v":""},{"$f":"IF($A72=\"\",\"\",'Fig 4 Walkover'!H73)","v":""},{"$f":"IF($A72=\"\",\"\",'Fig 1 Ballet Leg'!I73+'Fig 2 Barracuda'!I73+'Fig 3 Neptunus'!I73+'Fig 4 Walkover'!I73)","v":""},"",null,null,null,null,null,null,null,null,null,null,null,null,null,null,null,null,null,null,null,null,null,null,null,null,null,null,null,null,null,null,null,null,null,null,null,null,null,null,70,0]
[{"$f":"IF(Draw!E73=0,\"\",Draw!E73)","v":""},null,null,"","",{"$f":"IF($A73=\"\",\"\",'Fig 1 Ballet Leg'!H74)","v":""},{"$f":"IF($A73=\"\",\"\",'Fig 2 Barracuda'!H74)","v":""},{"$f":"IF($A73=\"\",\"\",'Fig 3 Neptunus'!H74)","v":""},{"$f":"IF($A73=\"\",\"\",'Fig 4 Walkover'!H74)","v":""},{"$f":"IF($A73=\"\",\"\",'Fig 1 Ballet Leg'!I74+'Fig 2 Barracuda'!I74+'Fig 3 Neptunus'!I74+'Fig 4 Walkover'!I74)","v":""},"",null,null,null,null,null,null,null,null,null,null,null,null,null,null,null,null,null,null,null,null,null,null,null,null,null,null,null,null,null,null,null,null,null,null,null,null,null,null,71,0]
[{"$f":"IF(Draw!E74=0,\"\",Draw!E74)","v":""},null,null,"","",{"$f":"IF($A74=\"\",\"\",'Fig 1 Ballet Leg'!H75)","v":""},{"$f":"IF($A74=\"\",\"\",'Fig 2 Barracuda'!H75)","v":""},{"$f":"IF($A74=\"\",\"\",'Fig 3 Neptunus'!H75)","v":""},{"$f":"IF($A74=\"\",\"\",'Fig 4 Walkover'!H75)","v":""},{"$f":"IF($A74=\"\",\"\",'Fig 1 Ballet Leg'!I75+'Fig 2 Barracuda'!I75+'Fig 3 Neptunus'!I75+'Fig 4 Walkover'!I75)","v":""},"",null,null,null,null,null,null,null,null,null,null,null,null,null,null,null,null,null,null,null,null,null,null,null,null,null,null,null,null,null,null,null,null,null,null,null,null,null,null,72,0]
[{"$f":"IF(Draw!E75=0,\"\",Draw!E75)","v":""},null,null,"","",{"$f":"IF($A75=\"\",\"\",'Fig 1 Ballet Leg'!H76)","v":""},{"$f":"IF($A75=\"\",\"\",'Fig 2 Barracuda'!H76)","v":""},{"$f":"IF($A75=\"\",\"\",'Fig 3 Neptunus'!H76)","v":""},{"$f":"IF($A75=\"\",\"\",'Fig 4 Walkover'!H76)","v":""},{"$f":"IF($A75=\"\",\"\",'Fig 1 Ballet Leg'!I76+'Fig 2 Barracuda'!I76+'Fig 3 Neptunus'!I76+'Fig 4 Walkover'!I76)","v":""},"",null,null,null,null,null,null,null,null,null,null,null,null,null,null,null,null,null,null,null,null,null,null,null,null,null,null,null,null,null,null,null,null,null,null,null,null,null,null,73,0]
[{"$f":"IF(Draw!E76=0,\"\",Draw!E76)","v":""},null,null,"","",{"$f":"IF($A76=\"\",\"\",'Fig 1 Ballet Leg'!H77)","v":""},{"$f":"IF($A76=\"\",\"\",'Fig 2 Barracuda'!H77)","v":""},{"$f":"IF($A76=\"\",\"\",'Fig 3 Neptunus'!H77)","v":""},{"$f":"IF($A76=\"\",\"\",'Fig 4 Walkover'!H77)","v":""},{"$f":"IF($A76=\"\",\"\",'Fig 1 Ballet Leg'!I77+'Fig 2 Barracuda'!I77+'Fig 3 Neptunus'!I77+'Fig 4 Walkover'!I77)","v":""},"",null,null,null,null,null,null,null,null,null,null,null,null,null,null,null,null,null,null,null,null,null,null,null,null,null,null,null,null,null,null,null,null,null,null,null,null,null,null,74,0]
[{"$f":"IF(Draw!E77=0,\"\",Draw!E77)","v":""},null,null,"","",{"$f":"IF($A77=\"\",\"\",'Fig 1 Ballet Leg'!H78)","v":""},{"$f":"IF($A77=\"\",\"\",'Fig 2 Barracuda'!H78)","v":""},{"$f":"IF($A77=\"\",\"\",'Fig 3 Neptunus'!H78)","v":""},{"$f":"IF($A77=\"\",\"\",'Fig 4 Walkover'!H78)","v":""},{"$f":"IF($A77=\"\",\"\",'Fig 1 Ballet Leg'!I78+'Fig 2 Barracuda'!I78+'Fig 3 Neptunus'!I78+'Fig 4 Walkover'!I78)","v":""},"",null,null,null,null,null,null,null,null,null,null,null,null,null,null,null,null,null,null,null,null,null,null,null,null,null,null,null,null,null,null,null,null,null,null,null,null,null,null,75,0]
[{"$f":"IF(Draw!E78=0,\"\",Draw!E78)","v":""},null,null,"","",{"$f":"IF($A78=\"\",\"\",'Fig 1 Ballet Leg'!H79)","v":""},{"$f":"IF($A78=\"\",\"\",'Fig 2 Barracuda'!H79)","v":""},{"$f":"IF($A78=\"\",\"\",'Fig 3 Neptunus'!H79)","v":""},{"$f":"IF($A78=\"\",\"\",'Fig 4 Walkover'!H79)","v":""},{"$f":"IF($A78=\"\",\"\",'Fig 1 Ballet Leg'!I79+'Fig 2 Barracuda'!I79+'Fig 3 Neptunus'!I79+'Fig 4 Walkover'!I79)","v":""},"",null,null,null,null,null,null,null,null,null,null,null,null,null,null,null,null,null,null,null,null,null,null,null,null,null,null,null,null,null,null,null,null,null,null,null,null,null,null,76,0]
[{"$f":"IF(Draw!E79=0,\"\",Draw!E79)","v":""},null,null,"","",{"$f":"IF($A79=\"\",\"\",'Fig 1 Ballet Leg'!H80)","v":""},{"$f":"IF($A79=\"\",\"\",'Fig 2 Barracuda'!H80)","v":""},{"$f":"IF($A79=\"\",\"\",'Fig 3 Neptunus'!H80)","v":""},{"$f":"IF($A79=\"\",\"\",'Fig 4 Walkover'!H80)","v":""},{"$f":"IF($A79=\"\",\"\",'Fig 1 Ballet Leg'!I80+'Fig 2 Barracuda'!I80+'Fig 3 Neptunus'!I80+'Fig 4 Walkover'!I80)","v":""},"",null,null,null,null,null,null,null,null,null,null,null,null,null,null,null,null,null,null,null,null,null,null,null,null,null,null,null,null,null,null,null,null,null,null,null,null,null,null,77,0]
[{"$f":"IF(Draw!E80=0,\"\",Draw!E80)","v":""},null,null,"","",{"$f":"IF($A80=\"\",\"\",'Fig 1 Ballet Leg'!H81)","v":""},{"$f":"IF($A80=\"\",\"\",'Fig 2 Barracuda'!H81)","v":""},{"$f":"IF($A80=\"\",\"\",'Fig 3 Neptunus'!H81)","v":""},{"$f":"IF($A80=\"\",\"\",'Fig 4 Walkover'!H81)","v":""},{"$f":"IF($A80=\"\",\"\",'Fig 1 Ballet Leg'!I81+'Fig 2 Barracuda'!I81+'Fig 3 Neptunus'!I81+'Fig 4 Walkover'!I81)","v":""},"",null,null,null,null,null,null,null,null,null,null,null,null,null,null,null,null,null,null,null,null,null,null,null,null,null,null,null,null,null,null,null,null,null,null,null,null,null,null,78,0]
[{"$f":"IF(Draw!E81=0,\"\",Draw!E81)","v":""},null,null,"","",{"$f":"IF($A81=\"\",\"\",'Fig 1 Ballet Leg'!H82)","v":""},{"$f":"IF($A81=\"\",\"\",'Fig 2 Barracuda'!H82)","v":""},{"$f":"IF($A81=\"\",\"\",'Fig 3 Neptunus'!H82)","v":""},{"$f":"IF($A81=\"\",\"\",'Fig 4 Walkover'!H82)","v":""},{"$f":"IF($A81=\"\",\"\",'Fig 1 Ballet Leg'!I82+'Fig 2 Barracuda'!I82+'Fig 3 Neptunus'!I82+'Fig 4 Walkover'!I82)","v":""},"",null,null,null,null,null,null,null,null,null,null,null,null,null,null,null,null,null,null,null,null,null,null,null,null,null,null,null,null,null,null,null,null,null,null,null,null,null,null,79,0]
[{"$f":"IF(Draw!E82=0,\"\",Draw!E82)","v":""},null,null,"","",{"$f":"IF($A82=\"\",\"\",'Fig 1 Ballet Leg'!H83)","v":""},{"$f":"IF($A82=\"\",\"\",'Fig 2 Barracuda'!H83)","v":""},{"$f":"IF($A82=\"\",\"\",'Fig 3 Neptunus'!H83)","v":""},{"$f":"IF($A82=\"\",\"\",'Fig 4 Walkover'!H83)","v":""},{"$f":"IF($A82=\"\",\"\",'Fig 1 Ballet Leg'!I83+'Fig 2 Barracuda'!I83+'Fig 3 Neptunus'!I83+'Fig 4 Walkover'!I83)","v":""},"",null,null,null,null,null,null,null,null,null,null,null,null,null,null,null,null,null,null,null,null,null,null,null,null,null,null,null,null,null,null,null,null,null,null,null,null,null,null,80,0]
[{"$f":"IF(Draw!E83=0,\"\",Draw!E83)","v":""},null,null,"","",{"$f":"IF($A83=\"\",\"\",'Fig 1 Ballet Leg'!H84)","v":""},{"$f":"IF($A83=\"\",\"\",'Fig 2 Barracuda'!H84)","v":""},{"$f":"IF($A83=\"\",\"\",'Fig 3 Neptunus'!H84)","v":""},{"$f":"IF($A83=\"\",\"\",'Fig 4 Walkover'!H84)","v":""},{"$f":"IF($A83=\"\",\"\",'Fig 1 Ballet Leg'!I84+'Fig 2 Barracuda'!I84+'Fig 3 Neptunus'!I84+'Fig 4 Walkover'!I84)","v":""},"",null,null,null,null,null,null,null,null,null,null,null,null,null,null,null,null,null,null,null,null,null,null,null,null,null,null,null,null,null,null,null,null,null,null,null,null,null,null,81,0]
[{"$f":"IF(Draw!E84=0,\"\",Draw!E84)","v":""},null,null,"","",{"$f":"IF($A84=\"\",\"\",'Fig 1 Ballet Leg'!H85)","v":""},{"$f":"IF($A84=\"\",\"\",'Fig 2 Barracuda'!H85)","v":""},{"$f":"IF($A84=\"\",\"\",'Fig 3 Neptunus'!H85)","v":""},{"$f":"IF($A84=\"\",\"\",'Fig 4 Walkover'!H85)","v":""},{"$f":"IF($A84=\"\",\"\",'Fig 1 Ballet Leg'!I85+'Fig 2 Barracuda'!I85+'Fig 3 Neptunus'!I85+'Fig 4 Walkover'!I85)","v":""},"",null,null,null,null,null,null,null,null,null,null,null,null,null,null,null,null,null,null,null,null,null,null,null,null,null,null,null,null,null,null,null,null,null,null,null,null,null,null,82,0]
[{"$f":"IF(Draw!E85=0,\"\",Draw!E85)","v":""},null,null,"","",{"$f":"IF($A85=\"\",\"\",'Fig 1 Ballet Leg'!H86)","v":""},{"$f":"IF($A85=\"\",\"\",'Fig 2 Barracuda'!H86)","v":""},{"$f":"IF($A85=\"\",\"\",'Fig 3 Neptunus'!H86)","v":""},{"$f":"IF($A85=\"\",\"\",'Fig 4 Walkover'!H86)","v":""},{"$f":"IF($A85=\"\",\"\",'Fig 1 Ballet Leg'!I86+'Fig 2 Barracuda'!I86+'Fig 3 Neptunus'!I86+'Fig 4 Walkover'!I86)","v":""},"",null,null,null,null,null,null,null,null,null,null,null,null,null,null,null,null,null,null,null,null,null,null,null,null,null,null,null,null,null,null,null,null,null,null,null,null,null,null,83,0]
[{"$f":"IF(Draw!E86=0,\"\",Draw!E86)","v":""},null,null,"","",{"$f":"IF($A86=\"\",\"\",'Fig 1 Ballet Leg'!H87)","v":""},{"$f":"IF($A86=\"\",\"\",'Fig 2 Barracuda'!H87)","v":""},{"$f":"IF($A86=\"\",\"\",'Fig 3 Neptunus'!H87)","v":""},{"$f":"IF($A86=\"\",\"\",'Fig 4 Walkover'!H87)","v":""},{"$f":"IF($A86=\"\",\"\",'Fig 1 Ballet Leg'!I87+'Fig 2 Barracuda'!I87+'Fig 3 Neptunus'!I87+'Fig 4 Walkover'!I87)","v":""},"",null,null,null,null,null,null,null,null,null,null,null,null,null,null,null,null,null,null,null,null,null,null,null,null,null,null,null,null,null,null,null,null,null,null,null,null,null,null,84,0]
[{"$f":"IF(Draw!E87=0,\"\",Draw!E87)","v":""},null,null,"","",{"$f":"IF($A87=\"\",\"\",'Fig 1 Ballet Leg'!H88)","v":""},{"$f":"IF($A87=\"\",\"\",'Fig 2 Barracuda'!H88)","v":""},{"$f":"IF($A87=\"\",\"\",'Fig 3 Neptunus'!H88)","v":""},{"$f":"IF($A87=\"\",\"\",'Fig 4 Walkover'!H88)","v":""},{"$f":"IF($A87=\"\",\"\",'Fig 1 Ballet Leg'!I88+'Fig 2 Barracuda'!I88+'Fig 3 Neptunus'!I88+'Fig 4 Walkover'!I88)","v":""},"",null,null,null,null,null,null,null,null,null,null,null,null,null,null,null,null,null,null,null,null,null,null,null,null,null,null,null,null,null,null,null,null,null,null,null,null,null,null,85,0]
[{"$f":"IF(Draw!E88=0,\"\",Draw!E88)","v":""},null,null,"","",{"$f":"IF($A88=\"\",\"\",'Fig 1 Ballet Leg'!H89)","v":""},{"$f":"IF($A88=\"\",\"\",'Fig 2 Barracuda'!H89)","v":""},{"$f":"IF($A88=\"\",\"\",'Fig 3 Neptunus'!H89)","v":""},{"$f":"IF($A88=\"\",\"\",'Fig 4 Walkover'!H89)","v":""},{"$f":"IF($A88=\"\",\"\",'Fig 1 Ballet Leg'!I89+'Fig 2 Barracuda'!I89+'Fig 3 Neptunus'!I89+'Fig 4 Walkover'!I89)","v":""},"",null,null,null,null,null,null,null,null,null,null,null,null,null,null,null,null,null,null,null,null,null,null,null,null,null,null,null,null,null,null,null,null,null,null,null,null,null,null,86,0]
[{"$f":"IF(Draw!E89=0,\"\",Draw!E89)","v":""},null,null,"","",{"$f":"IF($A89=\"\",\"\",'Fig 1 Ballet Leg'!H90)","v":""},{"$f":"IF($A89=\"\",\"\",'Fig 2 Barracuda'!H90)","v":""},{"$f":"IF($A89=\"\",\"\",'Fig 3 Neptunus'!H90)","v":""},{"$f":"IF($A89=\"\",\"\",'Fig 4 Walkover'!H90)","v":""},{"$f":"IF($A89=\"\",\"\",'Fig 1 Ballet Leg'!I90+'Fig 2 Barracuda'!I90+'Fig 3 Neptunus'!I90+'Fig 4 Walkover'!I90)","v":""},"",null,null,null,null,null,null,null,null,null,null,null,null,null,null,null,null,null,null,null,null,null,null,null,null,null,null,null,null,null,null,null,null,null,null,null,null,null,null,87,0]
[{"$f":"IF(Draw!E90=0,\"\",Draw!E90)","v":""},null,null,"","",{"$f":"IF($A90=\"\",\"\",'Fig 1 Ballet Leg'!H91)","v":""},{"$f":"IF($A90=\"\",\"\",'Fig 2 Barracuda'!H91)","v":""},{"$f":"IF($A90=\"\",\"\",'Fig 3 Neptunus'!H91)","v":""},{"$f":"IF($A90=\"\",\"\",'Fig 4 Walkover'!H91)","v":""},{"$f":"IF($A90=\"\",\"\",'Fig 1 Ballet Leg'!I91+'Fig 2 Barracuda'!I91+'Fig 3 Neptunus'!I91+'Fig 4 Walkover'!I91)","v":""},"",null,null,null,null,null,null,null,null,null,null,null,null,null,null,null,null,null,null,null,null,null,null,null,null,null,null,null,null,null,null,null,null,null,null,null,null,null,null,88,0]
[{"$f":"IF(Draw!E91=0,\"\",Draw!E91)","v":""},null,null,"","",{"$f":"IF($A91=\"\",\"\",'Fig 1 Ballet Leg'!H92)","v":""},{"$f":"IF($A91=\"\",\"\",'Fig 2 Barracuda'!H92)","v":""},{"$f":"IF($A91=\"\",\"\",'Fig 3 Neptunus'!H92)","v":""},{"$f":"IF($A91=\"\",\"\",'Fig 4 Walkover'!H92)","v":""},{"$f":"IF($A91=\"\",\"\",'Fig 1 Ballet Leg'!I92+'Fig 2 Barracuda'!I92+'Fig 3 Neptunus'!I92+'Fig 4 Walkover'!I92)","v":""},"",null,null,null,null,null,null,null,null,null,null,null,null,null,null,null,null,null,null,null,null,null,null,null,null,null,null,null,null,null,null,null,null,null,null,null,null,null,null,89,0]
[{"$f":"IF(Draw!E92=0,\"\",Draw!E92)","v":""},null,null,"","",{"$f":"IF($A92=\"\",\"\",'Fig 1 Ballet Leg'!H93)","v":""},{"$f":"IF($A92=\"\",\"\",'Fig 2 Barracuda'!H93)","v":""},{"$f":"IF($A92=\"\",\"\",'Fig 3 Neptunus'!H93)","v":""},{"$f":"IF($A92=\"\",\"\",'Fig 4 Walkover'!H93)","v":""},{"$f":"IF($A92=\"\",\"\",'Fig 1 Ballet Leg'!I93+'Fig 2 Barracuda'!I93+'Fig 3 Neptunus'!I93+'Fig 4 Walkover'!I93)","v":""},"",null,null,null,null,null,null,null,null,null,null,null,null,null,null,null,null,null,null,null,null,null,null,null,null,null,null,null,null,null,null,null,null,null,null,null,null,null,null,90,0]
[{"$f":"IF(Draw!E93=0,\"\",Draw!E93)","v":""},null,null,"","",{"$f":"IF($A93=\"\",\"\",'Fig 1 Ballet Leg'!H94)","v":""},{"$f":"IF($A93=\"\",\"\",'Fig 2 Barracuda'!H94)","v":""},{"$f":"IF($A93=\"\",\"\",'Fig 3 Neptunus'!H94)","v":""},{"$f":"IF($A93=\"\",\"\",'Fig 4 Walkover'!H94)","v":""},{"$f":"IF($A93=\"\",\"\",'Fig 1 Ballet Leg'!I94+'Fig 2 Barracuda'!I94+'Fig 3 Neptunus'!I94+'Fig 4 Walkover'!I94)","v":""},"",null,null,null,null,null,null,null,null,null,null,null,null,null,null,null,null,null,null,null,null,null,null,null,null,null,null,null,null,null,null,null,null,null,null,null,null,null,null,91,0]
[{"$f":"IF(Draw!E94=0,\"\",Draw!E94)","v":""},null,null,"","",{"$f":"IF($A94=\"\",\"\",'Fig 1 Ballet Leg'!H95)","v":""},{"$f":"IF($A94=\"\",\"\",'Fig 2 Barracuda'!H95)","v":""},{"$f":"IF($A94=\"\",\"\",'Fig 3 Neptunus'!H95)","v":""},{"$f":"IF($A94=\"\",\"\",'Fig 4 Walkover'!H95)","v":""},{"$f":"IF($A94=\"\",\"\",'Fig 1 Ballet Leg'!I95+'Fig 2 Barracuda'!I95+'Fig 3 Neptunus'!I95+'Fig 4 Walkover'!I95)","v":""},"",null,null,null,null,null,null,null,null,null,null,null,null,null,null,null,null,null,null,null,null,null,null,null,null,null,null,null,null,null,null,null,null,null,null,null,null,null,null,92,0]
[{"$f":"IF(Draw!E95=0,\"\",Draw!E95)","v":""},null,null,"","",{"$f":"IF($A95=\"\",\"\",'Fig 1 Ballet Leg'!H96)","v":""},{"$f":"IF($A95=\"\",\"\",'Fig 2 Barracuda'!H96)","v":""},{"$f":"IF($A95=\"\",\"\",'Fig 3 Neptunus'!H96)","v":""},{"$f":"IF($A95=\"\",\"\",'Fig 4 Walkover'!H96)","v":""},{"$f":"IF($A95=\"\",\"\",'Fig 1 Ballet Leg'!I96+'Fig 2 Barracuda'!I96+'Fig 3 Neptunus'!I96+'Fig 4 Walkover'!I96)","v":""},"",null,null,null,null,null,null,null,null,null,null,null,null,null,null,null,null,null,null,null,null,null,null,null,null,null,null,null,null,null,null,null,null,null,null,null,null,null,null,93,0]
[{"$f":"IF(Draw!E96=0,\"\",Draw!E96)","v":""},null,null,"","",{"$f":"IF($A96=\"\",\"\",'Fig 1 Ballet Leg'!H97)","v":""},{"$f":"IF($A96=\"\",\"\",'Fig 2 Barracuda'!H97)","v":""},{"$f":"IF($A96=\"\",\"\",'Fig 3 Neptunus'!H97)","v":""},{"$f":"IF($A96=\"\",\"\",'Fig 4 Walkover'!H97)","v":""},{"$f":"IF($A96=\"\",\"\",'Fig 1 Ballet Leg'!I97+'Fig 2 Barracuda'!I97+'Fig 3 Neptunus'!I97+'Fig 4 Walkover'!I97)","v":""},"",null,null,null,null,null,null,null,null,null,null,null,null,null,null,null,null,null,null,null,null,null,null,null,null,null,null,null,null,null,null,null,null,null,null,null,null,null,null,94,0]
[{"$f":"IF(Draw!E97=0,\"\",Draw!E97)","v":""},null,null,"","",{"$f":"IF($A97=\"\",\"\",'Fig 1 Ballet Leg'!H98)","v":""},{"$f":"IF($A97=\"\",\"\",'Fig 2 Barracuda'!H98)","v":""},{"$f":"IF($A97=\"\",\"\",'Fig 3 Neptunus'!H98)","v":""},{"$f":"IF($A97=\"\",\"\",'Fig 4 Walkover'!H98)","v":""},{"$f":"IF($A97=\"\",\"\",'Fig 1 Ballet Leg'!I98+'Fig 2 Barracuda'!I98+'Fig 3 Neptunus'!I98+'Fig 4 Walkover'!I98)","v":""},"",null,null,null,null,null,null,null,null,null,null,null,null,null,null,null,null,null,null,null,null,null,null,null,null,null,null,null,null,null,null,null,null,null,null,null,null,null,null,95,0]
[{"$f":"IF(Draw!E98=0,\"\",Draw!E98)","v":""},null,null,"","",{"$f":"IF($A98=\"\",\"\",'Fig 1 Ballet Leg'!H99)","v":""},{"$f":"IF($A98=\"\",\"\",'Fig 2 Barracuda'!H99)","v":""},{"$f":"IF($A98=\"\",\"\",'Fig 3 Neptunus'!H99)","v":""},{"$f":"IF($A98=\"\",\"\",'Fig 4 Walkover'!H99)","v":""},{"$f":"IF($A98=\"\",\"\",'Fig 1 Ballet Leg'!I99+'Fig 2 Barracuda'!I99+'Fig 3 Neptunus'!I99+'Fig 4 Walkover'!I99)","v":""},"",null,null,null,null,null,null,null,null,null,null,null,null,null,null,null,null,null,null,null,null,null,null,null,null,null,null,null,null,null,null,null,null,null,null,null,null,null,null,96,0]
[{"$f":"IF(Draw!E99=0,\"\",Draw!E99)","v":""},null,null,"","",{"$f":"IF($A99=\"\",\"\",'Fig 1 Ballet Leg'!H100)","v":""},{"$f":"IF($A99=\"\",\"\",'Fig 2 Barracuda'!H100)","v":""},{"$f":"IF($A99=\"\",\"\",'Fig 3 Neptunus'!H100)","v":""},{"$f":"IF($A99=\"\",\"\",'Fig 4 Walkover'!H100)","v":""},{"$f":"IF($A99=\"\",\"\",'Fig 1 Ballet Leg'!I100+'Fig 2 Barracuda'!I100+'Fig 3 Neptunus'!I100+'Fig 4 Walkover'!I100)","v":""},"",null,null,null,null,null,null,null,null,null,null,null,null,null,null,null,null,null,null,null,null,null,null,null,null,null,null,null,null,null,null,null,null,null,null,null,null,null,null,97,0]
[{"$f":"IF(Draw!E100=0,\"\",Draw!E100)","v":""},null,null,"","",{"$f":"IF($A100=\"\",\"\",'Fig 1 Ballet Leg'!H101)","v":""},{"$f":"IF($A100=\"\",\"\",'Fig 2 Barracuda'!H101)","v":""},{"$f":"IF($A100=\"\",\"\",'Fig 3 Neptunus'!H101)","v":""},{"$f":"IF($A100=\"\",\"\",'Fig 4 Walkover'!H101)","v":""},{"$f":"IF($A100=\"\",\"\",'Fig 1 Ballet Leg'!I101+'Fig 2 Barracuda'!I101+'Fig 3 Neptunus'!I101+'Fig 4 Walkover'!I101)","v":""},"",null,null,null,null,null,null,null,null,null,null,null,null,null,null,null,null,null,null,null,null,null,null,null,null,null,null,null,null,null,null,null,null,null,null,null,null,null,null,98,0]
[{"$f":"IF(Draw!E101=0,\"\",Draw!E101)","v":""},null,null,"","",{"$f":"IF($A101=\"\",\"\",'Fig 1 Ballet Leg'!H102)","v":""},{"$f":"IF($A101=\"\",\"\",'Fig 2 Barracuda'!H102)","v":""},{"$f":"IF($A101=\"\",\"\",'Fig 3 Neptunus'!H102)","v":""},{"$f":"IF($A101=\"\",\"\",'Fig 4 Walkover'!H102)","v":""},{"$f":"IF($A101=\"\",\"\",'Fig 1 Ballet Leg'!I102+'Fig 2 Barracuda'!I102+'Fig 3 Neptunus'!I102+'Fig 4 Walkover'!I102)","v":""},"",null,null,null,null,null,null,null,null,null,null,null,null,null,null,null,null,null,null,null,null,null,null,null,null,null,null,null,null,null,null,null,null,null,null,null,null,null,null,99,0]
[{"$f":"IF(Draw!E102=0,\"\",Draw!E102)","v":""},null,null,"","",{"$f":"IF($A102=\"\",\"\",'Fig 1 Ballet Leg'!H103)","v":""},{"$f":"IF($A102=\"\",\"\",'Fig 2 Barracuda'!H103)","v":""},{"$f":"IF($A102=\"\",\"\",'Fig 3 Neptunus'!H103)","v":""},{"$f":"IF($A102=\"\",\"\",'Fig 4 Walkover'!H103)","v":""},{"$f":"IF($A102=\"\",\"\",'Fig 1 Ballet Leg'!I103+'Fig 2 Barracuda'!I103+'Fig 3 Neptunus'!I103+'Fig 4 Walkover'!I103)","v":""},"",null,null,null,null,null,null,null,null,null,null,null,null,null,null,null,null,null,null,null,null,null,null,null,null,null,null,null,null,null,null,null,null,null,null,null,null,null,null,100,0]
[{"$f":"IF(Draw!E103=0,\"\",Draw!E103)","v":""},null,null,"","",{"$f":"IF($A103=\"\",\"\",'Fig 1 Ballet Leg'!H104)","v":""},{"$f":"IF($A103=\"\",\"\",'Fig 2 Barracuda'!H104)","v":""},{"$f":"IF($A103=\"\",\"\",'Fig 3 Neptunus'!H104)","v":""},{"$f":"IF($A103=\"\",\"\",'Fig 4 Walkover'!H104)","v":""},{"$f":"IF($A103=\"\",\"\",'Fig 1 Ballet Leg'!I104+'Fig 2 Barracuda'!I104+'Fig 3 Neptunus'!I104+'Fig 4 Walkover'!I104)","v":""},""]
[{"$f":"IF(Draw!E104=0,\"\",Draw!E104)","v":""},null,null,"","",{"$f":"IF($A104=\"\",\"\",'Fig 1 Ballet Leg'!H105)","v":""},{"$f":"IF($A104=\"\",\"\",'Fig 2 Barracuda'!H105)","v":""},{"$f":"IF($A104=\"\",\"\",'Fig 3 Neptunus'!H105)","v":""},{"$f":"IF($A104=\"\",\"\",'Fig 4 Walkover'!H105)","v":""},{"$f":"IF($A104=\"\",\"\",'Fig 1 Ballet Leg'!I105+'Fig 2 Barracuda'!I105+'Fig 3 Neptunus'!I105+'Fig 4 Walkover'!I105)","v":""},""]
[{"$f":"IF(Draw!E105=0,\"\",Draw!E105)","v":""},null,null,"","",{"$f":"IF($A105=\"\",\"\",'Fig 1 Ballet Leg'!H106)","v":""},{"$f":"IF($A105=\"\",\"\",'Fig 2 Barracuda'!H106)","v":""},{"$f":"IF($A105=\"\",\"\",'Fig 3 Neptunus'!H106)","v":""},{"$f":"IF($A105=\"\",\"\",'Fig 4 Walkover'!H106)","v":""},{"$f":"IF($A105=\"\",\"\",'Fig 1 Ballet Leg'!I106+'Fig 2 Barracuda'!I106+'Fig 3 Neptunus'!I106+'Fig 4 Walkover'!I106)","v":""},""]
[{"$f":"IF(Draw!E106=0,\"\",Draw!E106)","v":""},null,null,"","",{"$f":"IF($A106=\"\",\"\",'Fig 1 Ballet Leg'!H107)","v":""},{"$f":"IF($A106=\"\",\"\",'Fig 2 Barracuda'!H107)","v":""},{"$f":"IF($A106=\"\",\"\",'Fig 3 Neptunus'!H107)","v":""},{"$f":"IF($A106=\"\",\"\",'Fig 4 Walkover'!H107)","v":""},{"$f":"IF($A106=\"\",\"\",'Fig 1 Ballet Leg'!I107+'Fig 2 Barracuda'!I107+'Fig 3 Neptunus'!I107+'Fig 4 Walkover'!I107)","v":""},""]
[{"$f":"IF(Draw!E107=0,\"\",Draw!E107)","v":""},null,null,"","",{"$f":"IF($A107=\"\",\"\",'Fig 1 Ballet Leg'!H108)","v":""},{"$f":"IF($A107=\"\",\"\",'Fig 2 Barracuda'!H108)","v":""},{"$f":"IF($A107=\"\",\"\",'Fig 3 Neptunus'!H108)","v":""},{"$f":"IF($A107=\"\",\"\",'Fig 4 Walkover'!H108)","v":""},{"$f":"IF($A107=\"\",\"\",'Fig 1 Ballet Leg'!I108+'Fig 2 Barracuda'!I108+'Fig 3 Neptunus'!I108+'Fig 4 Walkover'!I108)","v":""},""]
[{"$f":"IF(Draw!E108=0,\"\",Draw!E108)","v":""},null,null,"","",{"$f":"IF($A108=\"\",\"\",'Fig 1 Ballet Leg'!H109)","v":""},{"$f":"IF($A108=\"\",\"\",'Fig 2 Barracuda'!H109)","v":""},{"$f":"IF($A108=\"\",\"\",'Fig 3 Neptunus'!H109)","v":""},{"$f":"IF($A108=\"\",\"\",'Fig 4 Walkover'!H109)","v":""},{"$f":"IF($A108=\"\",\"\",'Fig 1 Ballet Leg'!I109+'Fig 2 Barracuda'!I109+'Fig 3 Neptunus'!I109+'Fig 4 Walkover'!I109)","v":""},""]
[{"$f":"IF(Draw!E109=0,\"\",Draw!E109)","v":""},null,null,"","",{"$f":"IF($A109=\"\",\"\",'Fig 1 Ballet Leg'!H110)","v":""},{"$f":"IF($A109=\"\",\"\",'Fig 2 Barracuda'!H110)","v":""},{"$f":"IF($A109=\"\",\"\",'Fig 3 Neptunus'!H110)","v":""},{"$f":"IF($A109=\"\",\"\",'Fig 4 Walkover'!H110)","v":""},{"$f":"IF($A109=\"\",\"\",'Fig 1 Ballet Leg'!I110+'Fig 2 Barracuda'!I110+'Fig 3 Neptunus'!I110+'Fig 4 Walkover'!I110)","v":""},""]
[{"$f":"IF(Draw!E110=0,\"\",Draw!E110)","v":""},null,null,"","",{"$f":"IF($A110=\"\",\"\",'Fig 1 Ballet Leg'!H111)","v":""},{"$f":"IF($A110=\"\",\"\",'Fig 2 Barracuda'!H111)","v":""},{"$f":"IF($A110=\"\",\"\",'Fig 3 Neptunus'!H111)","v":""},{"$f":"IF($A110=\"\",\"\",'Fig 4 Walkover'!H111)","v":""},{"$f":"IF($A110=\"\",\"\",'Fig 1 Ballet Leg'!I111+'Fig 2 Barracuda'!I111+'Fig 3 Neptunus'!I111+'Fig 4 Walkover'!I111)","v":""},""]
[{"$f":"IF(Draw!E111=0,\"\",Draw!E111)","v":""},null,null,"","",{"$f":"IF($A111=\"\",\"\",'Fig 1 Ballet Leg'!H112)","v":""},{"$f":"IF($A111=\"\",\"\",'Fig 2 Barracuda'!H112)","v":""},{"$f":"IF($A111=\"\",\"\",'Fig 3 Neptunus'!H112)","v":""},{"$f":"IF($A111=\"\",\"\",'Fig 4 Walkover'!H112)","v":""},{"$f":"IF($A111=\"\",\"\",'Fig 1 Ballet Leg'!I112+'Fig 2 Barracuda'!I112+'Fig 3 Neptunus'!I112+'Fig 4 Walkover'!I112)","v":""},""]
[{"$f":"IF(Draw!E112=0,\"\",Draw!E112)","v":""},null,null,"","",{"$f":"IF($A112=\"\",\"\",'Fig 1 Ballet Leg'!H113)","v":""},{"$f":"IF($A112=\"\",\"\",'Fig 2 Barracuda'!H113)","v":""},{"$f":"IF($A112=\"\",\"\",'Fig 3 Neptunus'!H113)","v":""},{"$f":"IF($A112=\"\",\"\",'Fig 4 Walkover'!H113)","v":""},{"$f":"IF($A112=\"\",\"\",'Fig 1 Ballet Leg'!I113+'Fig 2 Barracuda'!I113+'Fig 3 Neptunus'!I113+'Fig 4 Walkover'!I113)","v":""},""]
[{"$f":"IF(Draw!E113=0,\"\",Draw!E113)","v":""},null,null,"","",{"$f":"IF($A113=\"\",\"\",'Fig 1 Ballet Leg'!H114)","v":""},{"$f":"IF($A113=\"\",\"\",'Fig 2 Barracuda'!H114)","v":""},{"$f":"IF($A113=\"\",\"\",'Fig 3 Neptunus'!H114)","v":""},{"$f":"IF($A113=\"\",\"\",'Fig 4 Walkover'!H114)","v":""},{"$f":"IF($A113=\"\",\"\",'Fig 1 Ballet Leg'!I114+'Fig 2 Barracuda'!I114+'Fig 3 Neptunus'!I114+'Fig 4 Walkover'!I114)","v":""},""]
[{"$f":"IF(Draw!E114=0,\"\",Draw!E114)","v":""},null,null,"","",{"$f":"IF($A114=\"\",\"\",'Fig 1 Ballet Leg'!H115)","v":""},{"$f":"IF($A114=\"\",\"\",'Fig 2 Barracuda'!H115)","v":""},{"$f":"IF($A114=\"\",\"\",'Fig 3 Neptunus'!H115)","v":""},{"$f":"IF($A114=\"\",\"\",'Fig 4 Walkover'!H115)","v":""},{"$f":"IF($A114=\"\",\"\",'Fig 1 Ballet Leg'!I115+'Fig 2 Barracuda'!I115+'Fig 3 Neptunus'!I115+'Fig 4 Walkover'!I115)","v":""},""]
[{"$f":"IF(Draw!E115=0,\"\",Draw!E115)","v":""},null,null,"","",{"$f":"IF($A115=\"\",\"\",'Fig 1 Ballet Leg'!H116)","v":""},{"$f":"IF($A115=\"\",\"\",'Fig 2 Barracuda'!H116)","v":""},{"$f":"IF($A115=\"\",\"\",'Fig 3 Neptunus'!H116)","v":""},{"$f":"IF($A115=\"\",\"\",'Fig 4 Walkover'!H116)","v":""},{"$f":"IF($A115=\"\",\"\",'Fig 1 Ballet Leg'!I116+'Fig 2 Barracuda'!I116+'Fig 3 Neptunus'!I116+'Fig 4 Walkover'!I116)","v":""},""]
[{"$f":"IF(Draw!E116=0,\"\",Draw!E116)","v":""},null,null,"","",{"$f":"IF($A116=\"\",\"\",'Fig 1 Ballet Leg'!H117)","v":""},{"$f":"IF($A116=\"\",\"\",'Fig 2 Barracuda'!H117)","v":""},{"$f":"IF($A116=\"\",\"\",'Fig 3 Neptunus'!H117)","v":""},{"$f":"IF($A116=\"\",\"\",'Fig 4 Walkover'!H117)","v":""},{"$f":"IF($A116=\"\",\"\",'Fig 1 Ballet Leg'!I117+'Fig 2 Barracuda'!I117+'Fig 3 Neptunus'!I117+'Fig 4 Walkover'!I117)","v":""},""]
[{"$f":"IF(Draw!E117=0,\"\",Draw!E117)","v":""},null,null,"","",{"$f":"IF($A117=\"\",\"\",'Fig 1 Ballet Leg'!H118)","v":""},{"$f":"IF($A117=\"\",\"\",'Fig 2 Barracuda'!H118)","v":""},{"$f":"IF($A117=\"\",\"\",'Fig 3 Neptunus'!H118)","v":""},{"$f":"IF($A117=\"\",\"\",'Fig 4 Walkover'!H118)","v":""},{"$f":"IF($A117=\"\",\"\",'Fig 1 Ballet Leg'!I118+'Fig 2 Barracuda'!I118+'Fig 3 Neptunus'!I118+'Fig 4 Walkover'!I118)","v":""},""]
[{"$f":"IF(Draw!E118=0,\"\",Draw!E118)","v":""},null,null,"","",{"$f":"IF($A118=\"\",\"\",'Fig 1 Ballet Leg'!H119)","v":""},{"$f":"IF($A118=\"\",\"\",'Fig 2 Barracuda'!H119)","v":""},{"$f":"IF($A118=\"\",\"\",'Fig 3 Neptunus'!H119)","v":""},{"$f":"IF($A118=\"\",\"\",'Fig 4 Walkover'!H119)","v":""},{"$f":"IF($A118=\"\",\"\",'Fig 1 Ballet Leg'!I119+'Fig 2 Barracuda'!I119+'Fig 3 Neptunus'!I119+'Fig 4 Walkover'!I119)","v":""},""]
[{"$f":"IF(Draw!E119=0,\"\",Draw!E119)","v":""},null,null,"","",{"$f":"IF($A119=\"\",\"\",'Fig 1 Ballet Leg'!H120)","v":""},{"$f":"IF($A119=\"\",\"\",'Fig 2 Barracuda'!H120)","v":""},{"$f":"IF($A119=\"\",\"\",'Fig 3 Neptunus'!H120)","v":""},{"$f":"IF($A119=\"\",\"\",'Fig 4 Walkover'!H120)","v":""},{"$f":"IF($A119=\"\",\"\",'Fig 1 Ballet Leg'!I120+'Fig 2 Barracuda'!I120+'Fig 3 Neptunus'!I120+'Fig 4 Walkover'!I120)","v":""},""]
[{"$f":"IF(Draw!E120=0,\"\",Draw!E120)","v":""},null,null,"","",{"$f":"IF($A120=\"\",\"\",'Fig 1 Ballet Leg'!H121)","v":""},{"$f":"IF($A120=\"\",\"\",'Fig 2 Barracuda'!H121)","v":""},{"$f":"IF($A120=\"\",\"\",'Fig 3 Neptunus'!H121)","v":""},{"$f":"IF($A120=\"\",\"\",'Fig 4 Walkover'!H121)","v":""},{"$f":"IF($A120=\"\",\"\",'Fig 1 Ballet Leg'!I121+'Fig 2 Barracuda'!I121+'Fig 3 Neptunus'!I121+'Fig 4 Walkover'!I121)","v":""},""]
[{"$f":"IF(Draw!E121=0,\"\",Draw!E121)","v":""},null,null,"","",{"$f":"IF($A121=\"\",\"\",'Fig 1 Ballet Leg'!H122)","v":""},{"$f":"IF($A121=\"\",\"\",'Fig 2 Barracuda'!H122)","v":""},{"$f":"IF($A121=\"\",\"\",'Fig 3 Neptunus'!H122)","v":""},{"$f":"IF($A121=\"\",\"\",'Fig 4 Walkover'!H122)","v":""},{"$f":"IF($A121=\"\",\"\",'Fig 1 Ballet Leg'!I122+'Fig 2 Barracuda'!I122+'Fig 3 Neptunus'!I122+'Fig 4 Walkover'!I122)","v":""},""]
[{"$f":"IF(Draw!E122=0,\"\",Draw!E122)","v":""},null,null,"","",{"$f":"IF($A122=\"\",\"\",'Fig 1 Ballet Leg'!H123)","v":""},{"$f":"IF($A122=\"\",\"\",'Fig 2 Barracuda'!H123)","v":""},{"$f":"IF($A122=\"\",\"\",'Fig 3 Neptunus'!H123)","v":""},{"$f":"IF($A122=\"\",\"\",'Fig 4 Walkover'!H123)","v":""},{"$f":"IF($A122=\"\",\"\",'Fig 1 Ballet Leg'!I123+'Fig 2 Barracuda'!I123+'Fig 3 Neptunus'!I123+'Fig 4 Walkover'!I123)","v":""},""]
[{"$f":"IF(Draw!E123=0,\"\",Draw!E123)","v":""},null,null,"","",{"$f":"IF($A123=\"\",\"\",'Fig 1 Ballet Leg'!H124)","v":""},{"$f":"IF($A123=\"\",\"\",'Fig 2 Barracuda'!H124)","v":""},{"$f":"IF($A123=\"\",\"\",'Fig 3 Neptunus'!H124)","v":""},{"$f":"IF($A123=\"\",\"\",'Fig 4 Walkover'!H124)","v":""},{"$f":"IF($A123=\"\",\"\",'Fig 1 Ballet Leg'!I124+'Fig 2 Barracuda'!I124+'Fig 3 Neptunus'!I124+'Fig 4 Walkover'!I124)","v":""},""]
[{"$f":"IF(Draw!E124=0,\"\",Draw!E124)","v":""},null,null,"","",{"$f":"IF($A124=\"\",\"\",'Fig 1 Ballet Leg'!H125)","v":""},{"$f":"IF($A124=\"\",\"\",'Fig 2 Barracuda'!H125)","v":""},{"$f":"IF($A124=\"\",\"\",'Fig 3 Neptunus'!H125)","v":""},{"$f":"IF($A124=\"\",\"\",'Fig 4 Walkover'!H125)","v":""},{"$f":"IF($A124=\"\",\"\",'Fig 1 Ballet Leg'!I125+'Fig 2 Barracuda'!I125+'Fig 3 Neptunus'!I125+'Fig 4 Walkover'!I125)","v":""},""]
[{"$f":"IF(Draw!E125=0,\"\",Draw!E125)","v":""},null,null,"","",{"$f":"IF($A125=\"\",\"\",'Fig 1 Ballet Leg'!H126)","v":""},{"$f":"IF($A125=\"\",\"\",'Fig 2 Barracuda'!H126)","v":""},{"$f":"IF($A125=\"\",\"\",'Fig 3 Neptunus'!H126)","v":""},{"$f":"IF($A125=\"\",\"\",'Fig 4 Walkover'!H126)","v":""},{"$f":"IF($A125=\"\",\"\",'Fig 1 Ballet Leg'!I126+'Fig 2 Barracuda'!I126+'Fig 3 Neptunus'!I126+'Fig 4 Walkover'!I126)","v":""},""]
[{"$f":"IF(Draw!E126=0,\"\",Draw!E126)","v":""},null,null,"","",{"$f":"IF($A126=\"\",\"\",'Fig 1 Ballet Leg'!H127)","v":""},{"$f":"IF($A126=\"\",\"\",'Fig 2 Barracuda'!H127)","v":""},{"$f":"IF($A126=\"\",\"\",'Fig 3 Neptunus'!H127)","v":""},{"$f":"IF($A126=\"\",\"\",'Fig 4 Walkover'!H127)","v":""},{"$f":"IF($A126=\"\",\"\",'Fig 1 Ballet Leg'!I127+'Fig 2 Barracuda'!I127+'Fig 3 Neptunus'!I127+'Fig 4 Walkover'!I127)","v":""},""]
[{"$f":"IF(Draw!E127=0,\"\",Draw!E127)","v":""},null,null,"","",{"$f":"IF($A127=\"\",\"\",'Fig 1 Ballet Leg'!H128)","v":""},{"$f":"IF($A127=\"\",\"\",'Fig 2 Barracuda'!H128)","v":""},{"$f":"IF($A127=\"\",\"\",'Fig 3 Neptunus'!H128)","v":""},{"$f":"IF($A127=\"\",\"\",'Fig 4 Walkover'!H128)","v":""},{"$f":"IF($A127=\"\",\"\",'Fig 1 Ballet Leg'!I128+'Fig 2 Barracuda'!I128+'Fig 3 Neptunus'!I128+'Fig 4 Walkover'!I128)","v":""},""]
[{"$f":"IF(Draw!E128=0,\"\",Draw!E128)","v":""},null,null,"","",{"$f":"IF($A128=\"\",\"\",'Fig 1 Ballet Leg'!H129)","v":""},{"$f":"IF($A128=\"\",\"\",'Fig 2 Barracuda'!H129)","v":""},{"$f":"IF($A128=\"\",\"\",'Fig 3 Neptunus'!H129)","v":""},{"$f":"IF($A128=\"\",\"\",'Fig 4 Walkover'!H129)","v":""},{"$f":"IF($A128=\"\",\"\",'Fig 1 Ballet Leg'!I129+'Fig 2 Barracuda'!I129+'Fig 3 Neptunus'!I129+'Fig 4 Walkover'!I129)","v":""},""]
[{"$f":"IF(Draw!E129=0,\"\",Draw!E129)","v":""},null,null,"","",{"$f":"IF($A129=\"\",\"\",'Fig 1 Ballet Leg'!H130)","v":""},{"$f":"IF($A129=\"\",\"\",'Fig 2 Barracuda'!H130)","v":""},{"$f":"IF($A129=\"\",\"\",'Fig 3 Neptunus'!H130)","v":""},{"$f":"IF($A129=\"\",\"\",'Fig 4 Walkover'!H130)","v":""},{"$f":"IF($A129=\"\",\"\",'Fig 1 Ballet Leg'!I130+'Fig 2 Barracuda'!I130+'Fig 3 Neptunus'!I130+'Fig 4 Walkover'!I130)","v":""},""]
[{"$f":"IF(Draw!E130=0,\"\",Draw!E130)","v":""},null,null,"","",{"$f":"IF($A130=\"\",\"\",'Fig 1 Ballet Leg'!H131)","v":""},{"$f":"IF($A130=\"\",\"\",'Fig 2 Barracuda'!H131)","v":""},{"$f":"IF($A130=\"\",\"\",'Fig 3 Neptunus'!H131)","v":""},{"$f":"IF($A130=\"\",\"\",'Fig 4 Walkover'!H131)","v":""},{"$f":"IF($A130=\"\",\"\",'Fig 1 Ballet Leg'!I131+'Fig 2 Barracuda'!I131+'Fig 3 Neptunus'!I131+'Fig 4 Walkover'!I131)","v":""},""]
[{"$f":"IF(Draw!E131=0,\"\",Draw!E131)","v":""},null,null,"","",{"$f":"IF($A131=\"\",\"\",'Fig 1 Ballet Leg'!H132)","v":""},{"$f":"IF($A131=\"\",\"\",'Fig 2 Barracuda'!H132)","v":""},{"$f":"IF($A131=\"\",\"\",'Fig 3 Neptunus'!H132)","v":""},{"$f":"IF($A131=\"\",\"\",'Fig 4 Walkover'!H132)","v":""},{"$f":"IF($A131=\"\",\"\",'Fig 1 Ballet Leg'!I132+'Fig 2 Barracuda'!I132+'Fig 3 Neptunus'!I132+'Fig 4 Walkover'!I132)","v":""},""]
[{"$f":"IF(Draw!E132=0,\"\",Draw!E132)","v":""},null,null,"","",{"$f":"IF($A132=\"\",\"\",'Fig 1 Ballet Leg'!H133)","v":""},{"$f":"IF($A132=\"\",\"\",'Fig 2 Barracuda'!H133)","v":""},{"$f":"IF($A132=\"\",\"\",'Fig 3 Neptunus'!H133)","v":""},{"$f":"IF($A132=\"\",\"\",'Fig 4 Walkover'!H133)","v":""},{"$f":"IF($A132=\"\",\"\",'Fig 1 Ballet Leg'!I133+'Fig 2 Barracuda'!I133+'Fig 3 Neptunus'!I133+'Fig 4 Walkover'!I133)","v":""},""]
[{"$f":"IF(Draw!E133=0,\"\",Draw!E133)","v":""},null,null,{"$f":"IF($A133=\"\",\"\",SUM(F133:I133)-J133)","v":""},{"$f":"IF($A133=\"\",\"\",RANK(D133,D$2:D$150))","v":""},{"$f":"IF($A133=\"\",\"\",'Fig 1 Ballet Leg'!H134)","v":""},{"$f":"IF($A133=\"\",\"\",'Fig 2 Barracuda'!H134)","v":""},{"$f":"IF($A133=\"\",\"\",'Fig 3 Neptunus'!H134)","v":""},{"$f":"IF($A133=\"\",\"\",'Fig 4 Walkover'!H134)","v":""},{"$f":"IF($A133=\"\",\"\",'Fig 1 Ballet Leg'!I134+'Fig 2 Barracuda'!I134+'Fig 3 Neptunus'!I134+'Fig 4 Walkover'!I134)","v":""},{"$f":"IF($A133=\"\",\"\",IF(A133=\"\",\"\",VLOOKUP(E133,AX$3:AY$102,2,FALSE)))","v":""}]
[{"$f":"IF(Draw!E134=0,\"\",Draw!E134)","v":""},null,null,"","",{"$f":"IF($A134=\"\",\"\",'Fig 1 Ballet Leg'!H135)","v":""},{"$f":"IF($A134=\"\",\"\",'Fig 2 Barracuda'!H135)","v":""},{"$f":"IF($A134=\"\",\"\",'Fig 3 Neptunus'!H135)","v":""},{"$f":"IF($A134=\"\",\"\",'Fig 4 Walkover'!H135)","v":""},{"$f":"IF($A134=\"\",\"\",'Fig 1 Ballet Leg'!I135+'Fig 2 Barracuda'!I135+'Fig 3 Neptunus'!I135+'Fig 4 Walkover'!I135)","v":""},""]
[{"$f":"IF(Draw!E135=0,\"\",Draw!E135)","v":""},null,null,"","",{"$f":"IF($A135=\"\",\"\",'Fig 1 Ballet Leg'!H136)","v":""},{"$f":"IF($A135=\"\",\"\",'Fig 2 Barracuda'!H136)","v":""},{"$f":"IF($A135=\"\",\"\",'Fig 3 Neptunus'!H136)","v":""},{"$f":"IF($A135=\"\",\"\",'Fig 4 Walkover'!H136)","v":""},{"$f":"IF($A135=\"\",\"\",'Fig 1 Ballet Leg'!I136+'Fig 2 Barracuda'!I136+'Fig 3 Neptunus'!I136+'Fig 4 Walkover'!I136)","v":""},""]
[{"$f":"IF(Draw!E136=0,\"\",Draw!E136)","v":""},null,null,"","",{"$f":"IF($A136=\"\",\"\",'Fig 1 Ballet Leg'!H137)","v":""},{"$f":"IF($A136=\"\",\"\",'Fig 2 Barracuda'!H137)","v":""},{"$f":"IF($A136=\"\",\"\",'Fig 3 Neptunus'!H137)","v":""},{"$f":"IF($A136=\"\",\"\",'Fig 4 Walkover'!H137)","v":""},{"$f":"IF($A136=\"\",\"\",'Fig 1 Ballet Leg'!I137+'Fig 2 Barracuda'!I137+'Fig 3 Neptunus'!I137+'Fig 4 Walkover'!I137)","v":""},""]
[{"$f":"IF(Draw!E137=0,\"\",Draw!E137)","v":""},null,null,"","",{"$f":"IF($A137=\"\",\"\",'Fig 1 Ballet Leg'!H138)","v":""},{"$f":"IF($A137=\"\",\"\",'Fig 2 Barracuda'!H138)","v":""},{"$f":"IF($A137=\"\",\"\",'Fig 3 Neptunus'!H138)","v":""},{"$f":"IF($A137=\"\",\"\",'Fig 4 Walkover'!H138)","v":""},{"$f":"IF($A137=\"\",\"\",'Fig 1 Ballet Leg'!I138+'Fig 2 Barracuda'!I138+'Fig 3 Neptunus'!I138+'Fig 4 Walkover'!I138)","v":""},""]
[{"$f":"IF(Draw!E138=0,\"\",Draw!E138)","v":""},null,null,"","",{"$f":"IF($A138=\"\",\"\",'Fig 1 Ballet Leg'!H139)","v":""},{"$f":"IF($A138=\"\",\"\",'Fig 2 Barracuda'!H139)","v":""},{"$f":"IF($A138=\"\",\"\",'Fig 3 Neptunus'!H139)","v":""},{"$f":"IF($A138=\"\",\"\",'Fig 4 Walkover'!H139)","v":""},{"$f":"IF($A138=\"\",\"\",'Fig 1 Ballet Leg'!I139+'Fig 2 Barracuda'!I139+'Fig 3 Neptunus'!I139+'Fig 4 Walkover'!I139)","v":""},""]
[{"$f":"IF(Draw!E139=0,\"\",Draw!E139)","v":""},null,null,"","",{"$f":"IF($A139=\"\",\"\",'Fig 1 Ballet Leg'!H140)","v":""},{"$f":"IF($A139=\"\",\"\",'Fig 2 Barracuda'!H140)","v":""},{"$f":"IF($A139=\"\",\"\",'Fig 3 Neptunus'!H140)","v":""},{"$f":"IF($A139=\"\",\"\",'Fig 4 Walkover'!H140)","v":""},{"$f":"IF($A139=\"\",\"\",'Fig 1 Ballet Leg'!I140+'Fig 2 Barracuda'!I140+'Fig 3 Neptunus'!I140+'Fig 4 Walkover'!I140)","v":""},""]
[{"$f":"IF(Draw!E140=0,\"\",Draw!E140)","v":""},null,null,"","",{"$f":"IF($A140=\"\",\"\",'Fig 1 Ballet Leg'!H141)","v":""},{"$f":"IF($A140=\"\",\"\",'Fig 2 Barracuda'!H141)","v":""},{"$f":"IF($A140=\"\",\"\",'Fig 3 Neptunus'!H141)","v":""},{"$f":"IF($A140=\"\",\"\",'Fig 4 Walkover'!H141)","v":""},{"$f":"IF($A140=\"\",\"\",'Fig 1 Ballet Leg'!I141+'Fig 2 Barracuda'!I141+'Fig 3 Neptunus'!I141+'Fig 4 Walkover'!I141)","v":""},""]
[{"$f":"IF(Draw!E141=0,\"\",Draw!E141)","v":""},null,null,"","",{"$f":"IF($A141=\"\",\"\",'Fig 1 Ballet Leg'!H142)","v":""},{"$f":"IF($A141=\"\",\"\",'Fig 2 Barracuda'!H142)","v":""},{"$f":"IF($A141=\"\",\"\",'Fig 3 Neptunus'!H142)","v":""},{"$f":"IF($A141=\"\",\"\",'Fig 4 Walkover'!H142)","v":""},{"$f":"IF($A141=\"\",\"\",'Fig 1 Ballet Leg'!I142+'Fig 2 Barracuda'!I142+'Fig 3 Neptunus'!I142+'Fig 4 Walkover'!I142)","v":""},""]
[{"$f":"IF(Draw!E142=0,\"\",Draw!E142)","v":""},null,null,"","",{"$f":"IF($A142=\"\",\"\",'Fig 1 Ballet Leg'!H143)","v":""},{"$f":"IF($A142=\"\",\"\",'Fig 2 Barracuda'!H143)","v":""},{"$f":"IF($A142=\"\",\"\",'Fig 3 Neptunus'!H143)","v":""},{"$f":"IF($A142=\"\",\"\",'Fig 4 Walkover'!H143)","v":""},{"$f":"IF($A142=\"\",\"\",'Fig 1 Ballet Leg'!I143+'Fig 2 Barracuda'!I143+'Fig 3 Neptunus'!I143+'Fig 4 Walkover'!I143)","v":""},""]
[{"$f":"IF(Draw!E143=0,\"\",Draw!E143)","v":""},null,null,"","",{"$f":"IF($A143=\"\",\"\",'Fig 1 Ballet Leg'!H144)","v":""},{"$f":"IF($A143=\"\",\"\",'Fig 2 Barracuda'!H144)","v":""},{"$f":"IF($A143=\"\",\"\",'Fig 3 Neptunus'!H144)","v":""},{"$f":"IF($A143=\"\",\"\",'Fig 4 Walkover'!H144)","v":""},{"$f":"IF($A143=\"\",\"\",'Fig 1 Ballet Leg'!I144+'Fig 2 Barracuda'!I144+'Fig 3 Neptunus'!I144+'Fig 4 Walkover'!I144)","v":""},""]
[{"$f":"IF(Draw!E144=0,\"\",Draw!E144)","v":""},null,null,"","",{"$f":"IF($A144=\"\",\"\",'Fig 1 Ballet Leg'!H145)","v":""},{"$f":"IF($A144=\"\",\"\",'Fig 2 Barracuda'!H145)","v":""},{"$f":"IF($A144=\"\",\"\",'Fig 3 Neptunus'!H145)","v":""},{"$f":"IF($A144=\"\",\"\",'Fig 4 Walkover'!H145)","v":""},{"$f":"IF($A144=\"\",\"\",'Fig 1 Ballet Leg'!I145+'Fig 2 Barracuda'!I145+'Fig 3 Neptunus'!I145+'Fig 4 Walkover'!I145)","v":""},""]
[{"$f":"IF(Draw!E145=0,\"\",Draw!E145)","v":""},null,null,"","",{"$f":"IF($A145=\"\",\"\",'Fig 1 Ballet Leg'!H146)","v":""},{"$f":"IF($A145=\"\",\"\",'Fig 2 Barracuda'!H146)","v":""},{"$f":"IF($A145=\"\",\"\",'Fig 3 Neptunus'!H146)","v":""},{"$f":"IF($A145=\"\",\"\",'Fig 4 Walkover'!H146)","v":""},{"$f":"IF($A145=\"\",\"\",'Fig 1 Ballet Leg'!I146+'Fig 2 Barracuda'!I146+'Fig 3 Neptunus'!I146+'Fig 4 Walkover'!I146)","v":""},""]
[{"$f":"IF(Draw!E146=0,\"\",Draw!E146)","v":""},null,null,"","",{"$f":"IF($A146=\"\",\"\",'Fig 1 Ballet Leg'!H147)","v":""},{"$f":"IF($A146=\"\",\"\",'Fig 2 Barracuda'!H147)","v":""},{"$f":"IF($A146=\"\",\"\",'Fig 3 Neptunus'!H147)","v":""},{"$f":"IF($A146=\"\",\"\",'Fig 4 Walkover'!H147)","v":""},{"$f":"IF($A146=\"\",\"\",'Fig 1 Ballet Leg'!I147+'Fig 2 Barracuda'!I147+'Fig 3 Neptunus'!I147+'Fig 4 Walkover'!I147)","v":""},""]
[{"$f":"IF(Draw!E147=0,\"\",Draw!E147)","v":""},null,null,"","",{"$f":"IF($A147=\"\",\"\",'Fig 1 Ballet Leg'!H148)","v":""},{"$f":"IF($A147=\"\",\"\",'Fig 2 Barracuda'!H148)","v":""},{"$f":"IF($A147=\"\",\"\",'Fig 3 Neptunus'!H148)","v":""},{"$f":"IF($A147=\"\",\"\",'Fig 4 Walkover'!H148)","v":""},{"$f":"IF($A147=\"\",\"\",'Fig 1 Ballet Leg'!I148+'Fig 2 Barracuda'!I148+'Fig 3 Neptunus'!I148+'Fig 4 Walkover'!I148)","v":""},""]
[{"$f":"IF(Draw!E148=0,\"\",Draw!E148)","v":""},null,null,"","",{"$f":"IF($A148=\"\",\"\",'Fig 1 Ballet Leg'!H149)","v":""},{"$f":"IF($A148=\"\",\"\",'Fig 2 Barracuda'!H149)","v":""},{"$f":"IF($A148=\"\",\"\",'Fig 3 Neptunus'!H149)","v":""},{"$f":"IF($A148=\"\",\"\",'Fig 4 Walkover'!H149)","v":""},{"$f":"IF($A148=\"\",\"\",'Fig 1 Ballet Leg'!I149+'Fig 2 Barracuda'!I149+'Fig 3 Neptunus'!I149+'Fig 4 Walkover'!I149)","v":""},""]
[{"$f":"IF(Draw!E149=0,\"\",Draw!E149)","v":""},null,null,"","",{"$f":"IF($A149=\"\",\"\",'Fig 1 Ballet Leg'!H150)","v":""},{"$f":"IF($A149=\"\",\"\",'Fig 2 Barracuda'!H150)","v":""},{"$f":"IF($A149=\"\",\"\",'Fig 3 Neptunus'!H150)","v":""},{"$f":"IF($A149=\"\",\"\",'Fig 4 Walkover'!H150)","v":""},{"$f":"IF($A149=\"\",\"\",'Fig 1 Ballet Leg'!I150+'Fig 2 Barracuda'!I150+'Fig 3 Neptunus'!I150+'Fig 4 Walkover'!I150)","v":""},""]
[{"$f":"IF(Draw!E150=0,\"\",Draw!E150)","v":""},null,null,"","",{"$f":"IF($A150=\"\",\"\",'Fig 1 Ballet Leg'!H151)","v":""},{"$f":"IF($A150=\"\",\"\",'Fig 2 Barracuda'!H151)","v":""},{"$f":"IF($A150=\"\",\"\",'Fig 3 Neptunus'!H151)","v":""},{"$f":"IF($A150=\"\",\"\",'Fig 4 Walkover'!H151)","v":""},{"$f":"IF($A150=\"\",\"\",'Fig 1 Ballet Leg'!I151+'Fig 2 Barracuda'!I151+'Fig 3 Neptunus'!I151+'Fig 4 Walkover'!I151)","v":""},""]
[null,null,null,null,null,null,null,null,null,null,{"$f":"IF($A151=\"\",\"\",IF(A151=\"\",\"\",VLOOKUP(E151,AX$3:AY$102,2,FALSE)))","v":""}]

{"sheet":"Draw","index":6,"n_rows":151,"n_cols":16,"rows_kept":151,"cut":false,"hidden":true,"merged":[]}
[1,"Bloomington",{"$f":"RAND()","v":0.71135124794028037},null,null,null,"School","Name","Draw #","Name","School"]
["Anna Ganser","Osseo-Maple Grove",{"$f":"RAND()","v":0.77703787149520653},{"$f":"IF(ISNA(RANK(C2,C$2:C$150,1)),\"\",RANK(C2,C$2:C$150,1))","v":15},{"$f":"IF(B2<>\"\",F2,\"\")","v":1},1,{"$f":"B2","v":"Osseo-Maple Grove"},{"$f":"A2","v":"Anna Ganser"},{"$f":"E2","v":1},{"$f":"IF(ISNA(VLOOKUP(I2,D$2:H$150,5,FALSE)),\"\",VLOOKUP(I2,D$2:H$150,5,FALSE))","v":"Jessica Ruohoniemi"},{"$f":"IF(ISNA(VLOOKUP(I2,D$2:G$150,4,FALSE)),\"\",VLOOKUP(I2,D$2:G$150,4,FALSE))","v":"Osseo-Maple Grove"},null,null,1,"Anna Ganser","Osseo-Maple Grove"]
["Abigail Tollas","Osseo-Maple Grove",0.87774728024110704,{"$f":"IF(ISNA(RANK(C3,C$2:C$150,1)),\"\",RANK(C3,C$2:C$150,1))","v":18},{"$f":"IF(B3<>\"\",F3,\"\")","v":2},2,{"$f":"B3","v":"Osseo-Maple Grove"},{"$f":"A3","v":"Abigail Tollas"},{"$f":"E3","v":2},{"$f":"IF(ISNA(VLOOKUP(I3,D$2:H$150,5,FALSE)),\"\",VLOOKUP(I3,D$2:H$150,5,FALSE))","v":"Holly Drazenovich"},{"$f":"IF(ISNA(VLOOKUP(I3,D$2:G$150,4,FALSE)),\"\",VLOOKUP(I3,D$2:G$150,4,FALSE))","v":"Osseo-Maple Grove"},null,null,2,"Abigail Tollas","Osseo-Maple Grove"]
["Shakila Hoke","Columbia Heights",0.68691397818039679,14,3,3,"Columbia Heights","Shakila Hoke",3,"Emily Barr","Osseo-Maple Grove",null,null,3,"Shakila Hoke","Columbia Heights"]
["Kelly McNamee","Osseo-Maple Grove",0.79302092587446105,16,4,4,"Osseo-Maple Grove","Kelly McNamee",4,"Marie Vanderwarn","Osseo-Maple Grove",null,null,4,"Kelly McNamee","Osseo-Maple Grove"]
["Jessica Ruohoniemi","Osseo-Maple Grove",1.4956850460503546E-3,1,5,5,"Osseo-Maple Grove","Jessica Ruohoniemi",5,"Heather Breidenbach","Osseo-Maple Grove",null,null,5,"Jessica Ruohoniemi","Osseo-Maple Grove"]
["Katherine Olsen","Osseo-Maple Grove",0.3879369462828165,7,6,6,"Osseo-Maple Grove","Katherine Olsen",6,"Danielle Hawes","Osseo-Maple Grove",null,null,6,"Katherine Olsen","Osseo-Maple Grove"]
["Holly Drazenovich","Osseo-Maple Grove",1.0573021609111777E-2,2,7,7,"Osseo-Maple Grove","Holly Drazenovich",7,"Katherine Olsen","Osseo-Maple Grove",null,null,7,"Holly Drazenovich","Osseo-Maple Grove"]
["Gabriela Marick","Osseo-Maple Grove",0.42980432181789963,9,8,8,"Osseo-Maple Grove","Gabriela Marick",8,"Alexadra Trudeau","Osseo-Maple Grove",null,null,8,"Gabriela Marick","Osseo-Maple Grove"]
["Danielle Hawes","Osseo-Maple Grove",0.36561465171409246,6,9,9,"Osseo-Maple Grove","Danielle Hawes",9,"Gabriela Marick","Osseo-Maple Grove",null,null,9,"Danielle Hawes","Osseo-Maple Grove"]
["Hannah Littel","Osseo-Maple Grove",0.89252659925108613,20,10,10,"Osseo-Maple Grove","Hannah Littel",10,"Caroline LaBord","Osseo-Maple Grove",null,null,10,"Hannah Littel","Osseo-Maple Grove"]
["Katelyn Moline","Osseo-Maple Grove",0.94928407053457742,22,11,11,"Osseo-Maple Grove","Katelyn Moline",11,"Elena Vrba","Osseo-Maple Grove",null,null,11,"Katelyn Moline","Osseo-Maple Grove"]
["Hannah Thalhuber","Columbia Heights",0.96879504466113675,23,12,12,"Columbia Heights","Hannah Thalhuber",12,"Ava Rosengren","Columbia Heights",null,null,12,"Hannah Thalhuber","Columbia Heights"]
["Marie Vanderwarn","Osseo-Maple Grove",0.14454765462031272,4,13,13,"Osseo-Maple Grove","Marie Vanderwarn",13,"Samantha Alexon","Columbia Heights",null,null,13,"Marie Vanderwarn","Osseo-Maple Grove"]
["Issy Rardin","Columbia Heights",0.91145353593558609,21,14,14,"Columbia Heights","Issy Rardin",14,"Shakila Hoke","Columbia Heights",null,null,14,"Issy Rardin","Columbia Heights"]
["Samantha Alexon","Columbia Heights",0.60456103799955496,13,15,15,"Columbia Heights","Samantha Alexon",15,"Anna Ganser","Osseo-Maple Grove",null,null,15,"Samantha Alexon","Columbia Heights"]
["Elisabeth Heitzig","Osseo-Maple Grove",0.85847807729984948,17,16,16,"Osseo-Maple Grove","Elisabeth Heitzig",16,"Kelly McNamee","Osseo-Maple Grove",null,null,16,"Elisabeth Heitzig","Osseo-Maple Grove"]
["Elena Vrba","Osseo-Maple Grove",0.57122025757621098,11,17,17,"Osseo-Maple Grove","Elena Vrba",17,"Elisabeth Heitzig","Osseo-Maple Grove",null,null,17,"Elena Vrba","Osseo-Maple Grove"]
["Caroline LaBord","Osseo-Maple Grove",0.51068081961268186,10,18,18,"Osseo-Maple Grove","Caroline LaBord",18,"Abigail Tollas","Osseo-Maple Grove",null,null,18,"Caroline LaBord","Osseo-Maple Grove"]
["Lily Dickson","Columbia Heights",0.88055279123104924,19,19,19,"Columbia Heights","Lily Dickson",19,"Lily Dickson","Columbia Heights",null,null,19,"Lily Dickson","Columbia Heights"]
["Ava Rosengren","Columbia Heights",0.59592831417222758,12,20,20,"Columbia Heights","Ava Rosengren",20,"Hannah Littel","Osseo-Maple Grove",null,null,20,"Ava Rosengren","Columbia Heights"]
["Heather Breidenbach","Osseo-Maple Grove",0.32910906510883986,5,21,21,"Osseo-Maple Grove","Heather Breidenbach",21,"Issy Rardin","Columbia Heights",null,null,21,"Heather Breidenbach","Osseo-Maple Grove"]
["Elizabeth McBride","Osseo-Maple Grove",0.99533792708112179,24,22,22,"Osseo-Maple Grove","Elizabeth McBride",22,"Katelyn Moline","Osseo-Maple Grove",null,null,22,"Elizabeth McBride","Osseo-Maple Grove"]
["Emily Barr","Osseo-Maple Grove",9.7603439097266764E-2,3,23,23,"Osseo-Maple Grove","Emily Barr",23,"Hannah Thalhuber","Columbia Heights",null,null,23,"Emily Barr","Osseo-Maple Grove"]
["Alexadra Trudeau","Osseo-Maple Grove",0.40884694432068247,8,24,24,"Osseo-Maple Grove","Alexadra Trudeau",24,"Elizabeth McBride","Osseo-Maple Grove",null,null,24,"Alexadra Trudeau","Osseo-Maple Grove"]
[null,null,null,"","",25,0,0,"",0,0,null,null,""]
[null,null,null,"","",26,0,0,"",0,0,null,null,""]
[null,null,null,"","",27,0,0,"",0,0,null,null,""]
[null,null,null,"","",28,0,0,"",0,0,null,null,""]
[null,null,null,"","",29,0,0,"",0,0,null,null,""]
[null,null,null,"","",30,0,0,"",0,0,null,null,""]
[null,null,null,null,{"$f":"IF(B32<>\"\",F32,\"\")","v":""},31,0,0,"",0,0,null,null,""]
[null,null,null,null,"",32,0,0,"",0,0,null,null,""]
[null,null,null,null,"",33,0,0,"",0,0,null,null,""]
[null,null,null,null,"",34,0,0,"",0,0,null,null,""]
[null,null,null,null,"",35,0,0,"",0,0,null,null,""]
[null,null,null,null,"",36,0,0,"",0,0,null,null,""]
[null,null,null,null,"",37,0,0,"",0,0,null,null,""]
[null,null,null,null,"",38,0,0,"",0,0,null,null,""]
[null,null,null,null,"",39,0,0,"",0,0,null,null,""]
[null,null,null,null,"",40,0,0,"",0,0,null,null,""]
[null,null,null,null,"",41,0,0,"",0,0,null,null,""]
[null,null,null,null,"",42,0,0,"",0,0,null,null,""]
[null,null,null,null,"",43,0,0,"",0,0,null,null,""]
[null,null,null,null,"",44,0,0,"",0,0,null,null,""]
[null,null,null,null,"",45,0,0,"",0,0,null,null,""]
[null,null,null,null,"",46,0,0,"",0,0,null,null,""]
[null,null,null,null,"",47,0,0,"",0,0,null,null,""]
[null,null,null,null,"",48,0,0,"",0,0,null,null,""]
[null,null,null,null,"",49,0,0,"",0,0,null,null,""]
[null,null,null,null,"",50,0,0,"",0,0,null,null,""]
[null,null,null,null,"",51,0,0,"",0,0,null,null,""]
[null,null,null,null,"",52,0,0,"",0,0,null,null,""]
[null,null,null,null,"",53,0,0,"",0,0,null,null,""]
[null,null,null,null,"",54,0,0,"",0,0,null,null,""]
[null,null,null,null,"",55,0,0,"",0,0,null,null,""]
[null,null,null,null,"",56,0,0,"",0,0,null,null,""]
[null,null,null,null,"",57,0,0,"",0,0,null,null,""]
[null,null,null,null,"",58,0,0,"",0,0,null,null,""]
[null,null,null,null,"",59,0,0,"",0,0,null,null,""]
[null,null,null,null,"",60,0,0,"",0,0,null,null,""]
[null,null,null,null,"",61,0,0,"",0,0,null,null,""]
[null,null,null,null,"",62,0,0,"",0,0,null,null,""]
[null,null,null,null,"",63,0,0,"",0,0,null,null,""]
[null,null,null,null,"",64,0,0,"",0,0,null,null,""]
[null,null,null,null,"",65,0,0,"",0,0,null,null,""]
[null,null,null,null,"",66,{"$f":"B67","v":0},{"$f":"A67","v":0},{"$f":"E67","v":""},{"$f":"IF(ISNA(VLOOKUP(I67,D$2:H$150,5,FALSE)),\"\",VLOOKUP(I67,D$2:H$150,5,FALSE))","v":0},{"$f":"IF(ISNA(VLOOKUP(I67,D$2:G$150,4,FALSE)),\"\",VLOOKUP(I67,D$2:G$150,4,FALSE))","v":0},null,null,""]
[null,null,null,null,"",67,0,0,"",0,0,null,null,""]
[null,null,null,null,"",68,0,0,"",0,0,null,null,""]
[null,null,null,null,"",69,0,0,"",0,0,null,null,""]
[null,null,null,null,"",70,0,0,"",0,0,null,null,""]
[null,null,null,null,"",71,0,0,"",0,0,null,null,""]
[null,null,null,null,"",72,0,0,"",0,0,null,null,""]
[null,null,null,null,"",73,0,0,"",0,0,null,null,""]
[null,null,null,null,"",74,0,0,"",0,0,null,null,""]
[null,null,null,null,"",75,0,0,"",0,0,null,null,""]
[null,null,null,null,"",76,0,0,"",0,0,null,null,""]
[null,null,null,null,"",77,0,0,"",0,0,null,null,""]
[null,null,null,null,"",78,0,0,"",0,0,null,null,""]
[null,null,null,null,"",79,0,0,"",0,0,null,null,""]
[null,null,null,null,"",80,0,0,"",0,0,null,null,""]
[null,null,null,null,"",81,0,0,"",0,0,null,null,""]
[null,null,null,null,"",82,0,0,"",0,0,null,null,""]
[null,null,null,null,"",83,0,0,"",0,0,null,null,""]
[null,null,null,null,"",84,0,0,"",0,0,null,null,""]
[null,null,null,null,"",85,0,0,"",0,0,null,null,""]
[null,null,null,null,"",86,0,0,"",0,0,null,null,""]
[null,null,null,null,"",87,0,0,"",0,0,null,null,""]
[null,null,null,null,"",88,0,0,"",0,0,null,null,""]
[null,null,null,null,"",89,0,0,"",0,0,null,null,""]
[null,null,null,null,"",90,0,0,"",0,0,null,null,""]
[null,null,null,null,"",91,0,0,"",0,0,null,null,""]
[null,null,null,null,"",92,0,0,"",0,0,null,null,""]
[null,null,null,null,"",93,0,0,"",0,0,null,null,""]
[null,null,null,null,"",94,{"$f":"B95","v":0},{"$f":"A95","v":0},{"$f":"E95","v":""},0,0,null,null,""]
[null,null,null,null,{"$f":"IF(B96<>\"\",F96,\"\")","v":""},95,0,0,"",0,0,null,null,""]
[null,null,null,null,"",96,0,0,"",0,0,null,null,""]
[null,null,null,null,"",97,0,0,"",0,0,null,null,""]
[null,null,null,null,"",98,0,0,"",0,0,null,null,""]
[null,null,null,null,"",99,0,0,"",0,0,null,null,""]
[null,null,null,null,"",100,0,0,"",0,0,null,null,""]
[null,null,null,null,"",101,0,0,"",0,0,null,null,""]
[null,null,null,null,"",102,0,0,"",0,0,null,null,""]
[null,null,null,null,"",103,0,0,"",0,0,null,null,""]
[null,null,null,null,"",104,0,0,"",0,0,null,null,""]
[null,null,null,null,"",105,0,0,"",0,0,null,null,""]
[null,null,null,null,"",106,0,0,"",0,0,null,null,""]
[null,null,null,null,"",107,0,0,"",0,0,null,null,""]
[null,null,null,null,"",108,0,0,"",0,0,null,null,""]
[null,null,null,null,"",109,0,0,"",0,0,null,null,""]
[null,null,null,null,"",110,0,0,"",0,0,null,null,""]
[null,null,null,null,"",111,0,0,"",0,0,null,null,""]
[null,null,null,null,"",112,0,0,"",0,0,null,null,""]
[null,null,null,null,"",113,0,0,"",0,0,null,null,""]
[null,null,null,null,"",114,0,0,"",0,0,null,null,""]
[null,null,null,null,"",115,0,0,"",0,0,null,null,""]
[null,null,null,null,"",116,0,0,"",0,0,null,null,""]
[null,null,null,null,"",117,0,0,"",0,0,null,null,""]
[null,null,null,null,"",118,0,0,"",0,0,null,null,""]
[null,null,null,null,"",119,0,0,"",0,0,null,null,""]
[null,null,null,null,"",120,0,0,"",0,0,null,null,""]
[null,null,null,null,"",121,0,0,"",0,0,null,null,""]
[null,null,null,null,"",122,0,0,"",0,0,null,null,""]
[null,null,null,null,"",123,0,0,"",0,0,null,null,""]
[null,null,null,null,"",124,0,0,"",0,0,null,null,""]
[null,null,null,null,"",125,0,0,"",0,0,null,null,""]
[null,null,null,null,"",126,0,0,"",0,0,null,null,""]
[null,null,null,null,"",127,0,0,"",0,0,null,null,""]
[null,null,null,null,"",128,0,0,"",0,0,null,null,""]
[null,null,null,null,"",129,0,0,"",0,0,null,null,""]
[null,null,null,null,"",130,0,0,"",{"$f":"IF(ISNA(VLOOKUP(I131,D$2:H$150,5,FALSE)),\"\",VLOOKUP(I131,D$2:H$150,5,FALSE))","v":0},{"$f":"IF(ISNA(VLOOKUP(I131,D$2:G$150,4,FALSE)),\"\",VLOOKUP(I131,D$2:G$150,4,FALSE))","v":0},null,null,""]
[null,null,null,null,"",131,0,0,"",0,0,null,null,""]
[null,null,null,null,"",132,0,0,"",0,0,null,null,""]
[null,null,null,null,"",133,0,0,"",0,0,null,null,""]
[null,null,null,null,"",134,0,0,"",0,0,null,null,""]
[null,null,null,null,"",135,0,0,"",0,0,null,null,""]
[null,null,null,null,"",136,0,0,"",0,0,null,null,""]
[null,null,null,null,"",137,0,0,"",0,0,null,null,""]
[null,null,null,null,"",138,0,0,"",0,0,null,null,""]
[null,null,null,null,"",139,0,0,"",0,0,null,null,""]
[null,null,null,null,"",140,0,0,"",0,0,null,null,""]
[null,null,null,null,"",141,0,0,"",0,0,null,null,""]
[null,null,null,null,"",142,0,0,"",0,0,null,null,""]
[null,null,null,null,"",143,0,0,"",0,0,null,null,""]
[null,null,null,null,"",144,0,0,"",0,0,null,null,""]
[null,null,null,null,"",145,0,0,"",0,0,null,null,""]
[null,null,null,null,"",146,0,0,"",0,0,null,null,""]
[null,null,null,null,"",147,0,0,"",0,0,null,null,""]
[null,null,null,null,"",148,0,0,"",0,0,null,null,""]
[null,null,null,null,"",149,0,0,"",0,0,null,null,""]
[null,null,null,null,""]

{"sheet":"Schools","index":7,"n_rows":14,"n_cols":1,"rows_kept":14,"cut":false,"hidden":true,"merged":[]}
["List of Schools:"]
["Bloomington"]
["Columbia Heights"]
["Eden Prairie"]
["Edina"]
["Forest Lake"]
["Hopkins"]
["Itasca"]
["Osseo-Maple Grove"]
["Prior Lake"]
["Richfield"]
["St. Louis Park"]
["Stillwater"]
["Wayzata"]

{"sheet":"Official Draw","index":8,"n_rows":151,"n_cols":4,"rows_kept":151,"cut":false,"hidden":false,"merged":[]}
[]
[null,{"$f":"Draw!I1","v":"Draw #"},{"$f":"Draw!J1","v":"Name"},{"$f":"Draw!K1","v":"School"}]
[null,{"$f":"Draw!N2","v":1},{"$f":"Draw!O2","v":"Anna Ganser"},{"$f":"Draw!P2","v":"Osseo-Maple Grove"}]
[null,{"$f":"Draw!N3","v":2},{"$f":"Draw!O3","v":"Abigail Tollas"},{"$f":"Draw!P3","v":"Osseo-Maple Grove"}]
[null,{"$f":"Draw!N4","v":3},{"$f":"Draw!O4","v":"Shakila Hoke"},{"$f":"Draw!P4","v":"Columbia Heights"}]
[null,{"$f":"Draw!N5","v":4},{"$f":"Draw!O5","v":"Kelly McNamee"},{"$f":"Draw!P5","v":"Osseo-Maple Grove"}]
[null,{"$f":"Draw!N6","v":5},{"$f":"Draw!O6","v":"Jessica Ruohoniemi"},{"$f":"Draw!P6","v":"Osseo-Maple Grove"}]
[null,{"$f":"Draw!N7","v":6},{"$f":"Draw!O7","v":"Katherine Olsen"},{"$f":"Draw!P7","v":"Osseo-Maple Grove"}]
[null,{"$f":"Draw!N8","v":7},{"$f":"Draw!O8","v":"Holly Drazenovich"},{"$f":"Draw!P8","v":"Osseo-Maple Grove"}]
[null,{"$f":"Draw!N9","v":8},{"$f":"Draw!O9","v":"Gabriela Marick"},{"$f":"Draw!P9","v":"Osseo-Maple Grove"}]
[null,{"$f":"Draw!N10","v":9},"Lilly Dickson","Columbia Heights"]
[null,{"$f":"Draw!N11","v":10},{"$f":"Draw!O11","v":"Hannah Littel"},{"$f":"Draw!P11","v":"Osseo-Maple Grove"}]
[null,{"$f":"Draw!N12","v":11},{"$f":"Draw!O12","v":"Katelyn Moline"},{"$f":"Draw!P12","v":"Osseo-Maple Grove"}]
[null,{"$f":"Draw!N13","v":12},{"$f":"Draw!O13","v":"Hannah Thalhuber"},{"$f":"Draw!P13","v":"Columbia Heights"}]
[null,{"$f":"Draw!N14","v":13},{"$f":"Draw!O14","v":"Marie Vanderwarn"},{"$f":"Draw!P14","v":"Osseo-Maple Grove"}]
[null,{"$f":"Draw!N15","v":14},{"$f":"Draw!O15","v":"Issy Rardin"},{"$f":"Draw!P15","v":"Columbia Heights"}]
[null,{"$f":"Draw!N16","v":15},{"$f":"Draw!O16","v":"Samantha Alexon"},{"$f":"Draw!P16","v":"Columbia Heights"}]
[null,{"$f":"Draw!N17","v":16},{"$f":"Draw!O17","v":"Elisabeth Heitzig"},{"$f":"Draw!P17","v":"Osseo-Maple Grove"}]
[null,{"$f":"Draw!N18","v":17},{"$f":"Draw!O18","v":"Elena Vrba"},{"$f":"Draw!P18","v":"Osseo-Maple Grove"}]
[null,{"$f":"Draw!N19","v":18},{"$f":"Draw!O19","v":"Caroline LaBord"},{"$f":"Draw!P19","v":"Osseo-Maple Grove"}]
[null,{"$f":"Draw!N20","v":19},{"$f":"Draw!O20","v":"Lily Dickson"},{"$f":"Draw!P20","v":"Columbia Heights"}]
[null,{"$f":"Draw!N21","v":20},{"$f":"Draw!O21","v":"Ava Rosengren"},{"$f":"Draw!P21","v":"Columbia Heights"}]
[null,{"$f":"Draw!N22","v":21},{"$f":"Draw!O22","v":"Heather Breidenbach"},{"$f":"Draw!P22","v":"Osseo-Maple Grove"}]
[null,{"$f":"Draw!N23","v":22},{"$f":"Draw!O23","v":"Elizabeth McBride"},{"$f":"Draw!P23","v":"Osseo-Maple Grove"}]
[null,{"$f":"Draw!N24","v":23},{"$f":"Draw!O24","v":"Emily Barr"},{"$f":"Draw!P24","v":"Osseo-Maple Grove"}]
[null,{"$f":"Draw!N25","v":24},{"$f":"Draw!O25","v":"Alexadra Trudeau"},{"$f":"Draw!P25","v":"Osseo-Maple Grove"}]
[null,{"$f":"Draw!N26","v":""},{"$f":"Draw!O26","v":0},{"$f":"Draw!P26","v":0}]
[null,{"$f":"Draw!N27","v":""},{"$f":"Draw!O27","v":0},{"$f":"Draw!P27","v":0}]
[null,{"$f":"Draw!N28","v":""},{"$f":"Draw!O28","v":0},{"$f":"Draw!P28","v":0}]
[null,{"$f":"Draw!N29","v":""},{"$f":"Draw!O29","v":0},{"$f":"Draw!P29","v":0}]
[null,{"$f":"Draw!N30","v":""},{"$f":"Draw!O30","v":0},{"$f":"Draw!P30","v":0}]
[null,{"$f":"Draw!N31","v":""},{"$f":"Draw!O31","v":0},{"$f":"Draw!P31","v":0}]
[null,{"$f":"Draw!N32","v":""},{"$f":"Draw!O32","v":0},{"$f":"Draw!P32","v":0}]
[null,{"$f":"Draw!N33","v":""},{"$f":"Draw!O33","v":0},{"$f":"Draw!P33","v":0}]
[null,{"$f":"Draw!N34","v":""},{"$f":"Draw!O34","v":0},{"$f":"Draw!P34","v":0}]
[null,{"$f":"Draw!N35","v":""},{"$f":"Draw!O35","v":0},{"$f":"Draw!P35","v":0}]
[null,{"$f":"Draw!N36","v":""},{"$f":"Draw!O36","v":0},{"$f":"Draw!P36","v":0}]
[null,{"$f":"Draw!N37","v":""},{"$f":"Draw!O37","v":0},{"$f":"Draw!P37","v":0}]
[null,{"$f":"Draw!N38","v":""},{"$f":"Draw!O38","v":0},{"$f":"Draw!P38","v":0}]
[null,{"$f":"Draw!N39","v":""},{"$f":"Draw!O39","v":0},{"$f":"Draw!P39","v":0}]
[null,{"$f":"Draw!N40","v":""},{"$f":"Draw!O40","v":0},{"$f":"Draw!P40","v":0}]
[null,{"$f":"Draw!N41","v":""},{"$f":"Draw!O41","v":0},{"$f":"Draw!P41","v":0}]
[null,{"$f":"Draw!N42","v":""},{"$f":"Draw!O42","v":0},{"$f":"Draw!P42","v":0}]
[null,{"$f":"Draw!N43","v":""},{"$f":"Draw!O43","v":0},{"$f":"Draw!P43","v":0}]
[null,{"$f":"Draw!N44","v":""},{"$f":"Draw!O44","v":0},{"$f":"Draw!P44","v":0}]
[null,{"$f":"Draw!N45","v":""},{"$f":"Draw!O45","v":0},{"$f":"Draw!P45","v":0}]
[null,{"$f":"Draw!N46","v":""},{"$f":"Draw!O46","v":0},{"$f":"Draw!P46","v":0}]
[null,{"$f":"Draw!N47","v":""},{"$f":"Draw!O47","v":0},{"$f":"Draw!P47","v":0}]
[null,{"$f":"Draw!N48","v":""},{"$f":"Draw!O48","v":0},{"$f":"Draw!P48","v":0}]
[null,{"$f":"Draw!N49","v":""},{"$f":"Draw!O49","v":0},{"$f":"Draw!P49","v":0}]
[null,{"$f":"Draw!N50","v":""},{"$f":"Draw!O50","v":0},{"$f":"Draw!P50","v":0}]
[null,{"$f":"Draw!N51","v":""},{"$f":"Draw!O51","v":0},{"$f":"Draw!P51","v":0}]
[null,{"$f":"Draw!N52","v":""},{"$f":"Draw!O52","v":0},{"$f":"Draw!P52","v":0}]
[null,{"$f":"Draw!N53","v":""},{"$f":"Draw!O53","v":0},{"$f":"Draw!P53","v":0}]
[null,{"$f":"Draw!N54","v":""},{"$f":"Draw!O54","v":0},{"$f":"Draw!P54","v":0}]
[null,{"$f":"Draw!N55","v":""},{"$f":"Draw!O55","v":0},{"$f":"Draw!P55","v":0}]
[null,{"$f":"Draw!N56","v":""},{"$f":"Draw!O56","v":0},{"$f":"Draw!P56","v":0}]
[null,{"$f":"Draw!N57","v":""},{"$f":"Draw!O57","v":0},{"$f":"Draw!P57","v":0}]
[null,{"$f":"Draw!N58","v":""},{"$f":"Draw!O58","v":0},{"$f":"Draw!P58","v":0}]
[null,{"$f":"Draw!N59","v":""},{"$f":"Draw!O59","v":0},{"$f":"Draw!P59","v":0}]
[null,{"$f":"Draw!N60","v":""},{"$f":"Draw!O60","v":0},{"$f":"Draw!P60","v":0}]
[null,{"$f":"Draw!N61","v":""},{"$f":"Draw!O61","v":0},{"$f":"Draw!P61","v":0}]
[null,{"$f":"Draw!N62","v":""},{"$f":"Draw!O62","v":0},{"$f":"Draw!P62","v":0}]
[null,{"$f":"Draw!N63","v":""},{"$f":"Draw!O63","v":0},{"$f":"Draw!P63","v":0}]
[null,{"$f":"Draw!N64","v":""},{"$f":"Draw!O64","v":0},{"$f":"Draw!P64","v":0}]
[null,{"$f":"Draw!N65","v":""},{"$f":"Draw!O65","v":0},{"$f":"Draw!P65","v":0}]
[null,{"$f":"Draw!N66","v":""},{"$f":"Draw!O66","v":0},{"$f":"Draw!P66","v":0}]
[null,{"$f":"Draw!N67","v":""},{"$f":"Draw!O67","v":0},{"$f":"Draw!P67","v":0}]
[null,{"$f":"Draw!N68","v":""},{"$f":"Draw!O68","v":0},{"$f":"Draw!P68","v":0}]
[null,{"$f":"Draw!N69","v":""},{"$f":"Draw!O69","v":0},{"$f":"Draw!P69","v":0}]
[null,{"$f":"Draw!N70","v":""},{"$f":"Draw!O70","v":0},{"$f":"Draw!P70","v":0}]
[null,{"$f":"Draw!N71","v":""},{"$f":"Draw!O71","v":0},{"$f":"Draw!P71","v":0}]
[null,{"$f":"Draw!N72","v":""},{"$f":"Draw!O72","v":0},{"$f":"Draw!P72","v":0}]
[null,{"$f":"Draw!N73","v":""},{"$f":"Draw!O73","v":0},{"$f":"Draw!P73","v":0}]
[null,{"$f":"Draw!N74","v":""},{"$f":"Draw!O74","v":0},{"$f":"Draw!P74","v":0}]
[null,{"$f":"Draw!N75","v":""},{"$f":"Draw!O75","v":0},{"$f":"Draw!P75","v":0}]
[null,{"$f":"Draw!N76","v":""},{"$f":"Draw!O76","v":0},{"$f":"Draw!P76","v":0}]
[null,{"$f":"Draw!N77","v":""},{"$f":"Draw!O77","v":0},{"$f":"Draw!P77","v":0}]
[null,{"$f":"Draw!N78","v":""},{"$f":"Draw!O78","v":0},{"$f":"Draw!P78","v":0}]
[null,{"$f":"Draw!N79","v":""},{"$f":"Draw!O79","v":0},{"$f":"Draw!P79","v":0}]
[null,{"$f":"Draw!N80","v":""},{"$f":"Draw!O80","v":0},{"$f":"Draw!P80","v":0}]
[null,{"$f":"Draw!N81","v":""},{"$f":"Draw!O81","v":0},{"$f":"Draw!P81","v":0}]
[null,{"$f":"Draw!N82","v":""},{"$f":"Draw!O82","v":0},{"$f":"Draw!P82","v":0}]
[null,{"$f":"Draw!N83","v":""},{"$f":"Draw!O83","v":0},{"$f":"Draw!P83","v":0}]
[null,{"$f":"Draw!N84","v":""},{"$f":"Draw!O84","v":0},{"$f":"Draw!P84","v":0}]
[null,{"$f":"Draw!N85","v":""},{"$f":"Draw!O85","v":0},{"$f":"Draw!P85","v":0}]
[null,{"$f":"Draw!N86","v":""},{"$f":"Draw!O86","v":0},{"$f":"Draw!P86","v":0}]
[null,{"$f":"Draw!N87","v":""},{"$f":"Draw!O87","v":0},{"$f":"Draw!P87","v":0}]
[null,{"$f":"Draw!N88","v":""},{"$f":"Draw!O88","v":0},{"$f":"Draw!P88","v":0}]
[null,{"$f":"Draw!N89","v":""},{"$f":"Draw!O89","v":0},{"$f":"Draw!P89","v":0}]
[null,{"$f":"Draw!N90","v":""},{"$f":"Draw!O90","v":0},{"$f":"Draw!P90","v":0}]
[null,{"$f":"Draw!N91","v":""},{"$f":"Draw!O91","v":0},{"$f":"Draw!P91","v":0}]
[null,{"$f":"Draw!N92","v":""},{"$f":"Draw!O92","v":0},{"$f":"Draw!P92","v":0}]
[null,{"$f":"Draw!N93","v":""},{"$f":"Draw!O93","v":0},{"$f":"Draw!P93","v":0}]
[null,{"$f":"Draw!N94","v":""},{"$f":"Draw!O94","v":0},{"$f":"Draw!P94","v":0}]
[null,{"$f":"Draw!N95","v":""},{"$f":"Draw!O95","v":0},{"$f":"Draw!P95","v":0}]
[null,{"$f":"Draw!N96","v":""},{"$f":"Draw!O96","v":0},{"$f":"Draw!P96","v":0}]
[null,{"$f":"Draw!N97","v":""},{"$f":"Draw!O97","v":0},{"$f":"Draw!P97","v":0}]
[null,{"$f":"Draw!N98","v":""},{"$f":"Draw!O98","v":0},{"$f":"Draw!P98","v":0}]
[null,{"$f":"Draw!N99","v":""},{"$f":"Draw!O99","v":0},{"$f":"Draw!P99","v":0}]
[null,{"$f":"Draw!N100","v":""},{"$f":"Draw!O100","v":0},{"$f":"Draw!P100","v":0}]
[null,{"$f":"Draw!N101","v":""},{"$f":"Draw!O101","v":0},{"$f":"Draw!P101","v":0}]
[null,{"$f":"Draw!N102","v":""},{"$f":"Draw!O102","v":0},{"$f":"Draw!P102","v":0}]
[null,{"$f":"Draw!N103","v":""},{"$f":"Draw!O103","v":0},{"$f":"Draw!P103","v":0}]
[null,{"$f":"Draw!N104","v":""},{"$f":"Draw!O104","v":0},{"$f":"Draw!P104","v":0}]
[null,{"$f":"Draw!N105","v":""},{"$f":"Draw!O105","v":0},{"$f":"Draw!P105","v":0}]
[null,{"$f":"Draw!N106","v":""},{"$f":"Draw!O106","v":0},{"$f":"Draw!P106","v":0}]
[null,{"$f":"Draw!N107","v":""},{"$f":"Draw!O107","v":0},{"$f":"Draw!P107","v":0}]
[null,{"$f":"Draw!N108","v":""},{"$f":"Draw!O108","v":0},{"$f":"Draw!P108","v":0}]
[null,{"$f":"Draw!N109","v":""},{"$f":"Draw!O109","v":0},{"$f":"Draw!P109","v":0}]
[null,{"$f":"Draw!N110","v":""},{"$f":"Draw!O110","v":0},{"$f":"Draw!P110","v":0}]
[null,{"$f":"Draw!N111","v":""},{"$f":"Draw!O111","v":0},{"$f":"Draw!P111","v":0}]
[null,{"$f":"Draw!N112","v":""},{"$f":"Draw!O112","v":0},{"$f":"Draw!P112","v":0}]
[null,{"$f":"Draw!N113","v":""},{"$f":"Draw!O113","v":0},{"$f":"Draw!P113","v":0}]
[null,{"$f":"Draw!N114","v":""},{"$f":"Draw!O114","v":0},{"$f":"Draw!P114","v":0}]
[null,{"$f":"Draw!N115","v":""},{"$f":"Draw!O115","v":0},{"$f":"Draw!P115","v":0}]
[null,{"$f":"Draw!N116","v":""},{"$f":"Draw!O116","v":0},{"$f":"Draw!P116","v":0}]
[null,{"$f":"Draw!N117","v":""},{"$f":"Draw!O117","v":0},{"$f":"Draw!P117","v":0}]
[null,{"$f":"Draw!N118","v":""},{"$f":"Draw!O118","v":0},{"$f":"Draw!P118","v":0}]
[null,{"$f":"Draw!N119","v":""},{"$f":"Draw!O119","v":0},{"$f":"Draw!P119","v":0}]
[null,{"$f":"Draw!N120","v":""},{"$f":"Draw!O120","v":0},{"$f":"Draw!P120","v":0}]
[null,{"$f":"Draw!N121","v":""},{"$f":"Draw!O121","v":0},{"$f":"Draw!P121","v":0}]
[null,{"$f":"Draw!N122","v":""},{"$f":"Draw!O122","v":0},{"$f":"Draw!P122","v":0}]
[null,{"$f":"Draw!N123","v":""},{"$f":"Draw!O123","v":0},{"$f":"Draw!P123","v":0}]
[null,{"$f":"Draw!N124","v":""},{"$f":"Draw!O124","v":0},{"$f":"Draw!P124","v":0}]
[null,{"$f":"Draw!N125","v":""},{"$f":"Draw!O125","v":0},{"$f":"Draw!P125","v":0}]
[null,{"$f":"Draw!N126","v":""},{"$f":"Draw!O126","v":0},{"$f":"Draw!P126","v":0}]
[null,{"$f":"Draw!N127","v":""},{"$f":"Draw!O127","v":0},{"$f":"Draw!P127","v":0}]
[null,{"$f":"Draw!N128","v":""},{"$f":"Draw!O128","v":0},{"$f":"Draw!P128","v":0}]
[null,{"$f":"Draw!N129","v":""},{"$f":"Draw!O129","v":0},{"$f":"Draw!P129","v":0}]
[null,{"$f":"Draw!N130","v":""},{"$f":"Draw!O130","v":0},{"$f":"Draw!P130","v":0}]
[null,{"$f":"Draw!N131","v":""},{"$f":"Draw!O131","v":0},{"$f":"Draw!P131","v":0}]
[null,{"$f":"Draw!N132","v":""},{"$f":"Draw!O132","v":0},{"$f":"Draw!P132","v":0}]
[null,{"$f":"Draw!N133","v":""},{"$f":"Draw!O133","v":0},{"$f":"Draw!P133","v":0}]
[null,{"$f":"Draw!N134","v":""},{"$f":"Draw!O134","v":0},{"$f":"Draw!P134","v":0}]
[null,{"$f":"Draw!N135","v":""},{"$f":"Draw!O135","v":0},{"$f":"Draw!P135","v":0}]
[null,{"$f":"Draw!N136","v":""},{"$f":"Draw!O136","v":0},{"$f":"Draw!P136","v":0}]
[null,{"$f":"Draw!N137","v":""},{"$f":"Draw!O137","v":0},{"$f":"Draw!P137","v":0}]
[null,{"$f":"Draw!N138","v":""},{"$f":"Draw!O138","v":0},{"$f":"Draw!P138","v":0}]
[null,{"$f":"Draw!N139","v":""},{"$f":"Draw!O139","v":0},{"$f":"Draw!P139","v":0}]
[null,{"$f":"Draw!N140","v":""},{"$f":"Draw!O140","v":0},{"$f":"Draw!P140","v":0}]
[null,{"$f":"Draw!N141","v":""},{"$f":"Draw!O141","v":0},{"$f":"Draw!P141","v":0}]
[null,{"$f":"Draw!N142","v":""},{"$f":"Draw!O142","v":0},{"$f":"Draw!P142","v":0}]
[null,{"$f":"Draw!N143","v":""},{"$f":"Draw!O143","v":0},{"$f":"Draw!P143","v":0}]
[null,{"$f":"Draw!N144","v":""},{"$f":"Draw!O144","v":0},{"$f":"Draw!P144","v":0}]
[null,{"$f":"Draw!N145","v":""},{"$f":"Draw!O145","v":0},{"$f":"Draw!P145","v":0}]
[null,{"$f":"Draw!N146","v":""},{"$f":"Draw!O146","v":0},{"$f":"Draw!P146","v":0}]
[null,{"$f":"Draw!N147","v":""},{"$f":"Draw!O147","v":0},{"$f":"Draw!P147","v":0}]
[null,{"$f":"Draw!N148","v":""},{"$f":"Draw!O148","v":0},{"$f":"Draw!P148","v":0}]
[null,{"$f":"Draw!N149","v":""},{"$f":"Draw!O149","v":0},{"$f":"Draw!P149","v":0}]
[null,{"$f":"Draw!N150","v":""},{"$f":"Draw!O150","v":0},{"$f":"Draw!P150","v":0}]

{"sheet":"Meet Results","index":9,"n_rows":150,"n_cols":9,"rows_kept":150,"cut":false,"hidden":false,"merged":[]}
[]
[null,null,null,"Columbia Heights",{"$f":"SUMIF($F5:$G24,D2,$H5:$H24)","v":0},"Stillwater",{"$f":"SUMIF($F5:$G24,F2,$H5:$H24)","v":0}]
[null,null,null," Total Score"]
[null,null,null,"#","Swimmer","School","Total","SCORE","PLACE"]
[null,null,null,22,"Elizabeth McBride","Osseo-Maple Grove",60.859649122807028,{"$f":"IF(ISNA(VLOOKUP(I5,Totals!$AX$3:$AY$102,2,FALSE)),\"\",VLOOKUP(I5,Totals!$AX$3:$AY$102,2,FALSE))","v":8},{"$f":"IF(ISNA(RANK(G5,G$5:G$150)),\"\",RANK(G5,G$5:G$150))","v":1}]
[null,null,null,1,"Anna Ganser","Osseo-Maple Grove",58.951754385964918,{"$f":"IF(ISNA(VLOOKUP(I6,Totals!$AX$3:$AY$102,2,FALSE)),\"\",VLOOKUP(I6,Totals!$AX$3:$AY$102,2,FALSE))","v":6},{"$f":"IF(G6=G5,I5,IF(ISNA(RANK(G6,G$5:G$150)),\"\",RANK(G6,G$5:G$150)))","v":2}]
[null,null,null,8,"Gabriela Marick","Osseo-Maple Grove",58.30263157894737,{"$f":"IF(ISNA(VLOOKUP(I7,Totals!$AX$3:$AY$102,2,FALSE)),\"\",VLOOKUP(I7,Totals!$AX$3:$AY$102,2,FALSE))","v":5},{"$f":"IF(G7=G6,I6,IF(ISNA(RANK(G7,G$5:G$150)),\"\",RANK(G7,G$5:G$150)))","v":3}]
[null,null,null,24,"Alexadra Trudeau","Osseo-Maple Grove",56.605263157894747,{"$f":"IF(ISNA(VLOOKUP(I8,Totals!$AX$3:$AY$102,2,FALSE)),\"\",VLOOKUP(I8,Totals!$AX$3:$AY$102,2,FALSE))","v":4},4]
[null,null,null,16,"Elisabeth Heitzig","Osseo-Maple Grove",56.01754385964913,{"$f":"IF(ISNA(VLOOKUP(I9,Totals!$AX$3:$AY$102,2,FALSE)),\"\",VLOOKUP(I9,Totals!$AX$3:$AY$102,2,FALSE))","v":3},5]
[null,null,null,2,"Abigail Tollas","Osseo-Maple Grove",55.811403508771939,{"$f":"IF(ISNA(VLOOKUP(I10,Totals!$AX$3:$AY$102,2,FALSE)),\"\",VLOOKUP(I10,Totals!$AX$3:$AY$102,2,FALSE))","v":2},6]
[null,null,null,13,"Marie Vanderwarn","Osseo-Maple Grove",55.236842105263158,{"$f":"IF(ISNA(VLOOKUP(I11,Totals!$AX$3:$AY$102,2,FALSE)),\"\",VLOOKUP(I11,Totals!$AX$3:$AY$102,2,FALSE))","v":1},7]
[null,null,null,17,"Elena Vrba","Osseo-Maple Grove",55.06578947368422,{"$f":"IF(ISNA(VLOOKUP(I12,Totals!$AX$3:$AY$102,2,FALSE)),\"\",VLOOKUP(I12,Totals!$AX$3:$AY$102,2,FALSE))","v":0},8]
[null,null,null,15,"Samantha Alexon","Columbia Heights",53.570175438596493,{"$f":"IF(ISNA(VLOOKUP(I13,Totals!$AX$3:$AY$102,2,FALSE)),\"\",VLOOKUP(I13,Totals!$AX$3:$AY$102,2,FALSE))","v":0},9]
[null,null,null,4,"Kelly McNamee","Osseo-Maple Grove",53.548245614035096,{"$f":"IF(ISNA(VLOOKUP(I14,Totals!$AX$3:$AY$102,2,FALSE)),\"\",VLOOKUP(I14,Totals!$AX$3:$AY$102,2,FALSE))","v":0},10]
[null,null,null,10,"Hannah Littel","Osseo-Maple Grove",53.263157894736842,{"$f":"IF(ISNA(VLOOKUP(I15,Totals!$AX$3:$AY$102,2,FALSE)),\"\",VLOOKUP(I15,Totals!$AX$3:$AY$102,2,FALSE))","v":0},11]
[null,null,null,5,"Jessica Ruohoniemi","Osseo-Maple Grove",51.359649122807021,{"$f":"IF(ISNA(VLOOKUP(I16,Totals!$AX$3:$AY$102,2,FALSE)),\"\",VLOOKUP(I16,Totals!$AX$3:$AY$102,2,FALSE))","v":0},12]
[null,null,null,23,"Emily Barr","Osseo-Maple Grove",50.837719298245617,{"$f":"IF(ISNA(VLOOKUP(I17,Totals!$AX$3:$AY$102,2,FALSE)),\"\",VLOOKUP(I17,Totals!$AX$3:$AY$102,2,FALSE))","v":0},13]
[null,null,null,9,"Danielle Hawes","Osseo-Maple Grove",50.771929824561404,{"$f":"IF(ISNA(VLOOKUP(I18,Totals!$AX$3:$AY$102,2,FALSE)),\"\",VLOOKUP(I18,Totals!$AX$3:$AY$102,2,FALSE))","v":0},14]
[null,null,null,6,"Katherine Olsen","Osseo-Maple Grove",50.21491228070176,{"$f":"IF(ISNA(VLOOKUP(I19,Totals!$AX$3:$AY$102,2,FALSE)),\"\",VLOOKUP(I19,Totals!$AX$3:$AY$102,2,FALSE))","v":0},15]
[null,null,null,18,"Caroline LaBord","Osseo-Maple Grove",50.140350877192986,{"$f":"IF(ISNA(VLOOKUP(I20,Totals!$AX$3:$AY$102,2,FALSE)),\"\",VLOOKUP(I20,Totals!$AX$3:$AY$102,2,FALSE))","v":0},16]
[null,null,null,12,"Hannah Thalhuber","Columbia Heights",49.51315789473685,{"$f":"IF(ISNA(VLOOKUP(I21,Totals!$AX$3:$AY$102,2,FALSE)),\"\",VLOOKUP(I21,Totals!$AX$3:$AY$102,2,FALSE))","v":0},17]
[null,null,null,14,"Issy Rardin","Columbia Heights",48.109649122807021,{"$f":"IF(ISNA(VLOOKUP(I22,Totals!$AX$3:$AY$102,2,FALSE)),\"\",VLOOKUP(I22,Totals!$AX$3:$AY$102,2,FALSE))","v":0},18]
[null,null,null,21,"Heather Breidenbach","Osseo-Maple Grove",47.328947368421055,{"$f":"IF(ISNA(VLOOKUP(I23,Totals!$AX$3:$AY$102,2,FALSE)),\"\",VLOOKUP(I23,Totals!$AX$3:$AY$102,2,FALSE))","v":0},19]
[null,null,null,11,"Katelyn Moline","Osseo-Maple Grove",45.859649122807014,{"$f":"IF(ISNA(VLOOKUP(I24,Totals!$AX$3:$AY$102,2,FALSE)),\"\",VLOOKUP(I24,Totals!$AX$3:$AY$102,2,FALSE))","v":0},20]
[null,null,null,3,"Shakila Hoke","Columbia Heights",0,{"$f":"IF(ISNA(VLOOKUP(I25,Totals!$AX$3:$AY$102,2,FALSE)),\"\",VLOOKUP(I25,Totals!$AX$3:$AY$102,2,FALSE))","v":0},21]
[null,null,null,7,"Holly Drazenovich","Osseo-Maple Grove",0,{"$f":"IF(ISNA(VLOOKUP(I26,Totals!$AX$3:$AY$102,2,FALSE)),\"\",VLOOKUP(I26,Totals!$AX$3:$AY$102,2,FALSE))","v":0},21]
[null,null,null,19,"Lily Dickson","Columbia Heights",0,{"$f":"IF(ISNA(VLOOKUP(I27,Totals!$AX$3:$AY$102,2,FALSE)),\"\",VLOOKUP(I27,Totals!$AX$3:$AY$102,2,FALSE))","v":0},21]
[null,null,null,20,"Ava Rosengren","Columbia Heights",0,{"$f":"IF(ISNA(VLOOKUP(I28,Totals!$AX$3:$AY$102,2,FALSE)),\"\",VLOOKUP(I28,Totals!$AX$3:$AY$102,2,FALSE))","v":0},21]
[null,null,null,null,null,null,null,{"$f":"IF(ISNA(VLOOKUP(I29,Totals!$AX$3:$AY$102,2,FALSE)),\"\",VLOOKUP(I29,Totals!$AX$3:$AY$102,2,FALSE))","v":0},21]
[null,null,null,null,null,null,null,{"$f":"IF(ISNA(VLOOKUP(I30,Totals!$AX$3:$AY$102,2,FALSE)),\"\",VLOOKUP(I30,Totals!$AX$3:$AY$102,2,FALSE))","v":0},21]
[null,null,null,null,null,null,null,{"$f":"IF(ISNA(VLOOKUP(I31,Totals!$AX$3:$AY$102,2,FALSE)),\"\",VLOOKUP(I31,Totals!$AX$3:$AY$102,2,FALSE))","v":0},21]
[null,null,null,null,null,null,null,{"$f":"IF(ISNA(VLOOKUP(I32,Totals!$AX$3:$AY$102,2,FALSE)),\"\",VLOOKUP(I32,Totals!$AX$3:$AY$102,2,FALSE))","v":0},21]
[null,null,null,null,null,null,null,{"$f":"IF(ISNA(VLOOKUP(I33,Totals!$AX$3:$AY$102,2,FALSE)),\"\",VLOOKUP(I33,Totals!$AX$3:$AY$102,2,FALSE))","v":0},21]
[null,null,null,null,null,null,null,{"$f":"IF(ISNA(VLOOKUP(I34,Totals!$AX$3:$AY$102,2,FALSE)),\"\",VLOOKUP(I34,Totals!$AX$3:$AY$102,2,FALSE))","v":0},21]
[null,null,null,null,null,null,null,{"$f":"IF(ISNA(VLOOKUP(I35,Totals!$AX$3:$AY$102,2,FALSE)),\"\",VLOOKUP(I35,Totals!$AX$3:$AY$102,2,FALSE))","v":0},21]
[null,null,null,null,null,null,null,{"$f":"IF(ISNA(VLOOKUP(I36,Totals!$AX$3:$AY$102,2,FALSE)),\"\",VLOOKUP(I36,Totals!$AX$3:$AY$102,2,FALSE))","v":0},21]
[null,null,null,null,null,null,null,{"$f":"IF(ISNA(VLOOKUP(I37,Totals!$AX$3:$AY$102,2,FALSE)),\"\",VLOOKUP(I37,Totals!$AX$3:$AY$102,2,FALSE))","v":0},21]
[null,null,null,null,null,null,null,{"$f":"IF(ISNA(VLOOKUP(I38,Totals!$AX$3:$AY$102,2,FALSE)),\"\",VLOOKUP(I38,Totals!$AX$3:$AY$102,2,FALSE))","v":0},{"$f":"IF(G38=G37,I37,IF(ISNA(RANK(G38,G$5:G$150)),\"\",RANK(G38,G$5:G$150)))","v":21}]
[null,null,null,null,null,null,null,{"$f":"IF(ISNA(VLOOKUP(I39,Totals!$AX$3:$AY$102,2,FALSE)),\"\",VLOOKUP(I39,Totals!$AX$3:$AY$102,2,FALSE))","v":0},21]
[null,null,null,null,null,null,null,{"$f":"IF(ISNA(VLOOKUP(I40,Totals!$AX$3:$AY$102,2,FALSE)),\"\",VLOOKUP(I40,Totals!$AX$3:$AY$102,2,FALSE))","v":0},21]
[null,null,null,null,null,null,null,{"$f":"IF(ISNA(VLOOKUP(I41,Totals!$AX$3:$AY$102,2,FALSE)),\"\",VLOOKUP(I41,Totals!$AX$3:$AY$102,2,FALSE))","v":0},21]
[null,null,null,null,null,null,null,{"$f":"IF(ISNA(VLOOKUP(I42,Totals!$AX$3:$AY$102,2,FALSE)),\"\",VLOOKUP(I42,Totals!$AX$3:$AY$102,2,FALSE))","v":0},21]
[null,null,null,null,null,null,null,{"$f":"IF(ISNA(VLOOKUP(I43,Totals!$AX$3:$AY$102,2,FALSE)),\"\",VLOOKUP(I43,Totals!$AX$3:$AY$102,2,FALSE))","v":0},21]
[null,null,null,null,null,null,null,{"$f":"IF(ISNA(VLOOKUP(I44,Totals!$AX$3:$AY$102,2,FALSE)),\"\",VLOOKUP(I44,Totals!$AX$3:$AY$102,2,FALSE))","v":0},21]
[null,null,null,null,null,null,null,{"$f":"IF(ISNA(VLOOKUP(I45,Totals!$AX$3:$AY$102,2,FALSE)),\"\",VLOOKUP(I45,Totals!$AX$3:$AY$102,2,FALSE))","v":0},21]
[null,null,null,null,null,null,null,{"$f":"IF(ISNA(VLOOKUP(I46,Totals!$AX$3:$AY$102,2,FALSE)),\"\",VLOOKUP(I46,Totals!$AX$3:$AY$102,2,FALSE))","v":0},21]
[null,null,null,null,null,null,null,{"$f":"IF(ISNA(VLOOKUP(I47,Totals!$AX$3:$AY$102,2,FALSE)),\"\",VLOOKUP(I47,Totals!$AX$3:$AY$102,2,FALSE))","v":0},21]
[null,null,null,null,null,null,null,{"$f":"IF(ISNA(VLOOKUP(I48,Totals!$AX$3:$AY$102,2,FALSE)),\"\",VLOOKUP(I48,Totals!$AX$3:$AY$102,2,FALSE))","v":0},21]
[null,null,null,null,null,null,null,{"$f":"IF(ISNA(VLOOKUP(I49,Totals!$AX$3:$AY$102,2,FALSE)),\"\",VLOOKUP(I49,Totals!$AX$3:$AY$102,2,FALSE))","v":0},21]
[null,null,null,null,null,null,null,{"$f":"IF(ISNA(VLOOKUP(I50,Totals!$AX$3:$AY$102,2,FALSE)),\"\",VLOOKUP(I50,Totals!$AX$3:$AY$102,2,FALSE))","v":0},21]
[null,null,null,null,null,null,null,{"$f":"IF(ISNA(VLOOKUP(I51,Totals!$AX$3:$AY$102,2,FALSE)),\"\",VLOOKUP(I51,Totals!$AX$3:$AY$102,2,FALSE))","v":0},21]
[null,null,null,null,null,null,null,{"$f":"IF(ISNA(VLOOKUP(I52,Totals!$AX$3:$AY$102,2,FALSE)),\"\",VLOOKUP(I52,Totals!$AX$3:$AY$102,2,FALSE))","v":0},21]
[null,null,null,null,null,null,null,{"$f":"IF(ISNA(VLOOKUP(I53,Totals!$AX$3:$AY$102,2,FALSE)),\"\",VLOOKUP(I53,Totals!$AX$3:$AY$102,2,FALSE))","v":0},21]
[null,null,null,null,null,null,null,{"$f":"IF(ISNA(VLOOKUP(I54,Totals!$AX$3:$AY$102,2,FALSE)),\"\",VLOOKUP(I54,Totals!$AX$3:$AY$102,2,FALSE))","v":0},21]
[null,null,null,null,null,null,null,{"$f":"IF(ISNA(VLOOKUP(I55,Totals!$AX$3:$AY$102,2,FALSE)),\"\",VLOOKUP(I55,Totals!$AX$3:$AY$102,2,FALSE))","v":0},21]
[null,null,null,null,null,null,null,{"$f":"IF(ISNA(VLOOKUP(I56,Totals!$AX$3:$AY$102,2,FALSE)),\"\",VLOOKUP(I56,Totals!$AX$3:$AY$102,2,FALSE))","v":0},21]
[null,null,null,null,null,null,null,{"$f":"IF(ISNA(VLOOKUP(I57,Totals!$AX$3:$AY$102,2,FALSE)),\"\",VLOOKUP(I57,Totals!$AX$3:$AY$102,2,FALSE))","v":0},21]
[null,null,null,null,null,null,null,{"$f":"IF(ISNA(VLOOKUP(I58,Totals!$AX$3:$AY$102,2,FALSE)),\"\",VLOOKUP(I58,Totals!$AX$3:$AY$102,2,FALSE))","v":0},21]
[null,null,null,null,null,null,null,{"$f":"IF(ISNA(VLOOKUP(I59,Totals!$AX$3:$AY$102,2,FALSE)),\"\",VLOOKUP(I59,Totals!$AX$3:$AY$102,2,FALSE))","v":0},21]
[null,null,null,null,null,null,null,{"$f":"IF(ISNA(VLOOKUP(I60,Totals!$AX$3:$AY$102,2,FALSE)),\"\",VLOOKUP(I60,Totals!$AX$3:$AY$102,2,FALSE))","v":0},21]
[null,null,null,null,null,null,null,{"$f":"IF(ISNA(VLOOKUP(I61,Totals!$AX$3:$AY$102,2,FALSE)),\"\",VLOOKUP(I61,Totals!$AX$3:$AY$102,2,FALSE))","v":0},21]
[null,null,null,null,null,null,null,{"$f":"IF(ISNA(VLOOKUP(I62,Totals!$AX$3:$AY$102,2,FALSE)),\"\",VLOOKUP(I62,Totals!$AX$3:$AY$102,2,FALSE))","v":0},21]
[null,null,null,null,null,null,null,{"$f":"IF(ISNA(VLOOKUP(I63,Totals!$AX$3:$AY$102,2,FALSE)),\"\",VLOOKUP(I63,Totals!$AX$3:$AY$102,2,FALSE))","v":0},21]
[null,null,null,null,null,null,null,{"$f":"IF(ISNA(VLOOKUP(I64,Totals!$AX$3:$AY$102,2,FALSE)),\"\",VLOOKUP(I64,Totals!$AX$3:$AY$102,2,FALSE))","v":0},21]
[null,null,null,null,null,null,null,{"$f":"IF(ISNA(VLOOKUP(I65,Totals!$AX$3:$AY$102,2,FALSE)),\"\",VLOOKUP(I65,Totals!$AX$3:$AY$102,2,FALSE))","v":0},21]
[null,null,null,null,null,null,null,{"$f":"IF(ISNA(VLOOKUP(I66,Totals!$AX$3:$AY$102,2,FALSE)),\"\",VLOOKUP(I66,Totals!$AX$3:$AY$102,2,FALSE))","v":0},21]
[null,null,null,null,null,null,null,{"$f":"IF(ISNA(VLOOKUP(I67,Totals!$AX$3:$AY$102,2,FALSE)),\"\",VLOOKUP(I67,Totals!$AX$3:$AY$102,2,FALSE))","v":0},21]
[null,null,null,null,null,null,null,{"$f":"IF(ISNA(VLOOKUP(I68,Totals!$AX$3:$AY$102,2,FALSE)),\"\",VLOOKUP(I68,Totals!$AX$3:$AY$102,2,FALSE))","v":0},21]
[null,null,null,null,null,null,null,{"$f":"IF(ISNA(VLOOKUP(I69,Totals!$AX$3:$AY$102,2,FALSE)),\"\",VLOOKUP(I69,Totals!$AX$3:$AY$102,2,FALSE))","v":0},21]
[null,null,null,null,null,null,null,{"$f":"IF(ISNA(VLOOKUP(I70,Totals!$AX$3:$AY$102,2,FALSE)),\"\",VLOOKUP(I70,Totals!$AX$3:$AY$102,2,FALSE))","v":0},21]
[null,null,null,null,null,null,null,{"$f":"IF(ISNA(VLOOKUP(I71,Totals!$AX$3:$AY$102,2,FALSE)),\"\",VLOOKUP(I71,Totals!$AX$3:$AY$102,2,FALSE))","v":0},{"$f":"IF(G71=G70,I70,IF(ISNA(RANK(G71,G$5:G$150)),\"\",RANK(G71,G$5:G$150)))","v":21}]
[null,null,null,null,null,null,null,{"$f":"IF(ISNA(VLOOKUP(I72,Totals!$AX$3:$AY$102,2,FALSE)),\"\",VLOOKUP(I72,Totals!$AX$3:$AY$102,2,FALSE))","v":0},21]
[null,null,null,null,null,null,null,{"$f":"IF(ISNA(VLOOKUP(I73,Totals!$AX$3:$AY$102,2,FALSE)),\"\",VLOOKUP(I73,Totals!$AX$3:$AY$102,2,FALSE))","v":0},21]
[null,null,null,null,null,null,null,{"$f":"IF(ISNA(VLOOKUP(I74,Totals!$AX$3:$AY$102,2,FALSE)),\"\",VLOOKUP(I74,Totals!$AX$3:$AY$102,2,FALSE))","v":0},21]
[null,null,null,null,null,null,null,{"$f":"IF(ISNA(VLOOKUP(I75,Totals!$AX$3:$AY$102,2,FALSE)),\"\",VLOOKUP(I75,Totals!$AX$3:$AY$102,2,FALSE))","v":0},21]
[null,null,null,null,null,null,null,{"$f":"IF(ISNA(VLOOKUP(I76,Totals!$AX$3:$AY$102,2,FALSE)),\"\",VLOOKUP(I76,Totals!$AX$3:$AY$102,2,FALSE))","v":0},21]
[null,null,null,null,null,null,null,{"$f":"IF(ISNA(VLOOKUP(I77,Totals!$AX$3:$AY$102,2,FALSE)),\"\",VLOOKUP(I77,Totals!$AX$3:$AY$102,2,FALSE))","v":0},21]
[null,null,null,null,null,null,null,{"$f":"IF(ISNA(VLOOKUP(I78,Totals!$AX$3:$AY$102,2,FALSE)),\"\",VLOOKUP(I78,Totals!$AX$3:$AY$102,2,FALSE))","v":0},21]
[null,null,null,null,null,null,null,{"$f":"IF(ISNA(VLOOKUP(I79,Totals!$AX$3:$AY$102,2,FALSE)),\"\",VLOOKUP(I79,Totals!$AX$3:$AY$102,2,FALSE))","v":0},21]
[null,null,null,null,null,null,null,{"$f":"IF(ISNA(VLOOKUP(I80,Totals!$AX$3:$AY$102,2,FALSE)),\"\",VLOOKUP(I80,Totals!$AX$3:$AY$102,2,FALSE))","v":0},21]
[null,null,null,null,null,null,null,{"$f":"IF(ISNA(VLOOKUP(I81,Totals!$AX$3:$AY$102,2,FALSE)),\"\",VLOOKUP(I81,Totals!$AX$3:$AY$102,2,FALSE))","v":0},21]
[null,null,null,null,null,null,null,{"$f":"IF(ISNA(VLOOKUP(I82,Totals!$AX$3:$AY$102,2,FALSE)),\"\",VLOOKUP(I82,Totals!$AX$3:$AY$102,2,FALSE))","v":0},21]
[null,null,null,null,null,null,null,{"$f":"IF(ISNA(VLOOKUP(I83,Totals!$AX$3:$AY$102,2,FALSE)),\"\",VLOOKUP(I83,Totals!$AX$3:$AY$102,2,FALSE))","v":0},21]
[null,null,null,null,null,null,null,{"$f":"IF(ISNA(VLOOKUP(I84,Totals!$AX$3:$AY$102,2,FALSE)),\"\",VLOOKUP(I84,Totals!$AX$3:$AY$102,2,FALSE))","v":0},21]
[null,null,null,null,null,null,null,{"$f":"IF(ISNA(VLOOKUP(I85,Totals!$AX$3:$AY$102,2,FALSE)),\"\",VLOOKUP(I85,Totals!$AX$3:$AY$102,2,FALSE))","v":0},21]
[null,null,null,null,null,null,null,{"$f":"IF(ISNA(VLOOKUP(I86,Totals!$AX$3:$AY$102,2,FALSE)),\"\",VLOOKUP(I86,Totals!$AX$3:$AY$102,2,FALSE))","v":0},21]
[null,null,null,null,null,null,null,{"$f":"IF(ISNA(VLOOKUP(I87,Totals!$AX$3:$AY$102,2,FALSE)),\"\",VLOOKUP(I87,Totals!$AX$3:$AY$102,2,FALSE))","v":0},21]
[null,null,null,null,null,null,null,{"$f":"IF(ISNA(VLOOKUP(I88,Totals!$AX$3:$AY$102,2,FALSE)),\"\",VLOOKUP(I88,Totals!$AX$3:$AY$102,2,FALSE))","v":0},21]
[null,null,null,null,null,null,null,{"$f":"IF(ISNA(VLOOKUP(I89,Totals!$AX$3:$AY$102,2,FALSE)),\"\",VLOOKUP(I89,Totals!$AX$3:$AY$102,2,FALSE))","v":0},21]
[null,null,null,null,null,null,null,{"$f":"IF(ISNA(VLOOKUP(I90,Totals!$AX$3:$AY$102,2,FALSE)),\"\",VLOOKUP(I90,Totals!$AX$3:$AY$102,2,FALSE))","v":0},21]
[null,null,null,null,null,null,null,{"$f":"IF(ISNA(VLOOKUP(I91,Totals!$AX$3:$AY$102,2,FALSE)),\"\",VLOOKUP(I91,Totals!$AX$3:$AY$102,2,FALSE))","v":0},21]
[null,null,null,null,null,null,null,{"$f":"IF(ISNA(VLOOKUP(I92,Totals!$AX$3:$AY$102,2,FALSE)),\"\",VLOOKUP(I92,Totals!$AX$3:$AY$102,2,FALSE))","v":0},21]
[null,null,null,null,null,null,null,{"$f":"IF(ISNA(VLOOKUP(I93,Totals!$AX$3:$AY$102,2,FALSE)),\"\",VLOOKUP(I93,Totals!$AX$3:$AY$102,2,FALSE))","v":0},21]
[null,null,null,null,null,null,null,{"$f":"IF(ISNA(VLOOKUP(I94,Totals!$AX$3:$AY$102,2,FALSE)),\"\",VLOOKUP(I94,Totals!$AX$3:$AY$102,2,FALSE))","v":0},21]
[null,null,null,null,null,null,null,{"$f":"IF(ISNA(VLOOKUP(I95,Totals!$AX$3:$AY$102,2,FALSE)),\"\",VLOOKUP(I95,Totals!$AX$3:$AY$102,2,FALSE))","v":0},21]
[null,null,null,null,null,null,null,{"$f":"IF(ISNA(VLOOKUP(I96,Totals!$AX$3:$AY$102,2,FALSE)),\"\",VLOOKUP(I96,Totals!$AX$3:$AY$102,2,FALSE))","v":0},21]
[null,null,null,null,null,null,null,{"$f":"IF(ISNA(VLOOKUP(I97,Totals!$AX$3:$AY$102,2,FALSE)),\"\",VLOOKUP(I97,Totals!$AX$3:$AY$102,2,FALSE))","v":0},21]
[null,null,null,null,null,null,null,{"$f":"IF(ISNA(VLOOKUP(I98,Totals!$AX$3:$AY$102,2,FALSE)),\"\",VLOOKUP(I98,Totals!$AX$3:$AY$102,2,FALSE))","v":0},21]
[null,null,null,null,null,null,null,{"$f":"IF(ISNA(VLOOKUP(I99,Totals!$AX$3:$AY$102,2,FALSE)),\"\",VLOOKUP(I99,Totals!$AX$3:$AY$102,2,FALSE))","v":0},21]
[null,null,null,null,null,null,null,{"$f":"IF(ISNA(VLOOKUP(I100,Totals!$AX$3:$AY$102,2,FALSE)),\"\",VLOOKUP(I100,Totals!$AX$3:$AY$102,2,FALSE))","v":0},21]
[null,null,null,null,null,null,null,{"$f":"IF(ISNA(VLOOKUP(I101,Totals!$AX$3:$AY$102,2,FALSE)),\"\",VLOOKUP(I101,Totals!$AX$3:$AY$102,2,FALSE))","v":0},21]
[null,null,null,null,null,null,null,{"$f":"IF(ISNA(VLOOKUP(I102,Totals!$AX$3:$AY$102,2,FALSE)),\"\",VLOOKUP(I102,Totals!$AX$3:$AY$102,2,FALSE))","v":0},21]
[null,null,null,null,null,null,null,{"$f":"IF(ISNA(VLOOKUP(I103,Totals!$AX$3:$AY$102,2,FALSE)),\"\",VLOOKUP(I103,Totals!$AX$3:$AY$102,2,FALSE))","v":0},21]
[null,null,null,null,null,null,null,{"$f":"IF(ISNA(VLOOKUP(I104,Totals!$AX$3:$AY$102,2,FALSE)),\"\",VLOOKUP(I104,Totals!$AX$3:$AY$102,2,FALSE))","v":0},21]
[null,null,null,null,null,null,null,{"$f":"IF(ISNA(VLOOKUP(I105,Totals!$AX$3:$AY$102,2,FALSE)),\"\",VLOOKUP(I105,Totals!$AX$3:$AY$102,2,FALSE))","v":0},21]
[null,null,null,null,null,null,null,{"$f":"IF(ISNA(VLOOKUP(I106,Totals!$AX$3:$AY$102,2,FALSE)),\"\",VLOOKUP(I106,Totals!$AX$3:$AY$102,2,FALSE))","v":0},21]
[null,null,null,null,null,null,null,{"$f":"IF(ISNA(VLOOKUP(I107,Totals!$AX$3:$AY$102,2,FALSE)),\"\",VLOOKUP(I107,Totals!$AX$3:$AY$102,2,FALSE))","v":0},21]
[null,null,null,null,null,null,null,{"$f":"IF(ISNA(VLOOKUP(I108,Totals!$AX$3:$AY$102,2,FALSE)),\"\",VLOOKUP(I108,Totals!$AX$3:$AY$102,2,FALSE))","v":0},21]
[null,null,null,null,null,null,null,{"$f":"IF(ISNA(VLOOKUP(I109,Totals!$AX$3:$AY$102,2,FALSE)),\"\",VLOOKUP(I109,Totals!$AX$3:$AY$102,2,FALSE))","v":0},21]
[null,null,null,null,null,null,null,{"$f":"IF(ISNA(VLOOKUP(I110,Totals!$AX$3:$AY$102,2,FALSE)),\"\",VLOOKUP(I110,Totals!$AX$3:$AY$102,2,FALSE))","v":0},21]
[null,null,null,null,null,null,null,{"$f":"IF(ISNA(VLOOKUP(I111,Totals!$AX$3:$AY$102,2,FALSE)),\"\",VLOOKUP(I111,Totals!$AX$3:$AY$102,2,FALSE))","v":0},21]
[null,null,null,null,null,null,null,{"$f":"IF(ISNA(VLOOKUP(I112,Totals!$AX$3:$AY$102,2,FALSE)),\"\",VLOOKUP(I112,Totals!$AX$3:$AY$102,2,FALSE))","v":0},21]
[null,null,null,null,null,null,null,{"$f":"IF(ISNA(VLOOKUP(I113,Totals!$AX$3:$AY$102,2,FALSE)),\"\",VLOOKUP(I113,Totals!$AX$3:$AY$102,2,FALSE))","v":0},21]
[null,null,null,null,null,null,null,{"$f":"IF(ISNA(VLOOKUP(I114,Totals!$AX$3:$AY$102,2,FALSE)),\"\",VLOOKUP(I114,Totals!$AX$3:$AY$102,2,FALSE))","v":0},21]
[null,null,null,null,null,null,null,{"$f":"IF(ISNA(VLOOKUP(I115,Totals!$AX$3:$AY$102,2,FALSE)),\"\",VLOOKUP(I115,Totals!$AX$3:$AY$102,2,FALSE))","v":0},21]
[null,null,null,null,null,null,null,{"$f":"IF(ISNA(VLOOKUP(I116,Totals!$AX$3:$AY$102,2,FALSE)),\"\",VLOOKUP(I116,Totals!$AX$3:$AY$102,2,FALSE))","v":0},21]
[null,null,null,null,null,null,null,{"$f":"IF(ISNA(VLOOKUP(I117,Totals!$AX$3:$AY$102,2,FALSE)),\"\",VLOOKUP(I117,Totals!$AX$3:$AY$102,2,FALSE))","v":0},21]
[null,null,null,null,null,null,null,{"$f":"IF(ISNA(VLOOKUP(I118,Totals!$AX$3:$AY$102,2,FALSE)),\"\",VLOOKUP(I118,Totals!$AX$3:$AY$102,2,FALSE))","v":0},21]
[null,null,null,null,null,null,null,{"$f":"IF(ISNA(VLOOKUP(I119,Totals!$AX$3:$AY$102,2,FALSE)),\"\",VLOOKUP(I119,Totals!$AX$3:$AY$102,2,FALSE))","v":0},21]
[null,null,null,null,null,null,null,{"$f":"IF(ISNA(VLOOKUP(I120,Totals!$AX$3:$AY$102,2,FALSE)),\"\",VLOOKUP(I120,Totals!$AX$3:$AY$102,2,FALSE))","v":0},21]
[null,null,null,null,null,null,null,{"$f":"IF(ISNA(VLOOKUP(I121,Totals!$AX$3:$AY$102,2,FALSE)),\"\",VLOOKUP(I121,Totals!$AX$3:$AY$102,2,FALSE))","v":0},21]
[null,null,null,null,null,null,null,{"$f":"IF(ISNA(VLOOKUP(I122,Totals!$AX$3:$AY$102,2,FALSE)),\"\",VLOOKUP(I122,Totals!$AX$3:$AY$102,2,FALSE))","v":0},21]
[null,null,null,null,null,null,null,{"$f":"IF(ISNA(VLOOKUP(I123,Totals!$AX$3:$AY$102,2,FALSE)),\"\",VLOOKUP(I123,Totals!$AX$3:$AY$102,2,FALSE))","v":0},21]
[null,null,null,null,null,null,null,{"$f":"IF(ISNA(VLOOKUP(I124,Totals!$AX$3:$AY$102,2,FALSE)),\"\",VLOOKUP(I124,Totals!$AX$3:$AY$102,2,FALSE))","v":0},21]
[null,null,null,null,null,null,null,{"$f":"IF(ISNA(VLOOKUP(I125,Totals!$AX$3:$AY$102,2,FALSE)),\"\",VLOOKUP(I125,Totals!$AX$3:$AY$102,2,FALSE))","v":0},21]
[null,null,null,null,null,null,null,{"$f":"IF(ISNA(VLOOKUP(I126,Totals!$AX$3:$AY$102,2,FALSE)),\"\",VLOOKUP(I126,Totals!$AX$3:$AY$102,2,FALSE))","v":0},21]
[null,null,null,null,null,null,null,{"$f":"IF(ISNA(VLOOKUP(I127,Totals!$AX$3:$AY$102,2,FALSE)),\"\",VLOOKUP(I127,Totals!$AX$3:$AY$102,2,FALSE))","v":0},21]
[null,null,null,null,null,null,null,{"$f":"IF(ISNA(VLOOKUP(I128,Totals!$AX$3:$AY$102,2,FALSE)),\"\",VLOOKUP(I128,Totals!$AX$3:$AY$102,2,FALSE))","v":0},21]
[null,null,null,null,null,null,null,{"$f":"IF(ISNA(VLOOKUP(I129,Totals!$AX$3:$AY$102,2,FALSE)),\"\",VLOOKUP(I129,Totals!$AX$3:$AY$102,2,FALSE))","v":0},21]
[null,null,null,null,null,null,null,{"$f":"IF(ISNA(VLOOKUP(I130,Totals!$AX$3:$AY$102,2,FALSE)),\"\",VLOOKUP(I130,Totals!$AX$3:$AY$102,2,FALSE))","v":0},21]
[null,null,null,null,null,null,null,{"$f":"IF(ISNA(VLOOKUP(I131,Totals!$AX$3:$AY$102,2,FALSE)),\"\",VLOOKUP(I131,Totals!$AX$3:$AY$102,2,FALSE))","v":0},21]
[null,null,null,null,null,null,null,{"$f":"IF(ISNA(VLOOKUP(I132,Totals!$AX$3:$AY$102,2,FALSE)),\"\",VLOOKUP(I132,Totals!$AX$3:$AY$102,2,FALSE))","v":0},21]
[null,null,null,null,null,null,null,{"$f":"IF(ISNA(VLOOKUP(I133,Totals!$AX$3:$AY$102,2,FALSE)),\"\",VLOOKUP(I133,Totals!$AX$3:$AY$102,2,FALSE))","v":0},21]
[null,null,null,null,null,null,null,{"$f":"IF(ISNA(VLOOKUP(I134,Totals!$AX$3:$AY$102,2,FALSE)),\"\",VLOOKUP(I134,Totals!$AX$3:$AY$102,2,FALSE))","v":0},21]
[null,null,null,null,null,null,null,{"$f":"IF(ISNA(VLOOKUP(I135,Totals!$AX$3:$AY$102,2,FALSE)),\"\",VLOOKUP(I135,Totals!$AX$3:$AY$102,2,FALSE))","v":0},{"$f":"IF(G135=G134,I134,IF(ISNA(RANK(G135,G$5:G$150)),\"\",RANK(G135,G$5:G$150)))","v":21}]
[null,null,null,null,null,null,null,{"$f":"IF(ISNA(VLOOKUP(I136,Totals!$AX$3:$AY$102,2,FALSE)),\"\",VLOOKUP(I136,Totals!$AX$3:$AY$102,2,FALSE))","v":0},21]
[null,null,null,null,null,null,null,{"$f":"IF(ISNA(VLOOKUP(I137,Totals!$AX$3:$AY$102,2,FALSE)),\"\",VLOOKUP(I137,Totals!$AX$3:$AY$102,2,FALSE))","v":0},21]
[null,null,null,null,null,null,null,{"$f":"IF(ISNA(VLOOKUP(I138,Totals!$AX$3:$AY$102,2,FALSE)),\"\",VLOOKUP(I138,Totals!$AX$3:$AY$102,2,FALSE))","v":0},21]
[null,null,null,null,null,null,null,{"$f":"IF(ISNA(VLOOKUP(I139,Totals!$AX$3:$AY$102,2,FALSE)),\"\",VLOOKUP(I139,Totals!$AX$3:$AY$102,2,FALSE))","v":0},21]
[null,null,null,null,null,null,null,{"$f":"IF(ISNA(VLOOKUP(I140,Totals!$AX$3:$AY$102,2,FALSE)),\"\",VLOOKUP(I140,Totals!$AX$3:$AY$102,2,FALSE))","v":0},21]
[null,null,null,null,null,null,null,{"$f":"IF(ISNA(VLOOKUP(I141,Totals!$AX$3:$AY$102,2,FALSE)),\"\",VLOOKUP(I141,Totals!$AX$3:$AY$102,2,FALSE))","v":0},21]
[null,null,null,null,null,null,null,{"$f":"IF(ISNA(VLOOKUP(I142,Totals!$AX$3:$AY$102,2,FALSE)),\"\",VLOOKUP(I142,Totals!$AX$3:$AY$102,2,FALSE))","v":0},21]
[null,null,null,null,null,null,null,{"$f":"IF(ISNA(VLOOKUP(I143,Totals!$AX$3:$AY$102,2,FALSE)),\"\",VLOOKUP(I143,Totals!$AX$3:$AY$102,2,FALSE))","v":0},21]
[null,null,null,null,null,null,null,{"$f":"IF(ISNA(VLOOKUP(I144,Totals!$AX$3:$AY$102,2,FALSE)),\"\",VLOOKUP(I144,Totals!$AX$3:$AY$102,2,FALSE))","v":0},21]
[null,null,null,null,null,null,null,{"$f":"IF(ISNA(VLOOKUP(I145,Totals!$AX$3:$AY$102,2,FALSE)),\"\",VLOOKUP(I145,Totals!$AX$3:$AY$102,2,FALSE))","v":0},21]
[null,null,null,null,null,null,null,{"$f":"IF(ISNA(VLOOKUP(I146,Totals!$AX$3:$AY$102,2,FALSE)),\"\",VLOOKUP(I146,Totals!$AX$3:$AY$102,2,FALSE))","v":0},21]
[null,null,null,null,null,null,null,{"$f":"IF(ISNA(VLOOKUP(I147,Totals!$AX$3:$AY$102,2,FALSE)),\"\",VLOOKUP(I147,Totals!$AX$3:$AY$102,2,FALSE))","v":0},21]
[null,null,null,null,null,null,null,{"$f":"IF(ISNA(VLOOKUP(I148,Totals!$AX$3:$AY$102,2,FALSE)),\"\",VLOOKUP(I148,Totals!$AX$3:$AY$102,2,FALSE))","v":0},21]
[null,null,null,null,null,null,null,{"$f":"IF(ISNA(VLOOKUP(I149,Totals!$AX$3:$AY$102,2,FALSE)),\"\",VLOOKUP(I149,Totals!$AX$3:$AY$102,2,FALSE))","v":0},21]
[null,null,null,null,null,null,null,{"$f":"IF(ISNA(VLOOKUP(I150,Totals!$AX$3:$AY$102,2,FALSE)),\"\",VLOOKUP(I150,Totals!$AX$3:$AY$102,2,FALSE))","v":0},21]