{"text_format":"1","workbook":"xlsx","n_sheets":10,"sheets":["Student Entry","Fig 1 Ballet Leg","Fig 2 Barracuda","Fig 3 Tower","Fig 4 Walkover","Totals","Draw","Schools","Official Draw","Meet Results"],"not_rendered":{"charts":0,"images":1,"macros":1,"external_links":0,"defined_names":8,"comments":0,"pivot_tables":3},"unopened":[],"bounds":{"document_bytes":16777216,"sheet_cells":100000,"rows_first":2000,"rows_last":500,"rows_between":2000,"halvings":0,"cell_chars":16384,"cell_head_chars":4096},"cells_cut":0,"cells_raw":0,"read":"whole","date_system":"1900"}

{"sheet":"Student Entry","index":0,"n_rows":39,"n_cols":3,"rows_kept":39,"cut":false,"hidden":false,"merged":[[0,0,0,2]]}
["Student Entry"]
["School # 1 Name:","School # 2 Name:","School # 3 Name:"]
["Osseo-Maple Grove","Stillwater"]
["Student Names:","Student Names:","Student Names:"]
["Breidenbach, Heather","Rubie Ballantyne"]
["Drazenovich, Holly","Miranda Bergan"]
["Ganser, Anna","Ellie Bliss"]
["Hammann, Allison","Greta Bliss"]
["Hawes, Danielle","Sophie Browning"]
["Heiss, Hayley","Linnea Coltvet"]
["Heitzig, Elisabeth (Ellie)","Emily Cossetta"]
["Honnold, Emily","Hannah Dettmann"]
["Knox, Rachel","Rachel Duerr"]
["Laborde, Caroline","Ryann Ellis"]
["Littel, Hannah","Aubrie Filandrinos"]
["Mason, Ellery","Andrea Finholt"]
["McBride, Elizabeth (Lizzy)","Ali Gerard"]
["McNamee, Kelly","Grace Henke"]
["Moline, Katelyn (Katie)","Kya Hodgdon"]
["Olsen, Katherine (Katie)","Raina Hoge"]
["Peters, Madison","Kaitlin Johnson"]
["Prentice, Margo","Sofia Johnson"]
["Ruohoniemi, Jessica (Jess)","Kelly Keenan"]
["Trudeau, Alexandra (Trudy)","Anna Koenning"]
["Vanderwarn, Marie","Madi Kulzer"]
["Vrba, Elena (Ellie)","Courtney Lillemoen"]
["Waldron, Zoe","Sophie Ogaard"]
[null,"Emily Shanley"]
[null,"Brie Sheridan"]
[null,"Emma Sneden"]
[null,"Grace Sneden"]
[null,"Isabel Solheim"]
[null,"Jane Sorenson"]
[null,"Claire Summary"]
[null,"Mamie Thrall"]
[null,"Morgan Tope-Yates"]
[null,"Carolyn Wrightsman"]
[null,"Grace Zimmer"]
[null,"Grace Gualtieri"]

{"sheet":"Fig 1 Ballet Leg","index":1,"n_rows":150,"n_cols":11,"rows_kept":150,"cut":false,"hidden":false,"merged":[]}
[null,"Figure #1:","101 R/L Ballet Leg, single, *right or *left"]
["#","Degree of Difficulty","Judge 1","Judge 2","Judge 3","Judge 4","Judge 5","Score","Penalty"]
[{"$f":"IF(Draw!E2=0,\"\",Draw!E2)","v":1},1.6,56,57,59,null,null,{"$f":"IF(B3=\"\",\"\",IF(K3=5,(SUM(C3:G3)-MAX(C3:G3)-MIN(C3:G3))/3,IF(K3=4,(SUM(C3:G3)-MAX(C3:G3))/3,SUM(C3:G3)/3))*B3/7.6)","v":12.070175438596493},null,null,{"$f":"COUNT(C3:G3)","v":3}]
[{"$f":"IF(Draw!E3=0,\"\",Draw!E3)","v":2},{"$f":"IF(A4=\"\",\"\",B$3)","v":1.6},49,50,48,null,null,{"$f":"IF(B4=\"\",\"\",IF(K4=5,(SUM(C4:G4)-MAX(C4:G4)-MIN(C4:G4))/3,IF(K4=4,(SUM(C4:G4)-MAX(C4:G4))/3,SUM(C4:G4)/3))*B4/7.6)","v":10.315789473684212},null,null,{"$f":"COUNT(C4:G4)","v":3}]
[{"$f":"IF(Draw!E4=0,\"\",Draw!E4)","v":3},{"$f":"IF(A5=\"\",\"\",B$3)","v":1.6},61,60,59,null,null,12.631578947368421,null,null,3]
[{"$f":"IF(Draw!E5=0,\"\",Draw!E5)","v":4},1.6,54,56,51,null,null,{"$f":"IF(B6=\"\",\"\",IF(K6=5,(SUM(C6:G6)-MAX(C6:G6)-MIN(C6:G6))/3,IF(K6=4,(SUM(C6:G6)-MAX(C6:G6))/3,SUM(C6:G6)/3))*B6/7.6)","v":11.298245614035089},null,null,3]
[{"$f":"IF(Draw!E6=0,\"\",Draw!E6)","v":5},{"$f":"IF(A7=\"\",\"\",B$3)","v":1.6},58,62,63,null,null,12.842105263157896,null,null,3]
[{"$f":"IF(Draw!E7=0,\"\",Draw!E7)","v":6},1.6,61,60,65,null,null,13.05263157894737,null,null,3]
[{"$f":"IF(Draw!E8=0,\"\",Draw!E8)","v":7},1.6,52,56,54,null,null,11.368421052631581,null,null,3]
[{"$f":"IF(Draw!E9=0,\"\",Draw!E9)","v":8},1.6,57,55,58,null,null,11.92982456140351,null,null,3]
[{"$f":"IF(Draw!E10=0,\"\",Draw!E10)","v":9},1.6,57,53,60,null,null,11.92982456140351,null,null,3]
[{"$f":"IF(Draw!E11=0,\"\",Draw!E11)","v":10},1.6,51,55,55,null,null,11.298245614035089,null,null,3]
[{"$f":"IF(Draw!E12=0,\"\",Draw!E12)","v":11},1.6,65,61,64,null,null,13.333333333333336,null,null,3]
[{"$f":"IF(Draw!E13=0,\"\",Draw!E13)","v":12},1.6,57,57,61,null,null,12.280701754385968,null,null,3]
[{"$f":"IF(Draw!E14=0,\"\",Draw!E14)","v":13},1.6,57,56,56,null,null,11.859649122807019,null,null,3]
[{"$f":"IF(Draw!E15=0,\"\",Draw!E15)","v":14},1.6,56,54,58,null,null,11.789473684210527,null,null,3]
[{"$f":"IF(Draw!E16=0,\"\",Draw!E16)","v":15},1.6,64,62,62,null,null,13.192982456140351,null,null,3]
[{"$f":"IF(Draw!E17=0,\"\",Draw!E17)","v":16},1.6,50,50,54,null,null,10.807017543859651,null,null,3]
[{"$f":"IF(Draw!E18=0,\"\",Draw!E18)","v":17},1.6,53,52,52,null,null,11.017543859649125,null,null,3]
[{"$f":"IF(Draw!E19=0,\"\",Draw!E19)","v":18},1.6,62,62,60,null,null,12.912280701754387,null,null,3]
[{"$f":"IF(Draw!E20=0,\"\",Draw!E20)","v":19},1.6,54,63,53,null,null,11.92982456140351,null,null,3]
[{"$f":"IF(Draw!E21=0,\"\",Draw!E21)","v":20},1.6,60,64,66,null,null,13.333333333333336,null,null,3]
[{"$f":"IF(Draw!E22=0,\"\",Draw!E22)","v":21},1.6,52,60,56,null,null,11.789473684210527,null,null,3]
[{"$f":"IF(Draw!E23=0,\"\",Draw!E23)","v":22},1.6,56,57,57,null,null,11.92982456140351,null,null,3]
[{"$f":"IF(Draw!E24=0,\"\",Draw!E24)","v":23},1.6,51,54,54,null,null,11.157894736842108,null,null,3]
[{"$f":"IF(Draw!E25=0,\"\",Draw!E25)","v":24},1.6,55,49,52,null,null,10.947368421052632,null,null,3]
[{"$f":"IF(Draw!E26=0,\"\",Draw!E26)","v":25},1.6,48,47,47,null,null,9.9649122807017552,null,null,3]
[{"$f":"IF(Draw!E27=0,\"\",Draw!E27)","v":26},1.6,54,51,55,null,null,11.228070175438598,null,null,3]
[{"$f":"IF(Draw!E28=0,\"\",Draw!E28)","v":27},1.6,52,50,52,null,null,10.807017543859651,null,null,3]
[{"$f":"IF(Draw!E29=0,\"\",Draw!E29)","v":28},1.6,55,56,54,null,null,11.578947368421053,null,null,3]
[{"$f":"IF(Draw!E30=0,\"\",Draw!E30)","v":29},1.6,63,61,59,null,null,12.842105263157896,null,null,3]
[{"$f":"IF(Draw!E31=0,\"\",Draw!E31)","v":30},1.6,54,53,53,null,null,11.228070175438598,null,null,3]
[{"$f":"IF(Draw!E32=0,\"\",Draw!E32)","v":31},1.6,59,65,61,null,null,12.982456140350878,null,null,3]
[{"$f":"IF(Draw!E33=0,\"\",Draw!E33)","v":32},1.6,62,61,63,null,null,13.05263157894737,null,null,3]
[{"$f":"IF(Draw!E34=0,\"\",Draw!E34)","v":33},1.6,57,60,61,null,null,12.49122807017544,null,null,3]
[{"$f":"IF(Draw!E35=0,\"\",Draw!E35)","v":34},1.6,55,59,58,null,null,12.070175438596493,null,null,3]
[{"$f":"IF(Draw!E36=0,\"\",Draw!E36)","v":35},1.6,0,0,0,0,0,0,null,null,5]
[{"$f":"IF(Draw!E37=0,\"\",Draw!E37)","v":36},1.6,53,54,56,null,null,11.438596491228072,null,null,3]
[{"$f":"IF(Draw!E38=0,\"\",Draw!E38)","v":37},1.6,66,67,65,null,null,13.894736842105265,null,null,3]
[{"$f":"IF(Draw!E39=0,\"\",Draw!E39)","v":38},1.6,55,52,57,null,null,11.508771929824562,null,null,3]
[{"$f":"IF(Draw!E40=0,\"\",Draw!E40)","v":39},1.6,0,0,0,0,0,0,null,null,5]
[{"$f":"IF(Draw!E41=0,\"\",Draw!E41)","v":40},1.6,52,58,56,null,null,11.649122807017546,null,null,3]
[{"$f":"IF(Draw!E42=0,\"\",Draw!E42)","v":41},1.6,59,56,55,null,null,11.92982456140351,null,null,3]
[{"$f":"IF(Draw!E43=0,\"\",Draw!E43)","v":42},1.6,52,52,56,null,null,11.228070175438598,null,null,3]
[{"$f":"IF(Draw!E44=0,\"\",Draw!E44)","v":43},1.6,50,54,53,null,null,11.017543859649125,null,null,3]
[{"$f":"IF(Draw!E45=0,\"\",Draw!E45)","v":44},1.6,55,60,57,null,null,12.070175438596493,null,null,3]
[{"$f":"IF(Draw!E46=0,\"\",Draw!E46)","v":45},1.6,54,54,55,null,null,11.438596491228072,null,null,3]
[{"$f":"IF(Draw!E47=0,\"\",Draw!E47)","v":46},1.6,57,56,61,null,null,12.210526315789476,null,null,3]
[{"$f":"IF(Draw!E48=0,\"\",Draw!E48)","v":47},1.6,51,55,52,null,null,11.087719298245615,null,null,3]
[{"$f":"IF(Draw!E49=0,\"\",Draw!E49)","v":48},1.6,60,60,60,null,null,12.631578947368421,null,null,3]
[{"$f":"IF(Draw!E50=0,\"\",Draw!E50)","v":49},1.6,0,0,0,0,0,0,null,null,5]
[{"$f":"IF(Draw!E51=0,\"\",Draw!E51)","v":50},1.6,51,49,49,null,null,10.456140350877194,null,null,3]
[{"$f":"IF(Draw!E52=0,\"\",Draw!E52)","v":51},1.6,54,50,51,null,null,10.877192982456142,null,null,3]
[{"$f":"IF(Draw!E53=0,\"\",Draw!E53)","v":52},1.6,54,53,58,null,null,11.578947368421053,null,null,3]
[{"$f":"IF(Draw!E54=0,\"\",Draw!E54)","v":53},1.6,60,63,58,null,null,12.701754385964914,null,null,3]
[{"$f":"IF(Draw!E55=0,\"\",Draw!E55)","v":54},1.6,59,56,61,null,null,12.350877192982457,null,null,3]
[{"$f":"IF(Draw!E56=0,\"\",Draw!E56)","v":55},1.6,64,66,68,null,null,13.894736842105265,null,null,3]
[{"$f":"IF(Draw!E57=0,\"\",Draw!E57)","v":56},1.6,61,63,65,null,null,13.263157894736844,null,null,3]
[{"$f":"IF(Draw!E58=0,\"\",Draw!E58)","v":57},1.6,52,55,55,null,null,11.368421052631581,null,null,3]
[{"$f":"IF(Draw!E59=0,\"\",Draw!E59)","v":58},1.6,58,56,60,null,null,12.210526315789476,null,null,3]
[{"$f":"IF(Draw!E60=0,\"\",Draw!E60)","v":""},"",null,null,null,null,null,"",null,null,0]
[{"$f":"IF(Draw!E61=0,\"\",Draw!E61)","v":""},"",null,null,null,null,null,"",null,null,0]
[{"$f":"IF(Draw!E62=0,\"\",Draw!E62)","v":""},"",null,null,null,null,null,"",null,null,0]
[{"$f":"IF(Draw!E63=0,\"\",Draw!E63)","v":""},"",null,null,null,null,null,"",null,null,0]
[{"$f":"IF(Draw!E64=0,\"\",Draw!E64)","v":""},"",null,null,null,null,null,"",null,null,0]
[{"$f":"IF(Draw!E65=0,\"\",Draw!E65)","v":""},"",null,null,null,null,null,"",null,null,0]
[{"$f":"IF(Draw!E66=0,\"\",Draw!E66)","v":""},"",null,null,null,null,null,"",null,null,0]
[{"$f":"IF(Draw!E67=0,\"\",Draw!E67)","v":""},"",null,null,null,null,null,"",null,null,{"$f":"COUNT(C68:G68)","v":0}]
[{"$f":"IF(Draw!E68=0,\"\",Draw!E68)","v":""},"",null,null,null,null,null,"",null,null,0]
[{"$f":"IF(Draw!E69=0,\"\",Draw!E69)","v":""},"",null,null,null,null,null,{"$f":"IF(B70=\"\",\"\",IF(K70=5,(SUM(C70:G70)-MAX(C70:G70)-MIN(C70:G70))/3,IF(K70=4,(SUM(C70:G70)-MAX(C70:G70))/3,SUM(C70:G70)/3))*B70/7.6)","v":""},null,null,0]
[{"$f":"IF(Draw!E70=0,\"\",Draw!E70)","v":""},{"$f":"IF(A71=\"\",\"\",B$3)","v":""},null,null,null,null,null,"",null,null,0]
[{"$f":"IF(Draw!E71=0,\"\",Draw!E71)","v":""},"",null,null,null,null,null,"",null,null,0]
[{"$f":"IF(Draw!E72=0,\"\",Draw!E72)","v":""},"",null,null,null,null,null,"",null,null,0]
[{"$f":"IF(Draw!E73=0,\"\",Draw!E73)","v":""},"",null,null,null,null,null,"",null,null,0]
[{"$f":"IF(Draw!E74=0,\"\",Draw!E74)","v":""},"",null,null,null,null,null,"",null,null,0]
[{"$f":"IF(Draw!E75=0,\"\",Draw!E75)","v":""},"",null,null,null,null,null,"",null,null,0]
[{"$f":"IF(Draw!E76=0,\"\",Draw!E76)","v":""},"",null,null,null,null,null,"",null,null,0]
[{"$f":"IF(Draw!E77=0,\"\",Draw!E77)","v":""},"",null,null,null,null,null,"",null,null,0]
[{"$f":"IF(Draw!E78=0,\"\",Draw!E78)","v":""},"",null,null,null,null,null,"",null,null,0]
[{"$f":"IF(Draw!E79=0,\"\",Draw!E79)","v":""},"",null,null,null,null,null,"",null,null,0]
[{"$f":"IF(Draw!E80=0,\"\",Draw!E80)","v":""},"",null,null,null,null,null,"",null,null,0]
[{"$f":"IF(Draw!E81=0,\"\",Draw!E81)","v":""},"",null,null,null,null,null,"",null,null,0]
[{"$f":"IF(Draw!E82=0,\"\",Draw!E82)","v":""},"",null,null,null,null,null,"",null,null,0]
[{"$f":"IF(Draw!E83=0,\"\",Draw!E83)","v":""},"",null,null,null,null,null,"",null,null,0]
[{"$f":"IF(Draw!E84=0,\"\",Draw!E84)","v":""},"",null,null,null,null,null,"",null,null,0]
[{"$f":"IF(Draw!E85=0,\"\",Draw!E85)","v":""},"",null,null,null,null,null,"",null,null,0]
[{"$f":"IF(Draw!E86=0,\"\",Draw!E86)","v":""},"",null,null,null,null,null,"",null,null,0]
[{"$f":"IF(Draw!E87=0,\"\",Draw!E87)","v":""},"",null,null,null,null,null,"",null,null,0]
[{"$f":"IF(Draw!E88=0,\"\",Draw!E88)","v":""},"",null,null,null,null,null,"",null,null,0]
[{"$f":"IF(Draw!E89=0,\"\",Draw!E89)","v":""},"",null,null,null,null,null,"",null,null,0]
[{"$f":"IF(Draw!E90=0,\"\",Draw!E90)","v":""},"",null,null,null,null,null,"",null,null,0]
[{"$f":"IF(Draw!E91=0,\"\",Draw!E91)","v":""},"",null,null,null,null,null,"",null,null,0]
[{"$f":"IF(Draw!E92=0,\"\",Draw!E92)","v":""},"",null,null,null,null,null,"",null,null,0]
[{"$f":"IF(Draw!E93=0,\"\",Draw!E93)","v":""},"",null,null,null,null,null,"",null,null,0]
[{"$f":"IF(Draw!E94=0,\"\",Draw!E94)","v":""},"",null,null,null,null,null,"",null,null,0]
[{"$f":"IF(Draw!E95=0,\"\",Draw!E95)","v":""},"",null,null,null,null,null,"",null,null,0]
[{"$f":"IF(Draw!E96=0,\"\",Draw!E96)","v":""},"",null,null,null,null,null,"",null,null,0]
[{"$f":"IF(Draw!E97=0,\"\",Draw!E97)","v":""},"",null,null,null,null,null,"",null,null,0]
[{"$f":"IF(Draw!E98=0,\"\",Draw!E98)","v":""},"",null,null,null,null,null,"",null,null,0]
[{"$f":"IF(Draw!E99=0,\"\",Draw!E99)","v":""},"",null,null,null,null,null,"",null,null,0]
[{"$f":"IF(Draw!E100=0,\"\",Draw!E100)","v":""},"",null,null,null,null,null,"",null,null,0]
[{"$f":"IF(Draw!E101=0,\"\",Draw!E101)","v":""},"",null,null,null,null,null,"",null,null,0]
[{"$f":"IF(Draw!E102=0,\"\",Draw!E102)","v":""},"",null,null,null,null,null,"",null,null,0]
[{"$f":"IF(Draw!E103=0,\"\",Draw!E103)","v":""},"",null,null,null,null,null,"",null,null,0]
[{"$f":"IF(Draw!E104=0,\"\",Draw!E104)","v":""},"",null,null,null,null,null,"",null,null,0]
[{"$f":"IF(Draw!E105=0,\"\",Draw!E105)","v":""},"",null,null,null,null,null,"",null,null,0]
[{"$f":"IF(Draw!E106=0,\"\",Draw!E106)","v":""},"",null,null,null,null,null,"",null,null,0]
[{"$f":"IF(Draw!E107=0,\"\",Draw!E107)","v":""},"",null,null,null,null,null,"",null,null,0]
[{"$f":"IF(Draw!E108=0,\"\",Draw!E108)","v":""},"",null,null,null,null,null,"",null,null,0]
[{"$f":"IF(Draw!E109=0,\"\",Draw!E109)","v":""},"",null,null,null,null,null,"",null,null,0]
[{"$f":"IF(Draw!E110=0,\"\",Draw!E110)","v":""},"",null,null,null,null,null,"",null,null,0]
[{"$f":"IF(Draw!E111=0,\"\",Draw!E111)","v":""},"",null,null,null,null,null,"",null,null,0]
[{"$f":"IF(Draw!E112=0,\"\",Draw!E112)","v":""},"",null,null,null,null,null,"",null,null,0]
[{"$f":"IF(Draw!E113=0,\"\",Draw!E113)","v":""},"",null,null,null,null,null,"",null,null,0]
[{"$f":"IF(Draw!E114=0,\"\",Draw!E114)","v":""},"",null,null,null,null,null,"",null,null,0]
[{"$f":"IF(Draw!E115=0,\"\",Draw!E115)","v":""},"",null,null,null,null,null,"",null,null,0]
[{"$f":"IF(Draw!E116=0,\"\",Draw!E116)","v":""},"",null,null,null,null,null,"",null,null,0]
[{"$f":"IF(Draw!E117=0,\"\",Draw!E117)","v":""},"",null,null,null,null,null,"",null,null,0]
[{"$f":"IF(Draw!E118=0,\"\",Draw!E118)","v":""},"",null,null,null,null,null,"",null,null,0]
[{"$f":"IF(Draw!E119=0,\"\",Draw!E119)","v":""},"",null,null,null,null,null,"",null,null,0]
[{"$f":"IF(Draw!E120=0,\"\",Draw!E120)","v":""},"",null,null,null,null,null,"",null,null,0]
[{"$f":"IF(Draw!E121=0,\"\",Draw!E121)","v":""},"",null,null,null,null,null,"",null,null,0]
[{"$f":"IF(Draw!E122=0,\"\",Draw!E122)","v":""},"",null,null,null,null,null,"",null,null,0]
[{"$f":"IF(Draw!E123=0,\"\",Draw!E123)","v":""},"",null,null,null,null,null,"",null,null,0]
[{"$f":"IF(Draw!E124=0,\"\",Draw!E124)","v":""},"",null,null,null,null,null,"",null,null,0]
[{"$f":"IF(Draw!E125=0,\"\",Draw!E125)","v":""},"",null,null,null,null,null,"",null,null,0]
[{"$f":"IF(Draw!E126=0,\"\",Draw!E126)","v":""},"",null,null,null,null,null,"",null,null,0]
[{"$f":"IF(Draw!E127=0,\"\",Draw!E127)","v":""},"",null,null,null,null,null,"",null,null,0]
[{"$f":"IF(Draw!E128=0,\"\",Draw!E128)","v":""},"",null,null,null,null,null,"",null,null,0]
[{"$f":"IF(Draw!E129=0,\"\",Draw!E129)","v":""},"",null,null,null,null,null,"",null,null,0]
[{"$f":"IF(Draw!E130=0,\"\",Draw!E130)","v":""},"",null,null,null,null,null,"",null,null,0]
[{"$f":"IF(Draw!E131=0,\"\",Draw!E131)","v":""},"",null,null,null,null,null,"",null,null,{"$f":"COUNT(C132:G132)","v":0}]
[{"$f":"IF(Draw!E132=0,\"\",Draw!E132)","v":""},"",null,null,null,null,null,"",null,null,0]
[{"$f":"IF(Draw!E133=0,\"\",Draw!E133)","v":""},"",null,null,null,null,null,{"$f":"IF(B134=\"\",\"\",IF(K134=5,(SUM(C134:G134)-MAX(C134:G134)-MIN(C134:G134))/3,IF(K134=4,(SUM(C134:G134)-MAX(C134:G134))/3,SUM(C134:G134)/3))*B134/7.6)","v":""},null,null,0]
[{"$f":"IF(Draw!E134=0,\"\",Draw!E134)","v":""},{"$f":"IF(A135=\"\",\"\",B$3)","v":""},null,null,null,null,null,"",null,null,0]
[{"$f":"IF(Draw!E135=0,\"\",Draw!E135)","v":""},"",null,null,null,null,null,"",null,null,0]
[{"$f":"IF(Draw!E136=0,\"\",Draw!E136)","v":""},"",null,null,null,null,null,"",null,null,0]
[{"$f":"IF(Draw!E137=0,\"\",Draw!E137)","v":""},"",null,null,null,null,null,"",null,null,0]
[{"$f":"IF(Draw!E138=0,\"\",Draw!E138)","v":""},"",null,null,null,null,null,"",null,null,0]
[{"$f":"IF(Draw!E139=0,\"\",Draw!E139)","v":""},"",null,null,null,null,null,"",null,null,0]
[{"$f":"IF(Draw!E140=0,\"\",Draw!E140)","v":""},"",null,null,null,null,null,"",null,null,0]
[{"$f":"IF(Draw!E141=0,\"\",Draw!E141)","v":""},"",null,null,null,null,null,"",null,null,0]
[{"$f":"IF(Draw!E142=0,\"\",Draw!E142)","v":""},"",null,null,null,null,null,"",null,null,0]
[{"$f":"IF(Draw!E143=0,\"\",Draw!E143)","v":""},"",null,null,null,null,null,"",null,null,0]
[{"$f":"IF(Draw!E144=0,\"\",Draw!E144)","v":""},"",null,null,null,null,null,"",null,null,0]
[{"$f":"IF(Draw!E145=0,\"\",Draw!E145)","v":""},"",null,null,null,null,null,"",null,null,0]
[{"$f":"IF(Draw!E146=0,\"\",Draw!E146)","v":""},"",null,null,null,null,null,"",null,null,0]
[{"$f":"IF(Draw!E147=0,\"\",Draw!E147)","v":""},"",null,null,null,null,null,"",null,null,0]
[{"$f":"IF(Draw!E148=0,\"\",Draw!E148)","v":""},"",null,null,null,null,null,"",null,null,0]
[{"$f":"IF(Draw!E149=0,\"\",Draw!E149)","v":""},"",null,null,null,null,null,"",null,null,0]

{"sheet":"Fig 2 Barracuda","index":2,"n_rows":150,"n_cols":11,"rows_kept":150,"cut":false,"hidden":false,"merged":[[0,2,0,6]]}
[null,"Figure #2:","301 Barracuda"]
["#","Degree of Difficulty","Judge 1","Judge 2","Judge 3","Judge 4","Judge 5","Score","Penalty"]
[{"$f":"IF(Draw!E2=0,\"\",Draw!E2)","v":1},2,58,63,58,59,60,{"$f":"IF(B3=\"\",\"\",IF(K3=5,(SUM(C3:G3)-MAX(C3:G3)-MIN(C3:G3))/3,IF(K3=4,(SUM(C3:G3)-MAX(C3:G3))/3,SUM(C3:G3)/3))*B3/7.6)","v":15.526315789473685},null,null,{"$f":"COUNT(C3:G3)","v":5}]
[{"$f":"IF(Draw!E3=0,\"\",Draw!E3)","v":2},{"$f":"IF(A4=\"\",\"\",B$3)","v":2},50,52,52,53,56,{"$f":"IF(B4=\"\",\"\",IF(K4=5,(SUM(C4:G4)-MAX(C4:G4)-MIN(C4:G4))/3,IF(K4=4,(SUM(C4:G4)-MAX(C4:G4))/3,SUM(C4:G4)/3))*B4/7.6)","v":13.771929824561404},null,null,{"$f":"COUNT(C4:G4)","v":5}]
[{"$f":"IF(Draw!E4=0,\"\",Draw!E4)","v":3},{"$f":"IF(A5=\"\",\"\",B$3)","v":2},55,59,56,57,56,{"$f":"IF(B5=\"\",\"\",IF(K5=5,(SUM(C5:G5)-MAX(C5:G5)-MIN(C5:G5))/3,IF(K5=4,(SUM(C5:G5)-MAX(C5:G5))/3,SUM(C5:G5)/3))*B5/7.6)","v":14.824561403508774},null,null,5]
[{"$f":"IF(Draw!E5=0,\"\",Draw!E5)","v":4},2,48,48,48,52,54,{"$f":"IF(B6=\"\",\"\",IF(K6=5,(SUM(C6:G6)-MAX(C6:G6)-MIN(C6:G6))/3,IF(K6=4,(SUM(C6:G6)-MAX(C6:G6))/3,SUM(C6:G6)/3))*B6/7.6)","v":12.982456140350878},null,null,5]
[{"$f":"IF(Draw!E6=0,\"\",Draw!E6)","v":5},{"$f":"IF(A7=\"\",\"\",B$3)","v":2},62,64,63,65,61,{"$f":"IF(B7=\"\",\"\",IF(K7=5,(SUM(C7:G7)-MAX(C7:G7)-MIN(C7:G7))/3,IF(K7=4,(SUM(C7:G7)-MAX(C7:G7))/3,SUM(C7:G7)/3))*B7/7.6)","v":16.578947368421055},null,null,5]
[{"$f":"IF(Draw!E7=0,\"\",Draw!E7)","v":6},2,61,65,65,66,62,{"$f":"IF(B8=\"\",\"\",IF(K8=5,(SUM(C8:G8)-MAX(C8:G8)-MIN(C8:G8))/3,IF(K8=4,(SUM(C8:G8)-MAX(C8:G8))/3,SUM(C8:G8)/3))*B8/7.6)","v":16.842105263157894},null,null,5]
[{"$f":"IF(Draw!E8=0,\"\",Draw!E8)","v":7},2,49,55,47,48,51,{"$f":"IF(B9=\"\",\"\",IF(K9=5,(SUM(C9:G9)-MAX(C9:G9)-MIN(C9:G9))/3,IF(K9=4,(SUM(C9:G9)-MAX(C9:G9))/3,SUM(C9:G9)/3))*B9/7.6)","v":12.982456140350878},null,null,5]
[{"$f":"IF(Draw!E9=0,\"\",Draw!E9)","v":8},2,63,63,58,62,55,{"$f":"IF(B10=\"\",\"\",IF(K10=5,(SUM(C10:G10)-MAX(C10:G10)-MIN(C10:G10))/3,IF(K10=4,(SUM(C10:G10)-MAX(C10:G10))/3,SUM(C10:G10)/3))*B10/7.6)","v":16.05263157894737},null,null,5]
[{"$f":"IF(Draw!E10=0,\"\",Draw!E10)","v":9},2,63,62,57,63,57,{"$f":"IF(B11=\"\",\"\",IF(K11=5,(SUM(C11:G11)-MAX(C11:G11)-MIN(C11:G11))/3,IF(K11=4,(SUM(C11:G11)-MAX(C11:G11))/3,SUM(C11:G11)/3))*B11/7.6)","v":15.964912280701755},null,null,5]
[{"$f":"IF(Draw!E11=0,\"\",Draw!E11)","v":10},2,52,57,58,56,53,{"$f":"IF(B12=\"\",\"\",IF(K12=5,(SUM(C12:G12)-MAX(C12:G12)-MIN(C12:G12))/3,IF(K12=4,(SUM(C12:G12)-MAX(C12:G12))/3,SUM(C12:G12)/3))*B12/7.6)","v":14.561403508771932},null,null,5]
[{"$f":"IF(Draw!E12=0,\"\",Draw!E12)","v":11},2,63,58,60,56,58,{"$f":"IF(B13=\"\",\"\",IF(K13=5,(SUM(C13:G13)-MAX(C13:G13)-MIN(C13:G13))/3,IF(K13=4,(SUM(C13:G13)-MAX(C13:G13))/3,SUM(C13:G13)/3))*B13/7.6)","v":15.43859649122807},null,null,5]
[{"$f":"IF(Draw!E13=0,\"\",Draw!E13)","v":12},2,62,61,57,61,59,{"$f":"IF(B14=\"\",\"\",IF(K14=5,(SUM(C14:G14)-MAX(C14:G14)-MIN(C14:G14))/3,IF(K14=4,(SUM(C14:G14)-MAX(C14:G14))/3,SUM(C14:G14)/3))*B14/7.6)","v":15.877192982456142},null,null,5]
[{"$f":"IF(Draw!E14=0,\"\",Draw!E14)","v":13},2,57,56,56,57,56,{"$f":"IF(B15=\"\",\"\",IF(K15=5,(SUM(C15:G15)-MAX(C15:G15)-MIN(C15:G15))/3,IF(K15=4,(SUM(C15:G15)-MAX(C15:G15))/3,SUM(C15:G15)/3))*B15/7.6)","v":14.824561403508774},null,null,5]
[{"$f":"IF(Draw!E15=0,\"\",Draw!E15)","v":14},2,58,57,57,54,61,{"$f":"IF(B16=\"\",\"\",IF(K16=5,(SUM(C16:G16)-MAX(C16:G16)-MIN(C16:G16))/3,IF(K16=4,(SUM(C16:G16)-MAX(C16:G16))/3,SUM(C16:G16)/3))*B16/7.6)","v":15.087719298245615},null,null,5]
[{"$f":"IF(Draw!E16=0,\"\",Draw!E16)","v":15},2,61,59,56,59,54,{"$f":"IF(B17=\"\",\"\",IF(K17=5,(SUM(C17:G17)-MAX(C17:G17)-MIN(C17:G17))/3,IF(K17=4,(SUM(C17:G17)-MAX(C17:G17))/3,SUM(C17:G17)/3))*B17/7.6)","v":15.263157894736842},null,null,5]
[{"$f":"IF(Draw!E17=0,\"\",Draw!E17)","v":16},2,53,55,56,56,54,{"$f":"IF(B18=\"\",\"\",IF(K18=5,(SUM(C18:G18)-MAX(C18:G18)-MIN(C18:G18))/3,IF(K18=4,(SUM(C18:G18)-MAX(C18:G18))/3,SUM(C18:G18)/3))*B18/7.6)","v":14.473684210526317},null,null,5]
[{"$f":"IF(Draw!E18=0,\"\",Draw!E18)","v":17},2,54,59,54,55,51,{"$f":"IF(B19=\"\",\"\",IF(K19=5,(SUM(C19:G19)-MAX(C19:G19)-MIN(C19:G19))/3,IF(K19=4,(SUM(C19:G19)-MAX(C19:G19))/3,SUM(C19:G19)/3))*B19/7.6)","v":14.298245614035089},null,null,5]
[{"$f":"IF(Draw!E19=0,\"\",Draw!E19)","v":18},2,55,56,57,58,58,{"$f":"IF(B20=\"\",\"\",IF(K20=5,(SUM(C20:G20)-MAX(C20:G20)-MIN(C20:G20))/3,IF(K20=4,(SUM(C20:G20)-MAX(C20:G20))/3,SUM(C20:G20)/3))*B20/7.6)","v":15},null,null,5]
[{"$f":"IF(Draw!E20=0,\"\",Draw!E20)","v":19},2,53,55,54,54,54,{"$f":"IF(B21=\"\",\"\",IF(K21=5,(SUM(C21:G21)-MAX(C21:G21)-MIN(C21:G21))/3,IF(K21=4,(SUM(C21:G21)-MAX(C21:G21))/3,SUM(C21:G21)/3))*B21/7.6)","v":14.210526315789474},null,null,5]
[{"$f":"IF(Draw!E21=0,\"\",Draw!E21)","v":20},2,65,65,63,61,64,{"$f":"IF(B22=\"\",\"\",IF(K22=5,(SUM(C22:G22)-MAX(C22:G22)-MIN(C22:G22))/3,IF(K22=4,(SUM(C22:G22)-MAX(C22:G22))/3,SUM(C22:G22)/3))*B22/7.6)","v":16.842105263157894},null,null,5]
[{"$f":"IF(Draw!E22=0,\"\",Draw!E22)","v":21},2,61,56,58,57,58,{"$f":"IF(B23=\"\",\"\",IF(K23=5,(SUM(C23:G23)-MAX(C23:G23)-MIN(C23:G23))/3,IF(K23=4,(SUM(C23:G23)-MAX(C23:G23))/3,SUM(C23:G23)/3))*B23/7.6)","v":15.175438596491228},null,null,5]
[{"$f":"IF(Draw!E23=0,\"\",Draw!E23)","v":22},2,62,59,59,60,60,{"$f":"IF(B24=\"\",\"\",IF(K24=5,(SUM(C24:G24)-MAX(C24:G24)-MIN(C24:G24))/3,IF(K24=4,(SUM(C24:G24)-MAX(C24:G24))/3,SUM(C24:G24)/3))*B24/7.6)","v":15.701754385964913},null,null,5]
[{"$f":"IF(Draw!E24=0,\"\",Draw!E24)","v":23},2,50,51,52,53,56,{"$f":"IF(B25=\"\",\"\",IF(K25=5,(SUM(C25:G25)-MAX(C25:G25)-MIN(C25:G25))/3,IF(K25=4,(SUM(C25:G25)-MAX(C25:G25))/3,SUM(C25:G25)/3))*B25/7.6)","v":13.684210526315789},null,null,5]
[{"$f":"IF(Draw!E25=0,\"\",Draw!E25)","v":24},2,49,49,49,50,51,{"$f":"IF(B26=\"\",\"\",IF(K26=5,(SUM(C26:G26)-MAX(C26:G26)-MIN(C26:G26))/3,IF(K26=4,(SUM(C26:G26)-MAX(C26:G26))/3,SUM(C26:G26)/3))*B26/7.6)","v":12.982456140350878},null,null,5]
[{"$f":"IF(Draw!E26=0,\"\",Draw!E26)","v":25},2,50,50,47,47,48,{"$f":"IF(B27=\"\",\"\",IF(K27=5,(SUM(C27:G27)-MAX(C27:G27)-MIN(C27:G27))/3,IF(K27=4,(SUM(C27:G27)-MAX(C27:G27))/3,SUM(C27:G27)/3))*B27/7.6)","v":12.719298245614036},null,null,5]
[{"$f":"IF(Draw!E27=0,\"\",Draw!E27)","v":26},2,52,56,56,58,51,{"$f":"IF(B28=\"\",\"\",IF(K28=5,(SUM(C28:G28)-MAX(C28:G28)-MIN(C28:G28))/3,IF(K28=4,(SUM(C28:G28)-MAX(C28:G28))/3,SUM(C28:G28)/3))*B28/7.6)","v":14.385964912280702},null,null,5]
[{"$f":"IF(Draw!E28=0,\"\",Draw!E28)","v":27},2,51,51,50,56,51,{"$f":"IF(B29=\"\",\"\",IF(K29=5,(SUM(C29:G29)-MAX(C29:G29)-MIN(C29:G29))/3,IF(K29=4,(SUM(C29:G29)-MAX(C29:G29))/3,SUM(C29:G29)/3))*B29/7.6)","v":13.421052631578949},null,null,5]
[{"$f":"IF(Draw!E29=0,\"\",Draw!E29)","v":28},2,48,50,48,52,48,{"$f":"IF(B30=\"\",\"\",IF(K30=5,(SUM(C30:G30)-MAX(C30:G30)-MIN(C30:G30))/3,IF(K30=4,(SUM(C30:G30)-MAX(C30:G30))/3,SUM(C30:G30)/3))*B30/7.6)","v":12.807017543859649},null,null,5]
[{"$f":"IF(Draw!E30=0,\"\",Draw!E30)","v":29},2,61,60,63,64,63,{"$f":"IF(B31=\"\",\"\",IF(K31=5,(SUM(C31:G31)-MAX(C31:G31)-MIN(C31:G31))/3,IF(K31=4,(SUM(C31:G31)-MAX(C31:G31))/3,SUM(C31:G31)/3))*B31/7.6)","v":16.403508771929825},null,null,5]
[{"$f":"IF(Draw!E31=0,\"\",Draw!E31)","v":30},2,51,50,52,54,56,{"$f":"IF(B32=\"\",\"\",IF(K32=5,(SUM(C32:G32)-MAX(C32:G32)-MIN(C32:G32))/3,IF(K32=4,(SUM(C32:G32)-MAX(C32:G32))/3,SUM(C32:G32)/3))*B32/7.6)","v":13.771929824561404},null,null,5]
[{"$f":"IF(Draw!E32=0,\"\",Draw!E32)","v":31},2,54,52,54,56,57,{"$f":"IF(B33=\"\",\"\",IF(K33=5,(SUM(C33:G33)-MAX(C33:G33)-MIN(C33:G33))/3,IF(K33=4,(SUM(C33:G33)-MAX(C33:G33))/3,SUM(C33:G33)/3))*B33/7.6)","v":14.385964912280702},null,null,5]
[{"$f":"IF(Draw!E33=0,\"\",Draw!E33)","v":32},2,57,56,57,60,60,{"$f":"IF(B34=\"\",\"\",IF(K34=5,(SUM(C34:G34)-MAX(C34:G34)-MIN(C34:G34))/3,IF(K34=4,(SUM(C34:G34)-MAX(C34:G34))/3,SUM(C34:G34)/3))*B34/7.6)","v":15.263157894736842},null,null,5]
[{"$f":"IF(Draw!E34=0,\"\",Draw!E34)","v":33},2,58,60,58,58,61,{"$f":"IF(B35=\"\",\"\",IF(K35=5,(SUM(C35:G35)-MAX(C35:G35)-MIN(C35:G35))/3,IF(K35=4,(SUM(C35:G35)-MAX(C35:G35))/3,SUM(C35:G35)/3))*B35/7.6)","v":15.43859649122807},null,null,5]
[{"$f":"IF(Draw!E35=0,\"\",Draw!E35)","v":34},2,56,60,56,55,53,{"$f":"IF(B36=\"\",\"\",IF(K36=5,(SUM(C36:G36)-MAX(C36:G36)-MIN(C36:G36))/3,IF(K36=4,(SUM(C36:G36)-MAX(C36:G36))/3,SUM(C36:G36)/3))*B36/7.6)","v":14.649122807017545},null,null,5]
[{"$f":"IF(Draw!E36=0,\"\",Draw!E36)","v":35},2,0,0,0,0,0,{"$f":"IF(B37=\"\",\"\",IF(K37=5,(SUM(C37:G37)-MAX(C37:G37)-MIN(C37:G37))/3,IF(K37=4,(SUM(C37:G37)-MAX(C37:G37))/3,SUM(C37:G37)/3))*B37/7.6)","v":0},null,null,5]
[{"$f":"IF(Draw!E37=0,\"\",Draw!E37)","v":36},2,55,56,53,57,56,{"$f":"IF(B38=\"\",\"\",IF(K38=5,(SUM(C38:G38)-MAX(C38:G38)-MIN(C38:G38))/3,IF(K38=4,(SUM(C38:G38)-MAX(C38:G38))/3,SUM(C38:G38)/3))*B38/7.6)","v":14.649122807017545},null,null,5]
[{"$f":"IF(Draw!E38=0,\"\",Draw!E38)","v":37},2,60,64,58,63,64,{"$f":"IF(B39=\"\",\"\",IF(K39=5,(SUM(C39:G39)-MAX(C39:G39)-MIN(C39:G39))/3,IF(K39=4,(SUM(C39:G39)-MAX(C39:G39))/3,SUM(C39:G39)/3))*B39/7.6)","v":16.403508771929825},null,null,5]
[{"$f":"IF(Draw!E39=0,\"\",Draw!E39)","v":38},2,61,60,60,60,62,{"$f":"IF(B40=\"\",\"\",IF(K40=5,(SUM(C40:G40)-MAX(C40:G40)-MIN(C40:G40))/3,IF(K40=4,(SUM(C40:G40)-MAX(C40:G40))/3,SUM(C40:G40)/3))*B40/7.6)","v":15.877192982456142},null,null,5]
[{"$f":"IF(Draw!E40=0,\"\",Draw!E40)","v":39},2,0,0,0,0,0,{"$f":"IF(B41=\"\",\"\",IF(K41=5,(SUM(C41:G41)-MAX(C41:G41)-MIN(C41:G41))/3,IF(K41=4,(SUM(C41:G41)-MAX(C41:G41))/3,SUM(C41:G41)/3))*B41/7.6)","v":0},null,null,5]
[{"$f":"IF(Draw!E41=0,\"\",Draw!E41)","v":40},2,48,48,50,50,53,{"$f":"IF(B42=\"\",\"\",IF(K42=5,(SUM(C42:G42)-MAX(C42:G42)-MIN(C42:G42))/3,IF(K42=4,(SUM(C42:G42)-MAX(C42:G42))/3,SUM(C42:G42)/3))*B42/7.6)","v":12.982456140350878},null,null,5]
[{"$f":"IF(Draw!E42=0,\"\",Draw!E42)","v":41},2,58,56,62,58,59,{"$f":"IF(B43=\"\",\"\",IF(K43=5,(SUM(C43:G43)-MAX(C43:G43)-MIN(C43:G43))/3,IF(K43=4,(SUM(C43:G43)-MAX(C43:G43))/3,SUM(C43:G43)/3))*B43/7.6)","v":15.350877192982457},null,null,5]
[{"$f":"IF(Draw!E43=0,\"\",Draw!E43)","v":42},2,57,58,58,56,59,{"$f":"IF(B44=\"\",\"\",IF(K44=5,(SUM(C44:G44)-MAX(C44:G44)-MIN(C44:G44))/3,IF(K44=4,(SUM(C44:G44)-MAX(C44:G44))/3,SUM(C44:G44)/3))*B44/7.6)","v":15.175438596491228},null,null,5]
[{"$f":"IF(Draw!E44=0,\"\",Draw!E44)","v":43},2,50,51,52,56,57,{"$f":"IF(B45=\"\",\"\",IF(K45=5,(SUM(C45:G45)-MAX(C45:G45)-MIN(C45:G45))/3,IF(K45=4,(SUM(C45:G45)-MAX(C45:G45))/3,SUM(C45:G45)/3))*B45/7.6)","v":13.947368421052632},null,null,5]
[{"$f":"IF(Draw!E45=0,\"\",Draw!E45)","v":44},2,53,57,54,54,60,{"$f":"IF(B46=\"\",\"\",IF(K46=5,(SUM(C46:G46)-MAX(C46:G46)-MIN(C46:G46))/3,IF(K46=4,(SUM(C46:G46)-MAX(C46:G46))/3,SUM(C46:G46)/3))*B46/7.6)","v":14.473684210526317},null,null,5]
[{"$f":"IF(Draw!E46=0,\"\",Draw!E46)","v":45},2,54,56,55,56,57,{"$f":"IF(B47=\"\",\"\",IF(K47=5,(SUM(C47:G47)-MAX(C47:G47)-MIN(C47:G47))/3,IF(K47=4,(SUM(C47:G47)-MAX(C47:G47))/3,SUM(C47:G47)/3))*B47/7.6)","v":14.649122807017545},null,null,5]
[{"$f":"IF(Draw!E47=0,\"\",Draw!E47)","v":46},2,54,59,53,55,53,{"$f":"IF(B48=\"\",\"\",IF(K48=5,(SUM(C48:G48)-MAX(C48:G48)-MIN(C48:G48))/3,IF(K48=4,(SUM(C48:G48)-MAX(C48:G48))/3,SUM(C48:G48)/3))*B48/7.6)","v":14.210526315789474},null,null,5]
[{"$f":"IF(Draw!E48=0,\"\",Draw!E48)","v":47},2,53,56,54,58,57,{"$f":"IF(B49=\"\",\"\",IF(K49=5,(SUM(C49:G49)-MAX(C49:G49)-MIN(C49:G49))/3,IF(K49=4,(SUM(C49:G49)-MAX(C49:G49))/3,SUM(C49:G49)/3))*B49/7.6)","v":14.649122807017545},null,null,5]
[{"$f":"IF(Draw!E49=0,\"\",Draw!E49)","v":48},2,57,61,57,62,61,{"$f":"IF(B50=\"\",\"\",IF(K50=5,(SUM(C50:G50)-MAX(C50:G50)-MIN(C50:G50))/3,IF(K50=4,(SUM(C50:G50)-MAX(C50:G50))/3,SUM(C50:G50)/3))*B50/7.6)","v":15.701754385964913},null,null,5]
[{"$f":"IF(Draw!E50=0,\"\",Draw!E50)","v":49},2,0,0,0,0,0,{"$f":"IF(B51=\"\",\"\",IF(K51=5,(SUM(C51:G51)-MAX(C51:G51)-MIN(C51:G51))/3,IF(K51=4,(SUM(C51:G51)-MAX(C51:G51))/3,SUM(C51:G51)/3))*B51/7.6)","v":0},null,null,5]
[{"$f":"IF(Draw!E51=0,\"\",Draw!E51)","v":50},2,51,51,53,56,53,{"$f":"IF(B52=\"\",\"\",IF(K52=5,(SUM(C52:G52)-MAX(C52:G52)-MIN(C52:G52))/3,IF(K52=4,(SUM(C52:G52)-MAX(C52:G52))/3,SUM(C52:G52)/3))*B52/7.6)","v":13.771929824561404},null,null,5]
[{"$f":"IF(Draw!E52=0,\"\",Draw!E52)","v":51},2,52,52,52,52,51,{"$f":"IF(B53=\"\",\"\",IF(K53=5,(SUM(C53:G53)-MAX(C53:G53)-MIN(C53:G53))/3,IF(K53=4,(SUM(C53:G53)-MAX(C53:G53))/3,SUM(C53:G53)/3))*B53/7.6)","v":13.684210526315789},null,null,5]
[{"$f":"IF(Draw!E53=0,\"\",Draw!E53)","v":52},2,63,61,61,63,62,{"$f":"IF(B54=\"\",\"\",IF(K54=5,(SUM(C54:G54)-MAX(C54:G54)-MIN(C54:G54))/3,IF(K54=4,(SUM(C54:G54)-MAX(C54:G54))/3,SUM(C54:G54)/3))*B54/7.6)","v":16.315789473684212},null,null,5]
[{"$f":"IF(Draw!E54=0,\"\",Draw!E54)","v":53},2,56,59,58,55,57,{"$f":"IF(B55=\"\",\"\",IF(K55=5,(SUM(C55:G55)-MAX(C55:G55)-MIN(C55:G55))/3,IF(K55=4,(SUM(C55:G55)-MAX(C55:G55))/3,SUM(C55:G55)/3))*B55/7.6)","v":15},null,null,5]
[{"$f":"IF(Draw!E55=0,\"\",Draw!E55)","v":54},2,56,58,55,60,60,{"$f":"IF(B56=\"\",\"\",IF(K56=5,(SUM(C56:G56)-MAX(C56:G56)-MIN(C56:G56))/3,IF(K56=4,(SUM(C56:G56)-MAX(C56:G56))/3,SUM(C56:G56)/3))*B56/7.6)","v":15.263157894736842},null,null,5]
[{"$f":"IF(Draw!E56=0,\"\",Draw!E56)","v":55},2,64,66,64,62,65,{"$f":"IF(B57=\"\",\"\",IF(K57=5,(SUM(C57:G57)-MAX(C57:G57)-MIN(C57:G57))/3,IF(K57=4,(SUM(C57:G57)-MAX(C57:G57))/3,SUM(C57:G57)/3))*B57/7.6)","v":16.929824561403507},null,null,5]
[{"$f":"IF(Draw!E57=0,\"\",Draw!E57)","v":56},2,59,65,60,61,61,{"$f":"IF(B58=\"\",\"\",IF(K58=5,(SUM(C58:G58)-MAX(C58:G58)-MIN(C58:G58))/3,IF(K58=4,(SUM(C58:G58)-MAX(C58:G58))/3,SUM(C58:G58)/3))*B58/7.6)","v":15.964912280701755},null,null,5]
[{"$f":"IF(Draw!E58=0,\"\",Draw!E58)","v":57},2,56,60,56,52,57,{"$f":"IF(B59=\"\",\"\",IF(K59=5,(SUM(C59:G59)-MAX(C59:G59)-MIN(C59:G59))/3,IF(K59=4,(SUM(C59:G59)-MAX(C59:G59))/3,SUM(C59:G59)/3))*B59/7.6)","v":14.824561403508774},null,null,5]
[{"$f":"IF(Draw!E59=0,\"\",Draw!E59)","v":58},2,58,61,57,56,59,{"$f":"IF(B60=\"\",\"\",IF(K60=5,(SUM(C60:G60)-MAX(C60:G60)-MIN(C60:G60))/3,IF(K60=4,(SUM(C60:G60)-MAX(C60:G60))/3,SUM(C60:G60)/3))*B60/7.6)","v":15.263157894736842},null,null,5]
[{"$f":"IF(Draw!E60=0,\"\",Draw!E60)","v":""},"",null,null,null,null,null,{"$f":"IF(B61=\"\",\"\",IF(K61=5,(SUM(C61:G61)-MAX(C61:G61)-MIN(C61:G61))/3,IF(K61=4,(SUM(C61:G61)-MAX(C61:G61))/3,SUM(C61:G61)/3))*B61/7.6)","v":""},null,null,0]
[{"$f":"IF(Draw!E61=0,\"\",Draw!E61)","v":""},"",null,null,null,null,null,{"$f":"IF(B62=\"\",\"\",IF(K62=5,(SUM(C62:G62)-MAX(C62:G62)-MIN(C62:G62))/3,IF(K62=4,(SUM(C62:G62)-MAX(C62:G62))/3,SUM(C62:G62)/3))*B62/7.6)","v":""},null,null,0]
[{"$f":"IF(Draw!E62=0,\"\",Draw!E62)","v":""},"",null,null,null,null,null,{"$f":"IF(B63=\"\",\"\",IF(K63=5,(SUM(C63:G63)-MAX(C63:G63)-MIN(C63:G63))/3,IF(K63=4,(SUM(C63:G63)-MAX(C63:G63))/3,SUM(C63:G63)/3))*B63/7.6)","v":""},null,null,0]
[{"$f":"IF(Draw!E63=0,\"\",Draw!E63)","v":""},"",null,null,null,null,null,{"$f":"IF(B64=\"\",\"\",IF(K64=5,(SUM(C64:G64)-MAX(C64:G64)-MIN(C64:G64))/3,IF(K64=4,(SUM(C64:G64)-MAX(C64:G64))/3,SUM(C64:G64)/3))*B64/7.6)","v":""},null,null,0]
[{"$f":"IF(Draw!E64=0,\"\",Draw!E64)","v":""},"",null,null,null,null,null,{"$f":"IF(B65=\"\",\"\",IF(K65=5,(SUM(C65:G65)-MAX(C65:G65)-MIN(C65:G65))/3,IF(K65=4,(SUM(C65:G65)-MAX(C65:G65))/3,SUM(C65:G65)/3))*B65/7.6)","v":""},null,null,0]
[{"$f":"IF(Draw!E65=0,\"\",Draw!E65)","v":""},"",null,null,null,null,null,{"$f":"IF(B66=\"\",\"\",IF(K66=5,(SUM(C66:G66)-MAX(C66:G66)-MIN(C66:G66))/3,IF(K66=4,(SUM(C66:G66)-MAX(C66:G66))/3,SUM(C66:G66)/3))*B66/7.6)","v":""},null,null,0]
[{"$f":"IF(Draw!E66=0,\"\",Draw!E66)","v":""},"",null,null,null,null,null,{"$f":"IF(B67=\"\",\"\",IF(K67=5,(SUM(C67:G67)-MAX(C67:G67)-MIN(C67:G67))/3,IF(K67=4,(SUM(C67:G67)-MAX(C67:G67))/3,SUM(C67:G67)/3))*B67/7.6)","v":""},null,null,0]
[{"$f":"IF(Draw!E67=0,\"\",Draw!E67)","v":""},"",null,null,null,null,null,{"$f":"IF(B68=\"\",\"\",IF(K68=5,(SUM(C68:G68)-MAX(C68:G68)-MIN(C68:G68))/3,IF(K68=4,(SUM(C68:G68)-MAX(C68:G68))/3,SUM(C68:G68)/3))*B68/7.6)","v":""},null,null,{"$f":"COUNT(C68:G68)","v":0}]
[{"$f":"IF(Draw!E68=0,\"\",Draw!E68)","v":""},"",null,null,null,null,null,{"$f":"IF(B69=\"\",\"\",IF(K69=5,(SUM(C69:G69)-MAX(C69:G69)-MIN(C69:G69))/3,IF(K69=4,(SUM(C69:G69)-MAX(C69:G69))/3,SUM(C69:G69)/3))*B69/7.6)","v":""},null,null,0]
[{"$f":"IF(Draw!E69=0,\"\",Draw!E69)","v":""},"",null,null,null,null,null,{"$f":"IF(B70=\"\",\"\",IF(K70=5,(SUM(C70:G70)-MAX(C70:G70)-MIN(C70:G70))/3,IF(K70=4,(SUM(C70:G70)-MAX(C70:G70))/3,SUM(C70:G70)/3))*B70/7.6)","v":""},null,null,0]
[{"$f":"IF(Draw!E70=0,\"\",Draw!E70)","v":""},{"$f":"IF(A71=\"\",\"\",B$3)","v":""},null,null,null,null,null,{"$f":"IF(B71=\"\",\"\",IF(K71=5,(SUM(C71:G71)-MAX(C71:G71)-MIN(C71:G71))/3,IF(K71=4,(SUM(C71:G71)-MAX(C71:G71))/3,SUM(C71:G71)/3))*B71/7.6)","v":""},null,null,0]
[{"$f":"IF(Draw!E71=0,\"\",Draw!E71)","v":""},"",null,null,null,null,null,{"$f":"IF(B72=\"\",\"\",IF(K72=5,(SUM(C72:G72)-MAX(C72:G72)-MIN(C72:G72))/3,IF(K72=4,(SUM(C72:G72)-MAX(C72:G72))/3,SUM(C72:G72)/3))*B72/7.6)","v":""},null,null,0]
[{"$f":"IF(Draw!E72=0,\"\",Draw!E72)","v":""},"",null,null,null,null,null,{"$f":"IF(B73=\"\",\"\",IF(K73=5,(SUM(C73:G73)-MAX(C73:G73)-MIN(C73:G73))/3,IF(K73=4,(SUM(C73:G73)-MAX(C73:G73))/3,SUM(C73:G73)/3))*B73/7.6)","v":""},null,null,0]
[{"$f":"IF(Draw!E73=0,\"\",Draw!E73)","v":""},"",null,null,null,null,null,{"$f":"IF(B74=\"\",\"\",IF(K74=5,(SUM(C74:G74)-MAX(C74:G74)-MIN(C74:G74))/3,IF(K74=4,(SUM(C74:G74)-MAX(C74:G74))/3,SUM(C74:G74)/3))*B74/7.6)","v":""},null,null,0]
[{"$f":"IF(Draw!E74=0,\"\",Draw!E74)","v":""},"",null,null,null,null,null,{"$f":"IF(B75=\"\",\"\",IF(K75=5,(SUM(C75:G75)-MAX(C75:G75)-MIN(C75:G75))/3,IF(K75=4,(SUM(C75:G75)-MAX(C75:G75))/3,SUM(C75:G75)/3))*B75/7.6)","v":""},null,null,0]
[{"$f":"IF(Draw!E75=0,\"\",Draw!E75)","v":""},"",null,null,null,null,null,{"$f":"IF(B76=\"\",\"\",IF(K76=5,(SUM(C76:G76)-MAX(C76:G76)-MIN(C76:G76))/3,IF(K76=4,(SUM(C76:G76)-MAX(C76:G76))/3,SUM(C76:G76)/3))*B76/7.6)","v":""},null,null,0]
[{"$f":"IF(Draw!E76=0,\"\",Draw!E76)","v":""},"",null,null,null,null,null,{"$f":"IF(B77=\"\",\"\",IF(K77=5,(SUM(C77:G77)-MAX(C77:G77)-MIN(C77:G77))/3,IF(K77=4,(SUM(C77:G77)-MAX(C77:G77))/3,SUM(C77:G77)/3))*B77/7.6)","v":""},null,null,0]
[{"$f":"IF(Draw!E77=0,\"\",Draw!E77)","v":""},"",null,null,null,null,null,{"$f":"IF(B78=\"\",\"\",IF(K78=5,(SUM(C78:G78)-MAX(C78:G78)-MIN(C78:G78))/3,IF(K78=4,(SUM(C78:G78)-MAX(C78:G78))/3,SUM(C78:G78)/3))*B78/7.6)","v":""},null,null,0]
[{"$f":"IF(Draw!E78=0,\"\",Draw!E78)","v":""},"",null,null,null,null,null,{"$f":"IF(B79=\"\",\"\",IF(K79=5,(SUM(C79:G79)-MAX(C79:G79)-MIN(C79:G79))/3,IF(K79=4,(SUM(C79:G79)-MAX(C79:G79))/3,SUM(C79:G79)/3))*B79/7.6)","v":""},null,null,0]
[{"$f":"IF(Draw!E79=0,\"\",Draw!E79)","v":""},"",null,null,null,null,null,{"$f":"IF(B80=\"\",\"\",IF(K80=5,(SUM(C80:G80)-MAX(C80:G80)-MIN(C80:G80))/3,IF(K80=4,(SUM(C80:G80)-MAX(C80:G80))/3,SUM(C80:G80)/3))*B80/7.6)","v":""},null,null,0]
[{"$f":"IF(Draw!E80=0,\"\",Draw!E80)","v":""},"",null,null,null,null,null,{"$f":"IF(B81=\"\",\"\",IF(K81=5,(SUM(C81:G81)-MAX(C81:G81)-MIN(C81:G81))/3,IF(K81=4,(SUM(C81:G81)-MAX(C81:G81))/3,SUM(C81:G81)/3))*B81/7.6)","v":""},null,null,0]
[{"$f":"IF(Draw!E81=0,\"\",Draw!E81)","v":""},"",null,null,null,null,null,{"$f":"IF(B82=\"\",\"\",IF(K82=5,(SUM(C82:G82)-MAX(C82:G82)-MIN(C82:G82))/3,IF(K82=4,(SUM(C82:G82)-MAX(C82:G82))/3,SUM(C82:G82)/3))*B82/7.6)","v":""},null,null,0]
[{"$f":"IF(Draw!E82=0,\"\",Draw!E82)","v":""},"",null,null,null,null,null,{"$f":"IF(B83=\"\",\"\",IF(K83=5,(SUM(C83:G83)-MAX(C83:G83)-MIN(C83:G83))/3,IF(K83=4,(SUM(C83:G83)-MAX(C83:G83))/3,SUM(C83:G83)/3))*B83/7.6)","v":""},null,null,0]
[{"$f":"IF(Draw!E83=0,\"\",Draw!E83)","v":""},"",null,null,null,null,null,{"$f":"IF(B84=\"\",\"\",IF(K84=5,(SUM(C84:G84)-MAX(C84:G84)-MIN(C84:G84))/3,IF(K84=4,(SUM(C84:G84)-MAX(C84:G84))/3,SUM(C84:G84)/3))*B84/7.6)","v":""},null,null,0]
[{"$f":"IF(Draw!E84=0,\"\",Draw!E84)","v":""},"",null,null,null,null,null,{"$f":"IF(B85=\"\",\"\",IF(K85=5,(SUM(C85:G85)-MAX(C85:G85)-MIN(C85:G85))/3,IF(K85=4,(SUM(C85:G85)-MAX(C85:G85))/3,SUM(C85:G85)/3))*B85/7.6)","v":""},null,null,0]
[{"$f":"IF(Draw!E85=0,\"\",Draw!E85)","v":""},"",null,null,null,null,null,{"$f":"IF(B86=\"\",\"\",IF(K86=5,(SUM(C86:G86)-MAX(C86:G86)-MIN(C86:G86))/3,IF(K86=4,(SUM(C86:G86)-MAX(C86:G86))/3,SUM(C86:G86)/3))*B86/7.6)","v":""},null,null,0]
[{"$f":"IF(Draw!E86=0,\"\",Draw!E86)","v":""},"",null,null,null,null,null,{"$f":"IF(B87=\"\",\"\",IF(K87=5,(SUM(C87:G87)-MAX(C87:G87)-MIN(C87:G87))/3,IF(K87=4,(SUM(C87:G87)-MAX(C87:G87))/3,SUM(C87:G87)/3))*B87/7.6)","v":""},null,null,0]
[{"$f":"IF(Draw!E87=0,\"\",Draw!E87)","v":""},"",null,null,null,null,null,{"$f":"IF(B88=\"\",\"\",IF(K88=5,(SUM(C88:G88)-MAX(C88:G88)-MIN(C88:G88))/3,IF(K88=4,(SUM(C88:G88)-MAX(C88:G88))/3,SUM(C88:G88)/3))*B88/7.6)","v":""},null,null,0]
[{"$f":"IF(Draw!E88=0,\"\",Draw!E88)","v":""},"",null,null,null,null,null,{"$f":"IF(B89=\"\",\"\",IF(K89=5,(SUM(C89:G89)-MAX(C89:G89)-MIN(C89:G89))/3,IF(K89=4,(SUM(C89:G89)-MAX(C89:G89))/3,SUM(C89:G89)/3))*B89/7.6)","v":""},null,null,0]
[{"$f":"IF(Draw!E89=0,\"\",Draw!E89)","v":""},"",null,null,null,null,null,{"$f":"IF(B90=\"\",\"\",IF(K90=5,(SUM(C90:G90)-MAX(C90:G90)-MIN(C90:G90))/3,IF(K90=4,(SUM(C90:G90)-MAX(C90:G90))/3,SUM(C90:G90)/3))*B90/7.6)","v":""},null,null,0]
[{"$f":"IF(Draw!E90=0,\"\",Draw!E90)","v":""},"",null,null,null,null,null,{"$f":"IF(B91=\"\",\"\",IF(K91=5,(SUM(C91:G91)-MAX(C91:G91)-MIN(C91:G91))/3,IF(K91=4,(SUM(C91:G91)-MAX(C91:G91))/3,SUM(C91:G91)/3))*B91/7.6)","v":""},null,null,0]
[{"$f":"IF(Draw!E91=0,\"\",Draw!E91)","v":""},"",null,null,null,null,null,{"$f":"IF(B92=\"\",\"\",IF(K92=5,(SUM(C92:G92)-MAX(C92:G92)-MIN(C92:G92))/3,IF(K92=4,(SUM(C92:G92)-MAX(C92:G92))/3,SUM(C92:G92)/3))*B92/7.6)","v":""},null,null,0]
[{"$f":"IF(Draw!E92=0,\"\",Draw!E92)","v":""},"",null,null,null,null,null,{"$f":"IF(B93=\"\",\"\",IF(K93=5,(SUM(C93:G93)-MAX(C93:G93)-MIN(C93:G93))/3,IF(K93=4,(SUM(C93:G93)-MAX(C93:G93))/3,SUM(C93:G93)/3))*B93/7.6)","v":""},null,null,0]
[{"$f":"IF(Draw!E93=0,\"\",Draw!E93)","v":""},"",null,null,null,null,null,{"$f":"IF(B94=\"\",\"\",IF(K94=5,(SUM(C94:G94)-MAX(C94:G94)-MIN(C94:G94))/3,IF(K94=4,(SUM(C94:G94)-MAX(C94:G94))/3,SUM(C94:G94)/3))*B94/7.6)","v":""},null,null,0]
[{"$f":"IF(Draw!E94=0,\"\",Draw!E94)","v":""},"",null,null,null,null,null,{"$f":"IF(B95=\"\",\"\",IF(K95=5,(SUM(C95:G95)-MAX(C95:G95)-MIN(C95:G95))/3,IF(K95=4,(SUM(C95:G95)-MAX(C95:G95))/3,SUM(C95:G95)/3))*B95/7.6)","v":""},null,null,0]
[{"$f":"IF(Draw!E95=0,\"\",Draw!E95)","v":""},"",null,null,null,null,null,{"$f":"IF(B96=\"\",\"\",IF(K96=5,(SUM(C96:G96)-MAX(C96:G96)-MIN(C96:G96))/3,IF(K96=4,(SUM(C96:G96)-MAX(C96:G96))/3,SUM(C96:G96)/3))*B96/7.6)","v":""},null,null,0]
[{"$f":"IF(Draw!E96=0,\"\",Draw!E96)","v":""},"",null,null,null,null,null,{"$f":"IF(B97=\"\",\"\",IF(K97=5,(SUM(C97:G97)-MAX(C97:G97)-MIN(C97:G97))/3,IF(K97=4,(SUM(C97:G97)-MAX(C97:G97))/3,SUM(C97:G97)/3))*B97/7.6)","v":""},null,null,0]
[{"$f":"IF(Draw!E97=0,\"\",Draw!E97)","v":""},"",null,null,null,null,null,{"$f":"IF(B98=\"\",\"\",IF(K98=5,(SUM(C98:G98)-MAX(C98:G98)-MIN(C98:G98))/3,IF(K98=4,(SUM(C98:G98)-MAX(C98:G98))/3,SUM(C98:G98)/3))*B98/7.6)","v":""},null,null,0]
[{"$f":"IF(Draw!E98=0,\"\",Draw!E98)","v":""},"",null,null,null,null,null,{"$f":"IF(B99=\"\",\"\",IF(K99=5,(SUM(C99:G99)-MAX(C99:G99)-MIN(C99:G99))/3,IF(K99=4,(SUM(C99:G99)-MAX(C99:G99))/3,SUM(C99:G99)/3))*B99/7.6)","v":""},null,null,0]
[{"$f":"IF(Draw!E99=0,\"\",Draw!E99)","v":""},"",null,null,null,null,null,{"$f":"IF(B100=\"\",\"\",IF(K100=5,(SUM(C100:G100)-MAX(C100:G100)-MIN(C100:G100))/3,IF(K100=4,(SUM(C100:G100)-MAX(C100:G100))/3,SUM(C100:G100)/3))*B100/7.6)","v":""},null,null,0]
[{"$f":"IF(Draw!E100=0,\"\",Draw!E100)","v":""},"",null,null,null,null,null,{"$f":"IF(B101=\"\",\"\",IF(K101=5,(SUM(C101:G101)-MAX(C101:G101)-MIN(C101:G101))/3,IF(K101=4,(SUM(C101:G101)-MAX(C101:G101))/3,SUM(C101:G101)/3))*B101/7.6)","v":""},null,null,0]
[{"$f":"IF(Draw!E101=0,\"\",Draw!E101)","v":""},"",null,null,null,null,null,{"$f":"IF(B102=\"\",\"\",IF(K102=5,(SUM(C102:G102)-MAX(C102:G102)-MIN(C102:G102))/3,IF(K102=4,(SUM(C102:G102)-MAX(C102:G102))/3,SUM(C102:G102)/3))*B102/7.6)","v":""},null,null,0]
[{"$f":"IF(Draw!E102=0,\"\",Draw!E102)","v":""},"",null,null,null,null,null,{"$f":"IF(B103=\"\",\"\",IF(K103=5,(SUM(C103:G103)-MAX(C103:G103)-MIN(C103:G103))/3,IF(K103=4,(SUM(C103:G103)-MAX(C103:G103))/3,SUM(C103:G103)/3))*B103/7.6)","v":""},null,null,0]
[{"$f":"IF(Draw!E103=0,\"\",Draw!E103)","v":""},"",null,null,null,null,null,{"$f":"IF(B104=\"\",\"\",IF(K104=5,(SUM(C104:G104)-MAX(C104:G104)-MIN(C104:G104))/3,IF(K104=4,(SUM(C104:G104)-MAX(C104:G104))/3,SUM(C104:G104)/3))*B104/7.6)","v":""},null,null,0]
[{"$f":"IF(Draw!E104=0,\"\",Draw!E104)","v":""},"",null,null,null,null,null,{"$f":"IF(B105=\"\",\"\",IF(K105=5,(SUM(C105:G105)-MAX(C105:G105)-MIN(C105:G105))/3,IF(K105=4,(SUM(C105:G105)-MAX(C105:G105))/3,SUM(C105:G105)/3))*B105/7.6)","v":""},null,null,0]
[{"$f":"IF(Draw!E105=0,\"\",Draw!E105)","v":""},"",null,null,null,null,null,{"$f":"IF(B106=\"\",\"\",IF(K106=5,(SUM(C106:G106)-MAX(C106:G106)-MIN(C106:G106))/3,IF(K106=4,(SUM(C106:G106)-MAX(C106:G106))/3,SUM(C106:G106)/3))*B106/7.6)","v":""},null,null,0]
[{"$f":"IF(Draw!E106=0,\"\",Draw!E106)","v":""},"",null,null,null,null,null,{"$f":"IF(B107=\"\",\"\",IF(K107=5,(SUM(C107:G107)-MAX(C107:G107)-MIN(C107:G107))/3,IF(K107=4,(SUM(C107:G107)-MAX(C107:G107))/3,SUM(C107:G107)/3))*B107/7.6)","v":""},null,null,0]
[{"$f":"IF(Draw!E107=0,\"\",Draw!E107)","v":""},"",null,null,null,null,null,{"$f":"IF(B108=\"\",\"\",IF(K108=5,(SUM(C108:G108)-MAX(C108:G108)-MIN(C108:G108))/3,IF(K108=4,(SUM(C108:G108)-MAX(C108:G108))/3,SUM(C108:G108)/3))*B108/7.6)","v":""},null,null,0]
[{"$f":"IF(Draw!E108=0,\"\",Draw!E108)","v":""},"",null,null,null,null,null,{"$f":"IF(B109=\"\",\"\",IF(K109=5,(SUM(C109:G109)-MAX(C109:G109)-MIN(C109:G109))/3,IF(K109=4,(SUM(C109:G109)-MAX(C109:G109))/3,SUM(C109:G109)/3))*B109/7.6)","v":""},null,null,0]
[{"$f":"IF(Draw!E109=0,\"\",Draw!E109)","v":""},"",null,null,null,null,null,{"$f":"IF(B110=\"\",\"\",IF(K110=5,(SUM(C110:G110)-MAX(C110:G110)-MIN(C110:G110))/3,IF(K110=4,(SUM(C110:G110)-MAX(C110:G110))/3,SUM(C110:G110)/3))*B110/7.6)","v":""},null,null,0]
[{"$f":"IF(Draw!E110=0,\"\",Draw!E110)","v":""},"",null,null,null,null,null,{"$f":"IF(B111=\"\",\"\",IF(K111=5,(SUM(C111:G111)-MAX(C111:G111)-MIN(C111:G111))/3,IF(K111=4,(SUM(C111:G111)-MAX(C111:G111))/3,SUM(C111:G111)/3))*B111/7.6)","v":""},null,null,0]
[{"$f":"IF(Draw!E111=0,\"\",Draw!E111)","v":""},"",null,null,null,null,null,{"$f":"IF(B112=\"\",\"\",IF(K112=5,(SUM(C112:G112)-MAX(C112:G112)-MIN(C112:G112))/3,IF(K112=4,(SUM(C112:G112)-MAX(C112:G112))/3,SUM(C112:G112)/3))*B112/7.6)","v":""},null,null,0]
[{"$f":"IF(Draw!E112=0,\"\",Draw!E112)","v":""},"",null,null,null,null,null,{"$f":"IF(B113=\"\",\"\",IF(K113=5,(SUM(C113:G113)-MAX(C113:G113)-MIN(C113:G113))/3,IF(K113=4,(SUM(C113:G113)-MAX(C113:G113))/3,SUM(C113:G113)/3))*B113/7.6)","v":""},null,null,0]
[{"$f":"IF(Draw!E113=0,\"\",Draw!E113)","v":""},"",null,null,null,null,null,{"$f":"IF(B114=\"\",\"\",IF(K114=5,(SUM(C114:G114)-MAX(C114:G114)-MIN(C114:G114))/3,IF(K114=4,(SUM(C114:G114)-MAX(C114:G114))/3,SUM(C114:G114)/3))*B114/7.6)","v":""},null,null,0]
[{"$f":"IF(Draw!E114=0,\"\",Draw!E114)","v":""},"",null,null,null,null,null,{"$f":"IF(B115=\"\",\"\",IF(K115=5,(SUM(C115:G115)-MAX(C115:G115)-MIN(C115:G115))/3,IF(K115=4,(SUM(C115:G115)-MAX(C115:G115))/3,SUM(C115:G115)/3))*B115/7.6)","v":""},null,null,0]
[{"$f":"IF(Draw!E115=0,\"\",Draw!E115)","v":""},"",null,null,null,null,null,{"$f":"IF(B116=\"\",\"\",IF(K116=5,(SUM(C116:G116)-MAX(C116:G116)-MIN(C116:G116))/3,IF(K116=4,(SUM(C116:G116)-MAX(C116:G116))/3,SUM(C116:G116)/3))*B116/7.6)","v":""},null,null,0]
[{"$f":"IF(Draw!E116=0,\"\",Draw!E116)","v":""},"",null,null,null,null,null,{"$f":"IF(B117=\"\",\"\",IF(K117=5,(SUM(C117:G117)-MAX(C117:G117)-MIN(C117:G117))/3,IF(K117=4,(SUM(C117:G117)-MAX(C117:G117))/3,SUM(C117:G117)/3))*B117/7.6)","v":""},null,null,0]
[{"$f":"IF(Draw!E117=0,\"\",Draw!E117)","v":""},"",null,null,null,null,null,{"$f":"IF(B118=\"\",\"\",IF(K118=5,(SUM(C118:G118)-MAX(C118:G118)-MIN(C118:G118))/3,IF(K118=4,(SUM(C118:G118)-MAX(C118:G118))/3,SUM(C118:G118)/3))*B118/7.6)","v":""},null,null,0]
[{"$f":"IF(Draw!E118=0,\"\",Draw!E118)","v":""},"",null,null,null,null,null,{"$f":"IF(B119=\"\",\"\",IF(K119=5,(SUM(C119:G119)-MAX(C119:G119)-MIN(C119:G119))/3,IF(K119=4,(SUM(C119:G119)-MAX(C119:G119))/3,SUM(C119:G119)/3))*B119/7.6)","v":""},null,null,0]
[{"$f":"IF(Draw!E119=0,\"\",Draw!E119)","v":""},"",null,null,null,null,null,{"$f":"IF(B120=\"\",\"\",IF(K120=5,(SUM(C120:G120)-MAX(C120:G120)-MIN(C120:G120))/3,IF(K120=4,(SUM(C120:G120)-MAX(C120:G120))/3,SUM(C120:G120)/3))*B120/7.6)","v":""},null,null,0]
[{"$f":"IF(Draw!E120=0,\"\",Draw!E120)","v":""},"",null,null,null,null,null,{"$f":"IF(B121=\"\",\"\",IF(K121=5,(SUM(C121:G121)-MAX(C121:G121)-MIN(C121:G121))/3,IF(K121=4,(SUM(C121:G121)-MAX(C121:G121))/3,SUM(C121:G121)/3))*B121/7.6)","v":""},null,null,0]
[{"$f":"IF(Draw!E121=0,\"\",Draw!E121)","v":""},"",null,null,null,null,null,{"$f":"IF(B122=\"\",\"\",IF(K122=5,(SUM(C122:G122)-MAX(C122:G122)-MIN(C122:G122))/3,IF(K122=4,(SUM(C122:G122)-MAX(C122:G122))/3,SUM(C122:G122)/3))*B122/7.6)","v":""},null,null,0]
[{"$f":"IF(Draw!E122=0,\"\",Draw!E122)","v":""},"",null,null,null,null,null,{"$f":"IF(B123=\"\",\"\",IF(K123=5,(SUM(C123:G123)-MAX(C123:G123)-MIN(C123:G123))/3,IF(K123=4,(SUM(C123:G123)-MAX(C123:G123))/3,SUM(C123:G123)/3))*B123/7.6)","v":""},null,null,0]
[{"$f":"IF(Draw!E123=0,\"\",Draw!E123)","v":""},"",null,null,null,null,null,{"$f":"IF(B124=\"\",\"\",IF(K124=5,(SUM(C124:G124)-MAX(C124:G124)-MIN(C124:G124))/3,IF(K124=4,(SUM(C124:G124)-MAX(C124:G124))/3,SUM(C124:G124)/3))*B124/7.6)","v":""},null,null,0]
[{"$f":"IF(Draw!E124=0,\"\",Draw!E124)","v":""},"",null,null,null,null,null,{"$f":"IF(B125=\"\",\"\",IF(K125=5,(SUM(C125:G125)-MAX(C125:G125)-MIN(C125:G125))/3,IF(K125=4,(SUM(C125:G125)-MAX(C125:G125))/3,SUM(C125:G125)/3))*B125/7.6)","v":""},null,null,0]
[{"$f":"IF(Draw!E125=0,\"\",Draw!E125)","v":""},"",null,null,null,null,null,{"$f":"IF(B126=\"\",\"\",IF(K126=5,(SUM(C126:G126)-MAX(C126:G126)-MIN(C126:G126))/3,IF(K126=4,(SUM(C126:G126)-MAX(C126:G126))/3,SUM(C126:G126)/3))*B126/7.6)","v":""},null,null,0]
[{"$f":"IF(Draw!E126=0,\"\",Draw!E126)","v":""},"",null,null,null,null,null,{"$f":"IF(B127=\"\",\"\",IF(K127=5,(SUM(C127:G127)-MAX(C127:G127)-MIN(C127:G127))/3,IF(K127=4,(SUM(C127:G127)-MAX(C127:G127))/3,SUM(C127:G127)/3))*B127/7.6)","v":""},null,null,0]
[{"$f":"IF(Draw!E127=0,\"\",Draw!E127)","v":""},"",null,null,null,null,null,{"$f":"IF(B128=\"\",\"\",IF(K128=5,(SUM(C128:G128)-MAX(C128:G128)-MIN(C128:G128))/3,IF(K128=4,(SUM(C128:G128)-MAX(C128:G128))/3,SUM(C128:G128)/3))*B128/7.6)","v":""},null,null,0]
[{"$f":"IF(Draw!E128=0,\"\",Draw!E128)","v":""},"",null,null,null,null,null,{"$f":"IF(B129=\"\",\"\",IF(K129=5,(SUM(C129:G129)-MAX(C129:G129)-MIN(C129:G129))/3,IF(K129=4,(SUM(C129:G129)-MAX(C129:G129))/3,SUM(C129:G129)/3))*B129/7.6)","v":""},null,null,0]
[{"$f":"IF(Draw!E129=0,\"\",Draw!E129)","v":""},"",null,null,null,null,null,{"$f":"IF(B130=\"\",\"\",IF(K130=5,(SUM(C130:G130)-MAX(C130:G130)-MIN(C130:G130))/3,IF(K130=4,(SUM(C130:G130)-MAX(C130:G130))/3,SUM(C130:G130)/3))*B130/7.6)","v":""},null,null,0]
[{"$f":"IF(Draw!E130=0,\"\",Draw!E130)","v":""},"",null,null,null,null,null,{"$f":"IF(B131=\"\",\"\",IF(K131=5,(SUM(C131:G131)-MAX(C131:G131)-MIN(C131:G131))/3,IF(K131=4,(SUM(C131:G131)-MAX(C131:G131))/3,SUM(C131:G131)/3))*B131/7.6)","v":""},null,null,0]
[{"$f":"IF(Draw!E131=0,\"\",Draw!E131)","v":""},"",null,null,null,null,null,{"$f":"IF(B132=\"\",\"\",IF(K132=5,(SUM(C132:G132)-MAX(C132:G132)-MIN(C132:G132))/3,IF(K132=4,(SUM(C132:G132)-MAX(C132:G132))/3,SUM(C132:G132)/3))*B132/7.6)","v":""},null,null,{"$f":"COUNT(C132:G132)","v":0}]
[{"$f":"IF(Draw!E132=0,\"\",Draw!E132)","v":""},"",null,null,null,null,null,{"$f":"IF(B133=\"\",\"\",IF(K133=5,(SUM(C133:G133)-MAX(C133:G133)-MIN(C133:G133))/3,IF(K133=4,(SUM(C133:G133)-MAX(C133:G133))/3,SUM(C133:G133)/3))*B133/7.6)","v":""},null,null,0]
[{"$f":"IF(Draw!E133=0,\"\",Draw!E133)","v":""},"",null,null,null,null,null,{"$f":"IF(B134=\"\",\"\",IF(K134=5,(SUM(C134:G134)-MAX(C134:G134)-MIN(C134:G134))/3,IF(K134=4,(SUM(C134:G134)-MAX(C134:G134))/3,SUM(C134:G134)/3))*B134/7.6)","v":""},null,null,0]
[{"$f":"IF(Draw!E134=0,\"\",Draw!E134)","v":""},{"$f":"IF(A135=\"\",\"\",B$3)","v":""},null,null,null,null,null,{"$f":"IF(B135=\"\",\"\",IF(K135=5,(SUM(C135:G135)-MAX(C135:G135)-MIN(C135:G135))/3,IF(K135=4,(SUM(C135:G135)-MAX(C135:G135))/3,SUM(C135:G135)/3))*B135/7.6)","v":""},null,null,0]
[{"$f":"IF(Draw!E135=0,\"\",Draw!E135)","v":""},"",null,null,null,null,null,{"$f":"IF(B136=\"\",\"\",IF(K136=5,(SUM(C136:G136)-MAX(C136:G136)-MIN(C136:G136))/3,IF(K136=4,(SUM(C136:G136)-MAX(C136:G136))/3,SUM(C136:G136)/3))*B136/7.6)","v":""},null,null,0]
[{"$f":"IF(Draw!E136=0,\"\",Draw!E136)","v":""},"",null,null,null,null,null,{"$f":"IF(B137=\"\",\"\",IF(K137=5,(SUM(C137:G137)-MAX(C137:G137)-MIN(C137:G137))/3,IF(K137=4,(SUM(C137:G137)-MAX(C137:G137))/3,SUM(C137:G137)/3))*B137/7.6)","v":""},null,null,0]
[{"$f":"IF(Draw!E137=0,\"\",Draw!E137)","v":""},"",null,null,null,null,null,{"$f":"IF(B138=\"\",\"\",IF(K138=5,(SUM(C138:G138)-MAX(C138:G138)-MIN(C138:G138))/3,IF(K138=4,(SUM(C138:G138)-MAX(C138:G138))/3,SUM(C138:G138)/3))*B138/7.6)","v":""},null,null,0]
[{"$f":"IF(Draw!E138=0,\"\",Draw!E138)","v":""},"",null,null,null,null,null,{"$f":"IF(B139=\"\",\"\",IF(K139=5,(SUM(C139:G139)-MAX(C139:G139)-MIN(C139:G139))/3,IF(K139=4,(SUM(C139:G139)-MAX(C139:G139))/3,SUM(C139:G139)/3))*B139/7.6)","v":""},null,null,0]
[{"$f":"IF(Draw!E139=0,\"\",Draw!E139)","v":""},"",null,null,null,null,null,{"$f":"IF(B140=\"\",\"\",IF(K140=5,(SUM(C140:G140)-MAX(C140:G140)-MIN(C140:G140))/3,IF(K140=4,(SUM(C140:G140)-MAX(C140:G140))/3,SUM(C140:G140)/3))*B140/7.6)","v":""},null,null,0]
[{"$f":"IF(Draw!E140=0,\"\",Draw!E140)","v":""},"",null,null,null,null,null,{"$f":"IF(B141=\"\",\"\",IF(K141=5,(SUM(C141:G141)-MAX(C141:G141)-MIN(C141:G141))/3,IF(K141=4,(SUM(C141:G141)-MAX(C141:G141))/3,SUM(C141:G141)/3))*B141/7.6)","v":""},null,null,0]
[{"$f":"IF(Draw!E141=0,\"\",Draw!E141)","v":""},"",null,null,null,null,null,{"$f":"IF(B142=\"\",\"\",IF(K142=5,(SUM(C142:G142)-MAX(C142:G142)-MIN(C142:G142))/3,IF(K142=4,(SUM(C142:G142)-MAX(C142:G142))/3,SUM(C142:G142)/3))*B142/7.6)","v":""},null,null,0]
[{"$f":"IF(Draw!E142=0,\"\",Draw!E142)","v":""},"",null,null,null,null,null,{"$f":"IF(B143=\"\",\"\",IF(K143=5,(SUM(C143:G143)-MAX(C143:G143)-MIN(C143:G143))/3,IF(K143=4,(SUM(C143:G143)-MAX(C143:G143))/3,SUM(C143:G143)/3))*B143/7.6)","v":""},null,null,0]
[{"$f":"IF(Draw!E143=0,\"\",Draw!E143)","v":""},"",null,null,null,null,null,{"$f":"IF(B144=\"\",\"\",IF(K144=5,(SUM(C144:G144)-MAX(C144:G144)-MIN(C144:G144))/3,IF(K144=4,(SUM(C144:G144)-MAX(C144:G144))/3,SUM(C144:G144)/3))*B144/7.6)","v":""},null,null,0]
[{"$f":"IF(Draw!E144=0,\"\",Draw!E144)","v":""},"",null,null,null,null,null,{"$f":"IF(B145=\"\",\"\",IF(K145=5,(SUM(C145:G145)-MAX(C145:G145)-MIN(C145:G145))/3,IF(K145=4,(SUM(C145:G145)-MAX(C145:G145))/3,SUM(C145:G145)/3))*B145/7.6)","v":""},null,null,0]
[{"$f":"IF(Draw!E145=0,\"\",Draw!E145)","v":""},"",null,null,null,null,null,{"$f":"IF(B146=\"\",\"\",IF(K146=5,(SUM(C146:G146)-MAX(C146:G146)-MIN(C146:G146))/3,IF(K146=4,(SUM(C146:G146)-MAX(C146:G146))/3,SUM(C146:G146)/3))*B146/7.6)","v":""},null,null,0]
[{"$f":"IF(Draw!E146=0,\"\",Draw!E146)","v":""},"",null,null,null,null,null,{"$f":"IF(B147=\"\",\"\",IF(K147=5,(SUM(C147:G147)-MAX(C147:G147)-MIN(C147:G147))/3,IF(K147=4,(SUM(C147:G147)-MAX(C147:G147))/3,SUM(C147:G147)/3))*B147/7.6)","v":""},null,null,0]
[{"$f":"IF(Draw!E147=0,\"\",Draw!E147)","v":""},"",null,null,null,null,null,{"$f":"IF(B148=\"\",\"\",IF(K148=5,(SUM(C148:G148)-MAX(C148:G148)-MIN(C148:G148))/3,IF(K148=4,(SUM(C148:G148)-MAX(C148:G148))/3,SUM(C148:G148)/3))*B148/7.6)","v":""},null,null,0]
[{"$f":"IF(Draw!E148=0,\"\",Draw!E148)","v":""},"",null,null,null,null,null,{"$f":"IF(B149=\"\",\"\",IF(K149=5,(SUM(C149:G149)-MAX(C149:G149)-MIN(C149:G149))/3,IF(K149=4,(SUM(C149:G149)-MAX(C149:G149))/3,SUM(C149:G149)/3))*B149/7.6)","v":""},null,null,0]
[{"$f":"IF(Draw!E149=0,\"\",Draw!E149)","v":""},"",null,null,null,null,null,{"$f":"IF(B150=\"\",\"\",IF(K150=5,(SUM(C150:G150)-MAX(C150:G150)-MIN(C150:G150))/3,IF(K150=4,(SUM(C150:G150)-MAX(C150:G150))/3,SUM(C150:G150)/3))*B150/7.6)","v":""},null,null,0]

{"sheet":"Fig 3 Tower","index":3,"n_rows":150,"n_cols":11,"rows_kept":150,"cut":false,"hidden":false,"merged":[[0,2,0,6]]}
[null,"Figure #3:","349 Tower"]
["#","Degree of Difficulty","Judge 1","Judge 2","Judge 3","Judge 4","Judge 5","Score","Penalty"]
[{"$f":"IF(Draw!E2=0,\"\",Draw!E2)","v":1},1.9,58,61,61,null,null,{"$f":"IF(B3=\"\",\"\",IF(K3=5,(SUM(C3:G3)-MAX(C3:G3)-MIN(C3:G3))/3,IF(K3=4,(SUM(C3:G3)-MAX(C3:G3))/3,SUM(C3:G3)/3))*B3/7.6)","v":15},null,null,{"$f":"COUNT(C3:G3)","v":3}]
[{"$f":"IF(Draw!E3=0,\"\",Draw!E3)","v":2},{"$f":"IF(A4=\"\",\"\",B$3)","v":1.9},47,44,42,null,null,{"$f":"IF(B4=\"\",\"\",IF(K4=5,(SUM(C4:G4)-MAX(C4:G4)-MIN(C4:G4))/3,IF(K4=4,(SUM(C4:G4)-MAX(C4:G4))/3,SUM(C4:G4)/3))*B4/7.6)","v":11.083333333333334},null,null,{"$f":"COUNT(C4:G4)","v":3}]
[{"$f":"IF(Draw!E4=0,\"\",Draw!E4)","v":3},{"$f":"IF(A5=\"\",\"\",B$3)","v":1.9},55,53,56,null,null,{"$f":"IF(B5=\"\",\"\",IF(K5=5,(SUM(C5:G5)-MAX(C5:G5)-MIN(C5:G5))/3,IF(K5=4,(SUM(C5:G5)-MAX(C5:G5))/3,SUM(C5:G5)/3))*B5/7.6)","v":13.666666666666666},null,null,3]
[{"$f":"IF(Draw!E5=0,\"\",Draw!E5)","v":4},1.9,56,55,55,null,null,{"$f":"IF(B6=\"\",\"\",IF(K6=5,(SUM(C6:G6)-MAX(C6:G6)-MIN(C6:G6))/3,IF(K6=4,(SUM(C6:G6)-MAX(C6:G6))/3,SUM(C6:G6)/3))*B6/7.6)","v":13.833333333333336},null,null,3]
[{"$f":"IF(Draw!E6=0,\"\",Draw!E6)","v":5},{"$f":"IF(A7=\"\",\"\",B$3)","v":1.9},57,63,65,null,null,{"$f":"IF(B7=\"\",\"\",IF(K7=5,(SUM(C7:G7)-MAX(C7:G7)-MIN(C7:G7))/3,IF(K7=4,(SUM(C7:G7)-MAX(C7:G7))/3,SUM(C7:G7)/3))*B7/7.6)","v":15.416666666666666},null,null,3]
[{"$f":"IF(Draw!E7=0,\"\",Draw!E7)","v":6},1.9,55,61,61,null,null,{"$f":"IF(B8=\"\",\"\",IF(K8=5,(SUM(C8:G8)-MAX(C8:G8)-MIN(C8:G8))/3,IF(K8=4,(SUM(C8:G8)-MAX(C8:G8))/3,SUM(C8:G8)/3))*B8/7.6)","v":14.75},null,null,3]
[{"$f":"IF(Draw!E8=0,\"\",Draw!E8)","v":7},1.9,56,56,55,null,null,{"$f":"IF(B9=\"\",\"\",IF(K9=5,(SUM(C9:G9)-MAX(C9:G9)-MIN(C9:G9))/3,IF(K9=4,(SUM(C9:G9)-MAX(C9:G9))/3,SUM(C9:G9)/3))*B9/7.6)","v":13.916666666666666},null,null,3]
[{"$f":"IF(Draw!E9=0,\"\",Draw!E9)","v":8},1.9,59,57,55,null,null,{"$f":"IF(B10=\"\",\"\",IF(K10=5,(SUM(C10:G10)-MAX(C10:G10)-MIN(C10:G10))/3,IF(K10=4,(SUM(C10:G10)-MAX(C10:G10))/3,SUM(C10:G10)/3))*B10/7.6)","v":14.25},null,null,3]
[{"$f":"IF(Draw!E10=0,\"\",Draw!E10)","v":9},1.9,60,59,59,null,null,{"$f":"IF(B11=\"\",\"\",IF(K11=5,(SUM(C11:G11)-MAX(C11:G11)-MIN(C11:G11))/3,IF(K11=4,(SUM(C11:G11)-MAX(C11:G11))/3,SUM(C11:G11)/3))*B11/7.6)","v":14.833333333333334},null,null,3]
[{"$f":"IF(Draw!E11=0,\"\",Draw!E11)","v":10},1.9,56,56,54,null,null,{"$f":"IF(B12=\"\",\"\",IF(K12=5,(SUM(C12:G12)-MAX(C12:G12)-MIN(C12:G12))/3,IF(K12=4,(SUM(C12:G12)-MAX(C12:G12))/3,SUM(C12:G12)/3))*B12/7.6)","v":13.833333333333336},null,null,3]
[{"$f":"IF(Draw!E12=0,\"\",Draw!E12)","v":11},1.9,60,61,61,null,null,{"$f":"IF(B13=\"\",\"\",IF(K13=5,(SUM(C13:G13)-MAX(C13:G13)-MIN(C13:G13))/3,IF(K13=4,(SUM(C13:G13)-MAX(C13:G13))/3,SUM(C13:G13)/3))*B13/7.6)","v":15.166666666666666},null,null,3]
[{"$f":"IF(Draw!E13=0,\"\",Draw!E13)","v":12},1.9,54,57,56,null,null,{"$f":"IF(B14=\"\",\"\",IF(K14=5,(SUM(C14:G14)-MAX(C14:G14)-MIN(C14:G14))/3,IF(K14=4,(SUM(C14:G14)-MAX(C14:G14))/3,SUM(C14:G14)/3))*B14/7.6)","v":13.916666666666666},null,null,3]
[{"$f":"IF(Draw!E14=0,\"\",Draw!E14)","v":13},1.9,54,54,53,null,null,{"$f":"IF(B15=\"\",\"\",IF(K15=5,(SUM(C15:G15)-MAX(C15:G15)-MIN(C15:G15))/3,IF(K15=4,(SUM(C15:G15)-MAX(C15:G15))/3,SUM(C15:G15)/3))*B15/7.6)","v":13.416666666666666},null,null,3]
[{"$f":"IF(Draw!E15=0,\"\",Draw!E15)","v":14},1.9,55,56,55,null,null,{"$f":"IF(B16=\"\",\"\",IF(K16=5,(SUM(C16:G16)-MAX(C16:G16)-MIN(C16:G16))/3,IF(K16=4,(SUM(C16:G16)-MAX(C16:G16))/3,SUM(C16:G16)/3))*B16/7.6)","v":13.833333333333336},null,null,3]
[{"$f":"IF(Draw!E16=0,\"\",Draw!E16)","v":15},1.9,57,59,60,null,null,{"$f":"IF(B17=\"\",\"\",IF(K17=5,(SUM(C17:G17)-MAX(C17:G17)-MIN(C17:G17))/3,IF(K17=4,(SUM(C17:G17)-MAX(C17:G17))/3,SUM(C17:G17)/3))*B17/7.6)","v":14.666666666666666},null,null,3]
[{"$f":"IF(Draw!E17=0,\"\",Draw!E17)","v":16},1.9,56,57,59,null,null,{"$f":"IF(B18=\"\",\"\",IF(K18=5,(SUM(C18:G18)-MAX(C18:G18)-MIN(C18:G18))/3,IF(K18=4,(SUM(C18:G18)-MAX(C18:G18))/3,SUM(C18:G18)/3))*B18/7.6)","v":14.333333333333334},null,null,3]
[{"$f":"IF(Draw!E18=0,\"\",Draw!E18)","v":17},1.9,51,48,53,null,null,{"$f":"IF(B19=\"\",\"\",IF(K19=5,(SUM(C19:G19)-MAX(C19:G19)-MIN(C19:G19))/3,IF(K19=4,(SUM(C19:G19)-MAX(C19:G19))/3,SUM(C19:G19)/3))*B19/7.6)","v":12.666666666666666},null,null,3]
[{"$f":"IF(Draw!E19=0,\"\",Draw!E19)","v":18},1.9,58,59,55,null,null,{"$f":"IF(B20=\"\",\"\",IF(K20=5,(SUM(C20:G20)-MAX(C20:G20)-MIN(C20:G20))/3,IF(K20=4,(SUM(C20:G20)-MAX(C20:G20))/3,SUM(C20:G20)/3))*B20/7.6)","v":14.333333333333334},null,null,3]
[{"$f":"IF(Draw!E20=0,\"\",Draw!E20)","v":19},1.9,52,56,50,null,null,{"$f":"IF(B21=\"\",\"\",IF(K21=5,(SUM(C21:G21)-MAX(C21:G21)-MIN(C21:G21))/3,IF(K21=4,(SUM(C21:G21)-MAX(C21:G21))/3,SUM(C21:G21)/3))*B21/7.6)","v":13.166666666666666},null,null,3]
[{"$f":"IF(Draw!E21=0,\"\",Draw!E21)","v":20},1.9,64,65,68,null,null,{"$f":"IF(B22=\"\",\"\",IF(K22=5,(SUM(C22:G22)-MAX(C22:G22)-MIN(C22:G22))/3,IF(K22=4,(SUM(C22:G22)-MAX(C22:G22))/3,SUM(C22:G22)/3))*B22/7.6)","v":16.416666666666668},null,null,3]
[{"$f":"IF(Draw!E22=0,\"\",Draw!E22)","v":21},1.9,47,55,54,null,null,{"$f":"IF(B23=\"\",\"\",IF(K23=5,(SUM(C23:G23)-MAX(C23:G23)-MIN(C23:G23))/3,IF(K23=4,(SUM(C23:G23)-MAX(C23:G23))/3,SUM(C23:G23)/3))*B23/7.6)","v":13},null,null,3]
[{"$f":"IF(Draw!E23=0,\"\",Draw!E23)","v":22},1.9,53,54,56,null,null,{"$f":"IF(B24=\"\",\"\",IF(K24=5,(SUM(C24:G24)-MAX(C24:G24)-MIN(C24:G24))/3,IF(K24=4,(SUM(C24:G24)-MAX(C24:G24))/3,SUM(C24:G24)/3))*B24/7.6)","v":13.583333333333334},null,null,3]
[{"$f":"IF(Draw!E24=0,\"\",Draw!E24)","v":23},1.9,52,50,52,null,null,{"$f":"IF(B25=\"\",\"\",IF(K25=5,(SUM(C25:G25)-MAX(C25:G25)-MIN(C25:G25))/3,IF(K25=4,(SUM(C25:G25)-MAX(C25:G25))/3,SUM(C25:G25)/3))*B25/7.6)","v":12.833333333333334},null,null,3]
[{"$f":"IF(Draw!E25=0,\"\",Draw!E25)","v":24},1.9,54,48,50,null,null,{"$f":"IF(B26=\"\",\"\",IF(K26=5,(SUM(C26:G26)-MAX(C26:G26)-MIN(C26:G26))/3,IF(K26=4,(SUM(C26:G26)-MAX(C26:G26))/3,SUM(C26:G26)/3))*B26/7.6)","v":12.666666666666666},null,null,3]
[{"$f":"IF(Draw!E26=0,\"\",Draw!E26)","v":25},1.9,46,41,42,null,null,{"$f":"IF(B27=\"\",\"\",IF(K27=5,(SUM(C27:G27)-MAX(C27:G27)-MIN(C27:G27))/3,IF(K27=4,(SUM(C27:G27)-MAX(C27:G27))/3,SUM(C27:G27)/3))*B27/7.6)","v":10.75},null,null,3]
[{"$f":"IF(Draw!E27=0,\"\",Draw!E27)","v":26},1.9,54,47,51,null,null,{"$f":"IF(B28=\"\",\"\",IF(K28=5,(SUM(C28:G28)-MAX(C28:G28)-MIN(C28:G28))/3,IF(K28=4,(SUM(C28:G28)-MAX(C28:G28))/3,SUM(C28:G28)/3))*B28/7.6)","v":12.666666666666666},null,null,3]
[{"$f":"IF(Draw!E28=0,\"\",Draw!E28)","v":27},1.9,55,51,52,null,null,{"$f":"IF(B29=\"\",\"\",IF(K29=5,(SUM(C29:G29)-MAX(C29:G29)-MIN(C29:G29))/3,IF(K29=4,(SUM(C29:G29)-MAX(C29:G29))/3,SUM(C29:G29)/3))*B29/7.6)","v":13.166666666666666},null,null,3]
[{"$f":"IF(Draw!E29=0,\"\",Draw!E29)","v":28},1.9,51,46,49,null,null,{"$f":"IF(B30=\"\",\"\",IF(K30=5,(SUM(C30:G30)-MAX(C30:G30)-MIN(C30:G30))/3,IF(K30=4,(SUM(C30:G30)-MAX(C30:G30))/3,SUM(C30:G30)/3))*B30/7.6)","v":12.166666666666666},null,null,3]
[{"$f":"IF(Draw!E30=0,\"\",Draw!E30)","v":29},1.9,62,64,61,null,null,{"$f":"IF(B31=\"\",\"\",IF(K31=5,(SUM(C31:G31)-MAX(C31:G31)-MIN(C31:G31))/3,IF(K31=4,(SUM(C31:G31)-MAX(C31:G31))/3,SUM(C31:G31)/3))*B31/7.6)","v":15.583333333333334},null,null,3]
[{"$f":"IF(Draw!E31=0,\"\",Draw!E31)","v":30},1.9,47,51,50,null,null,{"$f":"IF(B32=\"\",\"\",IF(K32=5,(SUM(C32:G32)-MAX(C32:G32)-MIN(C32:G32))/3,IF(K32=4,(SUM(C32:G32)-MAX(C32:G32))/3,SUM(C32:G32)/3))*B32/7.6)","v":12.333333333333334},null,null,3]
[{"$f":"IF(Draw!E32=0,\"\",Draw!E32)","v":31},1.9,54,53,51,null,null,{"$f":"IF(B33=\"\",\"\",IF(K33=5,(SUM(C33:G33)-MAX(C33:G33)-MIN(C33:G33))/3,IF(K33=4,(SUM(C33:G33)-MAX(C33:G33))/3,SUM(C33:G33)/3))*B33/7.6)","v":13.166666666666666},null,null,3]
[{"$f":"IF(Draw!E33=0,\"\",Draw!E33)","v":32},1.9,56,54,56,null,null,{"$f":"IF(B34=\"\",\"\",IF(K34=5,(SUM(C34:G34)-MAX(C34:G34)-MIN(C34:G34))/3,IF(K34=4,(SUM(C34:G34)-MAX(C34:G34))/3,SUM(C34:G34)/3))*B34/7.6)","v":13.833333333333336},null,null,3]
[{"$f":"IF(Draw!E34=0,\"\",Draw!E34)","v":33},1.9,58,62,60,null,null,{"$f":"IF(B35=\"\",\"\",IF(K35=5,(SUM(C35:G35)-MAX(C35:G35)-MIN(C35:G35))/3,IF(K35=4,(SUM(C35:G35)-MAX(C35:G35))/3,SUM(C35:G35)/3))*B35/7.6)","v":15},null,null,3]
[{"$f":"IF(Draw!E35=0,\"\",Draw!E35)","v":34},1.9,57,57,60,null,null,{"$f":"IF(B36=\"\",\"\",IF(K36=5,(SUM(C36:G36)-MAX(C36:G36)-MIN(C36:G36))/3,IF(K36=4,(SUM(C36:G36)-MAX(C36:G36))/3,SUM(C36:G36)/3))*B36/7.6)","v":14.5},null,null,3]
[{"$f":"IF(Draw!E36=0,\"\",Draw!E36)","v":35},1.9,0,0,0,0,0,{"$f":"IF(B37=\"\",\"\",IF(K37=5,(SUM(C37:G37)-MAX(C37:G37)-MIN(C37:G37))/3,IF(K37=4,(SUM(C37:G37)-MAX(C37:G37))/3,SUM(C37:G37)/3))*B37/7.6)","v":0},null,null,5]
[{"$f":"IF(Draw!E37=0,\"\",Draw!E37)","v":36},1.9,53,49,54,null,null,{"$f":"IF(B38=\"\",\"\",IF(K38=5,(SUM(C38:G38)-MAX(C38:G38)-MIN(C38:G38))/3,IF(K38=4,(SUM(C38:G38)-MAX(C38:G38))/3,SUM(C38:G38)/3))*B38/7.6)","v":13},null,null,3]
[{"$f":"IF(Draw!E38=0,\"\",Draw!E38)","v":37},1.9,54,55,55,null,null,{"$f":"IF(B39=\"\",\"\",IF(K39=5,(SUM(C39:G39)-MAX(C39:G39)-MIN(C39:G39))/3,IF(K39=4,(SUM(C39:G39)-MAX(C39:G39))/3,SUM(C39:G39)/3))*B39/7.6)","v":13.666666666666666},null,null,3]
[{"$f":"IF(Draw!E39=0,\"\",Draw!E39)","v":38},1.9,55,56,60,null,null,{"$f":"IF(B40=\"\",\"\",IF(K40=5,(SUM(C40:G40)-MAX(C40:G40)-MIN(C40:G40))/3,IF(K40=4,(SUM(C40:G40)-MAX(C40:G40))/3,SUM(C40:G40)/3))*B40/7.6)","v":14.25},null,null,3]
[{"$f":"IF(Draw!E40=0,\"\",Draw!E40)","v":39},1.9,0,0,0,0,0,{"$f":"IF(B41=\"\",\"\",IF(K41=5,(SUM(C41:G41)-MAX(C41:G41)-MIN(C41:G41))/3,IF(K41=4,(SUM(C41:G41)-MAX(C41:G41))/3,SUM(C41:G41)/3))*B41/7.6)","v":0},null,null,5]
[{"$f":"IF(Draw!E41=0,\"\",Draw!E41)","v":40},1.9,51,53,52,null,null,{"$f":"IF(B42=\"\",\"\",IF(K42=5,(SUM(C42:G42)-MAX(C42:G42)-MIN(C42:G42))/3,IF(K42=4,(SUM(C42:G42)-MAX(C42:G42))/3,SUM(C42:G42)/3))*B42/7.6)","v":13},null,null,3]
[{"$f":"IF(Draw!E42=0,\"\",Draw!E42)","v":41},1.9,48,52,53,null,null,{"$f":"IF(B43=\"\",\"\",IF(K43=5,(SUM(C43:G43)-MAX(C43:G43)-MIN(C43:G43))/3,IF(K43=4,(SUM(C43:G43)-MAX(C43:G43))/3,SUM(C43:G43)/3))*B43/7.6)","v":12.75},null,null,3]
[{"$f":"IF(Draw!E43=0,\"\",Draw!E43)","v":42},1.9,54,56,59,null,null,{"$f":"IF(B44=\"\",\"\",IF(K44=5,(SUM(C44:G44)-MAX(C44:G44)-MIN(C44:G44))/3,IF(K44=4,(SUM(C44:G44)-MAX(C44:G44))/3,SUM(C44:G44)/3))*B44/7.6)","v":14.083333333333334},null,null,3]
[{"$f":"IF(Draw!E44=0,\"\",Draw!E44)","v":43},1.9,50,47,46,null,null,{"$f":"IF(B45=\"\",\"\",IF(K45=5,(SUM(C45:G45)-MAX(C45:G45)-MIN(C45:G45))/3,IF(K45=4,(SUM(C45:G45)-MAX(C45:G45))/3,SUM(C45:G45)/3))*B45/7.6)","v":11.916666666666666},null,null,3]
[{"$f":"IF(Draw!E45=0,\"\",Draw!E45)","v":44},1.9,56,58,59,null,null,{"$f":"IF(B46=\"\",\"\",IF(K46=5,(SUM(C46:G46)-MAX(C46:G46)-MIN(C46:G46))/3,IF(K46=4,(SUM(C46:G46)-MAX(C46:G46))/3,SUM(C46:G46)/3))*B46/7.6)","v":14.416666666666666},null,null,3]
[{"$f":"IF(Draw!E46=0,\"\",Draw!E46)","v":45},1.9,49,46,46,null,null,{"$f":"IF(B47=\"\",\"\",IF(K47=5,(SUM(C47:G47)-MAX(C47:G47)-MIN(C47:G47))/3,IF(K47=4,(SUM(C47:G47)-MAX(C47:G47))/3,SUM(C47:G47)/3))*B47/7.6)","v":11.75},null,null,3]
[{"$f":"IF(Draw!E47=0,\"\",Draw!E47)","v":46},1.9,53,57,58,null,null,{"$f":"IF(B48=\"\",\"\",IF(K48=5,(SUM(C48:G48)-MAX(C48:G48)-MIN(C48:G48))/3,IF(K48=4,(SUM(C48:G48)-MAX(C48:G48))/3,SUM(C48:G48)/3))*B48/7.6)","v":14},null,null,3]
[{"$f":"IF(Draw!E48=0,\"\",Draw!E48)","v":47},1.9,52,54,54,null,null,{"$f":"IF(B49=\"\",\"\",IF(K49=5,(SUM(C49:G49)-MAX(C49:G49)-MIN(C49:G49))/3,IF(K49=4,(SUM(C49:G49)-MAX(C49:G49))/3,SUM(C49:G49)/3))*B49/7.6)","v":13.333333333333334},null,null,3]
[{"$f":"IF(Draw!E49=0,\"\",Draw!E49)","v":48},1.9,57,57,58,null,null,{"$f":"IF(B50=\"\",\"\",IF(K50=5,(SUM(C50:G50)-MAX(C50:G50)-MIN(C50:G50))/3,IF(K50=4,(SUM(C50:G50)-MAX(C50:G50))/3,SUM(C50:G50)/3))*B50/7.6)","v":14.333333333333334},null,null,3]
[{"$f":"IF(Draw!E50=0,\"\",Draw!E50)","v":49},1.9,0,0,0,0,0,{"$f":"IF(B51=\"\",\"\",IF(K51=5,(SUM(C51:G51)-MAX(C51:G51)-MIN(C51:G51))/3,IF(K51=4,(SUM(C51:G51)-MAX(C51:G51))/3,SUM(C51:G51)/3))*B51/7.6)","v":0},null,null,5]
[{"$f":"IF(Draw!E51=0,\"\",Draw!E51)","v":50},1.9,48,50,47,null,null,{"$f":"IF(B52=\"\",\"\",IF(K52=5,(SUM(C52:G52)-MAX(C52:G52)-MIN(C52:G52))/3,IF(K52=4,(SUM(C52:G52)-MAX(C52:G52))/3,SUM(C52:G52)/3))*B52/7.6)","v":12.083333333333334},null,null,3]
[{"$f":"IF(Draw!E52=0,\"\",Draw!E52)","v":51},1.9,54,50,53,null,null,{"$f":"IF(B53=\"\",\"\",IF(K53=5,(SUM(C53:G53)-MAX(C53:G53)-MIN(C53:G53))/3,IF(K53=4,(SUM(C53:G53)-MAX(C53:G53))/3,SUM(C53:G53)/3))*B53/7.6)","v":13.083333333333334},null,null,3]
[{"$f":"IF(Draw!E53=0,\"\",Draw!E53)","v":52},1.9,58,56,60,null,null,{"$f":"IF(B54=\"\",\"\",IF(K54=5,(SUM(C54:G54)-MAX(C54:G54)-MIN(C54:G54))/3,IF(K54=4,(SUM(C54:G54)-MAX(C54:G54))/3,SUM(C54:G54)/3))*B54/7.6)","v":14.5},null,null,3]
[{"$f":"IF(Draw!E54=0,\"\",Draw!E54)","v":53},1.9,51,48,53,null,null,{"$f":"IF(B55=\"\",\"\",IF(K55=5,(SUM(C55:G55)-MAX(C55:G55)-MIN(C55:G55))/3,IF(K55=4,(SUM(C55:G55)-MAX(C55:G55))/3,SUM(C55:G55)/3))*B55/7.6)","v":12.666666666666666},null,null,3]
[{"$f":"IF(Draw!E55=0,\"\",Draw!E55)","v":54},1.9,59,55,59,null,null,{"$f":"IF(B56=\"\",\"\",IF(K56=5,(SUM(C56:G56)-MAX(C56:G56)-MIN(C56:G56))/3,IF(K56=4,(SUM(C56:G56)-MAX(C56:G56))/3,SUM(C56:G56)/3))*B56/7.6)","v":14.416666666666666},null,null,3]
[{"$f":"IF(Draw!E56=0,\"\",Draw!E56)","v":55},1.9,63,62,67,null,null,{"$f":"IF(B57=\"\",\"\",IF(K57=5,(SUM(C57:G57)-MAX(C57:G57)-MIN(C57:G57))/3,IF(K57=4,(SUM(C57:G57)-MAX(C57:G57))/3,SUM(C57:G57)/3))*B57/7.6)","v":16},null,null,3]
[{"$f":"IF(Draw!E57=0,\"\",Draw!E57)","v":56},1.9,60,65,66,null,null,{"$f":"IF(B58=\"\",\"\",IF(K58=5,(SUM(C58:G58)-MAX(C58:G58)-MIN(C58:G58))/3,IF(K58=4,(SUM(C58:G58)-MAX(C58:G58))/3,SUM(C58:G58)/3))*B58/7.6)","v":15.916666666666666},null,null,3]
[{"$f":"IF(Draw!E58=0,\"\",Draw!E58)","v":57},1.9,48,46,47,null,null,{"$f":"IF(B59=\"\",\"\",IF(K59=5,(SUM(C59:G59)-MAX(C59:G59)-MIN(C59:G59))/3,IF(K59=4,(SUM(C59:G59)-MAX(C59:G59))/3,SUM(C59:G59)/3))*B59/7.6)","v":11.75},null,null,3]
[{"$f":"IF(Draw!E59=0,\"\",Draw!E59)","v":58},1.9,57,57,60,null,null,{"$f":"IF(B60=\"\",\"\",IF(K60=5,(SUM(C60:G60)-MAX(C60:G60)-MIN(C60:G60))/3,IF(K60=4,(SUM(C60:G60)-MAX(C60:G60))/3,SUM(C60:G60)/3))*B60/7.6)","v":14.5},null,null,3]
[{"$f":"IF(Draw!E60=0,\"\",Draw!E60)","v":""},"",null,null,null,null,null,{"$f":"IF(B61=\"\",\"\",IF(K61=5,(SUM(C61:G61)-MAX(C61:G61)-MIN(C61:G61))/3,IF(K61=4,(SUM(C61:G61)-MAX(C61:G61))/3,SUM(C61:G61)/3))*B61/7.6)","v":""},null,null,0]
[{"$f":"IF(Draw!E61=0,\"\",Draw!E61)","v":""},"",null,null,null,null,null,{"$f":"IF(B62=\"\",\"\",IF(K62=5,(SUM(C62:G62)-MAX(C62:G62)-MIN(C62:G62))/3,IF(K62=4,(SUM(C62:G62)-MAX(C62:G62))/3,SUM(C62:G62)/3))*B62/7.6)","v":""},null,null,0]
[{"$f":"IF(Draw!E62=0,\"\",Draw!E62)","v":""},"",null,null,null,null,null,{"$f":"IF(B63=\"\",\"\",IF(K63=5,(SUM(C63:G63)-MAX(C63:G63)-MIN(C63:G63))/3,IF(K63=4,(SUM(C63:G63)-MAX(C63:G63))/3,SUM(C63:G63)/3))*B63/7.6)","v":""},null,null,0]
[{"$f":"IF(Draw!E63=0,\"\",Draw!E63)","v":""},"",null,null,null,null,null,{"$f":"IF(B64=\"\",\"\",IF(K64=5,(SUM(C64:G64)-MAX(C64:G64)-MIN(C64:G64))/3,IF(K64=4,(SUM(C64:G64)-MAX(C64:G64))/3,SUM(C64:G64)/3))*B64/7.6)","v":""},null,null,0]
[{"$f":"IF(Draw!E64=0,\"\",Draw!E64)","v":""},"",null,null,null,null,null,{"$f":"IF(B65=\"\",\"\",IF(K65=5,(SUM(C65:G65)-MAX(C65:G65)-MIN(C65:G65))/3,IF(K65=4,(SUM(C65:G65)-MAX(C65:G65))/3,SUM(C65:G65)/3))*B65/7.6)","v":""},null,null,0]
[{"$f":"IF(Draw!E65=0,\"\",Draw!E65)","v":""},"",null,null,null,null,null,{"$f":"IF(B66=\"\",\"\",IF(K66=5,(SUM(C66:G66)-MAX(C66:G66)-MIN(C66:G66))/3,IF(K66=4,(SUM(C66:G66)-MAX(C66:G66))/3,SUM(C66:G66)/3))*B66/7.6)","v":""},null,null,0]
[{"$f":"IF(Draw!E66=0,\"\",Draw!E66)","v":""},"",null,null,null,null,null,{"$f":"IF(B67=\"\",\"\",IF(K67=5,(SUM(C67:G67)-MAX(C67:G67)-MIN(C67:G67))/3,IF(K67=4,(SUM(C67:G67)-MAX(C67:G67))/3,SUM(C67:G67)/3))*B67/7.6)","v":""},null,null,0]
[{"$f":"IF(Draw!E67=0,\"\",Draw!E67)","v":""},"",null,null,null,null,null,{"$f":"IF(B68=\"\",\"\",IF(K68=5,(SUM(C68:G68)-MAX(C68:G68)-MIN(C68:G68))/3,IF(K68=4,(SUM(C68:G68)-MAX(C68:G68))/3,SUM(C68:G68)/3))*B68/7.6)","v":""},null,null,{"$f":"COUNT(C68:G68)","v":0}]
[{"$f":"IF(Draw!E68=0,\"\",Draw!E68)","v":""},"",null,null,null,null,null,{"$f":"IF(B69=\"\",\"\",IF(K69=5,(SUM(C69:G69)-MAX(C69:G69)-MIN(C69:G69))/3,IF(K69=4,(SUM(C69:G69)-MAX(C69:G69))/3,SUM(C69:G69)/3))*B69/7.6)","v":""},null,null,0]
[{"$f":"IF(Draw!E69=0,\"\",Draw!E69)","v":""},"",null,null,null,null,null,{"$f":"IF(B70=\"\",\"\",IF(K70=5,(SUM(C70:G70)-MAX(C70:G70)-MIN(C70:G70))/3,IF(K70=4,(SUM(C70:G70)-MAX(C70:G70))/3,SUM(C70:G70)/3))*B70/7.6)","v":""},null,null,0]
[{"$f":"IF(Draw!E70=0,\"\",Draw!E70)","v":""},{"$f":"IF(A71=\"\",\"\",B$3)","v":""},null,null,null,null,null,{"$f":"IF(B71=\"\",\"\",IF(K71=5,(SUM(C71:G71)-MAX(C71:G71)-MIN(C71:G71))/3,IF(K71=4,(SUM(C71:G71)-MAX(C71:G71))/3,SUM(C71:G71)/3))*B71/7.6)","v":""},null,null,0]
[{"$f":"IF(Draw!E71=0,\"\",Draw!E71)","v":""},"",null,null,null,null,null,{"$f":"IF(B72=\"\",\"\",IF(K72=5,(SUM(C72:G72)-MAX(C72:G72)-MIN(C72:G72))/3,IF(K72=4,(SUM(C72:G72)-MAX(C72:G72))/3,SUM(C72:G72)/3))*B72/7.6)","v":""},null,null,0]
[{"$f":"IF(Draw!E72=0,\"\",Draw!E72)","v":""},"",null,null,null,null,null,{"$f":"IF(B73=\"\",\"\",IF(K73=5,(SUM(C73:G73)-MAX(C73:G73)-MIN(C73:G73))/3,IF(K73=4,(SUM(C73:G73)-MAX(C73:G73))/3,SUM(C73:G73)/3))*B73/7.6)","v":""},null,null,0]
[{"$f":"IF(Draw!E73=0,\"\",Draw!E73)","v":""},"",null,null,null,null,null,{"$f":"IF(B74=\"\",\"\",IF(K74=5,(SUM(C74:G74)-MAX(C74:G74)-MIN(C74:G74))/3,IF(K74=4,(SUM(C74:G74)-MAX(C74:G74))/3,SUM(C74:G74)/3))*B74/7.6)","v":""},null,null,0]
[{"$f":"IF(Draw!E74=0,\"\",Draw!E74)","v":""},"",null,null,null,null,null,{"$f":"IF(B75=\"\",\"\",IF(K75=5,(SUM(C75:G75)-MAX(C75:G75)-MIN(C75:G75))/3,IF(K75=4,(SUM(C75:G75)-MAX(C75:G75))/3,SUM(C75:G75)/3))*B75/7.6)","v":""},null,null,0]
[{"$f":"IF(Draw!E75=0,\"\",Draw!E75)","v":""},"",null,null,null,null,null,{"$f":"IF(B76=\"\",\"\",IF(K76=5,(SUM(C76:G76)-MAX(C76:G76)-MIN(C76:G76))/3,IF(K76=4,(SUM(C76:G76)-MAX(C76:G76))/3,SUM(C76:G76)/3))*B76/7.6)","v":""},null,null,0]
[{"$f":"IF(Draw!E76=0,\"\",Draw!E76)","v":""},"",null,null,null,null,null,{"$f":"IF(B77=\"\",\"\",IF(K77=5,(SUM(C77:G77)-MAX(C77:G77)-MIN(C77:G77))/3,IF(K77=4,(SUM(C77:G77)-MAX(C77:G77))/3,SUM(C77:G77)/3))*B77/7.6)","v":""},null,null,0]
[{"$f":"IF(Draw!E77=0,\"\",Draw!E77)","v":""},"",null,null,null,null,null,{"$f":"IF(B78=\"\",\"\",IF(K78=5,(SUM(C78:G78)-MAX(C78:G78)-MIN(C78:G78))/3,IF(K78=4,(SUM(C78:G78)-MAX(C78:G78))/3,SUM(C78:G78)/3))*B78/7.6)","v":""},null,null,0]
[{"$f":"IF(Draw!E78=0,\"\",Draw!E78)","v":""},"",null,null,null,null,null,{"$f":"IF(B79=\"\",\"\",IF(K79=5,(SUM(C79:G79)-MAX(C79:G79)-MIN(C79:G79))/3,IF(K79=4,(SUM(C79:G79)-MAX(C79:G79))/3,SUM(C79:G79)/3))*B79/7.6)","v":""},null,null,0]
[{"$f":"IF(Draw!E79=0,\"\",Draw!E79)","v":""},"",null,null,null,null,null,{"$f":"IF(B80=\"\",\"\",IF(K80=5,(SUM(C80:G80)-MAX(C80:G80)-MIN(C80:G80))/3,IF(K80=4,(SUM(C80:G80)-MAX(C80:G80))/3,SUM(C80:G80)/3))*B80/7.6)","v":""},null,null,0]
[{"$f":"IF(Draw!E80=0,\"\",Draw!E80)","v":""},"",null,null,null,null,null,{"$f":"IF(B81=\"\",\"\",IF(K81=5,(SUM(C81:G81)-MAX(C81:G81)-MIN(C81:G81))/3,IF(K81=4,(SUM(C81:G81)-MAX(C81:G81))/3,SUM(C81:G81)/3))*B81/7.6)","v":""},null,null,0]
[{"$f":"IF(Draw!E81=0,\"\",Draw!E81)","v":""},"",null,null,null,null,null,{"$f":"IF(B82=\"\",\"\",IF(K82=5,(SUM(C82:G82)-MAX(C82:G82)-MIN(C82:G82))/3,IF(K82=4,(SUM(C82:G82)-MAX(C82:G82))/3,SUM(C82:G82)/3))*B82/7.6)","v":""},null,null,0]
[{"$f":"IF(Draw!E82=0,\"\",Draw!E82)","v":""},"",null,null,null,null,null,{"$f":"IF(B83=\"\",\"\",IF(K83=5,(SUM(C83:G83)-MAX(C83:G83)-MIN(C83:G83))/3,IF(K83=4,(SUM(C83:G83)-MAX(C83:G83))/3,SUM(C83:G83)/3))*B83/7.6)","v":""},null,null,0]
[{"$f":"IF(Draw!E83=0,\"\",Draw!E83)","v":""},"",null,null,null,null,null,{"$f":"IF(B84=\"\",\"\",IF(K84=5,(SUM(C84:G84)-MAX(C84:G84)-MIN(C84:G84))/3,IF(K84=4,(SUM(C84:G84)-MAX(C84:G84))/3,SUM(C84:G84)/3))*B84/7.6)","v":""},null,null,0]
[{"$f":"IF(Draw!E84=0,\"\",Draw!E84)","v":""},"",null,null,null,null,null,{"$f":"IF(B85=\"\",\"\",IF(K85=5,(SUM(C85:G85)-MAX(C85:G85)-MIN(C85:G85))/3,IF(K85=4,(SUM(C85:G85)-MAX(C85:G85))/3,SUM(C85:G85)/3))*B85/7.6)","v":""},null,null,0]
[{"$f":"IF(Draw!E85=0,\"\",Draw!E85)","v":""},"",null,null,null,null,null,{"$f":"IF(B86=\"\",\"\",IF(K86=5,(SUM(C86:G86)-MAX(C86:G86)-MIN(C86:G86))/3,IF(K86=4,(SUM(C86:G86)-MAX(C86:G86))/3,SUM(C86:G86)/3))*B86/7.6)","v":""},null,null,0]
[{"$f":"IF(Draw!E86=0,\"\",Draw!E86)","v":""},"",null,null,null,null,null,{"$f":"IF(B87=\"\",\"\",IF(K87=5,(SUM(C87:G87)-MAX(C87:G87)-MIN(C87:G87))/3,IF(K87=4,(SUM(C87:G87)-MAX(C87:G87))/3,SUM(C87:G87)/3))*B87/7.6)","v":""},null,null,0]
[{"$f":"IF(Draw!E87=0,\"\",Draw!E87)","v":""},"",null,null,null,null,null,{"$f":"IF(B88=\"\",\"\",IF(K88=5,(SUM(C88:G88)-MAX(C88:G88)-MIN(C88:G88))/3,IF(K88=4,(SUM(C88:G88)-MAX(C88:G88))/3,SUM(C88:G88)/3))*B88/7.6)","v":""},null,null,0]
[{"$f":"IF(Draw!E88=0,\"\",Draw!E88)","v":""},"",null,null,null,null,null,{"$f":"IF(B89=\"\",\"\",IF(K89=5,(SUM(C89:G89)-MAX(C89:G89)-MIN(C89:G89))/3,IF(K89=4,(SUM(C89:G89)-MAX(C89:G89))/3,SUM(C89:G89)/3))*B89/7.6)","v":""},null,null,0]
[{"$f":"IF(Draw!E89=0,\"\",Draw!E89)","v":""},"",null,null,null,null,null,{"$f":"IF(B90=\"\",\"\",IF(K90=5,(SUM(C90:G90)-MAX(C90:G90)-MIN(C90:G90))/3,IF(K90=4,(SUM(C90:G90)-MAX(C90:G90))/3,SUM(C90:G90)/3))*B90/7.6)","v":""},null,null,0]
[{"$f":"IF(Draw!E90=0,\"\",Draw!E90)","v":""},"",null,null,null,null,null,{"$f":"IF(B91=\"\",\"\",IF(K91=5,(SUM(C91:G91)-MAX(C91:G91)-MIN(C91:G91))/3,IF(K91=4,(SUM(C91:G91)-MAX(C91:G91))/3,SUM(C91:G91)/3))*B91/7.6)","v":""},null,null,0]
[{"$f":"IF(Draw!E91=0,\"\",Draw!E91)","v":""},"",null,null,null,null,null,{"$f":"IF(B92=\"\",\"\",IF(K92=5,(SUM(C92:G92)-MAX(C92:G92)-MIN(C92:G92))/3,IF(K92=4,(SUM(C92:G92)-MAX(C92:G92))/3,SUM(C92:G92)/3))*B92/7.6)","v":""},null,null,0]
[{"$f":"IF(Draw!E92=0,\"\",Draw!E92)","v":""},"",null,null,null,null,null,{"$f":"IF(B93=\"\",\"\",IF(K93=5,(SUM(C93:G93)-MAX(C93:G93)-MIN(C93:G93))/3,IF(K93=4,(SUM(C93:G93)-MAX(C93:G93))/3,SUM(C93:G93)/3))*B93/7.6)","v":""},null,null,0]
[{"$f":"IF(Draw!E93=0,\"\",Draw!E93)","v":""},"",null,null,null,null,null,{"$f":"IF(B94=\"\",\"\",IF(K94=5,(SUM(C94:G94)-MAX(C94:G94)-MIN(C94:G94))/3,IF(K94=4,(SUM(C94:G94)-MAX(C94:G94))/3,SUM(C94:G94)/3))*B94/7.6)","v":""},null,null,0]
[{"$f":"IF(Draw!E94=0,\"\",Draw!E94)","v":""},"",null,null,null,null,null,{"$f":"IF(B95=\"\",\"\",IF(K95=5,(SUM(C95:G95)-MAX(C95:G95)-MIN(C95:G95))/3,IF(K95=4,(SUM(C95:G95)-MAX(C95:G95))/3,SUM(C95:G95)/3))*B95/7.6)","v":""},null,null,0]
[{"$f":"IF(Draw!E95=0,\"\",Draw!E95)","v":""},"",null,null,null,null,null,{"$f":"IF(B96=\"\",\"\",IF(K96=5,(SUM(C96:G96)-MAX(C96:G96)-MIN(C96:G96))/3,IF(K96=4,(SUM(C96:G96)-MAX(C96:G96))/3,SUM(C96:G96)/3))*B96/7.6)","v":""},null,null,0]
[{"$f":"IF(Draw!E96=0,\"\",Draw!E96)","v":""},"",null,null,null,null,null,{"$f":"IF(B97=\"\",\"\",IF(K97=5,(SUM(C97:G97)-MAX(C97:G97)-MIN(C97:G97))/3,IF(K97=4,(SUM(C97:G97)-MAX(C97:G97))/3,SUM(C97:G97)/3))*B97/7.6)","v":""},null,null,0]
[{"$f":"IF(Draw!E97=0,\"\",Draw!E97)","v":""},"",null,null,null,null,null,{"$f":"IF(B98=\"\",\"\",IF(K98=5,(SUM(C98:G98)-MAX(C98:G98)-MIN(C98:G98))/3,IF(K98=4,(SUM(C98:G98)-MAX(C98:G98))/3,SUM(C98:G98)/3))*B98/7.6)","v":""},null,null,0]
[{"$f":"IF(Draw!E98=0,\"\",Draw!E98)","v":""},"",null,null,null,null,null,{"$f":"IF(B99=\"\",\"\",IF(K99=5,(SUM(C99:G99)-MAX(C99:G99)-MIN(C99:G99))/3,IF(K99=4,(SUM(C99:G99)-MAX(C99:G99))/3,SUM(C99:G99)/3))*B99/7.6)","v":""},null,null,0]
[{"$f":"IF(Draw!E99=0,\"\",Draw!E99)","v":""},"",null,null,null,null,null,{"$f":"IF(B100=\"\",\"\",IF(K100=5,(SUM(C100:G100)-MAX(C100:G100)-MIN(C100:G100))/3,IF(K100=4,(SUM(C100:G100)-MAX(C100:G100))/3,SUM(C100:G100)/3))*B100/7.6)","v":""},null,null,0]
[{"$f":"IF(Draw!E100=0,\"\",Draw!E100)","v":""},"",null,null,null,null,null,{"$f":"IF(B101=\"\",\"\",IF(K101=5,(SUM(C101:G101)-MAX(C101:G101)-MIN(C101:G101))/3,IF(K101=4,(SUM(C101:G101)-MAX(C101:G101))/3,SUM(C101:G101)/3))*B101/7.6)","v":""},null,null,0]
[{"$f":"IF(Draw!E101=0,\"\",Draw!E101)","v":""},"",null,null,null,null,null,{"$f":"IF(B102=\"\",\"\",IF(K102=5,(SUM(C102:G102)-MAX(C102:G102)-MIN(C102:G102))/3,IF(K102=4,(SUM(C102:G102)-MAX(C102:G102))/3,SUM(C102:G102)/3))*B102/7.6)","v":""},null,null,0]
[{"$f":"IF(Draw!E102=0,\"\",Draw!E102)","v":""},"",null,null,null,null,null,{"$f":"IF(B103=\"\",\"\",IF(K103=5,(SUM(C103:G103)-MAX(C103:G103)-MIN(C103:G103))/3,IF(K103=4,(SUM(C103:G103)-MAX(C103:G103))/3,SUM(C103:G103)/3))*B103/7.6)","v":""},null,null,0]
[{"$f":"IF(Draw!E103=0,\"\",Draw!E103)","v":""},"",null,null,null,null,null,{"$f":"IF(B104=\"\",\"\",IF(K104=5,(SUM(C104:G104)-MAX(C104:G104)-MIN(C104:G104))/3,IF(K104=4,(SUM(C104:G104)-MAX(C104:G104))/3,SUM(C104:G104)/3))*B104/7.6)","v":""},null,null,0]
[{"$f":"IF(Draw!E104=0,\"\",Draw!E104)","v":""},"",null,null,null,null,null,{"$f":"IF(B105=\"\",\"\",IF(K105=5,(SUM(C105:G105)-MAX(C105:G105)-MIN(C105:G105))/3,IF(K105=4,(SUM(C105:G105)-MAX(C105:G105))/3,SUM(C105:G105)/3))*B105/7.6)","v":""},null,null,0]
[{"$f":"IF(Draw!E105=0,\"\",Draw!E105)","v":""},"",null,null,null,null,null,{"$f":"IF(B106=\"\",\"\",IF(K106=5,(SUM(C106:G106)-MAX(C106:G106)-MIN(C106:G106))/3,IF(K106=4,(SUM(C106:G106)-MAX(C106:G106))/3,SUM(C106:G106)/3))*B106/7.6)","v":""},null,null,0]
[{"$f":"IF(Draw!E106=0,\"\",Draw!E106)","v":""},"",null,null,null,null,null,{"$f":"IF(B107=\"\",\"\",IF(K107=5,(SUM(C107:G107)-MAX(C107:G107)-MIN(C107:G107))/3,IF(K107=4,(SUM(C107:G107)-MAX(C107:G107))/3,SUM(C107:G107)/3))*B107/7.6)","v":""},null,null,0]
[{"$f":"IF(Draw!E107=0,\"\",Draw!E107)","v":""},"",null,null,null,null,null,{"$f":"IF(B108=\"\",\"\",IF(K108=5,(SUM(C108:G108)-MAX(C108:G108)-MIN(C108:G108))/3,IF(K108=4,(SUM(C108:G108)-MAX(C108:G108))/3,SUM(C108:G108)/3))*B108/7.6)","v":""},null,null,0]
[{"$f":"IF(Draw!E108=0,\"\",Draw!E108)","v":""},"",null,null,null,null,null,{"$f":"IF(B109=\"\",\"\",IF(K109=5,(SUM(C109:G109)-MAX(C109:G109)-MIN(C109:G109))/3,IF(K109=4,(SUM(C109:G109)-MAX(C109:G109))/3,SUM(C109:G109)/3))*B109/7.6)","v":""},null,null,0]
[{"$f":"IF(Draw!E109=0,\"\",Draw!E109)","v":""},"",null,null,null,null,null,{"$f":"IF(B110=\"\",\"\",IF(K110=5,(SUM(C110:G110)-MAX(C110:G110)-MIN(C110:G110))/3,IF(K110=4,(SUM(C110:G110)-MAX(C110:G110))/3,SUM(C110:G110)/3))*B110/7.6)","v":""},null,null,0]
[{"$f":"IF(Draw!E110=0,\"\",Draw!E110)","v":""},"",null,null,null,null,null,{"$f":"IF(B111=\"\",\"\",IF(K111=5,(SUM(C111:G111)-MAX(C111:G111)-MIN(C111:G111))/3,IF(K111=4,(SUM(C111:G111)-MAX(C111:G111))/3,SUM(C111:G111)/3))*B111/7.6)","v":""},null,null,0]
[{"$f":"IF(Draw!E111=0,\"\",Draw!E111)","v":""},"",null,null,null,null,null,{"$f":"IF(B112=\"\",\"\",IF(K112=5,(SUM(C112:G112)-MAX(C112:G112)-MIN(C112:G112))/3,IF(K112=4,(SUM(C112:G112)-MAX(C112:G112))/3,SUM(C112:G112)/3))*B112/7.6)","v":""},null,null,0]
[{"$f":"IF(Draw!E112=0,\"\",Draw!E112)","v":""},"",null,null,null,null,null,{"$f":"IF(B113=\"\",\"\",IF(K113=5,(SUM(C113:G113)-MAX(C113:G113)-MIN(C113:G113))/3,IF(K113=4,(SUM(C113:G113)-MAX(C113:G113))/3,SUM(C113:G113)/3))*B113/7.6)","v":""},null,null,0]
[{"$f":"IF(Draw!E113=0,\"\",Draw!E113)","v":""},"",null,null,null,null,null,{"$f":"IF(B114=\"\",\"\",IF(K114=5,(SUM(C114:G114)-MAX(C114:G114)-MIN(C114:G114))/3,IF(K114=4,(SUM(C114:G114)-MAX(C114:G114))/3,SUM(C114:G114)/3))*B114/7.6)","v":""},null,null,0]
[{"$f":"IF(Draw!E114=0,\"\",Draw!E114)","v":""},"",null,null,null,null,null,{"$f":"IF(B115=\"\",\"\",IF(K115=5,(SUM(C115:G115)-MAX(C115:G115)-MIN(C115:G115))/3,IF(K115=4,(SUM(C115:G115)-MAX(C115:G115))/3,SUM(C115:G115)/3))*B115/7.6)","v":""},null,null,0]
[{"$f":"IF(Draw!E115=0,\"\",Draw!E115)","v":""},"",null,null,null,null,null,{"$f":"IF(B116=\"\",\"\",IF(K116=5,(SUM(C116:G116)-MAX(C116:G116)-MIN(C116:G116))/3,IF(K116=4,(SUM(C116:G116)-MAX(C116:G116))/3,SUM(C116:G116)/3))*B116/7.6)","v":""},null,null,0]
[{"$f":"IF(Draw!E116=0,\"\",Draw!E116)","v":""},"",null,null,null,null,null,{"$f":"IF(B117=\"\",\"\",IF(K117=5,(SUM(C117:G117)-MAX(C117:G117)-MIN(C117:G117))/3,IF(K117=4,(SUM(C117:G117)-MAX(C117:G117))/3,SUM(C117:G117)/3))*B117/7.6)","v":""},null,null,0]
[{"$f":"IF(Draw!E117=0,\"\",Draw!E117)","v":""},"",null,null,null,null,null,{"$f":"IF(B118=\"\",\"\",IF(K118=5,(SUM(C118:G118)-MAX(C118:G118)-MIN(C118:G118))/3,IF(K118=4,(SUM(C118:G118)-MAX(C118:G118))/3,SUM(C118:G118)/3))*B118/7.6)","v":""},null,null,0]
[{"$f":"IF(Draw!E118=0,\"\",Draw!E118)","v":""},"",null,null,null,null,null,{"$f":"IF(B119=\"\",\"\",IF(K119=5,(SUM(C119:G119)-MAX(C119:G119)-MIN(C119:G119))/3,IF(K119=4,(SUM(C119:G119)-MAX(C119:G119))/3,SUM(C119:G119)/3))*B119/7.6)","v":""},null,null,0]
[{"$f":"IF(Draw!E119=0,\"\",Draw!E119)","v":""},"",null,null,null,null,null,{"$f":"IF(B120=\"\",\"\",IF(K120=5,(SUM(C120:G120)-MAX(C120:G120)-MIN(C120:G120))/3,IF(K120=4,(SUM(C120:G120)-MAX(C120:G120))/3,SUM(C120:G120)/3))*B120/7.6)","v":""},null,null,0]
[{"$f":"IF(Draw!E120=0,\"\",Draw!E120)","v":""},"",null,null,null,null,null,{"$f":"IF(B121=\"\",\"\",IF(K121=5,(SUM(C121:G121)-MAX(C121:G121)-MIN(C121:G121))/3,IF(K121=4,(SUM(C121:G121)-MAX(C121:G121))/3,SUM(C121:G121)/3))*B121/7.6)","v":""},null,null,0]
[{"$f":"IF(Draw!E121=0,\"\",Draw!E121)","v":""},"",null,null,null,null,null,{"$f":"IF(B122=\"\",\"\",IF(K122=5,(SUM(C122:G122)-MAX(C122:G122)-MIN(C122:G122))/3,IF(K122=4,(SUM(C122:G122)-MAX(C122:G122))/3,SUM(C122:G122)/3))*B122/7.6)","v":""},null,null,0]
[{"$f":"IF(Draw!E122=0,\"\",Draw!E122)","v":""},"",null,null,null,null,null,{"$f":"IF(B123=\"\",\"\",IF(K123=5,(SUM(C123:G123)-MAX(C123:G123)-MIN(C123:G123))/3,IF(K123=4,(SUM(C123:G123)-MAX(C123:G123))/3,SUM(C123:G123)/3))*B123/7.6)","v":""},null,null,0]
[{"$f":"IF(Draw!E123=0,\"\",Draw!E123)","v":""},"",null,null,null,null,null,{"$f":"IF(B124=\"\",\"\",IF(K124=5,(SUM(C124:G124)-MAX(C124:G124)-MIN(C124:G124))/3,IF(K124=4,(SUM(C124:G124)-MAX(C124:G124))/3,SUM(C124:G124)/3))*B124/7.6)","v":""},null,null,0]
[{"$f":"IF(Draw!E124=0,\"\",Draw!E124)","v":""},"",null,null,null,null,null,{"$f":"IF(B125=\"\",\"\",IF(K125=5,(SUM(C125:G125)-MAX(C125:G125)-MIN(C125:G125))/3,IF(K125=4,(SUM(C125:G125)-MAX(C125:G125))/3,SUM(C125:G125)/3))*B125/7.6)","v":""},null,null,0]
[{"$f":"IF(Draw!E125=0,\"\",Draw!E125)","v":""},"",null,null,null,null,null,{"$f":"IF(B126=\"\",\"\",IF(K126=5,(SUM(C126:G126)-MAX(C126:G126)-MIN(C126:G126))/3,IF(K126=4,(SUM(C126:G126)-MAX(C126:G126))/3,SUM(C126:G126)/3))*B126/7.6)","v":""},null,null,0]
[{"$f":"IF(Draw!E126=0,\"\",Draw!E126)","v":""},"",null,null,null,null,null,{"$f":"IF(B127=\"\",\"\",IF(K127=5,(SUM(C127:G127)-MAX(C127:G127)-MIN(C127:G127))/3,IF(K127=4,(SUM(C127:G127)-MAX(C127:G127))/3,SUM(C127:G127)/3))*B127/7.6)","v":""},null,null,0]
[{"$f":"IF(Draw!E127=0,\"\",Draw!E127)","v":""},"",null,null,null,null,null,{"$f":"IF(B128=\"\",\"\",IF(K128=5,(SUM(C128:G128)-MAX(C128:G128)-MIN(C128:G128))/3,IF(K128=4,(SUM(C128:G128)-MAX(C128:G128))/3,SUM(C128:G128)/3))*B128/7.6)","v":""},null,null,0]
[{"$f":"IF(Draw!E128=0,\"\",Draw!E128)","v":""},"",null,null,null,null,null,{"$f":"IF(B129=\"\",\"\",IF(K129=5,(SUM(C129:G129)-MAX(C129:G129)-MIN(C129:G129))/3,IF(K129=4,(SUM(C129:G129)-MAX(C129:G129))/3,SUM(C129:G129)/3))*B129/7.6)","v":""},null,null,0]
[{"$f":"IF(Draw!E129=0,\"\",Draw!E129)","v":""},"",null,null,null,null,null,{"$f":"IF(B130=\"\",\"\",IF(K130=5,(SUM(C130:G130)-MAX(C130:G130)-MIN(C130:G130))/3,IF(K130=4,(SUM(C130:G130)-MAX(C130:G130))/3,SUM(C130:G130)/3))*B130/7.6)","v":""},null,null,0]
[{"$f":"IF(Draw!E130=0,\"\",Draw!E130)","v":""},"",null,null,null,null,null,{"$f":"IF(B131=\"\",\"\",IF(K131=5,(SUM(C131:G131)-MAX(C131:G131)-MIN(C131:G131))/3,IF(K131=4,(SUM(C131:G131)-MAX(C131:G131))/3,SUM(C131:G131)/3))*B131/7.6)","v":""},null,null,0]
[{"$f":"IF(Draw!E131=0,\"\",Draw!E131)","v":""},"",null,null,null,null,null,{"$f":"IF(B132=\"\",\"\",IF(K132=5,(SUM(C132:G132)-MAX(C132:G132)-MIN(C132:G132))/3,IF(K132=4,(SUM(C132:G132)-MAX(C132:G132))/3,SUM(C132:G132)/3))*B132/7.6)","v":""},null,null,{"$f":"COUNT(C132:G132)","v":0}]
[{"$f":"IF(Draw!E132=0,\"\",Draw!E132)","v":""},"",null,null,null,null,null,{"$f":"IF(B133=\"\",\"\",IF(K133=5,(SUM(C133:G133)-MAX(C133:G133)-MIN(C133:G133))/3,IF(K133=4,(SUM(C133:G133)-MAX(C133:G133))/3,SUM(C133:G133)/3))*B133/7.6)","v":""},null,null,0]
[{"$f":"IF(Draw!E133=0,\"\",Draw!E133)","v":""},"",null,null,null,null,null,{"$f":"IF(B134=\"\",\"\",IF(K134=5,(SUM(C134:G134)-MAX(C134:G134)-MIN(C134:G134))/3,IF(K134=4,(SUM(C134:G134)-MAX(C134:G134))/3,SUM(C134:G134)/3))*B134/7.6)","v":""},null,null,0]
[{"$f":"IF(Draw!E134=0,\"\",Draw!E134)","v":""},{"$f":"IF(A135=\"\",\"\",B$3)","v":""},null,null,null,null,null,{"$f":"IF(B135=\"\",\"\",IF(K135=5,(SUM(C135:G135)-MAX(C135:G135)-MIN(C135:G135))/3,IF(K135=4,(SUM(C135:G135)-MAX(C135:G135))/3,SUM(C135:G135)/3))*B135/7.6)","v":""},null,null,0]
[{"$f":"IF(Draw!E135=0,\"\",Draw!E135)","v":""},"",null,null,null,null,null,{"$f":"IF(B136=\"\",\"\",IF(K136=5,(SUM(C136:G136)-MAX(C136:G136)-MIN(C136:G136))/3,IF(K136=4,(SUM(C136:G136)-MAX(C136:G136))/3,SUM(C136:G136)/3))*B136/7.6)","v":""},null,null,0]
[{"$f":"IF(Draw!E136=0,\"\",Draw!E136)","v":""},"",null,null,null,null,null,{"$f":"IF(B137=\"\",\"\",IF(K137=5,(SUM(C137:G137)-MAX(C137:G137)-MIN(C137:G137))/3,IF(K137=4,(SUM(C137:G137)-MAX(C137:G137))/3,SUM(C137:G137)/3))*B137/7.6)","v":""},null,null,0]
[{"$f":"IF(Draw!E137=0,\"\",Draw!E137)","v":""},"",null,null,null,null,null,{"$f":"IF(B138=\"\",\"\",IF(K138=5,(SUM(C138:G138)-MAX(C138:G138)-MIN(C138:G138))/3,IF(K138=4,(SUM(C138:G138)-MAX(C138:G138))/3,SUM(C138:G138)/3))*B138/7.6)","v":""},null,null,0]
[{"$f":"IF(Draw!E138=0,\"\",Draw!E138)","v":""},"",null,null,null,null,null,{"$f":"IF(B139=\"\",\"\",IF(K139=5,(SUM(C139:G139)-MAX(C139:G139)-MIN(C139:G139))/3,IF(K139=4,(SUM(C139:G139)-MAX(C139:G139))/3,SUM(C139:G139)/3))*B139/7.6)","v":""},null,null,0]
[{"$f":"IF(Draw!E139=0,\"\",Draw!E139)","v":""},"",null,null,null,null,null,{"$f":"IF(B140=\"\",\"\",IF(K140=5,(SUM(C140:G140)-MAX(C140:G140)-MIN(C140:G140))/3,IF(K140=4,(SUM(C140:G140)-MAX(C140:G140))/3,SUM(C140:G140)/3))*B140/7.6)","v":""},null,null,0]
[{"$f":"IF(Draw!E140=0,\"\",Draw!E140)","v":""},"",null,null,null,null,null,{"$f":"IF(B141=\"\",\"\",IF(K141=5,(SUM(C141:G141)-MAX(C141:G141)-MIN(C141:G141))/3,IF(K141=4,(SUM(C141:G141)-MAX(C141:G141))/3,SUM(C141:G141)/3))*B141/7.6)","v":""},null,null,0]
[{"$f":"IF(Draw!E141=0,\"\",Draw!E141)","v":""},"",null,null,null,null,null,{"$f":"IF(B142=\"\",\"\",IF(K142=5,(SUM(C142:G142)-MAX(C142:G142)-MIN(C142:G142))/3,IF(K142=4,(SUM(C142:G142)-MAX(C142:G142))/3,SUM(C142:G142)/3))*B142/7.6)","v":""},null,null,0]
[{"$f":"IF(Draw!E142=0,\"\",Draw!E142)","v":""},"",null,null,null,null,null,{"$f":"IF(B143=\"\",\"\",IF(K143=5,(SUM(C143:G143)-MAX(C143:G143)-MIN(C143:G143))/3,IF(K143=4,(SUM(C143:G143)-MAX(C143:G143))/3,SUM(C143:G143)/3))*B143/7.6)","v":""},null,null,0]
[{"$f":"IF(Draw!E143=0,\"\",Draw!E143)","v":""},"",null,null,null,null,null,{"$f":"IF(B144=\"\",\"\",IF(K144=5,(SUM(C144:G144)-MAX(C144:G144)-MIN(C144:G144))/3,IF(K144=4,(SUM(C144:G144)-MAX(C144:G144))/3,SUM(C144:G144)/3))*B144/7.6)","v":""},null,null,0]
[{"$f":"IF(Draw!E144=0,\"\",Draw!E144)","v":""},"",null,null,null,null,null,{"$f":"IF(B145=\"\",\"\",IF(K145=5,(SUM(C145:G145)-MAX(C145:G145)-MIN(C145:G145))/3,IF(K145=4,(SUM(C145:G145)-MAX(C145:G145))/3,SUM(C145:G145)/3))*B145/7.6)","v":""},null,null,0]
[{"$f":"IF(Draw!E145=0,\"\",Draw!E145)","v":""},"",null,null,null,null,null,{"$f":"IF(B146=\"\",\"\",IF(K146=5,(SUM(C146:G146)-MAX(C146:G146)-MIN(C146:G146))/3,IF(K146=4,(SUM(C146:G146)-MAX(C146:G146))/3,SUM(C146:G146)/3))*B146/7.6)","v":""},null,null,0]
[{"$f":"IF(Draw!E146=0,\"\",Draw!E146)","v":""},"",null,null,null,null,null,{"$f":"IF(B147=\"\",\"\",IF(K147=5,(SUM(C147:G147)-MAX(C147:G147)-MIN(C147:G147))/3,IF(K147=4,(SUM(C147:G147)-MAX(C147:G147))/3,SUM(C147:G147)/3))*B147/7.6)","v":""},null,null,0]
[{"$f":"IF(Draw!E147=0,\"\",Draw!E147)","v":""},"",null,null,null,null,null,{"$f":"IF(B148=\"\",\"\",IF(K148=5,(SUM(C148:G148)-MAX(C148:G148)-MIN(C148:G148))/3,IF(K148=4,(SUM(C148:G148)-MAX(C148:G148))/3,SUM(C148:G148)/3))*B148/7.6)","v":""},null,null,0]
[{"$f":"IF(Draw!E148=0,\"\",Draw!E148)","v":""},"",null,null,null,null,null,{"$f":"IF(B149=\"\",\"\",IF(K149=5,(SUM(C149:G149)-MAX(C149:G149)-MIN(C149:G149))/3,IF(K149=4,(SUM(C149:G149)-MAX(C149:G149))/3,SUM(C149:G149)/3))*B149/7.6)","v":""},null,null,0]
[{"$f":"IF(Draw!E149=0,\"\",Draw!E149)","v":""},"",null,null,null,null,null,{"$f":"IF(B150=\"\",\"\",IF(K150=5,(SUM(C150:G150)-MAX(C150:G150)-MIN(C150:G150))/3,IF(K150=4,(SUM(C150:G150)-MAX(C150:G150))/3,SUM(C150:G150)/3))*B150/7.6)","v":""},null,null,0]

{"sheet":"Fig 4 Walkover","index":4,"n_rows":150,"n_cols":11,"rows_kept":150,"cut":false,"hidden":false,"merged":[[0,2,0,6]]}
[null,"Figure #4:","360 Walkover Front"]
["#","Degree of Difficulty","Judge 1","Judge 2","Judge 3","Judge 4","Judge 5","Score","Penalty"]
[{"$f":"IF(Draw!E2=0,\"\",Draw!E2)","v":1},2.1,58,57,58,57,55,{"$f":"IF(B3=\"\",\"\",IF(K3=5,(SUM(C3:G3)-MAX(C3:G3)-MIN(C3:G3))/3,IF(K3=4,(SUM(C3:G3)-MAX(C3:G3))/3,SUM(C3:G3)/3))*B3/7.6)","v":15.842105263157896},null,null,{"$f":"COUNT(C3:G3)","v":5}]
[{"$f":"IF(Draw!E3=0,\"\",Draw!E3)","v":2},{"$f":"IF(A4=\"\",\"\",B$3)","v":2.1},51,50,53,54,54,{"$f":"IF(B4=\"\",\"\",IF(K4=5,(SUM(C4:G4)-MAX(C4:G4)-MIN(C4:G4))/3,IF(K4=4,(SUM(C4:G4)-MAX(C4:G4))/3,SUM(C4:G4)/3))*B4/7.6)","v":14.552631578947368},null,null,{"$f":"COUNT(C4:G4)","v":5}]
[{"$f":"IF(Draw!E4=0,\"\",Draw!E4)","v":3},{"$f":"IF(A5=\"\",\"\",B$3)","v":2.1},56,55,54,57,58,{"$f":"IF(B5=\"\",\"\",IF(K5=5,(SUM(C5:G5)-MAX(C5:G5)-MIN(C5:G5))/3,IF(K5=4,(SUM(C5:G5)-MAX(C5:G5))/3,SUM(C5:G5)/3))*B5/7.6)","v":15.473684210526317},null,null,5]
[{"$f":"IF(Draw!E5=0,\"\",Draw!E5)","v":4},2.1,56,49,51,52,51,{"$f":"IF(B6=\"\",\"\",IF(K6=5,(SUM(C6:G6)-MAX(C6:G6)-MIN(C6:G6))/3,IF(K6=4,(SUM(C6:G6)-MAX(C6:G6))/3,SUM(C6:G6)/3))*B6/7.6)","v":14.184210526315791},null,null,5]
[{"$f":"IF(Draw!E6=0,\"\",Draw!E6)","v":5},{"$f":"IF(A7=\"\",\"\",B$3)","v":2.1},62,70,68,67,63,{"$f":"IF(B7=\"\",\"\",IF(K7=5,(SUM(C7:G7)-MAX(C7:G7)-MIN(C7:G7))/3,IF(K7=4,(SUM(C7:G7)-MAX(C7:G7))/3,SUM(C7:G7)/3))*B7/7.6)","v":18.236842105263158},null,null,5]
[{"$f":"IF(Draw!E7=0,\"\",Draw!E7)","v":6},2.1,63,65,64,63,62,{"$f":"IF(B8=\"\",\"\",IF(K8=5,(SUM(C8:G8)-MAX(C8:G8)-MIN(C8:G8))/3,IF(K8=4,(SUM(C8:G8)-MAX(C8:G8))/3,SUM(C8:G8)/3))*B8/7.6)","v":17.5},null,null,5]
[{"$f":"IF(Draw!E8=0,\"\",Draw!E8)","v":7},2.1,49,50,50,50,50,{"$f":"IF(B9=\"\",\"\",IF(K9=5,(SUM(C9:G9)-MAX(C9:G9)-MIN(C9:G9))/3,IF(K9=4,(SUM(C9:G9)-MAX(C9:G9))/3,SUM(C9:G9)/3))*B9/7.6)","v":13.815789473684211},null,null,5]
[{"$f":"IF(Draw!E9=0,\"\",Draw!E9)","v":8},2.1,61,62,56,59,62,{"$f":"IF(B10=\"\",\"\",IF(K10=5,(SUM(C10:G10)-MAX(C10:G10)-MIN(C10:G10))/3,IF(K10=4,(SUM(C10:G10)-MAX(C10:G10))/3,SUM(C10:G10)/3))*B10/7.6)","v":16.763157894736842},null,null,5]
[{"$f":"IF(Draw!E10=0,\"\",Draw!E10)","v":9},2.1,57,58,58,61,60,{"$f":"IF(B11=\"\",\"\",IF(K11=5,(SUM(C11:G11)-MAX(C11:G11)-MIN(C11:G11))/3,IF(K11=4,(SUM(C11:G11)-MAX(C11:G11))/3,SUM(C11:G11)/3))*B11/7.6)","v":16.210526315789476},null,null,5]
[{"$f":"IF(Draw!E11=0,\"\",Draw!E11)","v":10},2.1,58,57,57,58,57,{"$f":"IF(B12=\"\",\"\",IF(K12=5,(SUM(C12:G12)-MAX(C12:G12)-MIN(C12:G12))/3,IF(K12=4,(SUM(C12:G12)-MAX(C12:G12))/3,SUM(C12:G12)/3))*B12/7.6)","v":15.842105263157896},null,null,5]
[{"$f":"IF(Draw!E12=0,\"\",Draw!E12)","v":11},2.1,60,58,56,57,61,{"$f":"IF(B13=\"\",\"\",IF(K13=5,(SUM(C13:G13)-MAX(C13:G13)-MIN(C13:G13))/3,IF(K13=4,(SUM(C13:G13)-MAX(C13:G13))/3,SUM(C13:G13)/3))*B13/7.6)","v":16.118421052631582},null,null,5]
[{"$f":"IF(Draw!E13=0,\"\",Draw!E13)","v":12},2.1,55,58,59,60,58,{"$f":"IF(B14=\"\",\"\",IF(K14=5,(SUM(C14:G14)-MAX(C14:G14)-MIN(C14:G14))/3,IF(K14=4,(SUM(C14:G14)-MAX(C14:G14))/3,SUM(C14:G14)/3))*B14/7.6)","v":16.118421052631582},null,null,5]
[{"$f":"IF(Draw!E14=0,\"\",Draw!E14)","v":13},2.1,52,52,54,55,54,{"$f":"IF(B15=\"\",\"\",IF(K15=5,(SUM(C15:G15)-MAX(C15:G15)-MIN(C15:G15))/3,IF(K15=4,(SUM(C15:G15)-MAX(C15:G15))/3,SUM(C15:G15)/3))*B15/7.6)","v":14.736842105263161},null,null,5]
[{"$f":"IF(Draw!E15=0,\"\",Draw!E15)","v":14},2.1,55,57,57,56,56,{"$f":"IF(B16=\"\",\"\",IF(K16=5,(SUM(C16:G16)-MAX(C16:G16)-MIN(C16:G16))/3,IF(K16=4,(SUM(C16:G16)-MAX(C16:G16))/3,SUM(C16:G16)/3))*B16/7.6)","v":15.565789473684212},null,null,5]
[{"$f":"IF(Draw!E16=0,\"\",Draw!E16)","v":15},2.1,59,58,60,59,59,{"$f":"IF(B17=\"\",\"\",IF(K17=5,(SUM(C17:G17)-MAX(C17:G17)-MIN(C17:G17))/3,IF(K17=4,(SUM(C17:G17)-MAX(C17:G17))/3,SUM(C17:G17)/3))*B17/7.6)","v":16.30263157894737},null,null,5]
[{"$f":"IF(Draw!E17=0,\"\",Draw!E17)","v":16},2.1,54,56,52,54,57,{"$f":"IF(B18=\"\",\"\",IF(K18=5,(SUM(C18:G18)-MAX(C18:G18)-MIN(C18:G18))/3,IF(K18=4,(SUM(C18:G18)-MAX(C18:G18))/3,SUM(C18:G18)/3))*B18/7.6)","v":15.105263157894738},null,null,5]
[{"$f":"IF(Draw!E18=0,\"\",Draw!E18)","v":17},2.1,49,50,53,52,53,{"$f":"IF(B19=\"\",\"\",IF(K19=5,(SUM(C19:G19)-MAX(C19:G19)-MIN(C19:G19))/3,IF(K19=4,(SUM(C19:G19)-MAX(C19:G19))/3,SUM(C19:G19)/3))*B19/7.6)","v":14.276315789473685},null,null,5]
[{"$f":"IF(Draw!E19=0,\"\",Draw!E19)","v":18},2.1,59,61,62,60,66,{"$f":"IF(B20=\"\",\"\",IF(K20=5,(SUM(C20:G20)-MAX(C20:G20)-MIN(C20:G20))/3,IF(K20=4,(SUM(C20:G20)-MAX(C20:G20))/3,SUM(C20:G20)/3))*B20/7.6)","v":16.855263157894736},null,null,5]
[{"$f":"IF(Draw!E20=0,\"\",Draw!E20)","v":19},2.1,49,52,50,53,58,{"$f":"IF(B21=\"\",\"\",IF(K21=5,(SUM(C21:G21)-MAX(C21:G21)-MIN(C21:G21))/3,IF(K21=4,(SUM(C21:G21)-MAX(C21:G21))/3,SUM(C21:G21)/3))*B21/7.6)","v":14.276315789473685},null,null,5]
[{"$f":"IF(Draw!E21=0,\"\",Draw!E21)","v":20},2.1,61,66,66,62,62,{"$f":"IF(B22=\"\",\"\",IF(K22=5,(SUM(C22:G22)-MAX(C22:G22)-MIN(C22:G22))/3,IF(K22=4,(SUM(C22:G22)-MAX(C22:G22))/3,SUM(C22:G22)/3))*B22/7.6)","v":17.5},null,null,5]
[{"$f":"IF(Draw!E22=0,\"\",Draw!E22)","v":21},2.1,55,54,52,52,57,{"$f":"IF(B23=\"\",\"\",IF(K23=5,(SUM(C23:G23)-MAX(C23:G23)-MIN(C23:G23))/3,IF(K23=4,(SUM(C23:G23)-MAX(C23:G23))/3,SUM(C23:G23)/3))*B23/7.6)","v":14.828947368421053},null,null,5]
[{"$f":"IF(Draw!E23=0,\"\",Draw!E23)","v":22},2.1,56,55,55,58,59,{"$f":"IF(B24=\"\",\"\",IF(K24=5,(SUM(C24:G24)-MAX(C24:G24)-MIN(C24:G24))/3,IF(K24=4,(SUM(C24:G24)-MAX(C24:G24))/3,SUM(C24:G24)/3))*B24/7.6)","v":15.565789473684212},null,null,5]
[{"$f":"IF(Draw!E24=0,\"\",Draw!E24)","v":23},2.1,53,53,52,55,56,{"$f":"IF(B25=\"\",\"\",IF(K25=5,(SUM(C25:G25)-MAX(C25:G25)-MIN(C25:G25))/3,IF(K25=4,(SUM(C25:G25)-MAX(C25:G25))/3,SUM(C25:G25)/3))*B25/7.6)","v":14.828947368421053},null,null,5]
[{"$f":"IF(Draw!E25=0,\"\",Draw!E25)","v":24},2.1,54,53,53,57,52,{"$f":"IF(B26=\"\",\"\",IF(K26=5,(SUM(C26:G26)-MAX(C26:G26)-MIN(C26:G26))/3,IF(K26=4,(SUM(C26:G26)-MAX(C26:G26))/3,SUM(C26:G26)/3))*B26/7.6)","v":14.736842105263161},null,null,5]
[{"$f":"IF(Draw!E26=0,\"\",Draw!E26)","v":25},2.1,50,50,53,51,51,{"$f":"IF(B27=\"\",\"\",IF(K27=5,(SUM(C27:G27)-MAX(C27:G27)-MIN(C27:G27))/3,IF(K27=4,(SUM(C27:G27)-MAX(C27:G27))/3,SUM(C27:G27)/3))*B27/7.6)","v":14.000000000000002},null,null,5]
[{"$f":"IF(Draw!E27=0,\"\",Draw!E27)","v":26},2.1,52,54,54,52,52,{"$f":"IF(B28=\"\",\"\",IF(K28=5,(SUM(C28:G28)-MAX(C28:G28)-MIN(C28:G28))/3,IF(K28=4,(SUM(C28:G28)-MAX(C28:G28))/3,SUM(C28:G28)/3))*B28/7.6)","v":14.552631578947368},null,null,5]
[{"$f":"IF(Draw!E28=0,\"\",Draw!E28)","v":27},2.1,52,52,52,50,50,{"$f":"IF(B29=\"\",\"\",IF(K29=5,(SUM(C29:G29)-MAX(C29:G29)-MIN(C29:G29))/3,IF(K29=4,(SUM(C29:G29)-MAX(C29:G29))/3,SUM(C29:G29)/3))*B29/7.6)","v":14.184210526315791},null,null,5]
[{"$f":"IF(Draw!E29=0,\"\",Draw!E29)","v":28},2.1,49,47,48,48,47,{"$f":"IF(B30=\"\",\"\",IF(K30=5,(SUM(C30:G30)-MAX(C30:G30)-MIN(C30:G30))/3,IF(K30=4,(SUM(C30:G30)-MAX(C30:G30))/3,SUM(C30:G30)/3))*B30/7.6)","v":13.171052631578947},null,null,5]
[{"$f":"IF(Draw!E30=0,\"\",Draw!E30)","v":29},2.1,63,62,62,64,64,{"$f":"IF(B31=\"\",\"\",IF(K31=5,(SUM(C31:G31)-MAX(C31:G31)-MIN(C31:G31))/3,IF(K31=4,(SUM(C31:G31)-MAX(C31:G31))/3,SUM(C31:G31)/3))*B31/7.6)","v":17.407894736842106},null,null,5]
[{"$f":"IF(Draw!E31=0,\"\",Draw!E31)","v":30},2.1,49,49,49,49,50,{"$f":"IF(B32=\"\",\"\",IF(K32=5,(SUM(C32:G32)-MAX(C32:G32)-MIN(C32:G32))/3,IF(K32=4,(SUM(C32:G32)-MAX(C32:G32))/3,SUM(C32:G32)/3))*B32/7.6)","v":13.539473684210527},null,null,5]
[{"$f":"IF(Draw!E32=0,\"\",Draw!E32)","v":31},2.1,54,53,52,52,51,{"$f":"IF(B33=\"\",\"\",IF(K33=5,(SUM(C33:G33)-MAX(C33:G33)-MIN(C33:G33))/3,IF(K33=4,(SUM(C33:G33)-MAX(C33:G33))/3,SUM(C33:G33)/3))*B33/7.6)","v":14.460526315789474},null,null,5]
[{"$f":"IF(Draw!E33=0,\"\",Draw!E33)","v":32},2.1,57,57,58,57,50,{"$f":"IF(B34=\"\",\"\",IF(K34=5,(SUM(C34:G34)-MAX(C34:G34)-MIN(C34:G34))/3,IF(K34=4,(SUM(C34:G34)-MAX(C34:G34))/3,SUM(C34:G34)/3))*B34/7.6)","v":15.750000000000002},null,null,5]
[{"$f":"IF(Draw!E34=0,\"\",Draw!E34)","v":33},2.1,61,60,60,63,59,{"$f":"IF(B35=\"\",\"\",IF(K35=5,(SUM(C35:G35)-MAX(C35:G35)-MIN(C35:G35))/3,IF(K35=4,(SUM(C35:G35)-MAX(C35:G35))/3,SUM(C35:G35)/3))*B35/7.6)","v":16.671052631578949},null,null,5]
[{"$f":"IF(Draw!E35=0,\"\",Draw!E35)","v":34},2.1,55,57,61,55,58,{"$f":"IF(B36=\"\",\"\",IF(K36=5,(SUM(C36:G36)-MAX(C36:G36)-MIN(C36:G36))/3,IF(K36=4,(SUM(C36:G36)-MAX(C36:G36))/3,SUM(C36:G36)/3))*B36/7.6)","v":15.657894736842106},null,null,5]
[{"$f":"IF(Draw!E36=0,\"\",Draw!E36)","v":35},2.1,0,0,0,0,0,{"$f":"IF(B37=\"\",\"\",IF(K37=5,(SUM(C37:G37)-MAX(C37:G37)-MIN(C37:G37))/3,IF(K37=4,(SUM(C37:G37)-MAX(C37:G37))/3,SUM(C37:G37)/3))*B37/7.6)","v":0},null,null,5]
[{"$f":"IF(Draw!E37=0,\"\",Draw!E37)","v":36},2.1,55,54,53,54,52,{"$f":"IF(B38=\"\",\"\",IF(K38=5,(SUM(C38:G38)-MAX(C38:G38)-MIN(C38:G38))/3,IF(K38=4,(SUM(C38:G38)-MAX(C38:G38))/3,SUM(C38:G38)/3))*B38/7.6)","v":14.828947368421053},null,null,5]
[{"$f":"IF(Draw!E38=0,\"\",Draw!E38)","v":37},2.1,58,57,54,53,58,{"$f":"IF(B39=\"\",\"\",IF(K39=5,(SUM(C39:G39)-MAX(C39:G39)-MIN(C39:G39))/3,IF(K39=4,(SUM(C39:G39)-MAX(C39:G39))/3,SUM(C39:G39)/3))*B39/7.6)","v":15.565789473684212},null,null,5]
[{"$f":"IF(Draw!E39=0,\"\",Draw!E39)","v":38},2.1,55,56,55,52,56,{"$f":"IF(B40=\"\",\"\",IF(K40=5,(SUM(C40:G40)-MAX(C40:G40)-MIN(C40:G40))/3,IF(K40=4,(SUM(C40:G40)-MAX(C40:G40))/3,SUM(C40:G40)/3))*B40/7.6)","v":15.289473684210527},null,null,5]
[{"$f":"IF(Draw!E40=0,\"\",Draw!E40)","v":39},2.1,0,0,0,0,0,{"$f":"IF(B41=\"\",\"\",IF(K41=5,(SUM(C41:G41)-MAX(C41:G41)-MIN(C41:G41))/3,IF(K41=4,(SUM(C41:G41)-MAX(C41:G41))/3,SUM(C41:G41)/3))*B41/7.6)","v":0},null,null,5]
[{"$f":"IF(Draw!E41=0,\"\",Draw!E41)","v":40},2.1,50,49,50,48,50,{"$f":"IF(B42=\"\",\"\",IF(K42=5,(SUM(C42:G42)-MAX(C42:G42)-MIN(C42:G42))/3,IF(K42=4,(SUM(C42:G42)-MAX(C42:G42))/3,SUM(C42:G42)/3))*B42/7.6)","v":13.723684210526317},null,null,5]
[{"$f":"IF(Draw!E42=0,\"\",Draw!E42)","v":41},2.1,56,56,54,52,55,{"$f":"IF(B43=\"\",\"\",IF(K43=5,(SUM(C43:G43)-MAX(C43:G43)-MIN(C43:G43))/3,IF(K43=4,(SUM(C43:G43)-MAX(C43:G43))/3,SUM(C43:G43)/3))*B43/7.6)","v":15.197368421052632},null,null,5]
[{"$f":"IF(Draw!E43=0,\"\",Draw!E43)","v":42},2.1,54,56,52,53,53,{"$f":"IF(B44=\"\",\"\",IF(K44=5,(SUM(C44:G44)-MAX(C44:G44)-MIN(C44:G44))/3,IF(K44=4,(SUM(C44:G44)-MAX(C44:G44))/3,SUM(C44:G44)/3))*B44/7.6)","v":14.736842105263161},null,null,5]
[{"$f":"IF(Draw!E44=0,\"\",Draw!E44)","v":43},2.1,49,48,53,50,50,{"$f":"IF(B45=\"\",\"\",IF(K45=5,(SUM(C45:G45)-MAX(C45:G45)-MIN(C45:G45))/3,IF(K45=4,(SUM(C45:G45)-MAX(C45:G45))/3,SUM(C45:G45)/3))*B45/7.6)","v":13.723684210526317},null,null,5]
[{"$f":"IF(Draw!E45=0,\"\",Draw!E45)","v":44},2.1,56,57,56,57,54,{"$f":"IF(B46=\"\",\"\",IF(K46=5,(SUM(C46:G46)-MAX(C46:G46)-MIN(C46:G46))/3,IF(K46=4,(SUM(C46:G46)-MAX(C46:G46))/3,SUM(C46:G46)/3))*B46/7.6)","v":15.565789473684212},null,null,5]
[{"$f":"IF(Draw!E46=0,\"\",Draw!E46)","v":45},2.1,56,51,53,54,51,{"$f":"IF(B47=\"\",\"\",IF(K47=5,(SUM(C47:G47)-MAX(C47:G47)-MIN(C47:G47))/3,IF(K47=4,(SUM(C47:G47)-MAX(C47:G47))/3,SUM(C47:G47)/3))*B47/7.6)","v":14.552631578947368},null,null,5]
[{"$f":"IF(Draw!E47=0,\"\",Draw!E47)","v":46},2.1,57,60,60,59,58,{"$f":"IF(B48=\"\",\"\",IF(K48=5,(SUM(C48:G48)-MAX(C48:G48)-MIN(C48:G48))/3,IF(K48=4,(SUM(C48:G48)-MAX(C48:G48))/3,SUM(C48:G48)/3))*B48/7.6)","v":16.30263157894737},null,null,5]
[{"$f":"IF(Draw!E48=0,\"\",Draw!E48)","v":47},2.1,51,49,51,50,51,{"$f":"IF(B49=\"\",\"\",IF(K49=5,(SUM(C49:G49)-MAX(C49:G49)-MIN(C49:G49))/3,IF(K49=4,(SUM(C49:G49)-MAX(C49:G49))/3,SUM(C49:G49)/3))*B49/7.6)","v":14.000000000000002},null,null,5]
[{"$f":"IF(Draw!E49=0,\"\",Draw!E49)","v":48},2.1,57,56,58,57,63,{"$f":"IF(B50=\"\",\"\",IF(K50=5,(SUM(C50:G50)-MAX(C50:G50)-MIN(C50:G50))/3,IF(K50=4,(SUM(C50:G50)-MAX(C50:G50))/3,SUM(C50:G50)/3))*B50/7.6)","v":15.842105263157896},null,null,5]
[{"$f":"IF(Draw!E50=0,\"\",Draw!E50)","v":49},2.1,0,0,0,0,0,{"$f":"IF(B51=\"\",\"\",IF(K51=5,(SUM(C51:G51)-MAX(C51:G51)-MIN(C51:G51))/3,IF(K51=4,(SUM(C51:G51)-MAX(C51:G51))/3,SUM(C51:G51)/3))*B51/7.6)","v":0},null,null,5]
[{"$f":"IF(Draw!E51=0,\"\",Draw!E51)","v":50},2.1,51,51,54,51,52,{"$f":"IF(B52=\"\",\"\",IF(K52=5,(SUM(C52:G52)-MAX(C52:G52)-MIN(C52:G52))/3,IF(K52=4,(SUM(C52:G52)-MAX(C52:G52))/3,SUM(C52:G52)/3))*B52/7.6)","v":14.184210526315791},null,null,5]
[{"$f":"IF(Draw!E52=0,\"\",Draw!E52)","v":51},2.1,53,49,50,52,52,{"$f":"IF(B53=\"\",\"\",IF(K53=5,(SUM(C53:G53)-MAX(C53:G53)-MIN(C53:G53))/3,IF(K53=4,(SUM(C53:G53)-MAX(C53:G53))/3,SUM(C53:G53)/3))*B53/7.6)","v":14.184210526315791},null,null,5]
[{"$f":"IF(Draw!E53=0,\"\",Draw!E53)","v":52},2.1,59,57,56,63,57,{"$f":"IF(B54=\"\",\"\",IF(K54=5,(SUM(C54:G54)-MAX(C54:G54)-MIN(C54:G54))/3,IF(K54=4,(SUM(C54:G54)-MAX(C54:G54))/3,SUM(C54:G54)/3))*B54/7.6)","v":15.934210526315789},null,null,5]
[{"$f":"IF(Draw!E54=0,\"\",Draw!E54)","v":53},2.1,54,54,56,54,55,{"$f":"IF(B55=\"\",\"\",IF(K55=5,(SUM(C55:G55)-MAX(C55:G55)-MIN(C55:G55))/3,IF(K55=4,(SUM(C55:G55)-MAX(C55:G55))/3,SUM(C55:G55)/3))*B55/7.6)","v":15.013157894736844},null,null,5]
[{"$f":"IF(Draw!E55=0,\"\",Draw!E55)","v":54},2.1,56,57,54,57,55,{"$f":"IF(B56=\"\",\"\",IF(K56=5,(SUM(C56:G56)-MAX(C56:G56)-MIN(C56:G56))/3,IF(K56=4,(SUM(C56:G56)-MAX(C56:G56))/3,SUM(C56:G56)/3))*B56/7.6)","v":15.473684210526317},null,null,5]
[{"$f":"IF(Draw!E56=0,\"\",Draw!E56)","v":55},2.1,63,63,62,60,60,{"$f":"IF(B57=\"\",\"\",IF(K57=5,(SUM(C57:G57)-MAX(C57:G57)-MIN(C57:G57))/3,IF(K57=4,(SUM(C57:G57)-MAX(C57:G57))/3,SUM(C57:G57)/3))*B57/7.6)","v":17.039473684210527},null,null,5]
[{"$f":"IF(Draw!E57=0,\"\",Draw!E57)","v":56},2.1,65,65,65,64,63,{"$f":"IF(B58=\"\",\"\",IF(K58=5,(SUM(C58:G58)-MAX(C58:G58)-MIN(C58:G58))/3,IF(K58=4,(SUM(C58:G58)-MAX(C58:G58))/3,SUM(C58:G58)/3))*B58/7.6)","v":17.868421052631582},null,null,5]
[{"$f":"IF(Draw!E58=0,\"\",Draw!E58)","v":57},2.1,51,51,54,53,54,{"$f":"IF(B59=\"\",\"\",IF(K59=5,(SUM(C59:G59)-MAX(C59:G59)-MIN(C59:G59))/3,IF(K59=4,(SUM(C59:G59)-MAX(C59:G59))/3,SUM(C59:G59)/3))*B59/7.6)","v":14.552631578947368},null,null,5]
[{"$f":"IF(Draw!E59=0,\"\",Draw!E59)","v":58},2.1,59,60,56,58,56,{"$f":"IF(B60=\"\",\"\",IF(K60=5,(SUM(C60:G60)-MAX(C60:G60)-MIN(C60:G60))/3,IF(K60=4,(SUM(C60:G60)-MAX(C60:G60))/3,SUM(C60:G60)/3))*B60/7.6)","v":15.934210526315789},null,null,5]
[{"$f":"IF(Draw!E60=0,\"\",Draw!E60)","v":""},"",null,null,null,null,null,{"$f":"IF(B61=\"\",\"\",IF(K61=5,(SUM(C61:G61)-MAX(C61:G61)-MIN(C61:G61))/3,IF(K61=4,(SUM(C61:G61)-MAX(C61:G61))/3,SUM(C61:G61)/3))*B61/7.6)","v":""},null,null,0]
[{"$f":"IF(Draw!E61=0,\"\",Draw!E61)","v":""},"",null,null,null,null,null,{"$f":"IF(B62=\"\",\"\",IF(K62=5,(SUM(C62:G62)-MAX(C62:G62)-MIN(C62:G62))/3,IF(K62=4,(SUM(C62:G62)-MAX(C62:G62))/3,SUM(C62:G62)/3))*B62/7.6)","v":""},null,null,0]
[{"$f":"IF(Draw!E62=0,\"\",Draw!E62)","v":""},"",null,null,null,null,null,{"$f":"IF(B63=\"\",\"\",IF(K63=5,(SUM(C63:G63)-MAX(C63:G63)-MIN(C63:G63))/3,IF(K63=4,(SUM(C63:G63)-MAX(C63:G63))/3,SUM(C63:G63)/3))*B63/7.6)","v":""},null,null,0]
[{"$f":"IF(Draw!E63=0,\"\",Draw!E63)","v":""},"",null,null,null,null,null,{"$f":"IF(B64=\"\",\"\",IF(K64=5,(SUM(C64:G64)-MAX(C64:G64)-MIN(C64:G64))/3,IF(K64=4,(SUM(C64:G64)-MAX(C64:G64))/3,SUM(C64:G64)/3))*B64/7.6)","v":""},null,null,0]
[{"$f":"IF(Draw!E64=0,\"\",Draw!E64)","v":""},"",null,null,null,null,null,{"$f":"IF(B65=\"\",\"\",IF(K65=5,(SUM(C65:G65)-MAX(C65:G65)-MIN(C65:G65))/3,IF(K65=4,(SUM(C65:G65)-MAX(C65:G65))/3,SUM(C65:G65)/3))*B65/7.6)","v":""},null,null,0]
[{"$f":"IF(Draw!E65=0,\"\",Draw!E65)","v":""},"",null,null,null,null,null,{"$f":"IF(B66=\"\",\"\",IF(K66=5,(SUM(C66:G66)-MAX(C66:G66)-MIN(C66:G66))/3,IF(K66=4,(SUM(C66:G66)-MAX(C66:G66))/3,SUM(C66:G66)/3))*B66/7.6)","v":""},null,null,0]
[{"$f":"IF(Draw!E66=0,\"\",Draw!E66)","v":""},"",null,null,null,null,null,{"$f":"IF(B67=\"\",\"\",IF(K67=5,(SUM(C67:G67)-MAX(C67:G67)-MIN(C67:G67))/3,IF(K67=4,(SUM(C67:G67)-MAX(C67:G67))/3,SUM(C67:G67)/3))*B67/7.6)","v":""},null,null,0]
[{"$f":"IF(Draw!E67=0,\"\",Draw!E67)","v":""},"",null,null,null,null,null,{"$f":"IF(B68=\"\",\"\",IF(K68=5,(SUM(C68:G68)-MAX(C68:G68)-MIN(C68:G68))/3,IF(K68=4,(SUM(C68:G68)-MAX(C68:G68))/3,SUM(C68:G68)/3))*B68/7.6)","v":""},null,null,{"$f":"COUNT(C68:G68)","v":0}]
[{"$f":"IF(Draw!E68=0,\"\",Draw!E68)","v":""},"",null,null,null,null,null,{"$f":"IF(B69=\"\",\"\",IF(K69=5,(SUM(C69:G69)-MAX(C69:G69)-MIN(C69:G69))/3,IF(K69=4,(SUM(C69:G69)-MAX(C69:G69))/3,SUM(C69:G69)/3))*B69/7.6)","v":""},null,null,0]
[{"$f":"IF(Draw!E69=0,\"\",Draw!E69)","v":""},"",null,null,null,null,null,{"$f":"IF(B70=\"\",\"\",IF(K70=5,(SUM(C70:G70)-MAX(C70:G70)-MIN(C70:G70))/3,IF(K70=4,(SUM(C70:G70)-MAX(C70:G70))/3,SUM(C70:G70)/3))*B70/7.6)","v":""},null,null,0]
[{"$f":"IF(Draw!E70=0,\"\",Draw!E70)","v":""},{"$f":"IF(A71=\"\",\"\",B$3)","v":""},null,null,null,null,null,{"$f":"IF(B71=\"\",\"\",IF(K71=5,(SUM(C71:G71)-MAX(C71:G71)-MIN(C71:G71))/3,IF(K71=4,(SUM(C71:G71)-MAX(C71:G71))/3,SUM(C71:G71)/3))*B71/7.6)","v":""},null,null,0]
[{"$f":"IF(Draw!E71=0,\"\",Draw!E71)","v":""},"",null,null,null,null,null,{"$f":"IF(B72=\"\",\"\",IF(K72=5,(SUM(C72:G72)-MAX(C72:G72)-MIN(C72:G72))/3,IF(K72=4,(SUM(C72:G72)-MAX(C72:G72))/3,SUM(C72:G72)/3))*B72/7.6)","v":""},null,null,0]
[{"$f":"IF(Draw!E72=0,\"\",Draw!E72)","v":""},"",null,null,null,null,null,{"$f":"IF(B73=\"\",\"\",IF(K73=5,(SUM(C73:G73)-MAX(C73:G73)-MIN(C73:G73))/3,IF(K73=4,(SUM(C73:G73)-MAX(C73:G73))/3,SUM(C73:G73)/3))*B73/7.6)","v":""},null,null,0]
[{"$f":"IF(Draw!E73=0,\"\",Draw!E73)","v":""},"",null,null,null,null,null,{"$f":"IF(B74=\"\",\"\",IF(K74=5,(SUM(C74:G74)-MAX(C74:G74)-MIN(C74:G74))/3,IF(K74=4,(SUM(C74:G74)-MAX(C74:G74))/3,SUM(C74:G74)/3))*B74/7.6)","v":""},null,null,0]
[{"$f":"IF(Draw!E74=0,\"\",Draw!E74)","v":""},"",null,null,null,null,null,{"$f":"IF(B75=\"\",\"\",IF(K75=5,(SUM(C75:G75)-MAX(C75:G75)-MIN(C75:G75))/3,IF(K75=4,(SUM(C75:G75)-MAX(C75:G75))/3,SUM(C75:G75)/3))*B75/7.6)","v":""},null,null,0]
[{"$f":"IF(Draw!E75=0,\"\",Draw!E75)","v":""},"",null,null,null,null,null,{"$f":"IF(B76=\"\",\"\",IF(K76=5,(SUM(C76:G76)-MAX(C76:G76)-MIN(C76:G76))/3,IF(K76=4,(SUM(C76:G76)-MAX(C76:G76))/3,SUM(C76:G76)/3))*B76/7.6)","v":""},null,null,0]
[{"$f":"IF(Draw!E76=0,\"\",Draw!E76)","v":""},"",null,null,null,null,null,{"$f":"IF(B77=\"\",\"\",IF(K77=5,(SUM(C77:G77)-MAX(C77:G77)-MIN(C77:G77))/3,IF(K77=4,(SUM(C77:G77)-MAX(C77:G77))/3,SUM(C77:G77)/3))*B77/7.6)","v":""},null,null,0]
[{"$f":"IF(Draw!E77=0,\"\",Draw!E77)","v":""},"",null,null,null,null,null,{"$f":"IF(B78=\"\",\"\",IF(K78=5,(SUM(C78:G78)-MAX(C78:G78)-MIN(C78:G78))/3,IF(K78=4,(SUM(C78:G78)-MAX(C78:G78))/3,SUM(C78:G78)/3))*B78/7.6)","v":""},null,null,0]
[{"$f":"IF(Draw!E78=0,\"\",Draw!E78)","v":""},"",null,null,null,null,null,{"$f":"IF(B79=\"\",\"\",IF(K79=5,(SUM(C79:G79)-MAX(C79:G79)-MIN(C79:G79))/3,IF(K79=4,(SUM(C79:G79)-MAX(C79:G79))/3,SUM(C79:G79)/3))*B79/7.6)","v":""},null,null,0]
[{"$f":"IF(Draw!E79=0,\"\",Draw!E79)","v":""},"",null,null,null,null,null,{"$f":"IF(B80=\"\",\"\",IF(K80=5,(SUM(C80:G80)-MAX(C80:G80)-MIN(C80:G80))/3,IF(K80=4,(SUM(C80:G80)-MAX(C80:G80))/3,SUM(C80:G80)/3))*B80/7.6)","v":""},null,null,0]
[{"$f":"IF(Draw!E80=0,\"\",Draw!E80)","v":""},"",null,null,null,null,null,{"$f":"IF(B81=\"\",\"\",IF(K81=5,(SUM(C81:G81)-MAX(C81:G81)-MIN(C81:G81))/3,IF(K81=4,(SUM(C81:G81)-MAX(C81:G81))/3,SUM(C81:G81)/3))*B81/7.6)","v":""},null,null,0]
[{"$f":"IF(Draw!E81=0,\"\",Draw!E81)","v":""},"",null,null,null,null,null,{"$f":"IF(B82=\"\",\"\",IF(K82=5,(SUM(C82:G82)-MAX(C82:G82)-MIN(C82:G82))/3,IF(K82=4,(SUM(C82:G82)-MAX(C82:G82))/3,SUM(C82:G82)/3))*B82/7.6)","v":""},null,null,0]
[{"$f":"IF(Draw!E82=0,\"\",Draw!E82)","v":""},"",null,null,null,null,null,{"$f":"IF(B83=\"\",\"\",IF(K83=5,(SUM(C83:G83)-MAX(C83:G83)-MIN(C83:G83))/3,IF(K83=4,(SUM(C83:G83)-MAX(C83:G83))/3,SUM(C83:G83)/3))*B83/7.6)","v":""},null,null,0]
[{"$f":"IF(Draw!E83=0,\"\",Draw!E83)","v":""},"",null,null,null,null,null,{"$f":"IF(B84=\"\",\"\",IF(K84=5,(SUM(C84:G84)-MAX(C84:G84)-MIN(C84:G84))/3,IF(K84=4,(SUM(C84:G84)-MAX(C84:G84))/3,SUM(C84:G84)/3))*B84/7.6)","v":""},null,null,0]
[{"$f":"IF(Draw!E84=0,\"\",Draw!E84)","v":""},"",null,null,null,null,null,{"$f":"IF(B85=\"\",\"\",IF(K85=5,(SUM(C85:G85)-MAX(C85:G85)-MIN(C85:G85))/3,IF(K85=4,(SUM(C85:G85)-MAX(C85:G85))/3,SUM(C85:G85)/3))*B85/7.6)","v":""},null,null,0]
[{"$f":"IF(Draw!E85=0,\"\",Draw!E85)","v":""},"",null,null,null,null,null,{"$f":"IF(B86=\"\",\"\",IF(K86=5,(SUM(C86:G86)-MAX(C86:G86)-MIN(C86:G86))/3,IF(K86=4,(SUM(C86:G86)-MAX(C86:G86))/3,SUM(C86:G86)/3))*B86/7.6)","v":""},null,null,0]
[{"$f":"IF(Draw!E86=0,\"\",Draw!E86)","v":""},"",null,null,null,null,null,{"$f":"IF(B87=\"\",\"\",IF(K87=5,(SUM(C87:G87)-MAX(C87:G87)-MIN(C87:G87))/3,IF(K87=4,(SUM(C87:G87)-MAX(C87:G87))/3,SUM(C87:G87)/3))*B87/7.6)","v":""},null,null,0]
[{"$f":"IF(Draw!E87=0,\"\",Draw!E87)","v":""},"",null,null,null,null,null,{"$f":"IF(B88=\"\",\"\",IF(K88=5,(SUM(C88:G88)-MAX(C88:G88)-MIN(C88:G88))/3,IF(K88=4,(SUM(C88:G88)-MAX(C88:G88))/3,SUM(C88:G88)/3))*B88/7.6)","v":""},null,null,0]
[{"$f":"IF(Draw!E88=0,\"\",Draw!E88)","v":""},"",null,null,null,null,null,{"$f":"IF(B89=\"\",\"\",IF(K89=5,(SUM(C89:G89)-MAX(C89:G89)-MIN(C89:G89))/3,IF(K89=4,(SUM(C89:G89)-MAX(C89:G89))/3,SUM(C89:G89)/3))*B89/7.6)","v":""},null,null,0]
[{"$f":"IF(Draw!E89=0,\"\",Draw!E89)","v":""},"",null,null,null,null,null,{"$f":"IF(B90=\"\",\"\",IF(K90=5,(SUM(C90:G90)-MAX(C90:G90)-MIN(C90:G90))/3,IF(K90=4,(SUM(C90:G90)-MAX(C90:G90))/3,SUM(C90:G90)/3))*B90/7.6)","v":""},null,null,0]
[{"$f":"IF(Draw!E90=0,\"\",Draw!E90)","v":""},"",null,null,null,null,null,{"$f":"IF(B91=\"\",\"\",IF(K91=5,(SUM(C91:G91)-MAX(C91:G91)-MIN(C91:G91))/3,IF(K91=4,(SUM(C91:G91)-MAX(C91:G91))/3,SUM(C91:G91)/3))*B91/7.6)","v":""},null,null,0]
[{"$f":"IF(Draw!E91=0,\"\",Draw!E91)","v":""},"",null,null,null,null,null,{"$f":"IF(B92=\"\",\"\",IF(K92=5,(SUM(C92:G92)-MAX(C92:G92)-MIN(C92:G92))/3,IF(K92=4,(SUM(C92:G92)-MAX(C92:G92))/3,SUM(C92:G92)/3))*B92/7.6)","v":""},null,null,0]
[{"$f":"IF(Draw!E92=0,\"\",Draw!E92)","v":""},"",null,null,null,null,null,{"$f":"IF(B93=\"\",\"\",IF(K93=5,(SUM(C93:G93)-MAX(C93:G93)-MIN(C93:G93))/3,IF(K93=4,(SUM(C93:G93)-MAX(C93:G93))/3,SUM(C93:G93)/3))*B93/7.6)","v":""},null,null,0]
[{"$f":"IF(Draw!E93=0,\"\",Draw!E93)","v":""},"",null,null,null,null,null,{"$f":"IF(B94=\"\",\"\",IF(K94=5,(SUM(C94:G94)-MAX(C94:G94)-MIN(C94:G94))/3,IF(K94=4,(SUM(C94:G94)-MAX(C94:G94))/3,SUM(C94:G94)/3))*B94/7.6)","v":""},null,null,0]
[{"$f":"IF(Draw!E94=0,\"\",Draw!E94)","v":""},"",null,null,null,null,null,{"$f":"IF(B95=\"\",\"\",IF(K95=5,(SUM(C95:G95)-MAX(C95:G95)-MIN(C95:G95))/3,IF(K95=4,(SUM(C95:G95)-MAX(C95:G95))/3,SUM(C95:G95)/3))*B95/7.6)","v":""},null,null,0]
[{"$f":"IF(Draw!E95=0,\"\",Draw!E95)","v":""},"",null,null,null,null,null,{"$f":"IF(B96=\"\",\"\",IF(K96=5,(SUM(C96:G96)-MAX(C96:G96)-MIN(C96:G96))/3,IF(K96=4,(SUM(C96:G96)-MAX(C96:G96))/3,SUM(C96:G96)/3))*B96/7.6)","v":""},null,null,0]
[{"$f":"IF(Draw!E96=0,\"\",Draw!E96)","v":""},"",null,null,null,null,null,{"$f":"IF(B97=\"\",\"\",IF(K97=5,(SUM(C97:G97)-MAX(C97:G97)-MIN(C97:G97))/3,IF(K97=4,(SUM(C97:G97)-MAX(C97:G97))/3,SUM(C97:G97)/3))*B97/7.6)","v":""},null,null,0]
[{"$f":"IF(Draw!E97=0,\"\",Draw!E97)","v":""},"",null,null,null,null,null,{"$f":"IF(B98=\"\",\"\",IF(K98=5,(SUM(C98:G98)-MAX(C98:G98)-MIN(C98:G98))/3,IF(K98=4,(SUM(C98:G98)-MAX(C98:G98))/3,SUM(C98:G98)/3))*B98/7.6)","v":""},null,null,0]
[{"$f":"IF(Draw!E98=0,\"\",Draw!E98)","v":""},"",null,null,null,null,null,{"$f":"IF(B99=\"\",\"\",IF(K99=5,(SUM(C99:G99)-MAX(C99:G99)-MIN(C99:G99))/3,IF(K99=4,(SUM(C99:G99)-MAX(C99:G99))/3,SUM(C99:G99)/3))*B99/7.6)","v":""},null,null,0]
[{"$f":"IF(Draw!E99=0,\"\",Draw!E99)","v":""},"",null,null,null,null,null,{"$f":"IF(B100=\"\",\"\",IF(K100=5,(SUM(C100:G100)-MAX(C100:G100)-MIN(C100:G100))/3,IF(K100=4,(SUM(C100:G100)-MAX(C100:G100))/3,SUM(C100:G100)/3))*B100/7.6)","v":""},null,null,0]
[{"$f":"IF(Draw!E100=0,\"\",Draw!E100)","v":""},"",null,null,null,null,null,{"$f":"IF(B101=\"\",\"\",IF(K101=5,(SUM(C101:G101)-MAX(C101:G101)-MIN(C101:G101))/3,IF(K101=4,(SUM(C101:G101)-MAX(C101:G101))/3,SUM(C101:G101)/3))*B101/7.6)","v":""},null,null,0]
[{"$f":"IF(Draw!E101=0,\"\",Draw!E101)","v":""},"",null,null,null,null,null,{"$f":"IF(B102=\"\",\"\",IF(K102=5,(SUM(C102:G102)-MAX(C102:G102)-MIN(C102:G102))/3,IF(K102=4,(SUM(C102:G102)-MAX(C102:G102))/3,SUM(C102:G102)/3))*B102/7.6)","v":""},null,null,0]
[{"$f":"IF(Draw!E102=0,\"\",Draw!E102)","v":""},"",null,null,null,null,null,{"$f":"IF(B103=\"\",\"\",IF(K103=5,(SUM(C103:G103)-MAX(C103:G103)-MIN(C103:G103))/3,IF(K103=4,(SUM(C103:G103)-MAX(C103:G103))/3,SUM(C103:G103)/3))*B103/7.6)","v":""},null,null,0]
[{"$f":"IF(Draw!E103=0,\"\",Draw!E103)","v":""},"",null,null,null,null,null,{"$f":"IF(B104=\"\",\"\",IF(K104=5,(SUM(C104:G104)-MAX(C104:G104)-MIN(C104:G104))/3,IF(K104=4,(SUM(C104:G104)-MAX(C104:G104))/3,SUM(C104:G104)/3))*B104/7.6)","v":""},null,null,0]
[{"$f":"IF(Draw!E104=0,\"\",Draw!E104)","v":""},"",null,null,null,null,null,{"$f":"IF(B105=\"\",\"\",IF(K105=5,(SUM(C105:G105)-MAX(C105:G105)-MIN(C105:G105))/3,IF(K105=4,(SUM(C105:G105)-MAX(C105:G105))/3,SUM(C105:G105)/3))*B105/7.6)","v":""},null,null,0]
[{"$f":"IF(Draw!E105=0,\"\",Draw!E105)","v":""},"",null,null,null,null,null,{"$f":"IF(B106=\"\",\"\",IF(K106=5,(SUM(C106:G106)-MAX(C106:G106)-MIN(C106:G106))/3,IF(K106=4,(SUM(C106:G106)-MAX(C106:G106))/3,SUM(C106:G106)/3))*B106/7.6)","v":""},null,null,0]
[{"$f":"IF(Draw!E106=0,\"\",Draw!E106)","v":""},"",null,null,null,null,null,{"$f":"IF(B107=\"\",\"\",IF(K107=5,(SUM(C107:G107)-MAX(C107:G107)-MIN(C107:G107))/3,IF(K107=4,(SUM(C107:G107)-MAX(C107:G107))/3,SUM(C107:G107)/3))*B107/7.6)","v":""},null,null,0]
[{"$f":"IF(Draw!E107=0,\"\",Draw!E107)","v":""},"",null,null,null,null,null,{"$f":"IF(B108=\"\",\"\",IF(K108=5,(SUM(C108:G108)-MAX(C108:G108)-MIN(C108:G108))/3,IF(K108=4,(SUM(C108:G108)-MAX(C108:G108))/3,SUM(C108:G108)/3))*B108/7.6)","v":""},null,null,0]
[{"$f":"IF(Draw!E108=0,\"\",Draw!E108)","v":""},"",null,null,null,null,null,{"$f":"IF(B109=\"\",\"\",IF(K109=5,(SUM(C109:G109)-MAX(C109:G109)-MIN(C109:G109))/3,IF(K109=4,(SUM(C109:G109)-MAX(C109:G109))/3,SUM(C109:G109)/3))*B109/7.6)","v":""},null,null,0]
[{"$f":"IF(Draw!E109=0,\"\",Draw!E109)","v":""},"",null,null,null,null,null,{"$f":"IF(B110=\"\",\"\",IF(K110=5,(SUM(C110:G110)-MAX(C110:G110)-MIN(C110:G110))/3,IF(K110=4,(SUM(C110:G110)-MAX(C110:G110))/3,SUM(C110:G110)/3))*B110/7.6)","v":""},null,null,0]
[{"$f":"IF(Draw!E110=0,\"\",Draw!E110)","v":""},"",null,null,null,null,null,{"$f":"IF(B111=\"\",\"\",IF(K111=5,(SUM(C111:G111)-MAX(C111:G111)-MIN(C111:G111))/3,IF(K111=4,(SUM(C111:G111)-MAX(C111:G111))/3,SUM(C111:G111)/3))*B111/7.6)","v":""},null,null,0]
[{"$f":"IF(Draw!E111=0,\"\",Draw!E111)","v":""},"",null,null,null,null,null,{"$f":"IF(B112=\"\",\"\",IF(K112=5,(SUM(C112:G112)-MAX(C112:G112)-MIN(C112:G112))/3,IF(K112=4,(SUM(C112:G112)-MAX(C112:G112))/3,SUM(C112:G112)/3))*B112/7.6)","v":""},null,null,0]
[{"$f":"IF(Draw!E112=0,\"\",Draw!E112)","v":""},"",null,null,null,null,null,{"$f":"IF(B113=\"\",\"\",IF(K113=5,(SUM(C113:G113)-MAX(C113:G113)-MIN(C113:G113))/3,IF(K113=4,(SUM(C113:G113)-MAX(C113:G113))/3,SUM(C113:G113)/3))*B113/7.6)","v":""},null,null,0]
[{"$f":"IF(Draw!E113=0,\"\",Draw!E113)","v":""},"",null,null,null,null,null,{"$f":"IF(B114=\"\",\"\",IF(K114=5,(SUM(C114:G114)-MAX(C114:G114)-MIN(C114:G114))/3,IF(K114=4,(SUM(C114:G114)-MAX(C114:G114))/3,SUM(C114:G114)/3))*B114/7.6)","v":""},null,null,0]
[{"$f":"IF(Draw!E114=0,\"\",Draw!E114)","v":""},"",null,null,null,null,null,{"$f":"IF(B115=\"\",\"\",IF(K115=5,(SUM(C115:G115)-MAX(C115:G115)-MIN(C115:G115))/3,IF(K115=4,(SUM(C115:G115)-MAX(C115:G115))/3,SUM(C115:G115)/3))*B115/7.6)","v":""},null,null,0]
[{"$f":"IF(Draw!E115=0,\"\",Draw!E115)","v":""},"",null,null,null,null,null,{"$f":"IF(B116=\"\",\"\",IF(K116=5,(SUM(C116:G116)-MAX(C116:G116)-MIN(C116:G116))/3,IF(K116=4,(SUM(C116:G116)-MAX(C116:G116))/3,SUM(C116:G116)/3))*B116/7.6)","v":""},null,null,0]
[{"$f":"IF(Draw!E116=0,\"\",Draw!E116)","v":""},"",null,null,null,null,null,{"$f":"IF(B117=\"\",\"\",IF(K117=5,(SUM(C117:G117)-MAX(C117:G117)-MIN(C117:G117))/3,IF(K117=4,(SUM(C117:G117)-MAX(C117:G117))/3,SUM(C117:G117)/3))*B117/7.6)","v":""},null,null,0]
[{"$f":"IF(Draw!E117=0,\"\",Draw!E117)","v":""},"",null,null,null,null,null,{"$f":"IF(B118=\"\",\"\",IF(K118=5,(SUM(C118:G118)-MAX(C118:G118)-MIN(C118:G118))/3,IF(K118=4,(SUM(C118:G118)-MAX(C118:G118))/3,SUM(C118:G118)/3))*B118/7.6)","v":""},null,null,0]
[{"$f":"IF(Draw!E118=0,\"\",Draw!E118)","v":""},"",null,null,null,null,null,{"$f":"IF(B119=\"\",\"\",IF(K119=5,(SUM(C119:G119)-MAX(C119:G119)-MIN(C119:G119))/3,IF(K119=4,(SUM(C119:G119)-MAX(C119:G119))/3,SUM(C119:G119)/3))*B119/7.6)","v":""},null,null,0]
[{"$f":"IF(Draw!E119=0,\"\",Draw!E119)","v":""},"",null,null,null,null,null,{"$f":"IF(B120=\"\",\"\",IF(K120=5,(SUM(C120:G120)-MAX(C120:G120)-MIN(C120:G120))/3,IF(K120=4,(SUM(C120:G120)-MAX(C120:G120))/3,SUM(C120:G120)/3))*B120/7.6)","v":""},null,null,0]
[{"$f":"IF(Draw!E120=0,\"\",Draw!E120)","v":""},"",null,null,null,null,null,{"$f":"IF(B121=\"\",\"\",IF(K121=5,(SUM(C121:G121)-MAX(C121:G121)-MIN(C121:G121))/3,IF(K121=4,(SUM(C121:G121)-MAX(C121:G121))/3,SUM(C121:G121)/3))*B121/7.6)","v":""},null,null,0]
[{"$f":"IF(Draw!E121=0,\"\",Draw!E121)","v":""},"",null,null,null,null,null,{"$f":"IF(B122=\"\",\"\",IF(K122=5,(SUM(C122:G122)-MAX(C122:G122)-MIN(C122:G122))/3,IF(K122=4,(SUM(C122:G122)-MAX(C122:G122))/3,SUM(C122:G122)/3))*B122/7.6)","v":""},null,null,0]
[{"$f":"IF(Draw!E122=0,\"\",Draw!E122)","v":""},"",null,null,null,null,null,{"$f":"IF(B123=\"\",\"\",IF(K123=5,(SUM(C123:G123)-MAX(C123:G123)-MIN(C123:G123))/3,IF(K123=4,(SUM(C123:G123)-MAX(C123:G123))/3,SUM(C123:G123)/3))*B123/7.6)","v":""},null,null,0]
[{"$f":"IF(Draw!E123=0,\"\",Draw!E123)","v":""},"",null,null,null,null,null,{"$f":"IF(B124=\"\",\"\",IF(K124=5,(SUM(C124:G124)-MAX(C124:G124)-MIN(C124:G124))/3,IF(K124=4,(SUM(C124:G124)-MAX(C124:G124))/3,SUM(C124:G124)/3))*B124/7.6)","v":""},null,null,0]
[{"$f":"IF(Draw!E124=0,\"\",Draw!E124)","v":""},"",null,null,null,null,null,{"$f":"IF(B125=\"\",\"\",IF(K125=5,(SUM(C125:G125)-MAX(C125:G125)-MIN(C125:G125))/3,IF(K125=4,(SUM(C125:G125)-MAX(C125:G125))/3,SUM(C125:G125)/3))*B125/7.6)","v":""},null,null,0]
[{"$f":"IF(Draw!E125=0,\"\",Draw!E125)","v":""},"",null,null,null,null,null,{"$f":"IF(B126=\"\",\"\",IF(K126=5,(SUM(C126:G126)-MAX(C126:G126)-MIN(C126:G126))/3,IF(K126=4,(SUM(C126:G126)-MAX(C126:G126))/3,SUM(C126:G126)/3))*B126/7.6)","v":""},null,null,0]
[{"$f":"IF(Draw!E126=0,\"\",Draw!E126)","v":""},"",null,null,null,null,null,{"$f":"IF(B127=\"\",\"\",IF(K127=5,(SUM(C127:G127)-MAX(C127:G127)-MIN(C127:G127))/3,IF(K127=4,(SUM(C127:G127)-MAX(C127:G127))/3,SUM(C127:G127)/3))*B127/7.6)","v":""},null,null,0]
[{"$f":"IF(Draw!E127=0,\"\",Draw!E127)","v":""},"",null,null,null,null,null,{"$f":"IF(B128=\"\",\"\",IF(K128=5,(SUM(C128:G128)-MAX(C128:G128)-MIN(C128:G128))/3,IF(K128=4,(SUM(C128:G128)-MAX(C128:G128))/3,SUM(C128:G128)/3))*B128/7.6)","v":""},null,null,0]
[{"$f":"IF(Draw!E128=0,\"\",Draw!E128)","v":""},"",null,null,null,null,null,{"$f":"IF(B129=\"\",\"\",IF(K129=5,(SUM(C129:G129)-MAX(C129:G129)-MIN(C129:G129))/3,IF(K129=4,(SUM(C129:G129)-MAX(C129:G129))/3,SUM(C129:G129)/3))*B129/7.6)","v":""},null,null,0]
[{"$f":"IF(Draw!E129=0,\"\",Draw!E129)","v":""},"",null,null,null,null,null,{"$f":"IF(B130=\"\",\"\",IF(K130=5,(SUM(C130:G130)-MAX(C130:G130)-MIN(C130:G130))/3,IF(K130=4,(SUM(C130:G130)-MAX(C130:G130))/3,SUM(C130:G130)/3))*B130/7.6)","v":""},null,null,0]
[{"$f":"IF(Draw!E130=0,\"\",Draw!E130)","v":""},"",null,null,null,null,null,{"$f":"IF(B131=\"\",\"\",IF(K131=5,(SUM(C131:G131)-MAX(C131:G131)-MIN(C131:G131))/3,IF(K131=4,(SUM(C131:G131)-MAX(C131:G131))/3,SUM(C131:G131)/3))*B131/7.6)","v":""},null,null,0]
[{"$f":"IF(Draw!E131=0,\"\",Draw!E131)","v":""},"",null,null,null,null,null,{"$f":"IF(B132=\"\",\"\",IF(K132=5,(SUM(C132:G132)-MAX(C132:G132)-MIN(C132:G132))/3,IF(K132=4,(SUM(C132:G132)-MAX(C132:G132))/3,SUM(C132:G132)/3))*B132/7.6)","v":""},null,null,{"$f":"COUNT(C132:G132)","v":0}]
[{"$f":"IF(Draw!E132=0,\"\",Draw!E132)","v":""},"",null,null,null,null,null,{"$f":"IF(B133=\"\",\"\",IF(K133=5,(SUM(C133:G133)-MAX(C133:G133)-MIN(C133:G133))/3,IF(K133=4,(SUM(C133:G133)-MAX(C133:G133))/3,SUM(C133:G133)/3))*B133/7.6)","v":""},null,null,0]
[{"$f":"IF(Draw!E133=0,\"\",Draw!E133)","v":""},"",null,null,null,null,null,{"$f":"IF(B134=\"\",\"\",IF(K134=5,(SUM(C134:G134)-MAX(C134:G134)-MIN(C134:G134))/3,IF(K134=4,(SUM(C134:G134)-MAX(C134:G134))/3,SUM(C134:G134)/3))*B134/7.6)","v":""},null,null,0]
[{"$f":"IF(Draw!E134=0,\"\",Draw!E134)","v":""},{"$f":"IF(A135=\"\",\"\",B$3)","v":""},null,null,null,null,null,{"$f":"IF(B135=\"\",\"\",IF(K135=5,(SUM(C135:G135)-MAX(C135:G135)-MIN(C135:G135))/3,IF(K135=4,(SUM(C135:G135)-MAX(C135:G135))/3,SUM(C135:G135)/3))*B135/7.6)","v":""},null,null,0]
[{"$f":"IF(Draw!E135=0,\"\",Draw!E135)","v":""},"",null,null,null,null,null,{"$f":"IF(B136=\"\",\"\",IF(K136=5,(SUM(C136:G136)-MAX(C136:G136)-MIN(C136:G136))/3,IF(K136=4,(SUM(C136:G136)-MAX(C136:G136))/3,SUM(C136:G136)/3))*B136/7.6)","v":""},null,null,0]
[{"$f":"IF(Draw!E136=0,\"\",Draw!E136)","v":""},"",null,null,null,null,null,{"$f":"IF(B137=\"\",\"\",IF(K137=5,(SUM(C137:G137)-MAX(C137:G137)-MIN(C137:G137))/3,IF(K137=4,(SUM(C137:G137)-MAX(C137:G137))/3,SUM(C137:G137)/3))*B137/7.6)","v":""},null,null,0]
[{"$f":"IF(Draw!E137=0,\"\",Draw!E137)","v":""},"",null,null,null,null,null,{"$f":"IF(B138=\"\",\"\",IF(K138=5,(SUM(C138:G138)-MAX(C138:G138)-MIN(C138:G138))/3,IF(K138=4,(SUM(C138:G138)-MAX(C138:G138))/3,SUM(C138:G138)/3))*B138/7.6)","v":""},null,null,0]
[{"$f":"IF(Draw!E138=0,\"\",Draw!E138)","v":""},"",null,null,null,null,null,{"$f":"IF(B139=\"\",\"\",IF(K139=5,(SUM(C139:G139)-MAX(C139:G139)-MIN(C139:G139))/3,IF(K139=4,(SUM(C139:G139)-MAX(C139:G139))/3,SUM(C139:G139)/3))*B139/7.6)","v":""},null,null,0]
[{"$f":"IF(Draw!E139=0,\"\",Draw!E139)","v":""},"",null,null,null,null,null,{"$f":"IF(B140=\"\",\"\",IF(K140=5,(SUM(C140:G140)-MAX(C140:G140)-MIN(C140:G140))/3,IF(K140=4,(SUM(C140:G140)-MAX(C140:G140))/3,SUM(C140:G140)/3))*B140/7.6)","v":""},null,null,0]
[{"$f":"IF(Draw!E140=0,\"\",Draw!E140)","v":""},"",null,null,null,null,null,{"$f":"IF(B141=\"\",\"\",IF(K141=5,(SUM(C141:G141)-MAX(C141:G141)-MIN(C141:G141))/3,IF(K141=4,(SUM(C141:G141)-MAX(C141:G141))/3,SUM(C141:G141)/3))*B141/7.6)","v":""},null,null,0]
[{"$f":"IF(Draw!E141=0,\"\",Draw!E141)","v":""},"",null,null,null,null,null,{"$f":"IF(B142=\"\",\"\",IF(K142=5,(SUM(C142:G142)-MAX(C142:G142)-MIN(C142:G142))/3,IF(K142=4,(SUM(C142:G142)-MAX(C142:G142))/3,SUM(C142:G142)/3))*B142/7.6)","v":""},null,null,0]
[{"$f":"IF(Draw!E142=0,\"\",Draw!E142)","v":""},"",null,null,null,null,null,{"$f":"IF(B143=\"\",\"\",IF(K143=5,(SUM(C143:G143)-MAX(C143:G143)-MIN(C143:G143))/3,IF(K143=4,(SUM(C143:G143)-MAX(C143:G143))/3,SUM(C143:G143)/3))*B143/7.6)","v":""},null,null,0]
[{"$f":"IF(Draw!E143=0,\"\",Draw!E143)","v":""},"",null,null,null,null,null,{"$f":"IF(B144=\"\",\"\",IF(K144=5,(SUM(C144:G144)-MAX(C144:G144)-MIN(C144:G144))/3,IF(K144=4,(SUM(C144:G144)-MAX(C144:G144))/3,SUM(C144:G144)/3))*B144/7.6)","v":""},null,null,0]
[{"$f":"IF(Draw!E144=0,\"\",Draw!E144)","v":""},"",null,null,null,null,null,{"$f":"IF(B145=\"\",\"\",IF(K145=5,(SUM(C145:G145)-MAX(C145:G145)-MIN(C145:G145))/3,IF(K145=4,(SUM(C145:G145)-MAX(C145:G145))/3,SUM(C145:G145)/3))*B145/7.6)","v":""},null,null,0]
[{"$f":"IF(Draw!E145=0,\"\",Draw!E145)","v":""},"",null,null,null,null,null,{"$f":"IF(B146=\"\",\"\",IF(K146=5,(SUM(C146:G146)-MAX(C146:G146)-MIN(C146:G146))/3,IF(K146=4,(SUM(C146:G146)-MAX(C146:G146))/3,SUM(C146:G146)/3))*B146/7.6)","v":""},null,null,0]
[{"$f":"IF(Draw!E146=0,\"\",Draw!E146)","v":""},"",null,null,null,null,null,{"$f":"IF(B147=\"\",\"\",IF(K147=5,(SUM(C147:G147)-MAX(C147:G147)-MIN(C147:G147))/3,IF(K147=4,(SUM(C147:G147)-MAX(C147:G147))/3,SUM(C147:G147)/3))*B147/7.6)","v":""},null,null,0]
[{"$f":"IF(Draw!E147=0,\"\",Draw!E147)","v":""},"",null,null,null,null,null,{"$f":"IF(B148=\"\",\"\",IF(K148=5,(SUM(C148:G148)-MAX(C148:G148)-MIN(C148:G148))/3,IF(K148=4,(SUM(C148:G148)-MAX(C148:G148))/3,SUM(C148:G148)/3))*B148/7.6)","v":""},null,null,0]
[{"$f":"IF(Draw!E148=0,\"\",Draw!E148)","v":""},"",null,null,null,null,null,{"$f":"IF(B149=\"\",\"\",IF(K149=5,(SUM(C149:G149)-MAX(C149:G149)-MIN(C149:G149))/3,IF(K149=4,(SUM(C149:G149)-MAX(C149:G149))/3,SUM(C149:G149)/3))*B149/7.6)","v":""},null,null,0]
[{"$f":"IF(Draw!E149=0,\"\",Draw!E149)","v":""},"",null,null,null,null,null,{"$f":"IF(B150=\"\",\"\",IF(K150=5,(SUM(C150:G150)-MAX(C150:G150)-MIN(C150:G150))/3,IF(K150=4,(SUM(C150:G150)-MAX(C150:G150))/3,SUM(C150:G150)/3))*B150/7.6)","v":""},null,null,0]

{"sheet":"Totals","index":5,"n_rows":151,"n_cols":51,"rows_kept":151,"cut":false,"hidden":false,"merged":[]}
["#","Swimmer","School","Total Score","Place","Figure 1","Figure 2","Figure 3","Figure 4","Penalties","Score"]
[{"$f":"IF(Draw!E2=0,\"\",Draw!E2)","v":1},"Grace Henke","Stillwater",{"$f":"IF($A2=\"\",\"\",SUM(F2:I2)-J2)","v":58.438596491228076},{"$f":"IF($A2=\"\",\"\",RANK(D2,D$2:D$150))","v":15},{"$f":"IF($A2=\"\",\"\",'Fig 1 Ballet Leg'!H3)","v":12.070175438596493},{"$f":"IF($A2=\"\",\"\",'Fig 2 Barracuda'!H3)","v":15.526315789473685},{"$f":"IF($A2=\"\",\"\",'Fig 3 Tower'!H3)","v":15},{"$f":"IF($A2=\"\",\"\",'Fig 4 Walkover'!H3)","v":15.842105263157896},{"$f":"IF($A2=\"\",\"\",'Fig 1 Ballet Leg'!I3+'Fig 2 Barracuda'!I3+'Fig 3 Tower'!I3+'Fig 4 Walkover'!I3)","v":0},{"$f":"IF($A2=\"\",\"\",IF(A2=\"\",\"\",VLOOKUP(E2,AX$3:AY$102,2,FALSE)))","v":0}]
[{"$f":"IF(Draw!E3=0,\"\",Draw!E3)","v":2},"Drazenovich, Holly","Osseo-Maple Grove",{"$f":"IF($A3=\"\",\"\",SUM(F3:I3)-J3)","v":49.723684210526322},{"$f":"IF($A3=\"\",\"\",RANK(D3,D$2:D$150))","v":53},{"$f":"IF($A3=\"\",\"\",'Fig 1 Ballet Leg'!H4)","v":10.315789473684212},{"$f":"IF($A3=\"\",\"\",'Fig 2 Barracuda'!H4)","v":13.771929824561404},{"$f":"IF($A3=\"\",\"\",'Fig 3 Tower'!H4)","v":11.083333333333334},{"$f":"IF($A3=\"\",\"\",'Fig 4 Walkover'!H4)","v":14.552631578947368},{"$f":"IF($A3=\"\",\"\",'Fig 1 Ballet Leg'!I4+'Fig 2 Barracuda'!I4+'Fig 3 Tower'!I4+'Fig 4 Walkover'!I4)","v":0},{"$f":"IF($A3=\"\",\"\",IF(A3=\"\",\"\",VLOOKUP(E3,AX$3:AY$102,2,FALSE)))","v":0},null,null,null,null,null,null,null,null,null,null,null,null,null,null,null,null,null,null,null,null,null,null,null,null,null,null,null,null,null,null,null,null,null,null,null,null,null,null,1,8]
[{"$f":"IF(Draw!E4=0,\"\",Draw!E4)","v":3},"Carolyn Wrightsman","Stillwater",56.596491228070178,25,{"$f":"IF($A4=\"\",\"\",'Fig 1 Ballet Leg'!H5)","v":12.631578947368421},{"$f":"IF($A4=\"\",\"\",'Fig 2 Barracuda'!H5)","v":14.824561403508774},{"$f":"IF($A4=\"\",\"\",'Fig 3 Tower'!H5)","v":13.666666666666666},{"$f":"IF($A4=\"\",\"\",'Fig 4 Walkover'!H5)","v":15.473684210526317},{"$f":"IF($A4=\"\",\"\",'Fig 1 Ballet Leg'!I5+'Fig 2 Barracuda'!I5+'Fig 3 Tower'!I5+'Fig 4 Walkover'!I5)","v":0},0,null,null,null,null,null,null,null,null,null,null,null,null,null,null,null,null,null,null,null,null,null,null,null,null,null,null,null,null,null,null,null,null,null,null,null,null,null,null,2,6]
[{"$f":"IF(Draw!E5=0,\"\",Draw!E5)","v":4},"Ruohoniemi, Jessica (Jess)","Osseo-Maple Grove",{"$f":"IF($A5=\"\",\"\",SUM(F5:I5)-J5)","v":52.298245614035096},{"$f":"IF($A5=\"\",\"\",RANK(D5,D$2:D$150))","v":43},{"$f":"IF($A5=\"\",\"\",'Fig 1 Ballet Leg'!H6)","v":11.298245614035089},{"$f":"IF($A5=\"\",\"\",'Fig 2 Barracuda'!H6)","v":12.982456140350878},{"$f":"IF($A5=\"\",\"\",'Fig 3 Tower'!H6)","v":13.833333333333336},{"$f":"IF($A5=\"\",\"\",'Fig 4 Walkover'!H6)","v":14.184210526315791},{"$f":"IF($A5=\"\",\"\",'Fig 1 Ballet Leg'!I6+'Fig 2 Barracuda'!I6+'Fig 3 Tower'!I6+'Fig 4 Walkover'!I6)","v":0},{"$f":"IF($A5=\"\",\"\",IF(A5=\"\",\"\",VLOOKUP(E5,AX$3:AY$102,2,FALSE)))","v":0},null,null,null,null,null,null,null,null,null,null,null,null,null,null,null,null,null,null,null,null,null,null,null,null,null,null,null,null,null,null,null,null,null,null,null,null,null,null,3,5]
[{"$f":"IF(Draw!E6=0,\"\",Draw!E6)","v":5},"Grace Zimmer","Stillwater",63.074561403508774,3,{"$f":"IF($A6=\"\",\"\",'Fig 1 Ballet Leg'!H7)","v":12.842105263157896},{"$f":"IF($A6=\"\",\"\",'Fig 2 Barracuda'!H7)","v":16.578947368421055},{"$f":"IF($A6=\"\",\"\",'Fig 3 Tower'!H7)","v":15.416666666666666},{"$f":"IF($A6=\"\",\"\",'Fig 4 Walkover'!H7)","v":18.236842105263158},{"$f":"IF($A6=\"\",\"\",'Fig 1 Ballet Leg'!I7+'Fig 2 Barracuda'!I7+'Fig 3 Tower'!I7+'Fig 4 Walkover'!I7)","v":0},5,null,null,null,null,null,null,null,null,null,null,null,null,null,null,null,null,null,null,null,null,null,null,null,null,null,null,null,null,null,null,null,null,null,null,null,null,null,null,4,4]
[{"$f":"IF(Draw!E7=0,\"\",Draw!E7)","v":6},"Grace Gualtieri","Stillwater",62.14473684210526,6,{"$f":"IF($A7=\"\",\"\",'Fig 1 Ballet Leg'!H8)","v":13.05263157894737},{"$f":"IF($A7=\"\",\"\",'Fig 2 Barracuda'!H8)","v":16.842105263157894},{"$f":"IF($A7=\"\",\"\",'Fig 3 Tower'!H8)","v":14.75},{"$f":"IF($A7=\"\",\"\",'Fig 4 Walkover'!H8)","v":17.5},{"$f":"IF($A7=\"\",\"\",'Fig 1 Ballet Leg'!I8+'Fig 2 Barracuda'!I8+'Fig 3 Tower'!I8+'Fig 4 Walkover'!I8)","v":0},2,null,null,null,null,null,null,null,null,null,null,null,null,null,null,null,null,null,null,null,null,null,null,null,null,null,null,null,null,null,null,null,null,null,null,null,null,null,null,5,3]
[{"$f":"IF(Draw!E8=0,\"\",Draw!E8)","v":7},"Jane Sorenson","Stillwater",52.083333333333336,45,{"$f":"IF($A8=\"\",\"\",'Fig 1 Ballet Leg'!H9)","v":11.368421052631581},{"$f":"IF($A8=\"\",\"\",'Fig 2 Barracuda'!H9)","v":12.982456140350878},{"$f":"IF($A8=\"\",\"\",'Fig 3 Tower'!H9)","v":13.916666666666666},{"$f":"IF($A8=\"\",\"\",'Fig 4 Walkover'!H9)","v":13.815789473684211},{"$f":"IF($A8=\"\",\"\",'Fig 1 Ballet Leg'!I9+'Fig 2 Barracuda'!I9+'Fig 3 Tower'!I9+'Fig 4 Walkover'!I9)","v":0},0,null,null,null,null,null,null,null,null,null,null,null,null,null,null,null,null,null,null,null,null,null,null,null,null,null,null,null,null,null,null,null,null,null,null,null,null,null,null,6,2]
[{"$f":"IF(Draw!E9=0,\"\",Draw!E9)","v":8},"Rubie Ballantyne","Stillwater",58.995614035087719,12,{"$f":"IF($A9=\"\",\"\",'Fig 1 Ballet Leg'!H10)","v":11.92982456140351},{"$f":"IF($A9=\"\",\"\",'Fig 2 Barracuda'!H10)","v":16.05263157894737},{"$f":"IF($A9=\"\",\"\",'Fig 3 Tower'!H10)","v":14.25},{"$f":"IF($A9=\"\",\"\",'Fig 4 Walkover'!H10)","v":16.763157894736842},{"$f":"IF($A9=\"\",\"\",'Fig 1 Ballet Leg'!I10+'Fig 2 Barracuda'!I10+'Fig 3 Tower'!I10+'Fig 4 Walkover'!I10)","v":0},0,null,null,null,null,null,null,null,null,null,null,null,null,null,null,null,null,null,null,null,null,null,null,null,null,null,null,null,null,null,null,null,null,null,null,null,null,null,null,7,1]
[{"$f":"IF(Draw!E10=0,\"\",Draw!E10)","v":9},"Hannah Dettmann","Stillwater",58.938596491228083,13,{"$f":"IF($A10=\"\",\"\",'Fig 1 Ballet Leg'!H11)","v":11.92982456140351},{"$f":"IF($A10=\"\",\"\",'Fig 2 Barracuda'!H11)","v":15.964912280701755},{"$f":"IF($A10=\"\",\"\",'Fig 3 Tower'!H11)","v":14.833333333333334},{"$f":"IF($A10=\"\",\"\",'Fig 4 Walkover'!H11)","v":16.210526315789476},{"$f":"IF($A10=\"\",\"\",'Fig 1 Ballet Leg'!I11+'Fig 2 Barracuda'!I11+'Fig 3 Tower'!I11+'Fig 4 Walkover'!I11)","v":0},0,null,null,null,null,null,null,null,null,null,null,null,null,null,null,null,null,null,null,null,null,null,null,null,null,null,null,null,null,null,null,null,null,null,null,null,null,null,null,8,0]
[{"$f":"IF(Draw!E11=0,\"\",Draw!E11)","v":10},"Ellie Bliss","Stillwater",55.535087719298254,28,{"$f":"IF($A11=\"\",\"\",'Fig 1 Ballet Leg'!H12)","v":11.298245614035089},{"$f":"IF($A11=\"\",\"\",'Fig 2 Barracuda'!H12)","v":14.561403508771932},{"$f":"IF($A11=\"\",\"\",'Fig 3 Tower'!H12)","v":13.833333333333336},{"$f":"IF($A11=\"\",\"\",'Fig 4 Walkover'!H12)","v":15.842105263157896},{"$f":"IF($A11=\"\",\"\",'Fig 1 Ballet Leg'!I12+'Fig 2 Barracuda'!I12+'Fig 3 Tower'!I12+'Fig 4 Walkover'!I12)","v":0},0,null,null,null,null,null,null,null,null,null,null,null,null,null,null,null,null,null,null,null,null,null,null,null,null,null,null,null,null,null,null,null,null,null,null,null,null,null,null,9,0]
[{"$f":"IF(Draw!E12=0,\"\",Draw!E12)","v":11},"Ganser, Anna","Osseo-Maple Grove",60.057017543859651,7,{"$f":"IF($A12=\"\",\"\",'Fig 1 Ballet Leg'!H13)","v":13.333333333333336},{"$f":"IF($A12=\"\",\"\",'Fig 2 Barracuda'!H13)","v":15.43859649122807},{"$f":"IF($A12=\"\",\"\",'Fig 3 Tower'!H13)","v":15.166666666666666},{"$f":"IF($A12=\"\",\"\",'Fig 4 Walkover'!H13)","v":16.118421052631582},{"$f":"IF($A12=\"\",\"\",'Fig 1 Ballet Leg'!I13+'Fig 2 Barracuda'!I13+'Fig 3 Tower'!I13+'Fig 4 Walkover'!I13)","v":0},1,null,null,null,null,null,null,null,null,null,null,null,null,null,null,null,null,null,null,null,null,null,null,null,null,null,null,null,null,null,null,null,null,null,null,null,null,null,null,10,0]
[{"$f":"IF(Draw!E13=0,\"\",Draw!E13)","v":12},"Miranda Bergan","Stillwater",58.192982456140356,17,{"$f":"IF($A13=\"\",\"\",'Fig 1 Ballet Leg'!H14)","v":12.280701754385968},{"$f":"IF($A13=\"\",\"\",'Fig 2 Barracuda'!H14)","v":15.877192982456142},{"$f":"IF($A13=\"\",\"\",'Fig 3 Tower'!H14)","v":13.916666666666666},{"$f":"IF($A13=\"\",\"\",'Fig 4 Walkover'!H14)","v":16.118421052631582},{"$f":"IF($A13=\"\",\"\",'Fig 1 Ballet Leg'!I14+'Fig 2 Barracuda'!I14+'Fig 3 Tower'!I14+'Fig 4 Walkover'!I14)","v":0},0,null,null,null,null,null,null,null,null,null,null,null,null,null,null,null,null,null,null,null,null,null,null,null,null,null,null,null,null,null,null,null,null,null,null,null,null,null,null,11,0]
[{"$f":"IF(Draw!E14=0,\"\",Draw!E14)","v":13},"Waldron, Zoe","Osseo-Maple Grove",54.837719298245617,33,{"$f":"IF($A14=\"\",\"\",'Fig 1 Ballet Leg'!H15)","v":11.859649122807019},{"$f":"IF($A14=\"\",\"\",'Fig 2 Barracuda'!H15)","v":14.824561403508774},{"$f":"IF($A14=\"\",\"\",'Fig 3 Tower'!H15)","v":13.416666666666666},{"$f":"IF($A14=\"\",\"\",'Fig 4 Walkover'!H15)","v":14.736842105263161},{"$f":"IF($A14=\"\",\"\",'Fig 1 Ballet Leg'!I15+'Fig 2 Barracuda'!I15+'Fig 3 Tower'!I15+'Fig 4 Walkover'!I15)","v":0},0,null,null,null,null,null,null,null,null,null,null,null,null,null,null,null,null,null,null,null,null,null,null,null,null,null,null,null,null,null,null,null,null,null,null,null,null,null,null,12,0]
[{"$f":"IF(Draw!E15=0,\"\",Draw!E15)","v":14},"Vanderwarn, Marie","Osseo-Maple Grove",56.276315789473692,27,{"$f":"IF($A15=\"\",\"\",'Fig 1 Ballet Leg'!H16)","v":11.789473684210527},{"$f":"IF($A15=\"\",\"\",'Fig 2 Barracuda'!H16)","v":15.087719298245615},{"$f":"IF($A15=\"\",\"\",'Fig 3 Tower'!H16)","v":13.833333333333336},{"$f":"IF($A15=\"\",\"\",'Fig 4 Walkover'!H16)","v":15.565789473684212},{"$f":"IF($A15=\"\",\"\",'Fig 1 Ballet Leg'!I16+'Fig 2 Barracuda'!I16+'Fig 3 Tower'!I16+'Fig 4 Walkover'!I16)","v":0},0,null,null,null,null,null,null,null,null,null,null,null,null,null,null,null,null,null,null,null,null,null,null,null,null,null,null,null,null,null,null,null,null,null,null,null,null,null,null,13,0]
[{"$f":"IF(Draw!E16=0,\"\",Draw!E16)","v":15},"Linnea Coltvet","Stillwater",59.425438596491226,10,{"$f":"IF($A16=\"\",\"\",'Fig 1 Ballet Leg'!H17)","v":13.192982456140351},{"$f":"IF($A16=\"\",\"\",'Fig 2 Barracuda'!H17)","v":15.263157894736842},{"$f":"IF($A16=\"\",\"\",'Fig 3 Tower'!H17)","v":14.666666666666666},{"$f":"IF($A16=\"\",\"\",'Fig 4 Walkover'!H17)","v":16.30263157894737},{"$f":"IF($A16=\"\",\"\",'Fig 1 Ballet Leg'!I17+'Fig 2 Barracuda'!I17+'Fig 3 Tower'!I17+'Fig 4 Walkover'!I17)","v":0},0,null,null,null,null,null,null,null,null,null,null,null,null,null,null,null,null,null,null,null,null,null,null,null,null,null,null,null,null,null,null,null,null,null,null,null,null,null,null,14,0]
[{"$f":"IF(Draw!E17=0,\"\",Draw!E17)","v":16},"Ryann Ellis","Stillwater",54.719298245614041,35,{"$f":"IF($A17=\"\",\"\",'Fig 1 Ballet Leg'!H18)","v":10.807017543859651},{"$f":"IF($A17=\"\",\"\",'Fig 2 Barracuda'!H18)","v":14.473684210526317},{"$f":"IF($A17=\"\",\"\",'Fig 3 Tower'!H18)","v":14.333333333333334},{"$f":"IF($A17=\"\",\"\",'Fig 4 Walkover'!H18)","v":15.105263157894738},{"$f":"IF($A17=\"\",\"\",'Fig 1 Ballet Leg'!I18+'Fig 2 Barracuda'!I18+'Fig 3 Tower'!I18+'Fig 4 Walkover'!I18)","v":0},0,null,null,null,null,null,null,null,null,null,null,null,null,null,null,null,null,null,null,null,null,null,null,null,null,null,null,null,null,null,null,null,null,null,null,null,null,null,null,15,0]
[{"$f":"IF(Draw!E18=0,\"\",Draw!E18)","v":17},"Kya Hodgdon","Stillwater",52.258771929824562,44,{"$f":"IF($A18=\"\",\"\",'Fig 1 Ballet Leg'!H19)","v":11.017543859649125},{"$f":"IF($A18=\"\",\"\",'Fig 2 Barracuda'!H19)","v":14.298245614035089},{"$f":"IF($A18=\"\",\"\",'Fig 3 Tower'!H19)","v":12.666666666666666},{"$f":"IF($A18=\"\",\"\",'Fig 4 Walkover'!H19)","v":14.276315789473685},{"$f":"IF($A18=\"\",\"\",'Fig 1 Ballet Leg'!I19+'Fig 2 Barracuda'!I19+'Fig 3 Tower'!I19+'Fig 4 Walkover'!I19)","v":0},0,null,null,null,null,null,null,null,null,null,null,null,null,null,null,null,null,null,null,null,null,null,null,null,null,null,null,null,null,null,null,null,null,null,null,null,null,null,null,16,0]
[{"$f":"IF(Draw!E19=0,\"\",Draw!E19)","v":18},"Hawes, Danielle","Osseo-Maple Grove",59.100877192982452,11,{"$f":"IF($A19=\"\",\"\",'Fig 1 Ballet Leg'!H20)","v":12.912280701754387},{"$f":"IF($A19=\"\",\"\",'Fig 2 Barracuda'!H20)","v":15},{"$f":"IF($A19=\"\",\"\",'Fig 3 Tower'!H20)","v":14.333333333333334},{"$f":"IF($A19=\"\",\"\",'Fig 4 Walkover'!H20)","v":16.855263157894736},{"$f":"IF($A19=\"\",\"\",'Fig 1 Ballet Leg'!I20+'Fig 2 Barracuda'!I20+'Fig 3 Tower'!I20+'Fig 4 Walkover'!I20)","v":0},0,null,null,null,null,null,null,null,null,null,null,null,null,null,null,null,null,null,null,null,null,null,null,null,null,null,null,null,null,null,null,null,null,null,null,null,null,null,null,17,0]
[{"$f":"IF(Draw!E20=0,\"\",Draw!E20)","v":19},"Andrea Finholt","Stillwater",53.583333333333336,37,{"$f":"IF($A20=\"\",\"\",'Fig 1 Ballet Leg'!H21)","v":11.92982456140351},{"$f":"IF($A20=\"\",\"\",'Fig 2 Barracuda'!H21)","v":14.210526315789474},{"$f":"IF($A20=\"\",\"\",'Fig 3 Tower'!H21)","v":13.166666666666666},{"$f":"IF($A20=\"\",\"\",'Fig 4 Walkover'!H21)","v":14.276315789473685},{"$f":"IF($A20=\"\",\"\",'Fig 1 Ballet Leg'!I21+'Fig 2 Barracuda'!I21+'Fig 3 Tower'!I21+'Fig 4 Walkover'!I21)","v":0},0,null,null,null,null,null,null,null,null,null,null,null,null,null,null,null,null,null,null,null,null,null,null,null,null,null,null,null,null,null,null,null,null,null,null,null,null,null,null,18,0]
[{"$f":"IF(Draw!E21=0,\"\",Draw!E21)","v":20},"Sophie Ogaard","Stillwater",64.09210526315789,1,{"$f":"IF($A21=\"\",\"\",'Fig 1 Ballet Leg'!H22)","v":13.333333333333336},{"$f":"IF($A21=\"\",\"\",'Fig 2 Barracuda'!H22)","v":16.842105263157894},{"$f":"IF($A21=\"\",\"\",'Fig 3 Tower'!H22)","v":16.416666666666668},{"$f":"IF($A21=\"\",\"\",'Fig 4 Walkover'!H22)","v":17.5},{"$f":"IF($A21=\"\",\"\",'Fig 1 Ballet Leg'!I22+'Fig 2 Barracuda'!I22+'Fig 3 Tower'!I22+'Fig 4 Walkover'!I22)","v":0},8,null,null,null,null,null,null,null,null,null,null,null,null,null,null,null,null,null,null,null,null,null,null,null,null,null,null,null,null,null,null,null,null,null,null,null,null,null,null,19,0]
[{"$f":"IF(Draw!E22=0,\"\",Draw!E22)","v":21},"Ali Gerard","Stillwater",54.793859649122808,34,{"$f":"IF($A22=\"\",\"\",'Fig 1 Ballet Leg'!H23)","v":11.789473684210527},{"$f":"IF($A22=\"\",\"\",'Fig 2 Barracuda'!H23)","v":15.175438596491228},{"$f":"IF($A22=\"\",\"\",'Fig 3 Tower'!H23)","v":13},{"$f":"IF($A22=\"\",\"\",'Fig 4 Walkover'!H23)","v":14.828947368421053},{"$f":"IF($A22=\"\",\"\",'Fig 1 Ballet Leg'!I23+'Fig 2 Barracuda'!I23+'Fig 3 Tower'!I23+'Fig 4 Walkover'!I23)","v":0},0,null,null,null,null,null,null,null,null,null,null,null,null,null,null,null,null,null,null,null,null,null,null,null,null,null,null,null,null,null,null,null,null,null,null,null,null,null,null,20,0]
[{"$f":"IF(Draw!E23=0,\"\",Draw!E23)","v":22},"Grace Sneden","Stillwater",56.780701754385973,23,{"$f":"IF($A23=\"\",\"\",'Fig 1 Ballet Leg'!H24)","v":11.92982456140351},{"$f":"IF($A23=\"\",\"\",'Fig 2 Barracuda'!H24)","v":15.701754385964913},{"$f":"IF($A23=\"\",\"\",'Fig 3 Tower'!H24)","v":13.583333333333334},{"$f":"IF($A23=\"\",\"\",'Fig 4 Walkover'!H24)","v":15.565789473684212},{"$f":"IF($A23=\"\",\"\",'Fig 1 Ballet Leg'!I24+'Fig 2 Barracuda'!I24+'Fig 3 Tower'!I24+'Fig 4 Walkover'!I24)","v":0},0,null,null,null,null,null,null,null,null,null,null,null,null,null,null,null,null,null,null,null,null,null,null,null,null,null,null,null,null,null,null,null,null,null,null,null,null,null,null,21,0]
[{"$f":"IF(Draw!E24=0,\"\",Draw!E24)","v":23},"Moline, Katelyn (Katie)","Osseo-Maple Grove",52.504385964912288,40,{"$f":"IF($A24=\"\",\"\",'Fig 1 Ballet Leg'!H25)","v":11.157894736842108},{"$f":"IF($A24=\"\",\"\",'Fig 2 Barracuda'!H25)","v":13.684210526315789},{"$f":"IF($A24=\"\",\"\",'Fig 3 Tower'!H25)","v":12.833333333333334},{"$f":"IF($A24=\"\",\"\",'Fig 4 Walkover'!H25)","v":14.828947368421053},{"$f":"IF($A24=\"\",\"\",'Fig 1 Ballet Leg'!I25+'Fig 2 Barracuda'!I25+'Fig 3 Tower'!I25+'Fig 4 Walkover'!I25)","v":0},0,null,null,null,null,null,null,null,null,null,null,null,null,null,null,null,null,null,null,null,null,null,null,null,null,null,null,null,null,null,null,null,null,null,null,null,null,null,null,22,0]
[{"$f":"IF(Draw!E25=0,\"\",Draw!E25)","v":24},"Prentice, Margo","Osseo-Maple Grove",51.333333333333343,49,{"$f":"IF($A25=\"\",\"\",'Fig 1 Ballet Leg'!H26)","v":10.947368421052632},{"$f":"IF($A25=\"\",\"\",'Fig 2 Barracuda'!H26)","v":12.982456140350878},{"$f":"IF($A25=\"\",\"\",'Fig 3 Tower'!H26)","v":12.666666666666666},{"$f":"IF($A25=\"\",\"\",'Fig 4 Walkover'!H26)","v":14.736842105263161},{"$f":"IF($A25=\"\",\"\",'Fig 1 Ballet Leg'!I26+'Fig 2 Barracuda'!I26+'Fig 3 Tower'!I26+'Fig 4 Walkover'!I26)","v":0},0,null,null,null,null,null,null,null,null,null,null,null,null,null,null,null,null,null,null,null,null,null,null,null,null,null,null,null,null,null,null,null,null,null,null,null,null,null,null,23,0]
[{"$f":"IF(Draw!E26=0,\"\",Draw!E26)","v":25},"Honnold, Emily","Osseo-Maple Grove",47.434210526315795,55,{"$f":"IF($A26=\"\",\"\",'Fig 1 Ballet Leg'!H27)","v":9.9649122807017552},{"$f":"IF($A26=\"\",\"\",'Fig 2 Barracuda'!H27)","v":12.719298245614036},{"$f":"IF($A26=\"\",\"\",'Fig 3 Tower'!H27)","v":10.75},{"$f":"IF($A26=\"\",\"\",'Fig 4 Walkover'!H27)","v":14.000000000000002},{"$f":"IF($A26=\"\",\"\",'Fig 1 Ballet Leg'!I27+'Fig 2 Barracuda'!I27+'Fig 3 Tower'!I27+'Fig 4 Walkover'!I27)","v":0},0,null,null,null,null,null,null,null,null,null,null,null,null,null,null,null,null,null,null,null,null,null,null,null,null,null,null,null,null,null,null,null,null,null,null,null,null,null,null,24,0]
[{"$f":"IF(Draw!E27=0,\"\",Draw!E27)","v":26},"Laborde, Caroline","Osseo-Maple Grove",52.833333333333336,39,{"$f":"IF($A27=\"\",\"\",'Fig 1 Ballet Leg'!H28)","v":11.228070175438598},{"$f":"IF($A27=\"\",\"\",'Fig 2 Barracuda'!H28)","v":14.385964912280702},{"$f":"IF($A27=\"\",\"\",'Fig 3 Tower'!H28)","v":12.666666666666666},{"$f":"IF($A27=\"\",\"\",'Fig 4 Walkover'!H28)","v":14.552631578947368},{"$f":"IF($A27=\"\",\"\",'Fig 1 Ballet Leg'!I28+'Fig 2 Barracuda'!I28+'Fig 3 Tower'!I28+'Fig 4 Walkover'!I28)","v":0},0,null,null,null,null,null,null,null,null,null,null,null,null,null,null,null,null,null,null,null,null,null,null,null,null,null,null,null,null,null,null,null,null,null,null,null,null,null,null,25,0]
[{"$f":"IF(Draw!E28=0,\"\",Draw!E28)","v":27},"Peters, Madison","Osseo-Maple Grove",51.578947368421055,47,{"$f":"IF($A28=\"\",\"\",'Fig 1 Ballet Leg'!H29)","v":10.807017543859651},{"$f":"IF($A28=\"\",\"\",'Fig 2 Barracuda'!H29)","v":13.421052631578949},{"$f":"IF($A28=\"\",\"\",'Fig 3 Tower'!H29)","v":13.166666666666666},{"$f":"IF($A28=\"\",\"\",'Fig 4 Walkover'!H29)","v":14.184210526315791},{"$f":"IF($A28=\"\",\"\",'Fig 1 Ballet Leg'!I29+'Fig 2 Barracuda'!I29+'Fig 3 Tower'!I29+'Fig 4 Walkover'!I29)","v":0},0,null,null,null,null,null,null,null,null,null,null,null,null,null,null,null,null,null,null,null,null,null,null,null,null,null,null,null,null,null,null,null,null,null,null,null,null,null,null,26,0]
[{"$f":"IF(Draw!E29=0,\"\",Draw!E29)","v":28},"Hammann, Allison","Osseo-Maple Grove",49.723684210526315,54,{"$f":"IF($A29=\"\",\"\",'Fig 1 Ballet Leg'!H30)","v":11.578947368421053},{"$f":"IF($A29=\"\",\"\",'Fig 2 Barracuda'!H30)","v":12.807017543859649},{"$f":"IF($A29=\"\",\"\",'Fig 3 Tower'!H30)","v":12.166666666666666},{"$f":"IF($A29=\"\",\"\",'Fig 4 Walkover'!H30)","v":13.171052631578947},{"$f":"IF($A29=\"\",\"\",'Fig 1 Ballet Leg'!I30+'Fig 2 Barracuda'!I30+'Fig 3 Tower'!I30+'Fig 4 Walkover'!I30)","v":0},0,null,null,null,null,null,null,null,null,null,null,null,null,null,null,null,null,null,null,null,null,null,null,null,null,null,null,null,null,null,null,null,null,null,null,null,null,null,null,27,0]
[{"$f":"IF(Draw!E30=0,\"\",Draw!E30)","v":29},"McBride, Elizabeth (Lizzy)","Osseo-Maple Grove",62.236842105263165,5,{"$f":"IF($A30=\"\",\"\",'Fig 1 Ballet Leg'!H31)","v":12.842105263157896},{"$f":"IF($A30=\"\",\"\",'Fig 2 Barracuda'!H31)","v":16.403508771929825},{"$f":"IF($A30=\"\",\"\",'Fig 3 Tower'!H31)","v":15.583333333333334},{"$f":"IF($A30=\"\",\"\",'Fig 4 Walkover'!H31)","v":17.407894736842106},{"$f":"IF($A30=\"\",\"\",'Fig 1 Ballet Leg'!I31+'Fig 2 Barracuda'!I31+'Fig 3 Tower'!I31+'Fig 4 Walkover'!I31)","v":0},3,null,null,null,null,null,null,null,null,null,null,null,null,null,null,null,null,null,null,null,null,null,null,null,null,null,null,null,null,null,null,null,null,null,null,null,null,null,null,28,0]
[{"$f":"IF(Draw!E31=0,\"\",Draw!E31)","v":30},"Sophie Browning","Stillwater",50.872807017543863,50,{"$f":"IF($A31=\"\",\"\",'Fig 1 Ballet Leg'!H32)","v":11.228070175438598},{"$f":"IF($A31=\"\",\"\",'Fig 2 Barracuda'!H32)","v":13.771929824561404},{"$f":"IF($A31=\"\",\"\",'Fig 3 Tower'!H32)","v":12.333333333333334},{"$f":"IF($A31=\"\",\"\",'Fig 4 Walkover'!H32)","v":13.539473684210527},{"$f":"IF($A31=\"\",\"\",'Fig 1 Ballet Leg'!I32+'Fig 2 Barracuda'!I32+'Fig 3 Tower'!I32+'Fig 4 Walkover'!I32)","v":0},0,null,null,null,null,null,null,null,null,null,null,null,null,null,null,null,null,null,null,null,null,null,null,null,null,null,null,null,null,null,null,null,null,null,null,null,null,null,null,29,0]
[{"$f":"IF(Draw!E32=0,\"\",Draw!E32)","v":31},"McNamee, Kelly","Osseo-Maple Grove",54.995614035087719,32,{"$f":"IF($A32=\"\",\"\",'Fig 1 Ballet Leg'!H33)","v":12.982456140350878},{"$f":"IF($A32=\"\",\"\",'Fig 2 Barracuda'!H33)","v":14.385964912280702},{"$f":"IF($A32=\"\",\"\",'Fig 3 Tower'!H33)","v":13.166666666666666},{"$f":"IF($A32=\"\",\"\",'Fig 4 Walkover'!H33)","v":14.460526315789474},{"$f":"IF($A32=\"\",\"\",'Fig 1 Ballet Leg'!I33+'Fig 2 Barracuda'!I33+'Fig 3 Tower'!I33+'Fig 4 Walkover'!I33)","v":0},0,null,null,null,null,null,null,null,null,null,null,null,null,null,null,null,null,null,null,null,null,null,null,null,null,null,null,null,null,null,null,null,null,null,null,null,null,null,null,30,0]
[{"$f":"IF(Draw!E33=0,\"\",Draw!E33)","v":32},"Claire Summary","Stillwater",57.899122807017548,19,{"$f":"IF($A33=\"\",\"\",'Fig 1 Ballet Leg'!H34)","v":13.05263157894737},{"$f":"IF($A33=\"\",\"\",'Fig 2 Barracuda'!H34)","v":15.263157894736842},{"$f":"IF($A33=\"\",\"\",'Fig 3 Tower'!H34)","v":13.833333333333336},{"$f":"IF($A33=\"\",\"\",'Fig 4 Walkover'!H34)","v":15.750000000000002},{"$f":"IF($A33=\"\",\"\",'Fig 1 Ballet Leg'!I34+'Fig 2 Barracuda'!I34+'Fig 3 Tower'!I34+'Fig 4 Walkover'!I34)","v":0},0,null,null,null,null,null,null,null,null,null,null,null,null,null,null,null,null,null,null,null,null,null,null,null,null,null,null,null,null,null,null,null,null,null,null,null,null,null,null,31,0]
[{"$f":"IF(Draw!E34=0,\"\",Draw!E34)","v":33},"Isabel Solheim","Stillwater",59.600877192982452,8,{"$f":"IF($A34=\"\",\"\",'Fig 1 Ballet Leg'!H35)","v":12.49122807017544},{"$f":"IF($A34=\"\",\"\",'Fig 2 Barracuda'!H35)","v":15.43859649122807},{"$f":"IF($A34=\"\",\"\",'Fig 3 Tower'!H35)","v":15},{"$f":"IF($A34=\"\",\"\",'Fig 4 Walkover'!H35)","v":16.671052631578949},{"$f":"IF($A34=\"\",\"\",'Fig 1 Ballet Leg'!I35+'Fig 2 Barracuda'!I35+'Fig 3 Tower'!I35+'Fig 4 Walkover'!I35)","v":0},0,null,null,null,null,null,null,null,null,null,null,null,null,null,null,null,null,null,null,null,null,null,null,null,null,null,null,null,null,null,null,null,null,null,null,null,null,null,null,32,0]
[{"$f":"IF(Draw!E35=0,\"\",Draw!E35)","v":34},"Emily Cossetta","Stillwater",56.877192982456151,22,{"$f":"IF($A35=\"\",\"\",'Fig 1 Ballet Leg'!H36)","v":12.070175438596493},{"$f":"IF($A35=\"\",\"\",'Fig 2 Barracuda'!H36)","v":14.649122807017545},{"$f":"IF($A35=\"\",\"\",'Fig 3 Tower'!H36)","v":14.5},{"$f":"IF($A35=\"\",\"\",'Fig 4 Walkover'!H36)","v":15.657894736842106},{"$f":"IF($A35=\"\",\"\",'Fig 1 Ballet Leg'!I36+'Fig 2 Barracuda'!I36+'Fig 3 Tower'!I36+'Fig 4 Walkover'!I36)","v":0},0,null,null,null,null,null,null,null,null,null,null,null,null,null,null,null,null,null,null,null,null,null,null,null,null,null,null,null,null,null,null,null,null,null,null,null,null,null,null,33,0]
[{"$f":"IF(Draw!E36=0,\"\",Draw!E36)","v":35},"Mason, Ellery","Osseo-Maple Grove",0,56,{"$f":"IF($A36=\"\",\"\",'Fig 1 Ballet Leg'!H37)","v":0},{"$f":"IF($A36=\"\",\"\",'Fig 2 Barracuda'!H37)","v":0},{"$f":"IF($A36=\"\",\"\",'Fig 3 Tower'!H37)","v":0},{"$f":"IF($A36=\"\",\"\",'Fig 4 Walkover'!H37)","v":0},{"$f":"IF($A36=\"\",\"\",'Fig 1 Ballet Leg'!I37+'Fig 2 Barracuda'!I37+'Fig 3 Tower'!I37+'Fig 4 Walkover'!I37)","v":0},0,null,null,null,null,null,null,null,null,null,null,null,null,null,null,null,null,null,null,null,null,null,null,null,null,null,null,null,null,null,null,null,null,null,null,null,null,null,null,34,0]
[{"$f":"IF(Draw!E37=0,\"\",Draw!E37)","v":36},"Kaitlin Johnson","Stillwater",53.916666666666671,36,{"$f":"IF($A37=\"\",\"\",'Fig 1 Ballet Leg'!H38)","v":11.438596491228072},{"$f":"IF($A37=\"\",\"\",'Fig 2 Barracuda'!H38)","v":14.649122807017545},{"$f":"IF($A37=\"\",\"\",'Fig 3 Tower'!H38)","v":13},{"$f":"IF($A37=\"\",\"\",'Fig 4 Walkover'!H38)","v":14.828947368421053},{"$f":"IF($A37=\"\",\"\",'Fig 1 Ballet Leg'!I38+'Fig 2 Barracuda'!I38+'Fig 3 Tower'!I38+'Fig 4 Walkover'!I38)","v":0},0,null,null,null,null,null,null,null,null,null,null,null,null,null,null,null,null,null,null,null,null,null,null,null,null,null,null,null,null,null,null,null,null,null,null,null,null,null,null,35,0]
[{"$f":"IF(Draw!E38=0,\"\",Draw!E38)","v":37},"Emma Sneden","Stillwater",59.530701754385966,9,{"$f":"IF($A38=\"\",\"\",'Fig 1 Ballet Leg'!H39)","v":13.894736842105265},{"$f":"IF($A38=\"\",\"\",'Fig 2 Barracuda'!H39)","v":16.403508771929825},{"$f":"IF($A38=\"\",\"\",'Fig 3 Tower'!H39)","v":13.666666666666666},{"$f":"IF($A38=\"\",\"\",'Fig 4 Walkover'!H39)","v":15.565789473684212},{"$f":"IF($A38=\"\",\"\",'Fig 1 Ballet Leg'!I39+'Fig 2 Barracuda'!I39+'Fig 3 Tower'!I39+'Fig 4 Walkover'!I39)","v":0},0,null,null,null,null,null,null,null,null,null,null,null,null,null,null,null,null,null,null,null,null,null,null,null,null,null,null,null,null,null,null,null,null,null,null,null,null,null,null,36,0]
[{"$f":"IF(Draw!E39=0,\"\",Draw!E39)","v":38},"Greta Bliss","Stillwater",56.925438596491233,21,{"$f":"IF($A39=\"\",\"\",'Fig 1 Ballet Leg'!H40)","v":11.508771929824562},{"$f":"IF($A39=\"\",\"\",'Fig 2 Barracuda'!H40)","v":15.877192982456142},{"$f":"IF($A39=\"\",\"\",'Fig 3 Tower'!H40)","v":14.25},{"$f":"IF($A39=\"\",\"\",'Fig 4 Walkover'!H40)","v":15.289473684210527},{"$f":"IF($A39=\"\",\"\",'Fig 1 Ballet Leg'!I40+'Fig 2 Barracuda'!I40+'Fig 3 Tower'!I40+'Fig 4 Walkover'!I40)","v":0},0,null,null,null,null,null,null,null,null,null,null,null,null,null,null,null,null,null,null,null,null,null,null,null,null,null,null,null,null,null,null,null,null,null,null,null,null,null,null,37,0]
[{"$f":"IF(Draw!E40=0,\"\",Draw!E40)","v":39},"Vrba, Elena (Ellie)","Osseo-Maple Grove",0,56,{"$f":"IF($A40=\"\",\"\",'Fig 1 Ballet Leg'!H41)","v":0},{"$f":"IF($A40=\"\",\"\",'Fig 2 Barracuda'!H41)","v":0},{"$f":"IF($A40=\"\",\"\",'Fig 3 Tower'!H41)","v":0},{"$f":"IF($A40=\"\",\"\",'Fig 4 Walkover'!H41)","v":0},{"$f":"IF($A40=\"\",\"\",'Fig 1 Ballet Leg'!I41+'Fig 2 Barracuda'!I41+'Fig 3 Tower'!I41+'Fig 4 Walkover'!I41)","v":0},0,null,null,null,null,null,null,null,null,null,null,null,null,null,null,null,null,null,null,null,null,null,null,null,null,null,null,null,null,null,null,null,null,null,null,null,null,null,null,38,0]
[{"$f":"IF(Draw!E41=0,\"\",Draw!E41)","v":40},"Emily Shanley","Stillwater",51.35526315789474,48,{"$f":"IF($A41=\"\",\"\",'Fig 1 Ballet Leg'!H42)","v":11.649122807017546},{"$f":"IF($A41=\"\",\"\",'Fig 2 Barracuda'!H42)","v":12.982456140350878},{"$f":"IF($A41=\"\",\"\",'Fig 3 Tower'!H42)","v":13},{"$f":"IF($A41=\"\",\"\",'Fig 4 Walkover'!H42)","v":13.723684210526317},{"$f":"IF($A41=\"\",\"\",'Fig 1 Ballet Leg'!I42+'Fig 2 Barracuda'!I42+'Fig 3 Tower'!I42+'Fig 4 Walkover'!I42)","v":0},0,null,null,null,null,null,null,null,null,null,null,null,null,null,null,null,null,null,null,null,null,null,null,null,null,null,null,null,null,null,null,null,null,null,null,null,null,null,null,39,0]
[{"$f":"IF(Draw!E42=0,\"\",Draw!E42)","v":41},"Raina Hoge","Stillwater",55.228070175438596,30,{"$f":"IF($A42=\"\",\"\",'Fig 1 Ballet Leg'!H43)","v":11.92982456140351},{"$f":"IF($A42=\"\",\"\",'Fig 2 Barracuda'!H43)","v":15.350877192982457},{"$f":"IF($A42=\"\",\"\",'Fig 3 Tower'!H43)","v":12.75},{"$f":"IF($A42=\"\",\"\",'Fig 4 Walkover'!H43)","v":15.197368421052632},{"$f":"IF($A42=\"\",\"\",'Fig 1 Ballet Leg'!I43+'Fig 2 Barracuda'!I43+'Fig 3 Tower'!I43+'Fig 4 Walkover'!I43)","v":0},0,null,null,null,null,null,null,null,null,null,null,null,null,null,null,null,null,null,null,null,null,null,null,null,null,null,null,null,null,null,null,null,null,null,null,null,null,null,null,40,0]
[{"$f":"IF(Draw!E43=0,\"\",Draw!E43)","v":42},"Courtney Lillemoen","Stillwater",55.223684210526315,31,{"$f":"IF($A43=\"\",\"\",'Fig 1 Ballet Leg'!H44)","v":11.228070175438598},{"$f":"IF($A43=\"\",\"\",'Fig 2 Barracuda'!H44)","v":15.175438596491228},{"$f":"IF($A43=\"\",\"\",'Fig 3 Tower'!H44)","v":14.083333333333334},{"$f":"IF($A43=\"\",\"\",'Fig 4 Walkover'!H44)","v":14.736842105263161},{"$f":"IF($A43=\"\",\"\",'Fig 1 Ballet Leg'!I44+'Fig 2 Barracuda'!I44+'Fig 3 Tower'!I44+'Fig 4 Walkover'!I44)","v":0},0,null,null,null,null,null,null,null,null,null,null,null,null,null,null,null,null,null,null,null,null,null,null,null,null,null,null,null,null,null,null,null,null,null,null,null,null,null,null,41,0]
[{"$f":"IF(Draw!E44=0,\"\",Draw!E44)","v":43},"Trudeau, Alexandra (Trudy)","Osseo-Maple Grove",50.60526315789474,51,{"$f":"IF($A44=\"\",\"\",'Fig 1 Ballet Leg'!H45)","v":11.017543859649125},{"$f":"IF($A44=\"\",\"\",'Fig 2 Barracuda'!H45)","v":13.947368421052632},{"$f":"IF($A44=\"\",\"\",'Fig 3 Tower'!H45)","v":11.916666666666666},{"$f":"IF($A44=\"\",\"\",'Fig 4 Walkover'!H45)","v":13.723684210526317},{"$f":"IF($A44=\"\",\"\",'Fig 1 Ballet Leg'!I45+'Fig 2 Barracuda'!I45+'Fig 3 Tower'!I45+'Fig 4 Walkover'!I45)","v":0},0,null,null,null,null,null,null,null,null,null,null,null,null,null,null,null,null,null,null,null,null,null,null,null,null,null,null,null,null,null,null,null,null,null,null,null,null,null,null,42,0]
[{"$f":"IF(Draw!E45=0,\"\",Draw!E45)","v":44},"Aubrie Filandrinos","Stillwater",56.526315789473685,26,{"$f":"IF($A45=\"\",\"\",'Fig 1 Ballet Leg'!H46)","v":12.070175438596493},{"$f":"IF($A45=\"\",\"\",'Fig 2 Barracuda'!H46)","v":14.473684210526317},{"$f":"IF($A45=\"\",\"\",'Fig 3 Tower'!H46)","v":14.416666666666666},{"$f":"IF($A45=\"\",\"\",'Fig 4 Walkover'!H46)","v":15.565789473684212},{"$f":"IF($A45=\"\",\"\",'Fig 1 Ballet Leg'!I46+'Fig 2 Barracuda'!I46+'Fig 3 Tower'!I46+'Fig 4 Walkover'!I46)","v":0},0,null,null,null,null,null,null,null,null,null,null,null,null,null,null,null,null,null,null,null,null,null,null,null,null,null,null,null,null,null,null,null,null,null,null,null,null,null,null,43,0]
[{"$f":"IF(Draw!E46=0,\"\",Draw!E46)","v":45},"Olsen, Katherine (Katie)","Osseo-Maple Grove",52.390350877192986,42,{"$f":"IF($A46=\"\",\"\",'Fig 1 Ballet Leg'!H47)","v":11.438596491228072},{"$f":"IF($A46=\"\",\"\",'Fig 2 Barracuda'!H47)","v":14.649122807017545},{"$f":"IF($A46=\"\",\"\",'Fig 3 Tower'!H47)","v":11.75},{"$f":"IF($A46=\"\",\"\",'Fig 4 Walkover'!H47)","v":14.552631578947368},{"$f":"IF($A46=\"\",\"\",'Fig 1 Ballet Leg'!I47+'Fig 2 Barracuda'!I47+'Fig 3 Tower'!I47+'Fig 4 Walkover'!I47)","v":0},0,null,null,null,null,null,null,null,null,null,null,null,null,null,null,null,null,null,null,null,null,null,null,null,null,null,null,null,null,null,null,null,null,null,null,null,null,null,null,44,0]
[{"$f":"IF(Draw!E47=0,\"\",Draw!E47)","v":46},"Morgan Tope-Yates","Stillwater",56.723684210526322,24,{"$f":"IF($A47=\"\",\"\",'Fig 1 Ballet Leg'!H48)","v":12.210526315789476},{"$f":"IF($A47=\"\",\"\",'Fig 2 Barracuda'!H48)","v":14.210526315789474},{"$f":"IF($A47=\"\",\"\",'Fig 3 Tower'!H48)","v":14},{"$f":"IF($A47=\"\",\"\",'Fig 4 Walkover'!H48)","v":16.30263157894737},{"$f":"IF($A47=\"\",\"\",'Fig 1 Ballet Leg'!I48+'Fig 2 Barracuda'!I48+'Fig 3 Tower'!I48+'Fig 4 Walkover'!I48)","v":0},0,null,null,null,null,null,null,null,null,null,null,null,null,null,null,null,null,null,null,null,null,null,null,null,null,null,null,null,null,null,null,null,null,null,null,null,null,null,null,45,0]
[{"$f":"IF(Draw!E48=0,\"\",Draw!E48)","v":47},"Heiss, Hayley","Osseo-Maple Grove",53.070175438596493,38,{"$f":"IF($A48=\"\",\"\",'Fig 1 Ballet Leg'!H49)","v":11.087719298245615},{"$f":"IF($A48=\"\",\"\",'Fig 2 Barracuda'!H49)","v":14.649122807017545},{"$f":"IF($A48=\"\",\"\",'Fig 3 Tower'!H49)","v":13.333333333333334},{"$f":"IF($A48=\"\",\"\",'Fig 4 Walkover'!H49)","v":14.000000000000002},{"$f":"IF($A48=\"\",\"\",'Fig 1 Ballet Leg'!I49+'Fig 2 Barracuda'!I49+'Fig 3 Tower'!I49+'Fig 4 Walkover'!I49)","v":0},0,null,null,null,null,null,null,null,null,null,null,null,null,null,null,null,null,null,null,null,null,null,null,null,null,null,null,null,null,null,null,null,null,null,null,null,null,null,null,46,0]
[{"$f":"IF(Draw!E49=0,\"\",Draw!E49)","v":48},"Madi Kulzer","Stillwater",58.508771929824569,14,{"$f":"IF($A49=\"\",\"\",'Fig 1 Ballet Leg'!H50)","v":12.631578947368421},{"$f":"IF($A49=\"\",\"\",'Fig 2 Barracuda'!H50)","v":15.701754385964913},{"$f":"IF($A49=\"\",\"\",'Fig 3 Tower'!H50)","v":14.333333333333334},{"$f":"IF($A49=\"\",\"\",'Fig 4 Walkover'!H50)","v":15.842105263157896},{"$f":"IF($A49=\"\",\"\",'Fig 1 Ballet Leg'!I50+'Fig 2 Barracuda'!I50+'Fig 3 Tower'!I50+'Fig 4 Walkover'!I50)","v":0},0,null,null,null,null,null,null,null,null,null,null,null,null,null,null,null,null,null,null,null,null,null,null,null,null,null,null,null,null,null,null,null,null,null,null,null,null,null,null,47,0]
[{"$f":"IF(Draw!E50=0,\"\",Draw!E50)","v":49},"Heitzig, Elisabeth (Ellie)","Osseo-Maple Grove",0,56,{"$f":"IF($A50=\"\",\"\",'Fig 1 Ballet Leg'!H51)","v":0},{"$f":"IF($A50=\"\",\"\",'Fig 2 Barracuda'!H51)","v":0},{"$f":"IF($A50=\"\",\"\",'Fig 3 Tower'!H51)","v":0},{"$f":"IF($A50=\"\",\"\",'Fig 4 Walkover'!H51)","v":0},{"$f":"IF($A50=\"\",\"\",'Fig 1 Ballet Leg'!I51+'Fig 2 Barracuda'!I51+'Fig 3 Tower'!I51+'Fig 4 Walkover'!I51)","v":0},0,null,null,null,null,null,null,null,null,null,null,null,null,null,null,null,null,null,null,null,null,null,null,null,null,null,null,null,null,null,null,null,null,null,null,null,null,null,null,48,0]
[{"$f":"IF(Draw!E51=0,\"\",Draw!E51)","v":50},"Knox, Rachel","Osseo-Maple Grove",50.495614035087726,52,{"$f":"IF($A51=\"\",\"\",'Fig 1 Ballet Leg'!H52)","v":10.456140350877194},{"$f":"IF($A51=\"\",\"\",'Fig 2 Barracuda'!H52)","v":13.771929824561404},{"$f":"IF($A51=\"\",\"\",'Fig 3 Tower'!H52)","v":12.083333333333334},{"$f":"IF($A51=\"\",\"\",'Fig 4 Walkover'!H52)","v":14.184210526315791},{"$f":"IF($A51=\"\",\"\",'Fig 1 Ballet Leg'!I52+'Fig 2 Barracuda'!I52+'Fig 3 Tower'!I52+'Fig 4 Walkover'!I52)","v":0},0,null,null,null,null,null,null,null,null,null,null,null,null,null,null,null,null,null,null,null,null,null,null,null,null,null,null,null,null,null,null,null,null,null,null,null,null,null,null,49,0]
[{"$f":"IF(Draw!E52=0,\"\",Draw!E52)","v":51},"Breidenbach, Heather","Osseo-Maple Grove",51.828947368421055,46,{"$f":"IF($A52=\"\",\"\",'Fig 1 Ballet Leg'!H53)","v":10.877192982456142},{"$f":"IF($A52=\"\",\"\",'Fig 2 Barracuda'!H53)","v":13.684210526315789},{"$f":"IF($A52=\"\",\"\",'Fig 3 Tower'!H53)","v":13.083333333333334},{"$f":"IF($A52=\"\",\"\",'Fig 4 Walkover'!H53)","v":14.184210526315791},{"$f":"IF($A52=\"\",\"\",'Fig 1 Ballet Leg'!I53+'Fig 2 Barracuda'!I53+'Fig 3 Tower'!I53+'Fig 4 Walkover'!I53)","v":0},0,null,null,null,null,null,null,null,null,null,null,null,null,null,null,null,null,null,null,null,null,null,null,null,null,null,null,null,null,null,null,null,null,null,null,null,null,null,null,50,0]
[{"$f":"IF(Draw!E53=0,\"\",Draw!E53)","v":52},"Rachel Duerr","Stillwater",58.328947368421055,16,{"$f":"IF($A53=\"\",\"\",'Fig 1 Ballet Leg'!H54)","v":11.578947368421053},{"$f":"IF($A53=\"\",\"\",'Fig 2 Barracuda'!H54)","v":16.315789473684212},{"$f":"IF($A53=\"\",\"\",'Fig 3 Tower'!H54)","v":14.5},{"$f":"IF($A53=\"\",\"\",'Fig 4 Walkover'!H54)","v":15.934210526315789},{"$f":"IF($A53=\"\",\"\",'Fig 1 Ballet Leg'!I54+'Fig 2 Barracuda'!I54+'Fig 3 Tower'!I54+'Fig 4 Walkover'!I54)","v":0},0,null,null,null,null,null,null,null,null,null,null,null,null,null,null,null,null,null,null,null,null,null,null,null,null,null,null,null,null,null,null,null,null,null,null,null,null,null,null,51,0]
[{"$f":"IF(Draw!E54=0,\"\",Draw!E54)","v":53},"Sofia Johnson","Stillwater",55.381578947368425,29,{"$f":"IF($A54=\"\",\"\",'Fig 1 Ballet Leg'!H55)","v":12.701754385964914},{"$f":"IF($A54=\"\",\"\",'Fig 2 Barracuda'!H55)","v":15},{"$f":"IF($A54=\"\",\"\",'Fig 3 Tower'!H55)","v":12.666666666666666},{"$f":"IF($A54=\"\",\"\",'Fig 4 Walkover'!H55)","v":15.013157894736844},{"$f":"IF($A54=\"\",\"\",'Fig 1 Ballet Leg'!I55+'Fig 2 Barracuda'!I55+'Fig 3 Tower'!I55+'Fig 4 Walkover'!I55)","v":0},0,null,null,null,null,null,null,null,null,null,null,null,null,null,null,null,null,null,null,null,null,null,null,null,null,null,null,null,null,null,null,null,null,null,null,null,null,null,null,52,0]
[{"$f":"IF(Draw!E55=0,\"\",Draw!E55)","v":54},"Littel, Hannah","Osseo-Maple Grove",57.504385964912281,20,{"$f":"IF($A55=\"\",\"\",'Fig 1 Ballet Leg'!H56)","v":12.350877192982457},{"$f":"IF($A55=\"\",\"\",'Fig 2 Barracuda'!H56)","v":15.263157894736842},{"$f":"IF($A55=\"\",\"\",'Fig 3 Tower'!H56)","v":14.416666666666666},{"$f":"IF($A55=\"\",\"\",'Fig 4 Walkover'!H56)","v":15.473684210526317},{"$f":"IF($A55=\"\",\"\",'Fig 1 Ballet Leg'!I56+'Fig 2 Barracuda'!I56+'Fig 3 Tower'!I56+'Fig 4 Walkover'!I56)","v":0},0,null,null,null,null,null,null,null,null,null,null,null,null,null,null,null,null,null,null,null,null,null,null,null,null,null,null,null,null,null,null,null,null,null,null,null,null,null,null,53,0]
[{"$f":"IF(Draw!E56=0,\"\",Draw!E56)","v":55},"Anna Koenning","Stillwater",63.864035087719301,2,{"$f":"IF($A56=\"\",\"\",'Fig 1 Ballet Leg'!H57)","v":13.894736842105265},{"$f":"IF($A56=\"\",\"\",'Fig 2 Barracuda'!H57)","v":16.929824561403507},{"$f":"IF($A56=\"\",\"\",'Fig 3 Tower'!H57)","v":16},{"$f":"IF($A56=\"\",\"\",'Fig 4 Walkover'!H57)","v":17.039473684210527},{"$f":"IF($A56=\"\",\"\",'Fig 1 Ballet Leg'!I57+'Fig 2 Barracuda'!I57+'Fig 3 Tower'!I57+'Fig 4 Walkover'!I57)","v":0},6,null,null,null,null,null,null,null,null,null,null,null,null,null,null,null,null,null,null,null,null,null,null,null,null,null,null,null,null,null,null,null,null,null,null,null,null,null,null,54,0]
[{"$f":"IF(Draw!E57=0,\"\",Draw!E57)","v":56},"Mamie Thrall","Stillwater",63.01315789473685,4,{"$f":"IF($A57=\"\",\"\",'Fig 1 Ballet Leg'!H58)","v":13.263157894736844},{"$f":"IF($A57=\"\",\"\",'Fig 2 Barracuda'!H58)","v":15.964912280701755},{"$f":"IF($A57=\"\",\"\",'Fig 3 Tower'!H58)","v":15.916666666666666},{"$f":"IF($A57=\"\",\"\",'Fig 4 Walkover'!H58)","v":17.868421052631582},{"$f":"IF($A57=\"\",\"\",'Fig 1 Ballet Leg'!I58+'Fig 2 Barracuda'!I58+'Fig 3 Tower'!I58+'Fig 4 Walkover'!I58)","v":0},4,null,null,null,null,null,null,null,null,null,null,null,null,null,null,null,null,null,null,null,null,null,null,null,null,null,null,null,null,null,null,null,null,null,null,null,null,null,null,55,0]
[{"$f":"IF(Draw!E58=0,\"\",Draw!E58)","v":57},"Brie Sheridan","Stillwater",52.495614035087726,41,{"$f":"IF($A58=\"\",\"\",'Fig 1 Ballet Leg'!H59)","v":11.368421052631581},{"$f":"IF($A58=\"\",\"\",'Fig 2 Barracuda'!H59)","v":14.824561403508774},{"$f":"IF($A58=\"\",\"\",'Fig 3 Tower'!H59)","v":11.75},{"$f":"IF($A58=\"\",\"\",'Fig 4 Walkover'!H59)","v":14.552631578947368},{"$f":"IF($A58=\"\",\"\",'Fig 1 Ballet Leg'!I59+'Fig 2 Barracuda'!I59+'Fig 3 Tower'!I59+'Fig 4 Walkover'!I59)","v":0},0,null,null,null,null,null,null,null,null,null,null,null,null,null,null,null,null,null,null,null,null,null,null,null,null,null,null,null,null,null,null,null,null,null,null,null,null,null,null,56,0]
[{"$f":"IF(Draw!E59=0,\"\",Draw!E59)","v":58},"Kelly Keenan","Stillwater",57.907894736842103,18,{"$f":"IF($A59=\"\",\"\",'Fig 1 Ballet Leg'!H60)","v":12.210526315789476},{"$f":"IF($A59=\"\",\"\",'Fig 2 Barracuda'!H60)","v":15.263157894736842},{"$f":"IF($A59=\"\",\"\",'Fig 3 Tower'!H60)","v":14.5},{"$f":"IF($A59=\"\",\"\",'Fig 4 Walkover'!H60)","v":15.934210526315789},{"$f":"IF($A59=\"\",\"\",'Fig 1 Ballet Leg'!I60+'Fig 2 Barracuda'!I60+'Fig 3 Tower'!I60+'Fig 4 Walkover'!I60)","v":0},0,null,null,null,null,null,null,null,null,null,null,null,null,null,null,null,null,null,null,null,null,null,null,null,null,null,null,null,null,null,null,null,null,null,null,null,null,null,null,57,0]
[{"$f":"IF(Draw!E60=0,\"\",Draw!E60)","v":""},null,null,"","",{"$f":"IF($A60=\"\",\"\",'Fig 1 Ballet Leg'!H61)","v":""},{"$f":"IF($A60=\"\",\"\",'Fig 2 Barracuda'!H61)","v":""},{"$f":"IF($A60=\"\",\"\",'Fig 3 Tower'!H61)","v":""},{"$f":"IF($A60=\"\",\"\",'Fig 4 Walkover'!H61)","v":""},{"$f":"IF($A60=\"\",\"\",'Fig 1 Ballet Leg'!I61+'Fig 2 Barracuda'!I61+'Fig 3 Tower'!I61+'Fig 4 Walkover'!I61)","v":""},"",null,null,null,null,null,null,null,null,null,null,null,null,null,null,null,null,null,null,null,null,null,null,null,null,null,null,null,null,null,null,null,null,null,null,null,null,null,null,58,0]
[{"$f":"IF(Draw!E61=0,\"\",Draw!E61)","v":""},null,null,"","",{"$f":"IF($A61=\"\",\"\",'Fig 1 Ballet Leg'!H62)","v":""},{"$f":"IF($A61=\"\",\"\",'Fig 2 Barracuda'!H62)","v":""},{"$f":"IF($A61=\"\",\"\",'Fig 3 Tower'!H62)","v":""},{"$f":"IF($A61=\"\",\"\",'Fig 4 Walkover'!H62)","v":""},{"$f":"IF($A61=\"\",\"\",'Fig 1 Ballet Leg'!I62+'Fig 2 Barracuda'!I62+'Fig 3 Tower'!I62+'Fig 4 Walkover'!I62)","v":""},"",null,null,null,null,null,null,null,null,null,null,null,null,null,null,null,null,null,null,null,null,null,null,null,null,null,null,null,null,null,null,null,null,null,null,null,null,null,null,59,0]
[{"$f":"IF(Draw!E62=0,\"\",Draw!E62)","v":""},null,null,"","",{"$f":"IF($A62=\"\",\"\",'Fig 1 Ballet Leg'!H63)","v":""},{"$f":"IF($A62=\"\",\"\",'Fig 2 Barracuda'!H63)","v":""},{"$f":"IF($A62=\"\",\"\",'Fig 3 Tower'!H63)","v":""},{"$f":"IF($A62=\"\",\"\",'Fig 4 Walkover'!H63)","v":""},{"$f":"IF($A62=\"\",\"\",'Fig 1 Ballet Leg'!I63+'Fig 2 Barracuda'!I63+'Fig 3 Tower'!I63+'Fig 4 Walkover'!I63)","v":""},"",null,null,null,null,null,null,null,null,null,null,null,null,null,null,null,null,null,null,null,null,null,null,null,null,null,null,null,null,null,null,null,null,null,null,null,null,null,null,60,0]
[{"$f":"IF(Draw!E63=0,\"\",Draw!E63)","v":""},null,null,"","",{"$f":"IF($A63=\"\",\"\",'Fig 1 Ballet Leg'!H64)","v":""},{"$f":"IF($A63=\"\",\"\",'Fig 2 Barracuda'!H64)","v":""},{"$f":"IF($A63=\"\",\"\",'Fig 3 Tower'!H64)","v":""},{"$f":"IF($A63=\"\",\"\",'Fig 4 Walkover'!H64)","v":""},{"$f":"IF($A63=\"\",\"\",'Fig 1 Ballet Leg'!I64+'Fig 2 Barracuda'!I64+'Fig 3 Tower'!I64+'Fig 4 Walkover'!I64)","v":""},"",null,null,null,null,null,null,null,null,null,null,null,null,null,null,null,null,null,null,null,null,null,null,null,null,null,null,null,null,null,null,null,null,null,null,null,null,null,null,61,0]
[{"$f":"IF(Draw!E64=0,\"\",Draw!E64)","v":""},null,null,"","",{"$f":"IF($A64=\"\",\"\",'Fig 1 Ballet Leg'!H65)","v":""},{"$f":"IF($A64=\"\",\"\",'Fig 2 Barracuda'!H65)","v":""},{"$f":"IF($A64=\"\",\"\",'Fig 3 Tower'!H65)","v":""},{"$f":"IF($A64=\"\",\"\",'Fig 4 Walkover'!H65)","v":""},{"$f":"IF($A64=\"\",\"\",'Fig 1 Ballet Leg'!I65+'Fig 2 Barracuda'!I65+'Fig 3 Tower'!I65+'Fig 4 Walkover'!I65)","v":""},"",null,null,null,null,null,null,null,null,null,null,null,null,null,null,null,null,null,null,null,null,null,null,null,null,null,null,null,null,null,null,null,null,null,null,null,null,null,null,62,0]
[{"$f":"IF(Draw!E65=0,\"\",Draw!E65)","v":""},null,null,"","",{"$f":"IF($A65=\"\",\"\",'Fig 1 Ballet Leg'!H66)","v":""},{"$f":"IF($A65=\"\",\"\",'Fig 2 Barracuda'!H66)","v":""},{"$f":"IF($A65=\"\",\"\",'Fig 3 Tower'!H66)","v":""},{"$f":"IF($A65=\"\",\"\",'Fig 4 Walkover'!H66)","v":""},{"$f":"IF($A65=\"\",\"\",'Fig 1 Ballet Leg'!I66+'Fig 2 Barracuda'!I66+'Fig 3 Tower'!I66+'Fig 4 Walkover'!I66)","v":""},"",null,null,null,null,null,null,null,null,null,null,null,null,null,null,null,null,null,null,null,null,null,null,null,null,null,null,null,null,null,null,null,null,null,null,null,null,null,null,63,0]
[{"$f":"IF(Draw!E66=0,\"\",Draw!E66)","v":""},null,null,"","",{"$f":"IF($A66=\"\",\"\",'Fig 1 Ballet Leg'!H67)","v":""},{"$f":"IF($A66=\"\",\"\",'Fig 2 Barracuda'!H67)","v":""},{"$f":"IF($A66=\"\",\"\",'Fig 3 Tower'!H67)","v":""},{"$f":"IF($A66=\"\",\"\",'Fig 4 Walkover'!H67)","v":""},{"$f":"IF($A66=\"\",\"\",'Fig 1 Ballet Leg'!I67+'Fig 2 Barracuda'!I67+'Fig 3 Tower'!I67+'Fig 4 Walkover'!I67)","v":""},"",null,null,null,null,null,null,null,null,null,null,null,null,null,null,null,null,null,null,null,null,null,null,null,null,null,null,null,null,null,null,null,null,null,null,null,null,null,null,64,0]
[{"$f":"IF(Draw!E67=0,\"\",Draw!E67)","v":""},null,null,"","",{"$f":"IF($A67=\"\",\"\",'Fig 1 Ballet Leg'!H68)","v":""},{"$f":"IF($A67=\"\",\"\",'Fig 2 Barracuda'!H68)","v":""},{"$f":"IF($A67=\"\",\"\",'Fig 3 Tower'!H68)","v":""},{"$f":"IF($A67=\"\",\"\",'Fig 4 Walkover'!H68)","v":""},{"$f":"IF($A67=\"\",\"\",'Fig 1 Ballet Leg'!I68+'Fig 2 Barracuda'!I68+'Fig 3 Tower'!I68+'Fig 4 Walkover'!I68)","v":""},"",null,null,null,null,null,null,null,null,null,null,null,null,null,null,null,null,null,null,null,null,null,null,null,null,null,null,null,null,null,null,null,null,null,null,null,null,null,null,65,0]
[{"$f":"IF(Draw!E68=0,\"\",Draw!E68)","v":""},null,null,"","",{"$f":"IF($A68=\"\",\"\",'Fig 1 Ballet Leg'!H69)","v":""},{"$f":"IF($A68=\"\",\"\",'Fig 2 Barracuda'!H69)","v":""},{"$f":"IF($A68=\"\",\"\",'Fig 3 Tower'!H69)","v":""},{"$f":"IF($A68=\"\",\"\",'Fig 4 Walkover'!H69)","v":""},{"$f":"IF($A68=\"\",\"\",'Fig 1 Ballet Leg'!I69+'Fig 2 Barracuda'!I69+'Fig 3 Tower'!I69+'Fig 4 Walkover'!I69)","v":""},"",null,null,null,null,null,null,null,null,null,null,null,null,null,null,null,null,null,null,null,null,null,null,null,null,null,null,null,null,null,null,null,null,null,null,null,null,null,null,66,0]
[{"$f":"IF(Draw!E69=0,\"\",Draw!E69)","v":""},null,null,{"$f":"IF($A69=\"\",\"\",SUM(F69:I69)-J69)","v":""},{"$f":"IF($A69=\"\",\"\",RANK(D69,D$2:D$150))","v":""},{"$f":"IF($A69=\"\",\"\",'Fig 1 Ballet Leg'!H70)","v":""},{"$f":"IF($A69=\"\",\"\",'Fig 2 Barracuda'!H70)","v":""},{"$f":"IF($A69=\"\",\"\",'Fig 3 Tower'!H70)","v":""},{"$f":"IF($A69=\"\",\"\",'Fig 4 Walkover'!H70)","v":""},{"$f":"IF($A69=\"\",\"\",'Fig 1 Ballet Leg'!I70+'Fig 2 Barracuda'!I70+'Fig 3 Tower'!I70+'Fig 4 Walkover'!I70)","v":""},{"$f":"IF($A69=\"\",\"\",IF(A69=\"\",\"\",VLOOKUP(E69,AX$3:AY$102,2,FALSE)))","v":""},null,null,null,null,null,null,null,null,null,null,null,null,null,null,null,null,null,null,null,null,null,null,null,null,null,null,null,null,null,null,null,null,null,null,null,null,null,null,67,0]
[{"$f":"IF(Draw!E70=0,\"\",Draw!E70)","v":""},null,null,"","",{"$f":"IF($A70=\"\",\"\",'Fig 1 Ballet Leg'!H71)","v":""},{"$f":"IF($A70=\"\",\"\",'Fig 2 Barracuda'!H71)","v":""},{"$f":"IF($A70=\"\",\"\",'Fig 3 Tower'!H71)","v":""},{"$f":"IF($A70=\"\",\"\",'Fig 4 Walkover'!H71)","v":""},{"$f":"IF($A70=\"\",\"\",'Fig 1 Ballet Leg'!I71+'Fig 2 Barracuda'!I71+'Fig 3 Tower'!I71+'Fig 4 Walkover'!I71)","v":""},"",null,null,null,null,null,null,null,null,null,null,null,null,null,null,null,null,null,null,null,null,null,null,null,null,null,null,null,null,null,null,null,null,null,null,null,null,null,null,68,0]
[{"$f":"IF(Draw!E71=0,\"\",Draw!E71)","v":""},null,null,"","",{"$f":"IF($A71=\"\",\"\",'Fig 1 Ballet Leg'!H72)","v":""},{"$f":"IF($A71=\"\",\"\",'Fig 2 Barracuda'!H72)","v":""},{"$f":"IF($A71=\"\",\"\",'Fig 3 Tower'!H72)","v":""},{"$f":"IF($A71=\"\",\"\",'Fig 4 Walkover'!H72)","v":""},{"$f":"IF($A71=\"\",\"\",'Fig 1 Ballet Leg'!I72+'Fig 2 Barracuda'!I72+'Fig 3 Tower'!I72+'Fig 4 Walkover'!I72)","v":""},"",null,null,null,null,null,null,null,null,null,null,null,null,null,null,null,null,null,null,null,null,null,null,null,null,null,null,null,null,null,null,null,null,null,null,null,null,null,null,69,0]
[{"$f":"IF(Draw!E72=0,\"\",Draw!E72)","v":""},null,null,"","",{"$f":"IF($A72=\"\",\"\",'Fig 1 Ballet Leg'!H73)","v":""},{"$f":"IF($A72=\"\",\"\",'Fig 2 Barracuda'!H73)","v":""},{"$f":"IF($A72=\"\",\"\",'Fig 3 Tower'!H73)","v":""},{"$f":"IF($A72=\"\",\"\",'Fig 4 Walkover'!H73)","v":""},{"$f":"IF($A72=\"\",\"\",'Fig 1 Ballet Leg'!I73+'Fig 2 Barracuda'!I73+'Fig 3 Tower'!I73+'Fig 4 Walkover'!I73)","v":""},"",null,null,null,null,null,null,null,null,null,null,null,null,null,null,null,null,null,null,null,null,null,null,null,null,null,null,null,null,null,null,null,null,null,null,null,null,null,null,70,0]
[{"$f":"IF(Draw!E73=0,\"\",Draw!E73)","v":""},null,null,"","",{"$f":"IF($A73=\"\",\"\",'Fig 1 Ballet Leg'!H74)","v":""},{"$f":"IF($A73=\"\",\"\",'Fig 2 Barracuda'!H74)","v":""},{"$f":"IF($A73=\"\",\"\",'Fig 3 Tower'!H74)","v":""},{"$f":"IF($A73=\"\",\"\",'Fig 4 Walkover'!H74)","v":""},{"$f":"IF($A73=\"\",\"\",'Fig 1 Ballet Leg'!I74+'Fig 2 Barracuda'!I74+'Fig 3 Tower'!I74+'Fig 4 Walkover'!I74)","v":""},"",null,null,null,null,null,null,null,null,null,null,null,null,null,null,null,null,null,null,null,null,null,null,null,null,null,null,null,null,null,null,null,null,null,null,null,null,null,null,71,0]
[{"$f":"IF(Draw!E74=0,\"\",Draw!E74)","v":""},null,null,"","",{"$f":"IF($A74=\"\",\"\",'Fig 1 Ballet Leg'!H75)","v":""},{"$f":"IF($A74=\"\",\"\",'Fig 2 Barracuda'!H75)","v":""},{"$f":"IF($A74=\"\",\"\",'Fig 3 Tower'!H75)","v":""},{"$f":"IF($A74=\"\",\"\",'Fig 4 Walkover'!H75)","v":""},{"$f":"IF($A74=\"\",\"\",'Fig 1 Ballet Leg'!I75+'Fig 2 Barracuda'!I75+'Fig 3 Tower'!I75+'Fig 4 Walkover'!I75)","v":""},"",null,null,null,null,null,null,null,null,null,null,null,null,null,null,null,null,null,null,null,null,null,null,null,null,null,null,null,null,null,null,null,null,null,null,null,null,null,null,72,0]
[{"$f":"IF(Draw!E75=0,\"\",Draw!E75)","v":""},null,null,"","",{"$f":"IF($A75=\"\",\"\",'Fig 1 Ballet Leg'!H76)","v":""},{"$f":"IF($A75=\"\",\"\",'Fig 2 Barracuda'!H76)","v":""},{"$f":"IF($A75=\"\",\"\",'Fig 3 Tower'!H76)","v":""},{"$f":"IF($A75=\"\",\"\",'Fig 4 Walkover'!H76)","v":""},{"$f":"IF($A75=\"\",\"\",'Fig 1 Ballet Leg'!I76+'Fig 2 Barracuda'!I76+'Fig 3 Tower'!I76+'Fig 4 Walkover'!I76)","v":""},"",null,null,null,null,null,null,null,null,null,null,null,null,null,null,null,null,null,null,null,null,null,null,null,null,null,null,null,null,null,null,null,null,null,null,null,null,null,null,73,0]
[{"$f":"IF(Draw!E76=0,\"\",Draw!E76)","v":""},null,null,"","",{"$f":"IF($A76=\"\",\"\",'Fig 1 Ballet Leg'!H77)","v":""},{"$f":"IF($A76=\"\",\"\",'Fig 2 Barracuda'!H77)","v":""},{"$f":"IF($A76=\"\",\"\",'Fig 3 Tower'!H77)","v":""},{"$f":"IF($A76=\"\",\"\",'Fig 4 Walkover'!H77)","v":""},{"$f":"IF($A76=\"\",\"\",'Fig 1 Ballet Leg'!I77+'Fig 2 Barracuda'!I77+'Fig 3 Tower'!I77+'Fig 4 Walkover'!I77)","v":""},"",null,null,null,null,null,null,null,null,null,null,null,null,null,null,null,null,null,null,null,null,null,null,null,null,null,null,null,null,null,null,null,null,null,null,null,null,null,null,74,0]
[{"$f":"IF(Draw!E77=0,\"\",Draw!E77)","v":""},null,null,"","",{"$f":"IF($A77=\"\",\"\",'Fig 1 Ballet Leg'!H78)","v":""},{"$f":"IF($A77=\"\",\"\",'Fig 2 Barracuda'!H78)","v":""},{"$f":"IF($A77=\"\",\"\",'Fig 3 Tower'!H78)","v":""},{"$f":"IF($A77=\"\",\"\",'Fig 4 Walkover'!H78)","v":""},{"$f":"IF($A77=\"\",\"\",'Fig 1 Ballet Leg'!I78+'Fig 2 Barracuda'!I78+'Fig 3 Tower'!I78+'Fig 4 Walkover'!I78)","v":""},"",null,null,null,null,null,null,null,null,null,null,null,null,null,null,null,null,null,null,null,null,null,null,null,null,null,null,null,null,null,null,null,null,null,null,null,null,null,null,75,0]
[{"$f":"IF(Draw!E78=0,\"\",Draw!E78)","v":""},null,null,"","",{"$f":"IF($A78=\"\",\"\",'Fig 1 Ballet Leg'!H79)","v":""},{"$f":"IF($A78=\"\",\"\",'Fig 2 Barracuda'!H79)","v":""},{"$f":"IF($A78=\"\",\"\",'Fig 3 Tower'!H79)","v":""},{"$f":"IF($A78=\"\",\"\",'Fig 4 Walkover'!H79)","v":""},{"$f":"IF($A78=\"\",\"\",'Fig 1 Ballet Leg'!I79+'Fig 2 Barracuda'!I79+'Fig 3 Tower'!I79+'Fig 4 Walkover'!I79)","v":""},"",null,null,null,null,null,null,null,null,null,null,null,null,null,null,null,null,null,null,null,null,null,null,null,null,null,null,null,null,null,null,null,null,null,null,null,null,null,null,76,0]
[{"$f":"IF(Draw!E79=0,\"\",Draw!E79)","v":""},null,null,"","",{"$f":"IF($A79=\"\",\"\",'Fig 1 Ballet Leg'!H80)","v":""},{"$f":"IF($A79=\"\",\"\",'Fig 2 Barracuda'!H80)","v":""},{"$f":"IF($A79=\"\",\"\",'Fig 3 Tower'!H80)","v":""},{"$f":"IF($A79=\"\",\"\",'Fig 4 Walkover'!H80)","v":""},{"$f":"IF($A79=\"\",\"\",'Fig 1 Ballet Leg'!I80+'Fig 2 Barracuda'!I80+'Fig 3 Tower'!I80+'Fig 4 Walkover'!I80)","v":""},"",null,null,null,null,null,null,null,null,null,null,null,null,null,null,null,null,null,null,null,null,null,null,null,null,null,null,null,null,null,null,null,null,null,null,null,null,null,null,77,0]
[{"$f":"IF(Draw!E80=0,\"\",Draw!E80)","v":""},null,null,"","",{"$f":"IF($A80=\"\",\"\",'Fig 1 Ballet Leg'!H81)","v":""},{"$f":"IF($A80=\"\",\"\",'Fig 2 Barracuda'!H81)","v":""},{"$f":"IF($A80=\"\",\"\",'Fig 3 Tower'!H81)","v":""},{"$f":"IF($A80=\"\",\"\",'Fig 4 Walkover'!H81)","v":""},{"$f":"IF($A80=\"\",\"\",'Fig 1 Ballet Leg'!I81+'Fig 2 Barracuda'!I81+'Fig 3 Tower'!I81+'Fig 4 Walkover'!I81)","v":""},"",null,null,null,null,null,null,null,null,null,null,null,null,null,null,null,null,null,null,null,null,null,null,null,null,null,null,null,null,null,null,null,null,null,null,null,null,null,null,78,0]
[{"$f":"IF(Draw!E81=0,\"\",Draw!E81)","v":""},null,null,"","",{"$f":"IF($A81=\"\",\"\",'Fig 1 Ballet Leg'!H82)","v":""},{"$f":"IF($A81=\"\",\"\",'Fig 2 Barracuda'!H82)","v":""},{"$f":"IF($A81=\"\",\"\",'Fig 3 Tower'!H82)","v":""},{"$f":"IF($A81=\"\",\"\",'Fig 4 Walkover'!H82)","v":""},{"$f":"IF($A81=\"\",\"\",'Fig 1 Ballet Leg'!I82+'Fig 2 Barracuda'!I82+'Fig 3 Tower'!I82+'Fig 4 Walkover'!I82)","v":""},"",null,null,null,null,null,null,null,null,null,null,null,null,null,null,null,null,null,null,null,null,null,null,null,null,null,null,null,null,null,null,null,null,null,null,null,null,null,null,79,0]
[{"$f":"IF(Draw!E82=0,\"\",Draw!E82)","v":""},null,null,"","",{"$f":"IF($A82=\"\",\"\",'Fig 1 Ballet Leg'!H83)","v":""},{"$f":"IF($A82=\"\",\"\",'Fig 2 Barracuda'!H83)","v":""},{"$f":"IF($A82=\"\",\"\",'Fig 3 Tower'!H83)","v":""},{"$f":"IF($A82=\"\",\"\",'Fig 4 Walkover'!H83)","v":""},{"$f":"IF($A82=\"\",\"\",'Fig 1 Ballet Leg'!I83+'Fig 2 Barracuda'!I83+'Fig 3 Tower'!I83+'Fig 4 Walkover'!I83)","v":""},"",null,null,null,null,null,null,null,null,null,null,null,null,null,null,null,null,null,null,null,null,null,null,null,null,null,null,null,null,null,null,null,null,null,null,null,null,null,null,80,0]
[{"$f":"IF(Draw!E83=0,\"\",Draw!E83)","v":""},null,null,"","",{"$f":"IF($A83=\"\",\"\",'Fig 1 Ballet Leg'!H84)","v":""},{"$f":"IF($A83=\"\",\"\",'Fig 2 Barracuda'!H84)","v":""},{"$f":"IF($A83=\"\",\"\",'Fig 3 Tower'!H84)","v":""},{"$f":"IF($A83=\"\",\"\",'Fig 4 Walkover'!H84)","v":""},{"$f":"IF($A83=\"\",\"\",'Fig 1 Ballet Leg'!I84+'Fig 2 Barracuda'!I84+'Fig 3 Tower'!I84+'Fig 4 Walkover'!I84)","v":""},"",null,null,null,null,null,null,null,null,null,null,null,null,null,null,null,null,null,null,null,null,null,null,null,null,null,null,null,null,null,null,null,null,null,null,null,null,null,null,81,0]
[{"$f":"IF(Draw!E84=0,\"\",Draw!E84)","v":""},null,null,"","",{"$f":"IF($A84=\"\",\"\",'Fig 1 Ballet Leg'!H85)","v":""},{"$f":"IF($A84=\"\",\"\",'Fig 2 Barracuda'!H85)","v":""},{"$f":"IF($A84=\"\",\"\",'Fig 3 Tower'!H85)","v":""},{"$f":"IF($A84=\"\",\"\",'Fig 4 Walkover'!H85)","v":""},{"$f":"IF($A84=\"\",\"\",'Fig 1 Ballet Leg'!I85+'Fig 2 Barracuda'!I85+'Fig 3 Tower'!I85+'Fig 4 Walkover'!I85)","v":""},"",null,null,null,null,null,null,null,null,null,null,null,null,null,null,null,null,null,null,null,null,null,null,null,null,null,null,null,null,null,null,null,null,null,null,null,null,null,null,82,0]
[{"$f":"IF(Draw!E85=0,\"\",Draw!E85)","v":""},null,null,"","",{"$f":"IF($A85=\"\",\"\",'Fig 1 Ballet Leg'!H86)","v":""},{"$f":"IF($A85=\"\",\"\",'Fig 2 Barracuda'!H86)","v":""},{"$f":"IF($A85=\"\",\"\",'Fig 3 Tower'!H86)","v":""},{"$f":"IF($A85=\"\",\"\",'Fig 4 Walkover'!H86)","v":""},{"$f":"IF($A85=\"\",\"\",'Fig 1 Ballet Leg'!I86+'Fig 2 Barracuda'!I86+'Fig 3 Tower'!I86+'Fig 4 Walkover'!I86)","v":""},"",null,null,null,null,null,null,null,null,null,null,null,null,null,null,null,null,null,null,null,null,null,null,null,null,null,null,null,null,null,null,null,null,null,null,null,null,null,null,83,0]
[{"$f":"IF(Draw!E86=0,\"\",Draw!E86)","v":""},null,null,"","",{"$f":"IF($A86=\"\",\"\",'Fig 1 Ballet Leg'!H87)","v":""},{"$f":"IF($A86=\"\",\"\",'Fig 2 Barracuda'!H87)","v":""},{"$f":"IF($A86=\"\",\"\",'Fig 3 Tower'!H87)","v":""},{"$f":"IF($A86=\"\",\"\",'Fig 4 Walkover'!H87)","v":""},{"$f":"IF($A86=\"\",\"\",'Fig 1 Ballet Leg'!I87+'Fig 2 Barracuda'!I87+'Fig 3 Tower'!I87+'Fig 4 Walkover'!I87)","v":""},"",null,null,null,null,null,null,null,null,null,null,null,null,null,null,null,null,null,null,null,null,null,null,null,null,null,null,null,null,null,null,null,null,null,null,null,null,null,null,84,0]
[{"$f":"IF(Draw!E87=0,\"\",Draw!E87)","v":""},null,null,"","",{"$f":"IF($A87=\"\",\"\",'Fig 1 Ballet Leg'!H88)","v":""},{"$f":"IF($A87=\"\",\"\",'Fig 2 Barracuda'!H88)","v":""},{"$f":"IF($A87=\"\",\"\",'Fig 3 Tower'!H88)","v":""},{"$f":"IF($A87=\"\",\"\",'Fig 4 Walkover'!H88)","v":""},{"$f":"IF($A87=\"\",\"\",'Fig 1 Ballet Leg'!I88+'Fig 2 Barracuda'!I88+'Fig 3 Tower'!I88+'Fig 4 Walkover'!I88)","v":""},"",null,null,null,null,null,null,null,null,null,null,null,null,null,null,null,null,null,null,null,null,null,null,null,null,null,null,null,null,null,null,null,null,null,null,null,null,null,null,85,0]
[{"$f":"IF(Draw!E88=0,\"\",Draw!E88)","v":""},null,null,"","",{"$f":"IF($A88=\"\",\"\",'Fig 1 Ballet Leg'!H89)","v":""},{"$f":"IF($A88=\"\",\"\",'Fig 2 Barracuda'!H89)","v":""},{"$f":"IF($A88=\"\",\"\",'Fig 3 Tower'!H89)","v":""},{"$f":"IF($A88=\"\",\"\",'Fig 4 Walkover'!H89)","v":""},{"$f":"IF($A88=\"\",\"\",'Fig 1 Ballet Leg'!I89+'Fig 2 Barracuda'!I89+'Fig 3 Tower'!I89+'Fig 4 Walkover'!I89)","v":""},"",null,null,null,null,null,null,null,null,null,null,null,null,null,null,null,null,null,null,null,null,null,null,null,null,null,null,null,null,null,null,null,null,null,null,null,null,null,null,86,0]
[{"$f":"IF(Draw!E89=0,\"\",Draw!E89)","v":""},null,null,"","",{"$f":"IF($A89=\"\",\"\",'Fig 1 Ballet Leg'!H90)","v":""},{"$f":"IF($A89=\"\",\"\",'Fig 2 Barracuda'!H90)","v":""},{"$f":"IF($A89=\"\",\"\",'Fig 3 Tower'!H90)","v":""},{"$f":"IF($A89=\"\",\"\",'Fig 4 Walkover'!H90)","v":""},{"$f":"IF($A89=\"\",\"\",'Fig 1 Ballet Leg'!I90+'Fig 2 Barracuda'!I90+'Fig 3 Tower'!I90+'Fig 4 Walkover'!I90)","v":""},"",null,null,null,null,null,null,null,null,null,null,null,null,null,null,null,null,null,null,null,null,null,null,null,null,null,null,null,null,null,null,null,null,null,null,null,null,null,null,87,0]
[{"$f":"IF(Draw!E90=0,\"\",Draw!E90)","v":""},null,null,"","",{"$f":"IF($A90=\"\",\"\",'Fig 1 Ballet Leg'!H91)","v":""},{"$f":"IF($A90=\"\",\"\",'Fig 2 Barracuda'!H91)","v":""},{"$f":"IF($A90=\"\",\"\",'Fig 3 Tower'!H91)","v":""},{"$f":"IF($A90=\"\",\"\",'Fig 4 Walkover'!H91)","v":""},{"$f":"IF($A90=\"\",\"\",'Fig 1 Ballet Leg'!I91+'Fig 2 Barracuda'!I91+'Fig 3 Tower'!I91+'Fig 4 Walkover'!I91)","v":""},"",null,null,null,null,null,null,null,null,null,null,null,null,null,null,null,null,null,null,null,null,null,null,null,null,null,null,null,null,null,null,null,null,null,null,null,null,null,null,88,0]
[{"$f":"IF(Draw!E91=0,\"\",Draw!E91)","v":""},null,null,"","",{"$f":"IF($A91=\"\",\"\",'Fig 1 Ballet Leg'!H92)","v":""},{"$f":"IF($A91=\"\",\"\",'Fig 2 Barracuda'!H92)","v":""},{"$f":"IF($A91=\"\",\"\",'Fig 3 Tower'!H92)","v":""},{"$f":"IF($A91=\"\",\"\",'Fig 4 Walkover'!H92)","v":""},{"$f":"IF($A91=\"\",\"\",'Fig 1 Ballet Leg'!I92+'Fig 2 Barracuda'!I92+'Fig 3 Tower'!I92+'Fig 4 Walkover'!I92)","v":""},"",null,null,null,null,null,null,null,null,null,null,null,null,null,null,null,null,null,null,null,null,null,null,null,null,null,null,null,null,null,null,null,null,null,null,null,null,null,null,89,0]
[{"$f":"IF(Draw!E92=0,\"\",Draw!E92)","v":""},null,null,"","",{"$f":"IF($A92=\"\",\"\",'Fig 1 Ballet Leg'!H93)","v":""},{"$f":"IF($A92=\"\",\"\",'Fig 2 Barracuda'!H93)","v":""},{"$f":"IF($A92=\"\",\"\",'Fig 3 Tower'!H93)","v":""},{"$f":"IF($A92=\"\",\"\",'Fig 4 Walkover'!H93)","v":""},{"$f":"IF($A92=\"\",\"\",'Fig 1 Ballet Leg'!I93+'Fig 2 Barracuda'!I93+'Fig 3 Tower'!I93+'Fig 4 Walkover'!I93)","v":""},"",null,null,null,null,null,null,null,null,null,null,null,null,null,null,null,null,null,null,null,null,null,null,null,null,null,null,null,null,null,null,null,null,null,null,null,null,null,null,90,0]
[{"$f":"IF(Draw!E93=0,\"\",Draw!E93)","v":""},null,null,"","",{"$f":"IF($A93=\"\",\"\",'Fig 1 Ballet Leg'!H94)","v":""},{"$f":"IF($A93=\"\",\"\",'Fig 2 Barracuda'!H94)","v":""},{"$f":"IF($A93=\"\",\"\",'Fig 3 Tower'!H94)","v":""},{"$f":"IF($A93=\"\",\"\",'Fig 4 Walkover'!H94)","v":""},{"$f":"IF($A93=\"\",\"\",'Fig 1 Ballet Leg'!I94+'Fig 2 Barracuda'!I94+'Fig 3 Tower'!I94+'Fig 4 Walkover'!I94)","v":""},"",null,null,null,null,null,null,null,null,null,null,null,null,null,null,null,null,null,null,null,null,null,null,null,null,null,null,null,null,null,null,null,null,null,null,null,null,null,null,91,0]
[{"$f":"IF(Draw!E94=0,\"\",Draw!E94)","v":""},null,null,"","",{"$f":"IF($A94=\"\",\"\",'Fig 1 Ballet Leg'!H95)","v":""},{"$f":"IF($A94=\"\",\"\",'Fig 2 Barracuda'!H95)","v":""},{"$f":"IF($A94=\"\",\"\",'Fig 3 Tower'!H95)","v":""},{"$f":"IF($A94=\"\",\"\",'Fig 4 Walkover'!H95)","v":""},{"$f":"IF($A94=\"\",\"\",'Fig 1 Ballet Leg'!I95+'Fig 2 Barracuda'!I95+'Fig 3 Tower'!I95+'Fig 4 Walkover'!I95)","v":""},"",null,null,null,null,null,null,null,null,null,null,null,null,null,null,null,null,null,null,null,null,null,null,null,null,null,null,null,null,null,null,null,null,null,null,null,null,null,null,92,0]
[{"$f":"IF(Draw!E95=0,\"\",Draw!E95)","v":""},null,null,"","",{"$f":"IF($A95=\"\",\"\",'Fig 1 Ballet Leg'!H96)","v":""},{"$f":"IF($A95=\"\",\"\",'Fig 2 Barracuda'!H96)","v":""},{"$f":"IF($A95=\"\",\"\",'Fig 3 Tower'!H96)","v":""},{"$f":"IF($A95=\"\",\"\",'Fig 4 Walkover'!H96)","v":""},{"$f":"IF($A95=\"\",\"\",'Fig 1 Ballet Leg'!I96+'Fig 2 Barracuda'!I96+'Fig 3 Tower'!I96+'Fig 4 Walkover'!I96)","v":""},"",null,null,null,null,null,null,null,null,null,null,null,null,null,null,null,null,null,null,null,null,null,null,null,null,null,null,null,null,null,null,null,null,null,null,null,null,null,null,93,0]
[{"$f":"IF(Draw!E96=0,\"\",Draw!E96)","v":""},null,null,"","",{"$f":"IF($A96=\"\",\"\",'Fig 1 Ballet Leg'!H97)","v":""},{"$f":"IF($A96=\"\",\"\",'Fig 2 Barracuda'!H97)","v":""},{"$f":"IF($A96=\"\",\"\",'Fig 3 Tower'!H97)","v":""},{"$f":"IF($A96=\"\",\"\",'Fig 4 Walkover'!H97)","v":""},{"$f":"IF($A96=\"\",\"\",'Fig 1 Ballet Leg'!I97+'Fig 2 Barracuda'!I97+'Fig 3 Tower'!I97+'Fig 4 Walkover'!I97)","v":""},"",null,null,null,null,null,null,null,null,null,null,null,null,null,null,null,null,null,null,null,null,null,null,null,null,null,null,null,null,null,null,null,null,null,null,null,null,null,null,94,0]
[{"$f":"IF(Draw!E97=0,\"\",Draw!E97)","v":""},null,null,"","",{"$f":"IF($A97=\"\",\"\",'Fig 1 Ballet Leg'!H98)","v":""},{"$f":"IF($A97=\"\",\"\",'Fig 2 Barracuda'!H98)","v":""},{"$f":"IF($A97=\"\",\"\",'Fig 3 Tower'!H98)","v":""},{"$f":"IF($A97=\"\",\"\",'Fig 4 Walkover'!H98)","v":""},{"$f":"IF($A97=\"\",\"\",'Fig 1 Ballet Leg'!I98+'Fig 2 Barracuda'!I98+'Fig 3 Tower'!I98+'Fig 4 Walkover'!I98)","v":""},"",null,null,null,null,null,null,null,null,null,null,null,null,null,null,null,null,null,null,null,null,null,null,null,null,null,null,null,null,null,null,null,null,null,null,null,null,null,null,95,0]
[{"$f":"IF(Draw!E98=0,\"\",Draw!E98)","v":""},null,null,"","",{"$f":"IF($A98=\"\",\"\",'Fig 1 Ballet Leg'!H99)","v":""},{"$f":"IF($A98=\"\",\"\",'Fig 2 Barracuda'!H99)","v":""},{"$f":"IF($A98=\"\",\"\",'Fig 3 Tower'!H99)","v":""},{"$f":"IF($A98=\"\",\"\",'Fig 4 Walkover'!H99)","v":""},{"$f":"IF($A98=\"\",\"\",'Fig 1 Ballet Leg'!I99+'Fig 2 Barracuda'!I99+'Fig 3 Tower'!I99+'Fig 4 Walkover'!I99)","v":""},"",null,null,null,null,null,null,null,null,null,null,null,null,null,null,null,null,null,null,null,null,null,null,null,null,null,null,null,null,null,null,null,null,null,null,null,null,null,null,96,0]
[{"$f":"IF(Draw!E99=0,\"\",Draw!E99)","v":""},null,null,"","",{"$f":"IF($A99=\"\",\"\",'Fig 1 Ballet Leg'!H100)","v":""},{"$f":"IF($A99=\"\",\"\",'Fig 2 Barracuda'!H100)","v":""},{"$f":"IF($A99=\"\",\"\",'Fig 3 Tower'!H100)","v":""},{"$f":"IF($A99=\"\",\"\",'Fig 4 Walkover'!H100)","v":""},{"$f":"IF($A99=\"\",\"\",'Fig 1 Ballet Leg'!I100+'Fig 2 Barracuda'!I100+'Fig 3 Tower'!I100+'Fig 4 Walkover'!I100)","v":""},"",null,null,null,null,null,null,null,null,null,null,null,null,null,null,null,null,null,null,null,null,null,null,null,null,null,null,null,null,null,null,null,null,null,null,null,null,null,null,97,0]
[{"$f":"IF(Draw!E100=0,\"\",Draw!E100)","v":""},null,null,"","",{"$f":"IF($A100=\"\",\"\",'Fig 1 Ballet Leg'!H101)","v":""},{"$f":"IF($A100=\"\",\"\",'Fig 2 Barracuda'!H101)","v":""},{"$f":"IF($A100=\"\",\"\",'Fig 3 Tower'!H101)","v":""},{"$f":"IF($A100=\"\",\"\",'Fig 4 Walkover'!H101)","v":""},{"$f":"IF($A100=\"\",\"\",'Fig 1 Ballet Leg'!I101+'Fig 2 Barracuda'!I101+'Fig 3 Tower'!I101+'Fig 4 Walkover'!I101)","v":""},"",null,null,null,null,null,null,null,null,null,null,null,null,null,null,null,null,null,null,null,null,null,null,null,null,null,null,null,null,null,null,null,null,null,null,null,null,null,null,98,0]
[{"$f":"IF(Draw!E101=0,\"\",Draw!E101)","v":""},null,null,"","",{"$f":"IF($A101=\"\",\"\",'Fig 1 Ballet Leg'!H102)","v":""},{"$f":"IF($A101=\"\",\"\",'Fig 2 Barracuda'!H102)","v":""},{"$f":"IF($A101=\"\",\"\",'Fig 3 Tower'!H102)","v":""},{"$f":"IF($A101=\"\",\"\",'Fig 4 Walkover'!H102)","v":""},{"$f":"IF($A101=\"\",\"\",'Fig 1 Ballet Leg'!I102+'Fig 2 Barracuda'!I102+'Fig 3 Tower'!I102+'Fig 4 Walkover'!I102)","v":""},"",null,null,null,null,null,null,null,null,null,null,null,null,null,null,null,null,null,null,null,null,null,null,null,null,null,null,null,null,null,null,null,null,null,null,null,null,null,null,99,0]
[{"$f":"IF(Draw!E102=0,\"\",Draw!E102)","v":""},null,null,"","",{"$f":"IF($A102=\"\",\"\",'Fig 1 Ballet Leg'!H103)","v":""},{"$f":"IF($A102=\"\",\"\",'Fig 2 Barracuda'!H103)","v":""},{"$f":"IF($A102=\"\",\"\",'Fig 3 Tower'!H103)","v":""},{"$f":"IF($A102=\"\",\"\",'Fig 4 Walkover'!H103)","v":""},{"$f":"IF($A102=\"\",\"\",'Fig 1 Ballet Leg'!I103+'Fig 2 Barracuda'!I103+'Fig 3 Tower'!I103+'Fig 4 Walkover'!I103)","v":""},"",null,null,null,null,null,null,null,null,null,null,null,null,null,null,null,null,null,null,null,null,null,null,null,null,null,null,null,null,null,null,null,null,null,null,null,null,null,null,100,0]
[{"$f":"IF(Draw!E103=0,\"\",Draw!E103)","v":""},null,null,"","",{"$f":"IF($A103=\"\",\"\",'Fig 1 Ballet Leg'!H104)","v":""},{"$f":"IF($A103=\"\",\"\",'Fig 2 Barracuda'!H104)","v":""},{"$f":"IF($A103=\"\",\"\",'Fig 3 Tower'!H104)","v":""},{"$f":"IF($A103=\"\",\"\",'Fig 4 Walkover'!H104)","v":""},{"$f":"IF($A103=\"\",\"\",'Fig 1 Ballet Leg'!I104+'Fig 2 Barracuda'!I104+'Fig 3 Tower'!I104+'Fig 4 Walkover'!I104)","v":""},""]
[{"$f":"IF(Draw!E104=0,\"\",Draw!E104)","v":""},null,null,"","",{"$f":"IF($A104=\"\",\"\",'Fig 1 Ballet Leg'!H105)","v":""},{"$f":"IF($A104=\"\",\"\",'Fig 2 Barracuda'!H105)","v":""},{"$f":"IF($A104=\"\",\"\",'Fig 3 Tower'!H105)","v":""},{"$f":"IF($A104=\"\",\"\",'Fig 4 Walkover'!H105)","v":""},{"$f":"IF($A104=\"\",\"\",'Fig 1 Ballet Leg'!I105+'Fig 2 Barracuda'!I105+'Fig 3 Tower'!I105+'Fig 4 Walkover'!I105)","v":""},""]
[{"$f":"IF(Draw!E105=0,\"\",Draw!E105)","v":""},null,null,"","",{"$f":"IF($A105=\"\",\"\",'Fig 1 Ballet Leg'!H106)","v":""},{"$f":"IF($A105=\"\",\"\",'Fig 2 Barracuda'!H106)","v":""},{"$f":"IF($A105=\"\",\"\",'Fig 3 Tower'!H106)","v":""},{"$f":"IF($A105=\"\",\"\",'Fig 4 Walkover'!H106)","v":""},{"$f":"IF($A105=\"\",\"\",'Fig 1 Ballet Leg'!I106+'Fig 2 Barracuda'!I106+'Fig 3 Tower'!I106+'Fig 4 Walkover'!I106)","v":""},""]
[{"$f":"IF(Draw!E106=0,\"\",Draw!E106)","v":""},null,null,"","",{"$f":"IF($A106=\"\",\"\",'Fig 1 Ballet Leg'!H107)","v":""},{"$f":"IF($A106=\"\",\"\",'Fig 2 Barracuda'!H107)","v":""},{"$f":"IF($A106=\"\",\"\",'Fig 3 Tower'!H107)","v":""},{"$f":"IF($A106=\"\",\"\",'Fig 4 Walkover'!H107)","v":""},{"$f":"IF($A106=\"\",\"\",'Fig 1 Ballet Leg'!I107+'Fig 2 Barracuda'!I107+'Fig 3 Tower'!I107+'Fig 4 Walkover'!I107)","v":""},""]
[{"$f":"IF(Draw!E107=0,\"\",Draw!E107)","v":""},null,null,"","",{"$f":"IF($A107=\"\",\"\",'Fig 1 Ballet Leg'!H108)","v":""},{"$f":"IF($A107=\"\",\"\",'Fig 2 Barracuda'!H108)","v":""},{"$f":"IF($A107=\"\",\"\",'Fig 3 Tower'!H108)","v":""},{"$f":"IF($A107=\"\",\"\",'Fig 4 Walkover'!H108)","v":""},{"$f":"IF($A107=\"\",\"\",'Fig 1 Ballet Leg'!I108+'Fig 2 Barracuda'!I108+'Fig 3 Tower'!I108+'Fig 4 Walkover'!I108)","v":""},""]
[{"$f":"IF(Draw!E108=0,\"\",Draw!E108)","v":""},null,null,"","",{"$f":"IF($A108=\"\",\"\",'Fig 1 Ballet Leg'!H109)","v":""},{"$f":"IF($A108=\"\",\"\",'Fig 2 Barracuda'!H109)","v":""},{"$f":"IF($A108=\"\",\"\",'Fig 3 Tower'!H109)","v":""},{"$f":"IF($A108=\"\",\"\",'Fig 4 Walkover'!H109)","v":""},{"$f":"IF($A108=\"\",\"\",'Fig 1 Ballet Leg'!I109+'Fig 2 Barracuda'!I109+'Fig 3 Tower'!I109+'Fig 4 Walkover'!I109)","v":""},""]
[{"$f":"IF(Draw!E109=0,\"\",Draw!E109)","v":""},null,null,"","",{"$f":"IF($A109=\"\",\"\",'Fig 1 Ballet Leg'!H110)","v":""},{"$f":"IF($A109=\"\",\"\",'Fig 2 Barracuda'!H110)","v":""},{"$f":"IF($A109=\"\",\"\",'Fig 3 Tower'!H110)","v":""},{"$f":"IF($A109=\"\",\"\",'Fig 4 Walkover'!H110)","v":""},{"$f":"IF($A109=\"\",\"\",'Fig 1 Ballet Leg'!I110+'Fig 2 Barracuda'!I110+'Fig 3 Tower'!I110+'Fig 4 Walkover'!I110)","v":""},""]
[{"$f":"IF(Draw!E110=0,\"\",Draw!E110)","v":""},null,null,"","",{"$f":"IF($A110=\"\",\"\",'Fig 1 Ballet Leg'!H111)","v":""},{"$f":"IF($A110=\"\",\"\",'Fig 2 Barracuda'!H111)","v":""},{"$f":"IF($A110=\"\",\"\",'Fig 3 Tower'!H111)","v":""},{"$f":"IF($A110=\"\",\"\",'Fig 4 Walkover'!H111)","v":""},{"$f":"IF($A110=\"\",\"\",'Fig 1 Ballet Leg'!I111+'Fig 2 Barracuda'!I111+'Fig 3 Tower'!I111+'Fig 4 Walkover'!I111)","v":""},""]
[{"$f":"IF(Draw!E111=0,\"\",Draw!E111)","v":""},null,null,"","",{"$f":"IF($A111=\"\",\"\",'Fig 1 Ballet Leg'!H112)","v":""},{"$f":"IF($A111=\"\",\"\",'Fig 2 Barracuda'!H112)","v":""},{"$f":"IF($A111=\"\",\"\",'Fig 3 Tower'!H112)","v":""},{"$f":"IF($A111=\"\",\"\",'Fig 4 Walkover'!H112)","v":""},{"$f":"IF($A111=\"\",\"\",'Fig 1 Ballet Leg'!I112+'Fig 2 Barracuda'!I112+'Fig 3 Tower'!I112+'Fig 4 Walkover'!I112)","v":""},""]
[{"$f":"IF(Draw!E112=0,\"\",Draw!E112)","v":""},null,null,"","",{"$f":"IF($A112=\"\",\"\",'Fig 1 Ballet Leg'!H113)","v":""},{"$f":"IF($A112=\"\",\"\",'Fig 2 Barracuda'!H113)","v":""},{"$f":"IF($A112=\"\",\"\",'Fig 3 Tower'!H113)","v":""},{"$f":"IF($A112=\"\",\"\",'Fig 4 Walkover'!H113)","v":""},{"$f":"IF($A112=\"\",\"\",'Fig 1 Ballet Leg'!I113+'Fig 2 Barracuda'!I113+'Fig 3 Tower'!I113+'Fig 4 Walkover'!I113)","v":""},""]
[{"$f":"IF(Draw!E113=0,\"\",Draw!E113)","v":""},null,null,"","",{"$f":"IF($A113=\"\",\"\",'Fig 1 Ballet Leg'!H114)","v":""},{"$f":"IF($A113=\"\",\"\",'Fig 2 Barracuda'!H114)","v":""},{"$f":"IF($A113=\"\",\"\",'Fig 3 Tower'!H114)","v":""},{"$f":"IF($A113=\"\",\"\",'Fig 4 Walkover'!H114)","v":""},{"$f":"IF($A113=\"\",\"\",'Fig 1 Ballet Leg'!I114+'Fig 2 Barracuda'!I114+'Fig 3 Tower'!I114+'Fig 4 Walkover'!I114)","v":""},""]
[{"$f":"IF(Draw!E114=0,\"\",Draw!E114)","v":""},null,null,"","",{"$f":"IF($A114=\"\",\"\",'Fig 1 Ballet Leg'!H115)","v":""},{"$f":"IF($A114=\"\",\"\",'Fig 2 Barracuda'!H115)","v":""},{"$f":"IF($A114=\"\",\"\",'Fig 3 Tower'!H115)","v":""},{"$f":"IF($A114=\"\",\"\",'Fig 4 Walkover'!H115)","v":""},{"$f":"IF($A114=\"\",\"\",'Fig 1 Ballet Leg'!I115+'Fig 2 Barracuda'!I115+'Fig 3 Tower'!I115+'Fig 4 Walkover'!I115)","v":""},""]
[{"$f":"IF(Draw!E115=0,\"\",Draw!E115)","v":""},null,null,"","",{"$f":"IF($A115=\"\",\"\",'Fig 1 Ballet Leg'!H116)","v":""},{"$f":"IF($A115=\"\",\"\",'Fig 2 Barracuda'!H116)","v":""},{"$f":"IF($A115=\"\",\"\",'Fig 3 Tower'!H116)","v":""},{"$f":"IF($A115=\"\",\"\",'Fig 4 Walkover'!H116)","v":""},{"$f":"IF($A115=\"\",\"\",'Fig 1 Ballet Leg'!I116+'Fig 2 Barracuda'!I116+'Fig 3 Tower'!I116+'Fig 4 Walkover'!I116)","v":""},""]
[{"$f":"IF(Draw!E116=0,\"\",Draw!E116)","v":""},null,null,"","",{"$f":"IF($A116=\"\",\"\",'Fig 1 Ballet Leg'!H117)","v":""},{"$f":"IF($A116=\"\",\"\",'Fig 2 Barracuda'!H117)","v":""},{"$f":"IF($A116=\"\",\"\",'Fig 3 Tower'!H117)","v":""},{"$f":"IF($A116=\"\",\"\",'Fig 4 Walkover'!H117)","v":""},{"$f":"IF($A116=\"\",\"\",'Fig 1 Ballet Leg'!I117+'Fig 2 Barracuda'!I117+'Fig 3 Tower'!I117+'Fig 4 Walkover'!I117)","v":""},""]
[{"$f":"IF(Draw!E117=0,\"\",Draw!E117)","v":""},null,null,"","",{"$f":"IF($A117=\"\",\"\",'Fig 1 Ballet Leg'!H118)","v":""},{"$f":"IF($A117=\"\",\"\",'Fig 2 Barracuda'!H118)","v":""},{"$f":"IF($A117=\"\",\"\",'Fig 3 Tower'!H118)","v":""},{"$f":"IF($A117=\"\",\"\",'Fig 4 Walkover'!H118)","v":""},{"$f":"IF($A117=\"\",\"\",'Fig 1 Ballet Leg'!I118+'Fig 2 Barracuda'!I118+'Fig 3 Tower'!I118+'Fig 4 Walkover'!I118)","v":""},""]
[{"$f":"IF(Draw!E118=0,\"\",Draw!E118)","v":""},null,null,"","",{"$f":"IF($A118=\"\",\"\",'Fig 1 Ballet Leg'!H119)","v":""},{"$f":"IF($A118=\"\",\"\",'Fig 2 Barracuda'!H119)","v":""},{"$f":"IF($A118=\"\",\"\",'Fig 3 Tower'!H119)","v":""},{"$f":"IF($A118=\"\",\"\",'Fig 4 Walkover'!H119)","v":""},{"$f":"IF($A118=\"\",\"\",'Fig 1 Ballet Leg'!I119+'Fig 2 Barracuda'!I119+'Fig 3 Tower'!I119+'Fig 4 Walkover'!I119)","v":""},""]
[{"$f":"IF(Draw!E119=0,\"\",Draw!E119)","v":""},null,null,"","",{"$f":"IF($A119=\"\",\"\",'Fig 1 Ballet Leg'!H120)","v":""},{"$f":"IF($A119=\"\",\"\",'Fig 2 Barracuda'!H120)","v":""},{"$f":"IF($A119=\"\",\"\",'Fig 3 Tower'!H120)","v":""},{"$f":"IF($A119=\"\",\"\",'Fig 4 Walkover'!H120)","v":""},{"$f":"IF($A119=\"\",\"\",'Fig 1 Ballet Leg'!I120+'Fig 2 Barracuda'!I120+'Fig 3 Tower'!I120+'Fig 4 Walkover'!I120)","v":""},""]
[{"$f":"IF(Draw!E120=0,\"\",Draw!E120)","v":""},null,null,"","",{"$f":"IF($A120=\"\",\"\",'Fig 1 Ballet Leg'!H121)","v":""},{"$f":"IF($A120=\"\",\"\",'Fig 2 Barracuda'!H121)","v":""},{"$f":"IF($A120=\"\",\"\",'Fig 3 Tower'!H121)","v":""},{"$f":"IF($A120=\"\",\"\",'Fig 4 Walkover'!H121)","v":""},{"$f":"IF($A120=\"\",\"\",'Fig 1 Ballet Leg'!I121+'Fig 2 Barracuda'!I121+'Fig 3 Tower'!I121+'Fig 4 Walkover'!I121)","v":""},""]
[{"$f":"IF(Draw!E121=0,\"\",Draw!E121)","v":""},null,null,"","",{"$f":"IF($A121=\"\",\"\",'Fig 1 Ballet Leg'!H122)","v":""},{"$f":"IF($A121=\"\",\"\",'Fig 2 Barracuda'!H122)","v":""},{"$f":"IF($A121=\"\",\"\",'Fig 3 Tower'!H122)","v":""},{"$f":"IF($A121=\"\",\"\",'Fig 4 Walkover'!H122)","v":""},{"$f":"IF($A121=\"\",\"\",'Fig 1 Ballet Leg'!I122+'Fig 2 Barracuda'!I122+'Fig 3 Tower'!I122+'Fig 4 Walkover'!I122)","v":""},""]
[{"$f":"IF(Draw!E122=0,\"\",Draw!E122)","v":""},null,null,"","",{"$f":"IF($A122=\"\",\"\",'Fig 1 Ballet Leg'!H123)","v":""},{"$f":"IF($A122=\"\",\"\",'Fig 2 Barracuda'!H123)","v":""},{"$f":"IF($A122=\"\",\"\",'Fig 3 Tower'!H123)","v":""},{"$f":"IF($A122=\"\",\"\",'Fig 4 Walkover'!H123)","v":""},{"$f":"IF($A122=\"\",\"\",'Fig 1 Ballet Leg'!I123+'Fig 2 Barracuda'!I123+'Fig 3 Tower'!I123+'Fig 4 Walkover'!I123)","v":""},""]
[{"$f":"IF(Draw!E123=0,\"\",Draw!E123)","v":""},null,null,"","",{"$f":"IF($A123=\"\",\"\",'Fig 1 Ballet Leg'!H124)","v":""},{"$f":"IF($A123=\"\",\"\",'Fig 2 Barracuda'!H124)","v":""},{"$f":"IF($A123=\"\",\"\",'Fig 3 Tower'!H124)","v":""},{"$f":"IF($A123=\"\",\"\",'Fig 4 Walkover'!H124)","v":""},{"$f":"IF($A123=\"\",\"\",'Fig 1 Ballet Leg'!I124+'Fig 2 Barracuda'!I124+'Fig 3 Tower'!I124+'Fig 4 Walkover'!I124)","v":""},""]
[{"$f":"IF(Draw!E124=0,\"\",Draw!E124)","v":""},null,null,"","",{"$f":"IF($A124=\"\",\"\",'Fig 1 Ballet Leg'!H125)","v":""},{"$f":"IF($A124=\"\",\"\",'Fig 2 Barracuda'!H125)","v":""},{"$f":"IF($A124=\"\",\"\",'Fig 3 Tower'!H125)","v":""},{"$f":"IF($A124=\"\",\"\",'Fig 4 Walkover'!H125)","v":""},{"$f":"IF($A124=\"\",\"\",'Fig 1 Ballet Leg'!I125+'Fig 2 Barracuda'!I125+'Fig 3 Tower'!I125+'Fig 4 Walkover'!I125)","v":""},""]
[{"$f":"IF(Draw!E125=0,\"\",Draw!E125)","v":""},null,null,"","",{"$f":"IF($A125=\"\",\"\",'Fig 1 Ballet Leg'!H126)","v":""},{"$f":"IF($A125=\"\",\"\",'Fig 2 Barracuda'!H126)","v":""},{"$f":"IF($A125=\"\",\"\",'Fig 3 Tower'!H126)","v":""},{"$f":"IF($A125=\"\",\"\",'Fig 4 Walkover'!H126)","v":""},{"$f":"IF($A125=\"\",\"\",'Fig 1 Ballet Leg'!I126+'Fig 2 Barracuda'!I126+'Fig 3 Tower'!I126+'Fig 4 Walkover'!I126)","v":""},""]
[{"$f":"IF(Draw!E126=0,\"\",Draw!E126)","v":""},null,null,"","",{"$f":"IF($A126=\"\",\"\",'Fig 1 Ballet Leg'!H127)","v":""},{"$f":"IF($A126=\"\",\"\",'Fig 2 Barracuda'!H127)","v":""},{"$f":"IF($A126=\"\",\"\",'Fig 3 Tower'!H127)","v":""},{"$f":"IF($A126=\"\",\"\",'Fig 4 Walkover'!H127)","v":""},{"$f":"IF($A126=\"\",\"\",'Fig 1 Ballet Leg'!I127+'Fig 2 Barracuda'!I127+'Fig 3 Tower'!I127+'Fig 4 Walkover'!I127)","v":""},""]
[{"$f":"IF(Draw!E127=0,\"\",Draw!E127)","v":""},null,null,"","",{"$f":"IF($A127=\"\",\"\",'Fig 1 Ballet Leg'!H128)","v":""},{"$f":"IF($A127=\"\",\"\",'Fig 2 Barracuda'!H128)","v":""},{"$f":"IF($A127=\"\",\"\",'Fig 3 Tower'!H128)","v":""},{"$f":"IF($A127=\"\",\"\",'Fig 4 Walkover'!H128)","v":""},{"$f":"IF($A127=\"\",\"\",'Fig 1 Ballet Leg'!I128+'Fig 2 Barracuda'!I128+'Fig 3 Tower'!I128+'Fig 4 Walkover'!I128)","v":""},""]
[{"$f":"IF(Draw!E128=0,\"\",Draw!E128)","v":""},null,null,"","",{"$f":"IF($A128=\"\",\"\",'Fig 1 Ballet Leg'!H129)","v":""},{"$f":"IF($A128=\"\",\"\",'Fig 2 Barracuda'!H129)","v":""},{"$f":"IF($A128=\"\",\"\",'Fig 3 Tower'!H129)","v":""},{"$f":"IF($A128=\"\",\"\",'Fig 4 Walkover'!H129)","v":""},{"$f":"IF($A128=\"\",\"\",'Fig 1 Ballet Leg'!I129+'Fig 2 Barracuda'!I129+'Fig 3 Tower'!I129+'Fig 4 Walkover'!I129)","v":""},""]
[{"$f":"IF(Draw!E129=0,\"\",Draw!E129)","v":""},null,null,"","",{"$f":"IF($A129=\"\",\"\",'Fig 1 Ballet Leg'!H130)","v":""},{"$f":"IF($A129=\"\",\"\",'Fig 2 Barracuda'!H130)","v":""},{"$f":"IF($A129=\"\",\"\",'Fig 3 Tower'!H130)","v":""},{"$f":"IF($A129=\"\",\"\",'Fig 4 Walkover'!H130)","v":""},{"$f":"IF($A129=\"\",\"\",'Fig 1 Ballet Leg'!I130+'Fig 2 Barracuda'!I130+'Fig 3 Tower'!I130+'Fig 4 Walkover'!I130)","v":""},""]
[{"$f":"IF(Draw!E130=0,\"\",Draw!E130)","v":""},null,null,"","",{"$f":"IF($A130=\"\",\"\",'Fig 1 Ballet Leg'!H131)","v":""},{"$f":"IF($A130=\"\",\"\",'Fig 2 Barracuda'!H131)","v":""},{"$f":"IF($A130=\"\",\"\",'Fig 3 Tower'!H131)","v":""},{"$f":"IF($A130=\"\",\"\",'Fig 4 Walkover'!H131)","v":""},{"$f":"IF($A130=\"\",\"\",'Fig 1 Ballet Leg'!I131+'Fig 2 Barracuda'!I131+'Fig 3 Tower'!I131+'Fig 4 Walkover'!I131)","v":""},""]
[{"$f":"IF(Draw!E131=0,\"\",Draw!E131)","v":""},null,null,"","",{"$f":"IF($A131=\"\",\"\",'Fig 1 Ballet Leg'!H132)","v":""},{"$f":"IF($A131=\"\",\"\",'Fig 2 Barracuda'!H132)","v":""},{"$f":"IF($A131=\"\",\"\",'Fig 3 Tower'!H132)","v":""},{"$f":"IF($A131=\"\",\"\",'Fig 4 Walkover'!H132)","v":""},{"$f":"IF($A131=\"\",\"\",'Fig 1 Ballet Leg'!I132+'Fig 2 Barracuda'!I132+'Fig 3 Tower'!I132+'Fig 4 Walkover'!I132)","v":""},""]
[{"$f":"IF(Draw!E132=0,\"\",Draw!E132)","v":""},null,null,"","",{"$f":"IF($A132=\"\",\"\",'Fig 1 Ballet Leg'!H133)","v":""},{"$f":"IF($A132=\"\",\"\",'Fig 2 Barracuda'!H133)","v":""},{"$f":"IF($A132=\"\",\"\",'Fig 3 Tower'!H133)","v":""},{"$f":"IF($A132=\"\",\"\",'Fig 4 Walkover'!H133)","v":""},{"$f":"IF($A132=\"\",\"\",'Fig 1 Ballet Leg'!I133+'Fig 2 Barracuda'!I133+'Fig 3 Tower'!I133+'Fig 4 Walkover'!I133)","v":""},""]
[{"$f":"IF(Draw!E133=0,\"\",Draw!E133)","v":""},null,null,{"$f":"IF($A133=\"\",\"\",SUM(F133:I133)-J133)","v":""},{"$f":"IF($A133=\"\",\"\",RANK(D133,D$2:D$150))","v":""},{"$f":"IF($A133=\"\",\"\",'Fig 1 Ballet Leg'!H134)","v":""},{"$f":"IF($A133=\"\",\"\",'Fig 2 Barracuda'!H134)","v":""},{"$f":"IF($A133=\"\",\"\",'Fig 3 Tower'!H134)","v":""},{"$f":"IF($A133=\"\",\"\",'Fig 4 Walkover'!H134)","v":""},{"$f":"IF($A133=\"\",\"\",'Fig 1 Ballet Leg'!I134+'Fig 2 Barracuda'!I134+'Fig 3 Tower'!I134+'Fig 4 Walkover'!I134)","v":""},{"$f":"IF($A133=\"\",\"\",IF(A133=\"\",\"\",VLOOKUP(E133,AX$3:AY$102,2,FALSE)))","v":""}]
[{"$f":"IF(Draw!E134=0,\"\",Draw!E134)","v":""},null,null,"","",{"$f":"IF($A134=\"\",\"\",'Fig 1 Ballet Leg'!H135)","v":""},{"$f":"IF($A134=\"\",\"\",'Fig 2 Barracuda'!H135)","v":""},{"$f":"IF($A134=\"\",\"\",'Fig 3 Tower'!H135)","v":""},{"$f":"IF($A134=\"\",\"\",'Fig 4 Walkover'!H135)","v":""},{"$f":"IF($A134=\"\",\"\",'Fig 1 Ballet Leg'!I135+'Fig 2 Barracuda'!I135+'Fig 3 Tower'!I135+'Fig 4 Walkover'!I135)","v":""},""]
[{"$f":"IF(Draw!E135=0,\"\",Draw!E135)","v":""},null,null,"","",{"$f":"IF($A135=\"\",\"\",'Fig 1 Ballet Leg'!H136)","v":""},{"$f":"IF($A135=\"\",\"\",'Fig 2 Barracuda'!H136)","v":""},{"$f":"IF($A135=\"\",\"\",'Fig 3 Tower'!H136)","v":""},{"$f":"IF($A135=\"\",\"\",'Fig 4 Walkover'!H136)","v":""},{"$f":"IF($A135=\"\",\"\",'Fig 1 Ballet Leg'!I136+'Fig 2 Barracuda'!I136+'Fig 3 Tower'!I136+'Fig 4 Walkover'!I136)","v":""},""]
[{"$f":"IF(Draw!E136=0,\"\",Draw!E136)","v":""},null,null,"","",{"$f":"IF($A136=\"\",\"\",'Fig 1 Ballet Leg'!H137)","v":""},{"$f":"IF($A136=\"\",\"\",'Fig 2 Barracuda'!H137)","v":""},{"$f":"IF($A136=\"\",\"\",'Fig 3 Tower'!H137)","v":""},{"$f":"IF($A136=\"\",\"\",'Fig 4 Walkover'!H137)","v":""},{"$f":"IF($A136=\"\",\"\",'Fig 1 Ballet Leg'!I137+'Fig 2 Barracuda'!I137+'Fig 3 Tower'!I137+'Fig 4 Walkover'!I137)","v":""},""]
[{"$f":"IF(Draw!E137=0,\"\",Draw!E137)","v":""},null,null,"","",{"$f":"IF($A137=\"\",\"\",'Fig 1 Ballet Leg'!H138)","v":""},{"$f":"IF($A137=\"\",\"\",'Fig 2 Barracuda'!H138)","v":""},{"$f":"IF($A137=\"\",\"\",'Fig 3 Tower'!H138)","v":""},{"$f":"IF($A137=\"\",\"\",'Fig 4 Walkover'!H138)","v":""},{"$f":"IF($A137=\"\",\"\",'Fig 1 Ballet Leg'!I138+'Fig 2 Barracuda'!I138+'Fig 3 Tower'!I138+'Fig 4 Walkover'!I138)","v":""},""]
[{"$f":"IF(Draw!E138=0,\"\",Draw!E138)","v":""},null,null,"","",{"$f":"IF($A138=\"\",\"\",'Fig 1 Ballet Leg'!H139)","v":""},{"$f":"IF($A138=\"\",\"\",'Fig 2 Barracuda'!H139)","v":""},{"$f":"IF($A138=\"\",\"\",'Fig 3 Tower'!H139)","v":""},{"$f":"IF($A138=\"\",\"\",'Fig 4 Walkover'!H139)","v":""},{"$f":"IF($A138=\"\",\"\",'Fig 1 Ballet Leg'!I139+'Fig 2 Barracuda'!I139+'Fig 3 Tower'!I139+'Fig 4 Walkover'!I139)","v":""},""]
[{"$f":"IF(Draw!E139=0,\"\",Draw!E139)","v":""},null,null,"","",{"$f":"IF($A139=\"\",\"\",'Fig 1 Ballet Leg'!H140)","v":""},{"$f":"IF($A139=\"\",\"\",'Fig 2 Barracuda'!H140)","v":""},{"$f":"IF($A139=\"\",\"\",'Fig 3 Tower'!H140)","v":""},{"$f":"IF($A139=\"\",\"\",'Fig 4 Walkover'!H140)","v":""},{"$f":"IF($A139=\"\",\"\",'Fig 1 Ballet Leg'!I140+'Fig 2 Barracuda'!I140+'Fig 3 Tower'!I140+'Fig 4 Walkover'!I140)","v":""},""]
[{"$f":"IF(Draw!E140=0,\"\",Draw!E140)","v":""},null,null,"","",{"$f":"IF($A140=\"\",\"\",'Fig 1 Ballet Leg'!H141)","v":""},{"$f":"IF($A140=\"\",\"\",'Fig 2 Barracuda'!H141)","v":""},{"$f":"IF($A140=\"\",\"\",'Fig 3 Tower'!H141)","v":""},{"$f":"IF($A140=\"\",\"\",'Fig 4 Walkover'!H141)","v":""},{"$f":"IF($A140=\"\",\"\",'Fig 1 Ballet Leg'!I141+'Fig 2 Barracuda'!I141+'Fig 3 Tower'!I141+'Fig 4 Walkover'!I141)","v":""},""]
[{"$f":"IF(Draw!E141=0,\"\",Draw!E141)","v":""},null,null,"","",{"$f":"IF($A141=\"\",\"\",'Fig 1 Ballet Leg'!H142)","v":""},{"$f":"IF($A141=\"\",\"\",'Fig 2 Barracuda'!H142)","v":""},{"$f":"IF($A141=\"\",\"\",'Fig 3 Tower'!H142)","v":""},{"$f":"IF($A141=\"\",\"\",'Fig 4 Walkover'!H142)","v":""},{"$f":"IF($A141=\"\",\"\",'Fig 1 Ballet Leg'!I142+'Fig 2 Barracuda'!I142+'Fig 3 Tower'!I142+'Fig 4 Walkover'!I142)","v":""},""]
[{"$f":"IF(Draw!E142=0,\"\",Draw!E142)","v":""},null,null,"","",{"$f":"IF($A142=\"\",\"\",'Fig 1 Ballet Leg'!H143)","v":""},{"$f":"IF($A142=\"\",\"\",'Fig 2 Barracuda'!H143)","v":""},{"$f":"IF($A142=\"\",\"\",'Fig 3 Tower'!H143)","v":""},{"$f":"IF($A142=\"\",\"\",'Fig 4 Walkover'!H143)","v":""},{"$f":"IF($A142=\"\",\"\",'Fig 1 Ballet Leg'!I143+'Fig 2 Barracuda'!I143+'Fig 3 Tower'!I143+'Fig 4 Walkover'!I143)","v":""},""]
[{"$f":"IF(Draw!E143=0,\"\",Draw!E143)","v":""},null,null,"","",{"$f":"IF($A143=\"\",\"\",'Fig 1 Ballet Leg'!H144)","v":""},{"$f":"IF($A143=\"\",\"\",'Fig 2 Barracuda'!H144)","v":""},{"$f":"IF($A143=\"\",\"\",'Fig 3 Tower'!H144)","v":""},{"$f":"IF($A143=\"\",\"\",'Fig 4 Walkover'!H144)","v":""},{"$f":"IF($A143=\"\",\"\",'Fig 1 Ballet Leg'!I144+'Fig 2 Barracuda'!I144+'Fig 3 Tower'!I144+'Fig 4 Walkover'!I144)","v":""},""]
[{"$f":"IF(Draw!E144=0,\"\",Draw!E144)","v":""},null,null,"","",{"$f":"IF($A144=\"\",\"\",'Fig 1 Ballet Leg'!H145)","v":""},{"$f":"IF($A144=\"\",\"\",'Fig 2 Barracuda'!H145)","v":""},{"$f":"IF($A144=\"\",\"\",'Fig 3 Tower'!H145)","v":""},{"$f":"IF($A144=\"\",\"\",'Fig 4 Walkover'!H145)","v":""},{"$f":"IF($A144=\"\",\"\",'Fig 1 Ballet Leg'!I145+'Fig 2 Barracuda'!I145+'Fig 3 Tower'!I145+'Fig 4 Walkover'!I145)","v":""},""]
[{"$f":"IF(Draw!E145=0,\"\",Draw!E145)","v":""},null,null,"","",{"$f":"IF($A145=\"\",\"\",'Fig 1 Ballet Leg'!H146)","v":""},{"$f":"IF($A145=\"\",\"\",'Fig 2 Barracuda'!H146)","v":""},{"$f":"IF($A145=\"\",\"\",'Fig 3 Tower'!H146)","v":""},{"$f":"IF($A145=\"\",\"\",'Fig 4 Walkover'!H146)","v":""},{"$f":"IF($A145=\"\",\"\",'Fig 1 Ballet Leg'!I146+'Fig 2 Barracuda'!I146+'Fig 3 Tower'!I146+'Fig 4 Walkover'!I146)","v":""},""]
[{"$f":"IF(Draw!E146=0,\"\",Draw!E146)","v":""},null,null,"","",{"$f":"IF($A146=\"\",\"\",'Fig 1 Ballet Leg'!H147)","v":""},{"$f":"IF($A146=\"\",\"\",'Fig 2 Barracuda'!H147)","v":""},{"$f":"IF($A146=\"\",\"\",'Fig 3 Tower'!H147)","v":""},{"$f":"IF($A146=\"\",\"\",'Fig 4 Walkover'!H147)","v":""},{"$f":"IF($A146=\"\",\"\",'Fig 1 Ballet Leg'!I147+'Fig 2 Barracuda'!I147+'Fig 3 Tower'!I147+'Fig 4 Walkover'!I147)","v":""},""]
[{"$f":"IF(Draw!E147=0,\"\",Draw!E147)","v":""},null,null,"","",{"$f":"IF($A147=\"\",\"\",'Fig 1 Ballet Leg'!H148)","v":""},{"$f":"IF($A147=\"\",\"\",'Fig 2 Barracuda'!H148)","v":""},{"$f":"IF($A147=\"\",\"\",'Fig 3 Tower'!H148)","v":""},{"$f":"IF($A147=\"\",\"\",'Fig 4 Walkover'!H148)","v":""},{"$f":"IF($A147=\"\",\"\",'Fig 1 Ballet Leg'!I148+'Fig 2 Barracuda'!I148+'Fig 3 Tower'!I148+'Fig 4 Walkover'!I148)","v":""},""]
[{"$f":"IF(Draw!E148=0,\"\",Draw!E148)","v":""},null,null,"","",{"$f":"IF($A148=\"\",\"\",'Fig 1 Ballet Leg'!H149)","v":""},{"$f":"IF($A148=\"\",\"\",'Fig 2 Barracuda'!H149)","v":""},{"$f":"IF($A148=\"\",\"\",'Fig 3 Tower'!H149)","v":""},{"$f":"IF($A148=\"\",\"\",'Fig 4 Walkover'!H149)","v":""},{"$f":"IF($A148=\"\",\"\",'Fig 1 Ballet Leg'!I149+'Fig 2 Barracuda'!I149+'Fig 3 Tower'!I149+'Fig 4 Walkover'!I149)","v":""},""]
[{"$f":"IF(Draw!E149=0,\"\",Draw!E149)","v":""},null,null,"","",{"$f":"IF($A149=\"\",\"\",'Fig 1 Ballet Leg'!H150)","v":""},{"$f":"IF($A149=\"\",\"\",'Fig 2 Barracuda'!H150)","v":""},{"$f":"IF($A149=\"\",\"\",'Fig 3 Tower'!H150)","v":""},{"$f":"IF($A149=\"\",\"\",'Fig 4 Walkover'!H150)","v":""},{"$f":"IF($A149=\"\",\"\",'Fig 1 Ballet Leg'!I150+'Fig 2 Barracuda'!I150+'Fig 3 Tower'!I150+'Fig 4 Walkover'!I150)","v":""},""]
[{"$f":"IF(Draw!E150=0,\"\",Draw!E150)","v":""},null,null,"","",{"$f":"IF($A150=\"\",\"\",'Fig 1 Ballet Leg'!H151)","v":""},{"$f":"IF($A150=\"\",\"\",'Fig 2 Barracuda'!H151)","v":""},{"$f":"IF($A150=\"\",\"\",'Fig 3 Tower'!H151)","v":""},{"$f":"IF($A150=\"\",\"\",'Fig 4 Walkover'!H151)","v":""},{"$f":"IF($A150=\"\",\"\",'Fig 1 Ballet Leg'!I151+'Fig 2 Barracuda'!I151+'Fig 3 Tower'!I151+'Fig 4 Walkover'!I151)","v":""},""]
[null,null,null,null,null,null,null,null,null,null,{"$f":"IF($A151=\"\",\"\",IF(A151=\"\",\"\",VLOOKUP(E151,AX$3:AY$102,2,FALSE)))","v":""}]

{"sheet":"Draw","index":6,"n_rows":151,"n_cols":16,"rows_kept":151,"cut":false,"hidden":true,"merged":[]}
[1,"Bloomington",{"$f":"RAND()","v":0.92348078595811101},null,null,null,"School","Name","Draw #","Name","School"]
["Grace Henke","Stillwater",{"$f":"RAND()","v":0.70949531630243501},{"$f":"IF(ISNA(RANK(C2,C$2:C$150,1)),\"\",RANK(C2,C$2:C$150,1))","v":40},{"$f":"IF(B2<>\"\",F2,\"\")","v":1},1,{"$f":"B2","v":"Stillwater"},{"$f":"A2","v":"Grace Henke"},{"$f":"E2","v":1},{"$f":"IF(ISNA(VLOOKUP(I2,D$2:H$150,5,FALSE)),\"\",VLOOKUP(I2,D$2:H$150,5,FALSE))","v":"Waldron, Zoe"},{"$f":"IF(ISNA(VLOOKUP(I2,D$2:G$150,4,FALSE)),\"\",VLOOKUP(I2,D$2:G$150,4,FALSE))","v":"Osseo-Maple Grove"},null,null,1,"Grace Henke","Stillwater"]
["Drazenovich, Holly","Osseo-Maple Grove",{"$f":"RAND()","v":0.90336238195726515},{"$f":"IF(ISNA(RANK(C3,C$2:C$150,1)),\"\",RANK(C3,C$2:C$150,1))","v":52},{"$f":"IF(B3<>\"\",F3,\"\")","v":2},2,{"$f":"B3","v":"Osseo-Maple Grove"},{"$f":"A3","v":"Drazenovich, Holly"},{"$f":"E3","v":2},{"$f":"IF(ISNA(VLOOKUP(I3,D$2:H$150,5,FALSE)),\"\",VLOOKUP(I3,D$2:H$150,5,FALSE))","v":"Peters, Madison"},{"$f":"IF(ISNA(VLOOKUP(I3,D$2:G$150,4,FALSE)),\"\",VLOOKUP(I3,D$2:G$150,4,FALSE))","v":"Osseo-Maple Grove"},null,null,2,"Drazenovich, Holly","Osseo-Maple Grove"]
["Carolyn Wrightsman","Stillwater",3.1E-2,3,3,3,"Stillwater","Carolyn Wrightsman",3,"Carolyn Wrightsman","Stillwater",null,null,3,"Carolyn Wrightsman","Stillwater"]
["Ruohoniemi, Jessica (Jess)","Osseo-Maple Grove",{"$f":"RAND()","v":0.92708441532986496},55,4,4,"Osseo-Maple Grove","Ruohoniemi, Jessica (Jess)",4,"Grace Zimmer","Stillwater",null,null,4,"Ruohoniemi, Jessica (Jess)","Osseo-Maple Grove"]
["Grace Zimmer","Stillwater",3.2000000000000001E-2,4,5,5,"Stillwater","Grace Zimmer",5,"Grace Sneden","Stillwater",null,null,5,"Grace Zimmer","Stillwater"]
["Grace Gualtieri","Stillwater",3.3000000000000002E-2,6,6,6,"Stillwater","Grace Gualtieri",6,"Grace Gualtieri","Stillwater",null,null,6,"Grace Gualtieri","Stillwater"]
["Jane Sorenson","Stillwater",{"$f":"RAND()","v":4.7200632148386767E-2},7,7,7,"Stillwater","Jane Sorenson",7,"Jane Sorenson","Stillwater",null,null,7,"Jane Sorenson","Stillwater"]
["Rubie Ballantyne","Stillwater",0.3227187477453628,19,8,8,"Stillwater","Rubie Ballantyne",8,"","",null,null,8,"Rubie Ballantyne","Stillwater"]
["Hannah Dettmann","Stillwater",0.33525820650283078,20,9,9,"Stillwater","Hannah Dettmann",9,"Honnold, Emily","Osseo-Maple Grove",null,null,9,"Hannah Dettmann","Stillwater"]
["Ellie Bliss","Stillwater",0.6300719975442004,36,10,10,"Stillwater","Ellie Bliss",10,"","",null,null,10,"Ellie Bliss","Stillwater"]
["Ganser, Anna","Osseo-Maple Grove",0.21518235516864048,14,11,11,"Osseo-Maple Grove","Ganser, Anna",11,"","",null,null,11,"Ganser, Anna","Osseo-Maple Grove"]
["Miranda Bergan","Stillwater",0.81191260428135381,46,12,12,"Stillwater","Miranda Bergan",12,"","",null,null,12,"Miranda Bergan","Stillwater"]
["Waldron, Zoe","Osseo-Maple Grove",1.6480177636049809E-2,1,13,13,"Osseo-Maple Grove","Waldron, Zoe",13,"","",null,null,13,"Waldron, Zoe","Osseo-Maple Grove"]
["Vanderwarn, Marie","Osseo-Maple Grove",0.81880992498095373,47,14,14,"Osseo-Maple Grove","Vanderwarn, Marie",14,"Ganser, Anna","Osseo-Maple Grove",null,null,14,"Vanderwarn, Marie","Osseo-Maple Grove"]
["Linnea Coltvet","Stillwater",0.49556018660570245,26,15,15,"Stillwater","Linnea Coltvet",15,"","",null,null,15,"Linnea Coltvet","Stillwater"]
["Ryann Ellis","Stillwater",0.42939871347163328,23,16,16,"Stillwater","Ryann Ellis",16,"","",null,null,16,"Ryann Ellis","Stillwater"]
["Kya Hodgdon","Stillwater",0.29188543282881718,17,17,17,"Stillwater","Kya Hodgdon",17,"Kya Hodgdon","Stillwater",null,null,17,"Kya Hodgdon","Stillwater"]
["Hawes, Danielle","Osseo-Maple Grove",0.54657003295299955,33,18,18,"Osseo-Maple Grove","Hawes, Danielle",18,"","",null,null,18,"Hawes, Danielle","Osseo-Maple Grove"]
["Andrea Finholt","Stillwater",0.56067878925660652,34,19,19,"Stillwater","Andrea Finholt",19,"Rubie Ballantyne","Stillwater",null,null,19,"Andrea Finholt","Stillwater"]
["Sophie Ogaard","Stillwater",0.50229037080261718,27,20,20,"Stillwater","Sophie Ogaard",20,"Hannah Dettmann","Stillwater",null,null,20,"Sophie Ogaard","Stillwater"]
["Ali Gerard","Stillwater",0.91601564165691196,53,21,21,"Stillwater","Ali Gerard",21,"Sophie Browning","Stillwater",null,null,21,"Ali Gerard","Stillwater"]
["Grace Sneden","Stillwater",3.2575164506735255E-2,5,22,22,"Stillwater","Grace Sneden",22,"Moline, Katelyn (Katie)","Osseo-Maple Grove",null,null,22,"Grace Sneden","Stillwater"]
["Moline, Katelyn (Katie)","Osseo-Maple Grove",0.4101149735184576,22,23,23,"Osseo-Maple Grove","Moline, Katelyn (Katie)",23,"Ryann Ellis","Stillwater",null,null,23,"Moline, Katelyn (Katie)","Osseo-Maple Grove"]
["Prentice, Margo","Osseo-Maple Grove",0.57784105126340768,35,24,24,"Osseo-Maple Grove","Prentice, Margo",24,"","",null,null,24,"Prentice, Margo","Osseo-Maple Grove"]
["Honnold, Emily","Osseo-Maple Grove",9.0159584227637257E-2,9,25,25,"Osseo-Maple Grove","Honnold, Emily",25,"Laborde, Caroline","Osseo-Maple Grove",null,null,25,"Honnold, Emily","Osseo-Maple Grove"]
["Laborde, Caroline","Osseo-Maple Grove",0.45269415973731897,25,26,26,"Osseo-Maple Grove","Laborde, Caroline",26,"Linnea Coltvet","Stillwater",null,null,26,"Laborde, Caroline","Osseo-Maple Grove"]
["Peters, Madison","Osseo-Maple Grove",3.0580099647018022E-2,2,27,27,"Osseo-Maple Grove","Peters, Madison",27,"Sophie Ogaard","Stillwater",null,null,27,"Peters, Madison","Osseo-Maple Grove"]
["Hammann, Allison","Osseo-Maple Grove",0.8703559570745012,50,28,28,"Osseo-Maple Grove","Hammann, Allison",28,"","",null,null,28,"Hammann, Allison","Osseo-Maple Grove"]
["McBride, Elizabeth (Lizzy)","Osseo-Maple Grove",0.75057045993724769,42,29,29,"Osseo-Maple Grove","McBride, Elizabeth (Lizzy)",29,"","",null,null,29,"McBride, Elizabeth (Lizzy)","Osseo-Maple Grove"]
["Sophie Browning","Stillwater",0.34478788348810985,21,30,30,"Stillwater","Sophie Browning",30,"","",null,null,30,"Sophie Browning","Stillwater"]
["McNamee, Kelly","Osseo-Maple Grove",0.77828238030450514,null,{"$f":"IF(B32<>\"\",F32,\"\")","v":31},31,"Osseo-Maple Grove","McNamee, Kelly",31,"","",null,null,31,"McNamee, Kelly","Osseo-Maple Grove"]
["Claire Summary","Stillwater",0.95353807638125365,null,32,32,"Stillwater","Claire Summary",32,"","",null,null,32,"Claire Summary","Stillwater"]
["Isabel Solheim","Stillwater",7.2692536520405415E-2,null,33,33,"Stillwater","Isabel Solheim",33,"Hawes, Danielle","Osseo-Maple Grove",null,null,33,"Isabel Solheim","Stillwater"]
["Emily Cossetta","Stillwater",0.91991712452176189,null,34,34,"Stillwater","Emily Cossetta",34,"Andrea Finholt","Stillwater",null,null,34,"Emily Cossetta","Stillwater"]
["Mason, Ellery","Osseo-Maple Grove",0.51369089045422844,null,35,35,"Osseo-Maple Grove","Mason, Ellery",35,"Prentice, Margo","Osseo-Maple Grove",null,null,35,"Mason, Ellery","Osseo-Maple Grove"]
["Kaitlin Johnson","Stillwater",0.77378765260188709,null,36,36,"Stillwater","Kaitlin Johnson",36,"Ellie Bliss","Stillwater",null,null,36,"Kaitlin Johnson","Stillwater"]
["Emma Sneden","Stillwater",0.16347160144236639,null,37,37,"Stillwater","Emma Sneden",37,"","",null,null,37,"Emma Sneden","Stillwater"]
["Greta Bliss","Stillwater",0.63694144520194584,null,38,38,"Stillwater","Greta Bliss",38,"","",null,null,38,"Greta Bliss","Stillwater"]
["Vrba, Elena (Ellie)","Osseo-Maple Grove",{"$f":"RAND()","v":0.21507916650272985},null,39,39,"Osseo-Maple Grove","Vrba, Elena (Ellie)",39,"","",null,null,39,"Vrba, Elena (Ellie)","Osseo-Maple Grove"]
["Emily Shanley","Stillwater",0.88049908777831376,null,40,40,"Stillwater","Emily Shanley",40,"Grace Henke","Stillwater",null,null,40,"Emily Shanley","Stillwater"]
["Raina Hoge","Stillwater",0.31855333123288954,null,41,41,"Stillwater","Raina Hoge",41,"","",null,null,41,"Raina Hoge","Stillwater"]
["Courtney Lillemoen","Stillwater",0.27207899591819884,null,42,42,"Stillwater","Courtney Lillemoen",42,"McBride, Elizabeth (Lizzy)","Osseo-Maple Grove",null,null,42,"Courtney Lillemoen","Stillwater"]
["Trudeau, Alexandra (Trudy)","Osseo-Maple Grove",0.98581881641688895,null,43,43,"Osseo-Maple Grove","Trudeau, Alexandra (Trudy)",43,"","",null,null,43,"Trudeau, Alexandra (Trudy)","Osseo-Maple Grove"]
["Aubrie Filandrinos","Stillwater",0.25080684315902457,null,44,44,"Stillwater","Aubrie Filandrinos",44,"","",null,null,44,"Aubrie Filandrinos","Stillwater"]
["Olsen, Katherine (Katie)","Osseo-Maple Grove",0.50663425427235032,null,45,45,"Osseo-Maple Grove","Olsen, Katherine (Katie)",45,"","",null,null,45,"Olsen, Katherine (Katie)","Osseo-Maple Grove"]
["Morgan Tope-Yates","Stillwater",0.1658031817537674,null,46,46,"Stillwater","Morgan Tope-Yates",46,"Miranda Bergan","Stillwater",null,null,46,"Morgan Tope-Yates","Stillwater"]
["Heiss, Hayley","Osseo-Maple Grove",0.86311310225324711,null,47,47,"Osseo-Maple Grove","Heiss, Hayley",47,"Vanderwarn, Marie","Osseo-Maple Grove",null,null,47,"Heiss, Hayley","Osseo-Maple Grove"]
["Madi Kulzer","Stillwater",0.52153269045897943,null,48,48,"Stillwater","Madi Kulzer",48,"","",null,null,48,"Madi Kulzer","Stillwater"]
["Heitzig, Elisabeth (Ellie)","Osseo-Maple Grove",0.6578815504378982,null,49,49,"Osseo-Maple Grove","Heitzig, Elisabeth (Ellie)",49,"","",null,null,49,"Heitzig, Elisabeth (Ellie)","Osseo-Maple Grove"]
["Knox, Rachel","Osseo-Maple Grove",0.8013689252787296,null,50,50,"Osseo-Maple Grove","Knox, Rachel",50,"Hammann, Allison","Osseo-Maple Grove",null,null,50,"Knox, Rachel","Osseo-Maple Grove"]
["Breidenbach, Heather","Osseo-Maple Grove",0.85662889063541725,null,51,51,"Osseo-Maple Grove","Breidenbach, Heather",51,"","",null,null,51,"Breidenbach, Heather","Osseo-Maple Grove"]
["Rachel Duerr","Stillwater",0.94367571346914025,null,52,52,"Stillwater","Rachel Duerr",52,"Drazenovich, Holly","Osseo-Maple Grove",null,null,52,"Rachel Duerr","Stillwater"]
["Sofia Johnson","Stillwater",0.65551177143528705,null,53,53,"Stillwater","Sofia Johnson",53,"Ali Gerard","Stillwater",null,null,53,"Sofia Johnson","Stillwater"]
["Littel, Hannah","Osseo-Maple Grove",0.53283506107896972,null,54,54,"Osseo-Maple Grove","Littel, Hannah",54,"","",null,null,54,"Littel, Hannah","Osseo-Maple Grove"]
["Anna Koenning","Stillwater",0.44777830474281222,null,55,55,"Stillwater","Anna Koenning",55,"Ruohoniemi, Jessica (Jess)","Osseo-Maple Grove",null,null,55,"Anna Koenning","Stillwater"]
["Mamie Thrall","Stillwater",0.15897848993013253,null,56,56,"Stillwater","Mamie Thrall",56,"","",null,null,56,"Mamie Thrall","Stillwater"]
["Brie Sheridan","Stillwater",0.53063398243699267,null,57,57,"Stillwater","Brie Sheridan",57,"","",null,null,57,"Brie Sheridan","Stillwater"]
["Kelly Keenan","Stillwater",0.71694305226027533,null,58,58,"Stillwater","Kelly Keenan",58,"","",null,null,58,"Kelly Keenan","Stillwater"]
[null,null,null,null,"",59,0,0,"","","",null,null,""]
[null,null,null,null,"",60,0,0,"","","",null,null,""]
[null,null,null,null,"",61,0,0,"","","",null,null,""]
[null,null,null,null,"",62,0,0,"","","",null,null,""]
[null,null,null,null,"",63,0,0,"","","",null,null,""]
[null,null,null,null,"",64,0,0,"","","",null,null,""]
[null,null,null,null,"",65,0,0,"","","",null,null,""]
[null,null,null,null,"",66,{"$f":"B67","v":0},{"$f":"A67","v":0},{"$f":"E67","v":""},{"$f":"IF(ISNA(VLOOKUP(I67,D$2:H$150,5,FALSE)),\"\",VLOOKUP(I67,D$2:H$150,5,FALSE))","v":""},{"$f":"IF(ISNA(VLOOKUP(I67,D$2:G$150,4,FALSE)),\"\",VLOOKUP(I67,D$2:G$150,4,FALSE))","v":""},null,null,""]
[null,null,null,null,"",67,0,0,"","","",null,null,""]
[null,null,null,null,"",68,0,0,"","","",null,null,""]
[null,null,null,null,"",69,0,0,"","","",null,null,""]
[null,null,null,null,"",70,0,0,"","","",null,null,""]
[null,null,null,null,"",71,0,0,"","","",null,null,""]
[null,null,null,null,"",72,0,0,"","","",null,null,""]
[null,null,null,null,"",73,0,0,"","","",null,null,""]
[null,null,null,null,"",74,0,0,"","","",null,null,""]
[null,null,null,null,"",75,0,0,"","","",null,null,""]
[null,null,null,null,"",76,0,0,"","","",null,null,""]
[null,null,null,null,"",77,0,0,"","","",null,null,""]
[null,null,null,null,"",78,0,0,"","","",null,null,""]
[null,null,null,null,"",79,0,0,"","","",null,null,""]
[null,null,null,null,"",80,0,0,"","","",null,null,""]
[null,null,null,null,"",81,0,0,"","","",null,null,""]
[null,null,null,null,"",82,0,0,"","","",null,null,""]
[null,null,null,null,"",83,0,0,"","","",null,null,""]
[null,null,null,null,"",84,0,0,"","","",null,null,""]
[null,null,null,null,"",85,0,0,"","","",null,null,""]
[null,null,null,null,"",86,0,0,"","","",null,null,""]
[null,null,null,null,"",87,0,0,"","","",null,null,""]
[null,null,null,null,"",88,0,0,"","","",null,null,""]
[null,null,null,null,"",89,0,0,"","","",null,null,""]
[null,null,null,null,"",90,0,0,"","","",null,null,""]
[null,null,null,null,"",91,0,0,"","","",null,null,""]
[null,null,null,null,"",92,0,0,"","","",null,null,""]
[null,null,null,null,"",93,0,0,"","","",null,null,""]
[null,null,null,null,"",94,{"$f":"B95","v":0},{"$f":"A95","v":0},{"$f":"E95","v":""},"","",null,null,""]
[null,null,null,null,{"$f":"IF(B96<>\"\",F96,\"\")","v":""},95,0,0,"","","",null,null,""]
[null,null,null,null,"",96,0,0,"","","",null,null,""]
[null,null,null,null,"",97,0,0,"","","",null,null,""]
[null,null,null,null,"",98,0,0,"","","",null,null,""]
[null,null,null,null,"",99,0,0,"","","",null,null,""]
[null,null,null,null,"",100,0,0,"","","",null,null,""]
[null,null,null,null,"",101,0,0,"","","",null,null,""]
[null,null,null,null,"",102,0,0,"","","",null,null,""]
[null,null,null,null,"",103,0,0,"","","",null,null,""]
[null,null,null,null,"",104,0,0,"","","",null,null,""]
[null,null,null,null,"",105,0,0,"","","",null,null,""]
[null,null,null,null,"",106,0,0,"","","",null,null,""]
[null,null,null,null,"",107,0,0,"","","",null,null,""]
[null,null,null,null,"",108,0,0,"","","",null,null,""]
[null,null,null,null,"",109,0,0,"","","",null,null,""]
[null,null,null,null,"",110,0,0,"","","",null,null,""]
[null,null,null,null,"",111,0,0,"","","",null,null,""]
[null,null,null,null,"",112,0,0,"","","",null,null,""]
[null,null,null,null,"",113,0,0,"","","",null,null,""]
[null,null,null,null,"",114,0,0,"","","",null,null,""]
[null,null,null,null,"",115,0,0,"","","",null,null,""]
[null,null,null,null,"",116,0,0,"","","",null,null,""]
[null,null,null,null,"",117,0,0,"","","",null,null,""]
[null,null,null,null,"",118,0,0,"","","",null,null,""]
[null,null,null,null,"",119,0,0,"","","",null,null,""]
[null,null,null,null,"",120,0,0,"","","",null,null,""]
[null,null,null,null,"",121,0,0,"","","",null,null,""]
[null,null,null,null,"",122,0,0,"","","",null,null,""]
[null,null,null,null,"",123,0,0,"","","",null,null,""]
[null,null,null,null,"",124,0,0,"","","",null,null,""]
[null,null,null,null,"",125,0,0,"","","",null,null,""]
[null,null,null,null,"",126,0,0,"","","",null,null,""]
[null,null,null,null,"",127,0,0,"","","",null,null,""]
[null,null,null,null,"",128,0,0,"","","",null,null,""]
[null,null,null,null,"",129,0,0,"","","",null,null,""]
[null,null,null,null,"",130,0,0,"",{"$f":"IF(ISNA(VLOOKUP(I131,D$2:H$150,5,FALSE)),\"\",VLOOKUP(I131,D$2:H$150,5,FALSE))","v":""},{"$f":"IF(ISNA(VLOOKUP(I131,D$2:G$150,4,FALSE)),\"\",VLOOKUP(I131,D$2:G$150,4,FALSE))","v":""},null,null,""]
[null,null,null,null,"",131,0,0,"","","",null,null,""]
[null,null,null,null,"",132,0,0,"","","",null,null,""]
[null,null,null,null,"",133,0,0,"","","",null,null,""]
[null,null,null,null,"",134,0,0,"","","",null,null,""]
[null,null,null,null,"",135,0,0,"","","",null,null,""]
[null,null,null,null,"",136,0,0,"","","",null,null,""]
[null,null,null,null,"",137,0,0,"","","",null,null,""]
[null,null,null,null,"",138,0,0,"","","",null,null,""]
[null,null,null,null,"",139,0,0,"","","",null,null,""]
[null,null,null,null,"",140,0,0,"","","",null,null,""]
[null,null,null,null,"",141,0,0,"","","",null,null,""]
[null,null,null,null,"",142,0,0,"","","",null,null,""]
[null,null,null,null,"",143,0,0,"","","",null,null,""]
[null,null,null,null,"",144,0,0,"","","",null,null,""]
[null,null,null,null,"",145,0,0,"","","",null,null,""]
[null,null,null,null,"",146,0,0,"","","",null,null,""]
[null,null,null,null,"",147,0,0,"","","",null,null,""]
[null,null,null,null,"",148,0,0,"","","",null,null,""]
[null,null,null,null,"",149,0,0,"","","",null,null,""]
[null,null,null,null,""]

{"sheet":"Schools","index":7,"n_rows":15,"n_cols":1,"rows_kept":15,"cut":false,"hidden":true,"merged":[]}
["List of Schools:"]
["Blake"]
["Bloomington"]
["Columbia Heights"]
["Eden Prairie"]
["Edina"]
["Forest Lake"]
["Hopkins"]
["Itasca"]
["Osseo-Maple Grove"]
["Prior Lake"]
["Richfield"]
["St. Louis Park"]
["Stillwater"]
["Wayzata"]

{"sheet":"Official Draw","index":8,"n_rows":151,"n_cols":4,"rows_kept":151,"cut":false,"hidden":false,"merged":[]}
[]
[null,{"$f":"Draw!I1","v":"Draw #"},{"$f":"Draw!J1","v":"Name"},{"$f":"Draw!K1","v":"School"}]
[null,1,"Grace Henke","Stillwater"]
[null,2,"Drazenovich, Holly","Osseo-Maple Grove"]
[null,3,"Carolyn Wrightsman","Stillwater"]
[null,4,"Ruohoniemi, Jessica (Jess)","Osseo-Maple Grove"]
[null,5,"Grace Zimmer","Stillwater"]
[null,6,"Grace Gualtieri","Stillwater"]
[null,7,"Jane Sorenson","Stillwater"]
[null,8,"Rubie Ballantyne","Stillwater"]
[null,9,"Hannah Dettmann","Stillwater"]
[null,10,"Ellie Bliss","Stillwater"]
[null,11,"Ganser, Anna","Osseo-Maple Grove"]
[null,12,"Miranda Bergan","Stillwater"]
[null,13,"Waldron, Zoe","Osseo-Maple Grove"]
[null,14,"Vanderwarn, Marie","Osseo-Maple Grove"]
[null,15,"Linnea Coltvet","Stillwater"]
[null,16,"Ryann Ellis","Stillwater"]
[null,17,"Kya Hodgdon","Stillwater"]
[null,18,"Hawes, Danielle","Osseo-Maple Grove"]
[null,19,"Andrea Finholt","Stillwater"]
[null,20,"Sophie Ogaard","Stillwater"]
[null,21,"Ali Gerard","Stillwater"]
[null,22,"Grace Sneden","Stillwater"]
[null,23,"Moline, Katelyn (Katie)","Osseo-Maple Grove"]
[null,24,"Prentice, Margo","Osseo-Maple Grove"]
[null,25,"Honnold, Emily","Osseo-Maple Grove"]
[null,26,"Laborde, Caroline","Osseo-Maple Grove"]
[null,27,"Peters, Madison","Osseo-Maple Grove"]
[null,28,"Hammann, Allison","Osseo-Maple Grove"]
[null,29,"McBride, Elizabeth (Lizzy)","Osseo-Maple Grove"]
[null,30,"Sophie Browning","Stillwater"]
[null,31,"McNamee, Kelly","Osseo-Maple Grove"]
[null,32,"Claire Summary","Stillwater"]
[null,33,"Isabel Solheim","Stillwater"]
[null,34,"Emily Cossetta","Stillwater"]
[null,35,"Mason, Ellery","Osseo-Maple Grove"]
[null,36,"Kaitlin Johnson","Stillwater"]
[null,37,"Emma Sneden","Stillwater"]
[null,38,"Greta Bliss","Stillwater"]
[null,39,"Vrba, Elena (Ellie)","Osseo-Maple Grove"]
[null,40,"Emily Shanley","Stillwater"]
[null,41,"Raina Hoge","Stillwater"]
[null,42,"Courtney Lillemoen","Stillwater"]
[null,43,"Trudeau, Alexandra (Trudy)","Osseo-Maple Grove"]
[null,44,"Aubrie Filandrinos","Stillwater"]
[null,45,"Olsen, Katherine (Katie)","Osseo-Maple Grove"]
[null,46,"Morgan Tope-Yates","Stillwater"]
[null,47,"Heiss, Hayley","Osseo-Maple Grove"]
[null,48,"Madi Kulzer","Stillwater"]
[null,49,"Heitzig, Elisabeth (Ellie)","Osseo-Maple Grove"]
[null,50,"Knox, Rachel","Osseo-Maple Grove"]
[null,51,"Breidenbach, Heather","Osseo-Maple Grove"]
[null,52,"Rachel Duerr","Stillwater"]
[null,53,"Sofia Johnson","Stillwater"]
[null,54,"Littel, Hannah","Osseo-Maple Grove"]
[null,55,"Anna Koenning","Stillwater"]
[null,56,"Mamie Thrall","Stillwater"]
[null,57,"Brie Sheridan","Stillwater"]
[null,58,"Kelly Keenan","Stillwater"]
[null,{"$f":"Draw!N60","v":""},{"$f":"Draw!O60","v":0},{"$f":"Draw!P60","v":0}]
[null,{"$f":"Draw!N61","v":""},{"$f":"Draw!O61","v":0},{"$f":"Draw!P61","v":0}]
[null,{"$f":"Draw!N62","v":""},{"$f":"Draw!O62","v":0},{"$f":"Draw!P62","v":0}]
[null,{"$f":"Draw!N63","v":""},{"$f":"Draw!O63","v":0},{"$f":"Draw!P63","v":0}]
[null,{"$f":"Draw!N64","v":""},{"$f":"Draw!O64","v":0},{"$f":"Draw!P64","v":0}]
[null,{"$f":"Draw!N65","v":""},{"$f":"Draw!O65","v":0},{"$f":"Draw!P65","v":0}]
[null,{"$f":"Draw!N66","v":""},{"$f":"Draw!O66","v":0},{"$f":"Draw!P66","v":0}]
[null,{"$f":"Draw!N67","v":""},{"$f":"Draw!O67","v":0},{"$f":"Draw!P67","v":0}]
[null,{"$f":"Draw!N68","v":""},{"$f":"Draw!O68","v":0},{"$f":"Draw!P68","v":0}]
[null,{"$f":"Draw!N69","v":""},{"$f":"Draw!O69","v":0},{"$f":"Draw!P69","v":0}]
[null,{"$f":"Draw!N70","v":""},{"$f":"Draw!O70","v":0},{"$f":"Draw!P70","v":0}]
[null,{"$f":"Draw!N71","v":""},{"$f":"Draw!O71","v":0},{"$f":"Draw!P71","v":0}]
[null,{"$f":"Draw!N72","v":""},{"$f":"Draw!O72","v":0},{"$f":"Draw!P72","v":0}]
[null,{"$f":"Draw!N73","v":""},{"$f":"Draw!O73","v":0},{"$f":"Draw!P73","v":0}]
[null,{"$f":"Draw!N74","v":""},{"$f":"Draw!O74","v":0},{"$f":"Draw!P74","v":0}]
[null,{"$f":"Draw!N75","v":""},{"$f":"Draw!O75","v":0},{"$f":"Draw!P75","v":0}]
[null,{"$f":"Draw!N76","v":""},{"$f":"Draw!O76","v":0},{"$f":"Draw!P76","v":0}]
[null,{"$f":"Draw!N77","v":""},{"$f":"Draw!O77","v":0},{"$f":"Draw!P77","v":0}]
[null,{"$f":"Draw!N78","v":""},{"$f":"Draw!O78","v":0},{"$f":"Draw!P78","v":0}]
[null,{"$f":"Draw!N79","v":""},{"$f":"Draw!O79","v":0},{"$f":"Draw!P79","v":0}]
[null,{"$f":"Draw!N80","v":""},{"$f":"Draw!O80","v":0},{"$f":"Draw!P80","v":0}]
[null,{"$f":"Draw!N81","v":""},{"$f":"Draw!O81","v":0},{"$f":"Draw!P81","v":0}]
[null,{"$f":"Draw!N82","v":""},{"$f":"Draw!O82","v":0},{"$f":"Draw!P82","v":0}]
[null,{"$f":"Draw!N83","v":""},{"$f":"Draw!O83","v":0},{"$f":"Draw!P83","v":0}]
[null,{"$f":"Draw!N84","v":""},{"$f":"Draw!O84","v":0},{"$f":"Draw!P84","v":0}]
[null,{"$f":"Draw!N85","v":""},{"$f":"Draw!O85","v":0},{"$f":"Draw!P85","v":0}]
[null,{"$f":"Draw!N86","v":""},{"$f":"Draw!O86","v":0},{"$f":"Draw!P86","v":0}]
[null,{"$f":"Draw!N87","v":""},{"$f":"Draw!O87","v":0},{"$f":"Draw!P87","v":0}]
[null,{"$f":"Draw!N88","v":""},{"$f":"Draw!O88","v":0},{"$f":"Draw!P88","v":0}]
[null,{"$f":"Draw!N89","v":""},{"$f":"Draw!O89","v":0},{"$f":"Draw!P89","v":0}]
[null,{"$f":"Draw!N90","v":""},{"$f":"Draw!O90","v":0},{"$f":"Draw!P90","v":0}]
[null,{"$f":"Draw!N91","v":""},{"$f":"Draw!O91","v":0},{"$f":"Draw!P91","v":0}]
[null,{"$f":"Draw!N92","v":""},{"$f":"Draw!O92","v":0},{"$f":"Draw!P92","v":0}]
[null,{"$f":"Draw!N93","v":""},{"$f":"Draw!O93","v":0},{"$f":"Draw!P93","v":0}]
[null,{"$f":"Draw!N94","v":""},{"$f":"Draw!O94","v":0},{"$f":"Draw!P94","v":0}]
[null,{"$f":"Draw!N95","v":""},{"$f":"Draw!O95","v":0},{"$f":"Draw!P95","v":0}]
[null,{"$f":"Draw!N96","v":""},{"$f":"Draw!O96","v":0},{"$f":"Draw!P96","v":0}]
[null,{"$f":"Draw!N97","v":""},{"$f":"Draw!O97","v":0},{"$f":"Draw!P97","v":0}]
[null,{"$f":"Draw!N98","v":""},{"$f":"Draw!O98","v":0},{"$f":"Draw!P98","v":0}]
[null,{"$f":"Draw!N99","v":""},{"$f":"Draw!O99","v":0},{"$f":"Draw!P99","v":0}]
[null,{"$f":"Draw!N100","v":""},{"$f":"Draw!O100","v":0},{"$f":"Draw!P100","v":0}]
[null,{"$f":"Draw!N101","v":""},{"$f":"Draw!O101","v":0},{"$f":"Draw!P101","v":0}]
[null,{"$f":"Draw!N102","v":""},{"$f":"Draw!O102","v":0},{"$f":"Draw!P102","v":0}]
[null,{"$f":"Draw!N103","v":""},{"$f":"Draw!O103","v":0},{"$f":"Draw!P103","v":0}]
[null,{"$f":"Draw!N104","v":""},{"$f":"Draw!O104","v":0},{"$f":"Draw!P104","v":0}]
[null,{"$f":"Draw!N105","v":""},{"$f":"Draw!O105","v":0},{"$f":"Draw!P105","v":0}]
[null,{"$f":"Draw!N106","v":""},{"$f":"Draw!O106","v":0},{"$f":"Draw!P106","v":0}]
[null,{"$f":"Draw!N107","v":""},{"$f":"Draw!O107","v":0},{"$f":"Draw!P107","v":0}]
[null,{"$f":"Draw!N108","v":""},{"$f":"Draw!O108","v":0},{"$f":"Draw!P108","v":0}]
[null,{"$f":"Draw!N109","v":""},{"$f":"Draw!O109","v":0},{"$f":"Draw!P109","v":0}]
[null,{"$f":"Draw!N110","v":""},{"$f":"Draw!O110","v":0},{"$f":"Draw!P110","v":0}]
[null,{"$f":"Draw!N111","v":""},{"$f":"Draw!O111","v":0},{"$f":"Draw!P111","v":0}]
[null,{"$f":"Draw!N112","v":""},{"$f":"Draw!O112","v":0},{"$f":"Draw!P112","v":0}]
[null,{"$f":"Draw!N113","v":""},{"$f":"Draw!O113","v":0},{"$f":"Draw!P113","v":0}]
[null,{"$f":"Draw!N114","v":""},{"$f":"Draw!O114","v":0},{"$f":"Draw!P114","v":0}]
[null,{"$f":"Draw!N115","v":""},{"$f":"Draw!O115","v":0},{"$f":"Draw!P115","v":0}]
[null,{"$f":"Draw!N116","v":""},{"$f":"Draw!O116","v":0},{"$f":"Draw!P116","v":0}]
[null,{"$f":"Draw!N117","v":""},{"$f":"Draw!O117","v":0},{"$f":"Draw!P117","v":0}]
[null,{"$f":"Draw!N118","v":""},{"$f":"Draw!O118","v":0},{"$f":"Draw!P118","v":0}]
[null,{"$f":"Draw!N119","v":""},{"$f":"Draw!O119","v":0},{"$f":"Draw!P119","v":0}]
[null,{"$f":"Draw!N120","v":""},{"$f":"Draw!O120","v":0},{"$f":"Draw!P120","v":0}]
[null,{"$f":"Draw!N121","v":""},{"$f":"Draw!O121","v":0},{"$f":"Draw!P121","v":0}]
[null,{"$f":"Draw!N122","v":""},{"$f":"Draw!O122","v":0},{"$f":"Draw!P122","v":0}]
[null,{"$f":"Draw!N123","v":""},{"$f":"Draw!O123","v":0},{"$f":"Draw!P123","v":0}]
[null,{"$f":"Draw!N124","v":""},{"$f":"Draw!O124","v":0},{"$f":"Draw!P124","v":0}]
[null,{"$f":"Draw!N125","v":""},{"$f":"Draw!O125","v":0},{"$f":"Draw!P125","v":0}]
[null,{"$f":"Draw!N126","v":""},{"$f":"Draw!O126","v":0},{"$f":"Draw!P126","v":0}]
[null,{"$f":"Draw!N127","v":""},{"$f":"Draw!O127","v":0},{"$f":"Draw!P127","v":0}]
[null,{"$f":"Draw!N128","v":""},{"$f":"Draw!O128","v":0},{"$f":"Draw!P128","v":0}]
[null,{"$f":"Draw!N129","v":""},{"$f":"Draw!O129","v":0},{"$f":"Draw!P129","v":0}]
[null,{"$f":"Draw!N130","v":""},{"$f":"Draw!O130","v":0},{"$f":"Draw!P130","v":0}]
[null,{"$f":"Draw!N131","v":""},{"$f":"Draw!O131","v":0},{"$f":"Draw!P131","v":0}]
[null,{"$f":"Draw!N132","v":""},{"$f":"Draw!O132","v":0},{"$f":"Draw!P132","v":0}]
[null,{"$f":"Draw!N133","v":""},{"$f":"Draw!O133","v":0},{"$f":"Draw!P133","v":0}]
[null,{"$f":"Draw!N134","v":""},{"$f":"Draw!O134","v":0},{"$f":"Draw!P134","v":0}]
[null,{"$f":"Draw!N135","v":""},{"$f":"Draw!O135","v":0},{"$f":"Draw!P135","v":0}]
[null,{"$f":"Draw!N136","v":""},{"$f":"Draw!O136","v":0},{"$f":"Draw!P136","v":0}]
[null,{"$f":"Draw!N137","v":""},{"$f":"Draw!O137","v":0},{"$f":"Draw!P137","v":0}]
[null,{"$f":"Draw!N138","v":""},{"$f":"Draw!O138","v":0},{"$f":"Draw!P138","v":0}]
[null,{"$f":"Draw!N139","v":""},{"$f":"Draw!O139","v":0},{"$f":"Draw!P139","v":0}]
[null,{"$f":"Draw!N140","v":""},{"$f":"Draw!O140","v":0},{"$f":"Draw!P140","v":0}]
[null,{"$f":"Draw!N141","v":""},{"$f":"Draw!O141","v":0},{"$f":"Draw!P141","v":0}]
[null,{"$f":"Draw!N142","v":""},{"$f":"Draw!O142","v":0},{"$f":"Draw!P142","v":0}]
[null,{"$f":"Draw!N143","v":""},{"$f":"Draw!O143","v":0},{"$f":"Draw!P143","v":0}]
[null,{"$f":"Draw!N144","v":""},{"$f":"Draw!O144","v":0},{"$f":"Draw!P144","v":0}]
[null,{"$f":"Draw!N145","v":""},{"$f":"Draw!O145","v":0},{"$f":"Draw!P145","v":0}]
[null,{"$f":"Draw!N146","v":""},{"$f":"Draw!O146","v":0},{"$f":"Draw!P146","v":0}]
[null,{"$f":"Draw!N147","v":""},{"$f":"Draw!O147","v":0},{"$f":"Draw!P147","v":0}]
[null,{"$f":"Draw!N148","v":""},{"$f":"Draw!O148","v":0},{"$f":"Draw!P148","v":0}]
[null,{"$f":"Draw!N149","v":""},{"$f":"Draw!O149","v":0},{"$f":"Draw!P149","v":0}]
[null,{"$f":"Draw!N150","v":""},{"$f":"Draw!O150","v":0},{"$f":"Draw!P150","v":0}]

{"sheet":"Meet Results","index":9,"n_rows":150,"n_cols":23,"rows_kept":150,"cut":false,"hidden":false,"merged":[]}
[]
[null,null,null,"Osseo-Maple Grove",{"$f":"SUMIF($F5:$G24,D2,$H5:$H24)","v":4},"Stillwater",{"$f":"SUMIF($F5:$G24,F2,$H5:$H24)","v":25},null,null,null,"Edina",{"$f":"SUMIF($M5:$N24,K2,$O5:$O24)","v":0},"Edina",{"$f":"SUMIF($M5:$N24,M2,$O5:$O24)","v":0},null,null,null,"Hopkins",{"$f":"SUMIF($T5:$U24,R2,$V5:$V24)","v":0},"Hopkins",{"$f":"SUMIF($T5:$U24,T2,$V5:$V24)","v":0}]
[null,null,null," Total Score",null,null,null,null,null,null," Total Score",null,null,null,null,null,null," Total Score"]
[null,null,null,"#","Swimmer","School","Total","SCORE","PLACE",null,"#","Swimmer","School","Total","SCORE","PLACE",null,"#","Swimmer","School","Total","SCORE","PLACE"]
[null,null,null,20,"Sophie Ogaard","Stillwater",64.09210526315789,{"$f":"IF(ISNA(VLOOKUP(I5,Totals!$AX$3:$AY$102,2,FALSE)),\"\",VLOOKUP(I5,Totals!$AX$3:$AY$102,2,FALSE))","v":8},{"$f":"IF(ISNA(RANK(G5,G$5:G$150)),\"\",RANK(G5,G$5:G$150))","v":1},null,20,"Sophie Ogaard","Stillwater",64.09210526315789,{"$f":"IF(ISNA(VLOOKUP(P5,Totals!$AX$3:$AY$102,2,FALSE)),\"\",VLOOKUP(P5,Totals!$AX$3:$AY$102,2,FALSE))","v":8},{"$f":"IF(ISNA(RANK(N5,N$5:N$150)),\"\",RANK(N5,N$5:N$150))","v":1},null,20,"Sophie Ogaard","Stillwater",64.09210526315789,{"$f":"IF(ISNA(VLOOKUP(W5,Totals!$AX$3:$AY$102,2,FALSE)),\"\",VLOOKUP(W5,Totals!$AX$3:$AY$102,2,FALSE))","v":8},{"$f":"IF(ISNA(RANK(U5,U$5:U$150)),\"\",RANK(U5,U$5:U$150))","v":1}]
[null,null,null,55,"Anna Koenning","Stillwater",63.864035087719301,{"$f":"IF(ISNA(VLOOKUP(I6,Totals!$AX$3:$AY$102,2,FALSE)),\"\",VLOOKUP(I6,Totals!$AX$3:$AY$102,2,FALSE))","v":6},{"$f":"IF(G6=G5,I5,IF(ISNA(RANK(G6,G$5:G$150)),\"\",RANK(G6,G$5:G$150)))","v":2},null,55,"Anna Koenning","Stillwater",63.864035087719301,{"$f":"IF(ISNA(VLOOKUP(P6,Totals!$AX$3:$AY$102,2,FALSE)),\"\",VLOOKUP(P6,Totals!$AX$3:$AY$102,2,FALSE))","v":6},{"$f":"IF(ISNA(RANK(N6,N$5:N$150)),\"\",RANK(N6,N$5:N$150))","v":2},null,55,"Anna Koenning","Stillwater",63.864035087719301,{"$f":"IF(ISNA(VLOOKUP(W6,Totals!$AX$3:$AY$102,2,FALSE)),\"\",VLOOKUP(W6,Totals!$AX$3:$AY$102,2,FALSE))","v":6},{"$f":"IF(ISNA(RANK(U6,U$5:U$150)),\"\",RANK(U6,U$5:U$150))","v":2}]
[null,null,null,5,"Grace Zimmer","Stillwater",63.074561403508774,{"$f":"IF(ISNA(VLOOKUP(I7,Totals!$AX$3:$AY$102,2,FALSE)),\"\",VLOOKUP(I7,Totals!$AX$3:$AY$102,2,FALSE))","v":5},{"$f":"IF(G7=G6,I6,IF(ISNA(RANK(G7,G$5:G$150)),\"\",RANK(G7,G$5:G$150)))","v":3},null,5,"Grace Zimmer","Stillwater",63.074561403508774,{"$f":"IF(ISNA(VLOOKUP(P7,Totals!$AX$3:$AY$102,2,FALSE)),\"\",VLOOKUP(P7,Totals!$AX$3:$AY$102,2,FALSE))","v":5},3,null,5,"Grace Zimmer","Stillwater",63.074561403508774,{"$f":"IF(ISNA(VLOOKUP(W7,Totals!$AX$3:$AY$102,2,FALSE)),\"\",VLOOKUP(W7,Totals!$AX$3:$AY$102,2,FALSE))","v":5},3]
[null,null,null,56,"Mamie Thrall","Stillwater",63.01315789473685,{"$f":"IF(ISNA(VLOOKUP(I8,Totals!$AX$3:$AY$102,2,FALSE)),\"\",VLOOKUP(I8,Totals!$AX$3:$AY$102,2,FALSE))","v":4},4,null,56,"Mamie Thrall","Stillwater",63.01315789473685,{"$f":"IF(ISNA(VLOOKUP(P8,Totals!$AX$3:$AY$102,2,FALSE)),\"\",VLOOKUP(P8,Totals!$AX$3:$AY$102,2,FALSE))","v":4},4,null,56,"Mamie Thrall","Stillwater",63.01315789473685,{"$f":"IF(ISNA(VLOOKUP(W8,Totals!$AX$3:$AY$102,2,FALSE)),\"\",VLOOKUP(W8,Totals!$AX$3:$AY$102,2,FALSE))","v":4},4]
[null,null,null,29,"McBride, Elizabeth (Lizzy)","Osseo-Maple Grove",62.236842105263165,{"$f":"IF(ISNA(VLOOKUP(I9,Totals!$AX$3:$AY$102,2,FALSE)),\"\",VLOOKUP(I9,Totals!$AX$3:$AY$102,2,FALSE))","v":3},5,null,29,"McBride, Elizabeth (Lizzy)","Osseo-Maple Grove",62.236842105263165,{"$f":"IF(ISNA(VLOOKUP(P9,Totals!$AX$3:$AY$102,2,FALSE)),\"\",VLOOKUP(P9,Totals!$AX$3:$AY$102,2,FALSE))","v":3},5,null,29,"McBride, Elizabeth (Lizzy)","Osseo-Maple Grove",62.236842105263165,{"$f":"IF(ISNA(VLOOKUP(W9,Totals!$AX$3:$AY$102,2,FALSE)),\"\",VLOOKUP(W9,Totals!$AX$3:$AY$102,2,FALSE))","v":3},5]
[null,null,null,6,"Grace Gualtieri","Stillwater",62.14473684210526,{"$f":"IF(ISNA(VLOOKUP(I10,Totals!$AX$3:$AY$102,2,FALSE)),\"\",VLOOKUP(I10,Totals!$AX$3:$AY$102,2,FALSE))","v":2},6,null,6,"Grace Gualtieri","Stillwater",62.14473684210526,{"$f":"IF(ISNA(VLOOKUP(P10,Totals!$AX$3:$AY$102,2,FALSE)),\"\",VLOOKUP(P10,Totals!$AX$3:$AY$102,2,FALSE))","v":2},6,null,6,"Grace Gualtieri","Stillwater",62.14473684210526,{"$f":"IF(ISNA(VLOOKUP(W10,Totals!$AX$3:$AY$102,2,FALSE)),\"\",VLOOKUP(W10,Totals!$AX$3:$AY$102,2,FALSE))","v":2},6]
[null,null,null,11,"Ganser, Anna","Osseo-Maple Grove",60.057017543859651,{"$f":"IF(ISNA(VLOOKUP(I11,Totals!$AX$3:$AY$102,2,FALSE)),\"\",VLOOKUP(I11,Totals!$AX$3:$AY$102,2,FALSE))","v":1},7,null,11,"Ganser, Anna","Osseo-Maple Grove",60.057017543859651,{"$f":"IF(ISNA(VLOOKUP(P11,Totals!$AX$3:$AY$102,2,FALSE)),\"\",VLOOKUP(P11,Totals!$AX$3:$AY$102,2,FALSE))","v":1},7,null,11,"Ganser, Anna","Osseo-Maple Grove",60.057017543859651,{"$f":"IF(ISNA(VLOOKUP(W11,Totals!$AX$3:$AY$102,2,FALSE)),\"\",VLOOKUP(W11,Totals!$AX$3:$AY$102,2,FALSE))","v":1},7]
[null,null,null,33,"Isabel Solheim","Stillwater",59.600877192982452,{"$f":"IF(ISNA(VLOOKUP(I12,Totals!$AX$3:$AY$102,2,FALSE)),\"\",VLOOKUP(I12,Totals!$AX$3:$AY$102,2,FALSE))","v":0},8,null,33,"Isabel Solheim","Stillwater",59.600877192982452,{"$f":"IF(ISNA(VLOOKUP(P12,Totals!$AX$3:$AY$102,2,FALSE)),\"\",VLOOKUP(P12,Totals!$AX$3:$AY$102,2,FALSE))","v":0},8,null,33,"Isabel Solheim","Stillwater",59.600877192982452,{"$f":"IF(ISNA(VLOOKUP(W12,Totals!$AX$3:$AY$102,2,FALSE)),\"\",VLOOKUP(W12,Totals!$AX$3:$AY$102,2,FALSE))","v":0},8]
[null,null,null,37,"Emma Sneden","Stillwater",59.530701754385966,{"$f":"IF(ISNA(VLOOKUP(I13,Totals!$AX$3:$AY$102,2,FALSE)),\"\",VLOOKUP(I13,Totals!$AX$3:$AY$102,2,FALSE))","v":0},9,null,37,"Emma Sneden","Stillwater",59.530701754385966,{"$f":"IF(ISNA(VLOOKUP(P13,Totals!$AX$3:$AY$102,2,FALSE)),\"\",VLOOKUP(P13,Totals!$AX$3:$AY$102,2,FALSE))","v":0},9,null,37,"Emma Sneden","Stillwater",59.530701754385966,{"$f":"IF(ISNA(VLOOKUP(W13,Totals!$AX$3:$AY$102,2,FALSE)),\"\",VLOOKUP(W13,Totals!$AX$3:$AY$102,2,FALSE))","v":0},9]
[null,null,null,15,"Linnea Coltvet","Stillwater",59.425438596491226,{"$f":"IF(ISNA(VLOOKUP(I14,Totals!$AX$3:$AY$102,2,FALSE)),\"\",VLOOKUP(I14,Totals!$AX$3:$AY$102,2,FALSE))","v":0},10,null,15,"Linnea Coltvet","Stillwater",59.425438596491226,{"$f":"IF(ISNA(VLOOKUP(P14,Totals!$AX$3:$AY$102,2,FALSE)),\"\",VLOOKUP(P14,Totals!$AX$3:$AY$102,2,FALSE))","v":0},10,null,15,"Linnea Coltvet","Stillwater",59.425438596491226,{"$f":"IF(ISNA(VLOOKUP(W14,Totals!$AX$3:$AY$102,2,FALSE)),\"\",VLOOKUP(W14,Totals!$AX$3:$AY$102,2,FALSE))","v":0},10]
[null,null,null,18,"Hawes, Danielle","Osseo-Maple Grove",59.100877192982452,{"$f":"IF(ISNA(VLOOKUP(I15,Totals!$AX$3:$AY$102,2,FALSE)),\"\",VLOOKUP(I15,Totals!$AX$3:$AY$102,2,FALSE))","v":0},11,null,18,"Hawes, Danielle","Osseo-Maple Grove",59.100877192982452,{"$f":"IF(ISNA(VLOOKUP(P15,Totals!$AX$3:$AY$102,2,FALSE)),\"\",VLOOKUP(P15,Totals!$AX$3:$AY$102,2,FALSE))","v":0},11,null,18,"Hawes, Danielle","Osseo-Maple Grove",59.100877192982452,{"$f":"IF(ISNA(VLOOKUP(W15,Totals!$AX$3:$AY$102,2,FALSE)),\"\",VLOOKUP(W15,Totals!$AX$3:$AY$102,2,FALSE))","v":0},11]
[null,null,null,8,"Rubie Ballantyne","Stillwater",58.995614035087719,{"$f":"IF(ISNA(VLOOKUP(I16,Totals!$AX$3:$AY$102,2,FALSE)),\"\",VLOOKUP(I16,Totals!$AX$3:$AY$102,2,FALSE))","v":0},12,null,8,"Rubie Ballantyne","Stillwater",58.995614035087719,{"$f":"IF(ISNA(VLOOKUP(P16,Totals!$AX$3:$AY$102,2,FALSE)),\"\",VLOOKUP(P16,Totals!$AX$3:$AY$102,2,FALSE))","v":0},12,null,8,"Rubie Ballantyne","Stillwater",58.995614035087719,{"$f":"IF(ISNA(VLOOKUP(W16,Totals!$AX$3:$AY$102,2,FALSE)),\"\",VLOOKUP(W16,Totals!$AX$3:$AY$102,2,FALSE))","v":0},12]
[null,null,null,9,"Hannah Dettmann","Stillwater",58.938596491228083,{"$f":"IF(ISNA(VLOOKUP(I17,Totals!$AX$3:$AY$102,2,FALSE)),\"\",VLOOKUP(I17,Totals!$AX$3:$AY$102,2,FALSE))","v":0},13,null,9,"Hannah Dettmann","Stillwater",58.938596491228083,{"$f":"IF(ISNA(VLOOKUP(P17,Totals!$AX$3:$AY$102,2,FALSE)),\"\",VLOOKUP(P17,Totals!$AX$3:$AY$102,2,FALSE))","v":0},13,null,9,"Hannah Dettmann","Stillwater",58.938596491228083,{"$f":"IF(ISNA(VLOOKUP(W17,Totals!$AX$3:$AY$102,2,FALSE)),\"\",VLOOKUP(W17,Totals!$AX$3:$AY$102,2,FALSE))","v":0},13]
[null,null,null,48,"Madi Kulzer","Stillwater",58.508771929824569,{"$f":"IF(ISNA(VLOOKUP(I18,Totals!$AX$3:$AY$102,2,FALSE)),\"\",VLOOKUP(I18,Totals!$AX$3:$AY$102,2,FALSE))","v":0},14,null,48,"Madi Kulzer","Stillwater",58.508771929824569,{"$f":"IF(ISNA(VLOOKUP(P18,Totals!$AX$3:$AY$102,2,FALSE)),\"\",VLOOKUP(P18,Totals!$AX$3:$AY$102,2,FALSE))","v":0},14,null,48,"Madi Kulzer","Stillwater",58.508771929824569,{"$f":"IF(ISNA(VLOOKUP(W18,Totals!$AX$3:$AY$102,2,FALSE)),\"\",VLOOKUP(W18,Totals!$AX$3:$AY$102,2,FALSE))","v":0},14]
[null,null,null,1,"Grace Henke","Stillwater",58.438596491228076,{"$f":"IF(ISNA(VLOOKUP(I19,Totals!$AX$3:$AY$102,2,FALSE)),\"\",VLOOKUP(I19,Totals!$AX$3:$AY$102,2,FALSE))","v":0},15,null,1,"Grace Henke","Stillwater",58.438596491228076,{"$f":"IF(ISNA(VLOOKUP(P19,Totals!$AX$3:$AY$102,2,FALSE)),\"\",VLOOKUP(P19,Totals!$AX$3:$AY$102,2,FALSE))","v":0},15,null,1,"Grace Henke","Stillwater",58.438596491228076,{"$f":"IF(ISNA(VLOOKUP(W19,Totals!$AX$3:$AY$102,2,FALSE)),\"\",VLOOKUP(W19,Totals!$AX$3:$AY$102,2,FALSE))","v":0},15]
[null,null,null,52,"Rachel Duerr","Stillwater",58.328947368421055,{"$f":"IF(ISNA(VLOOKUP(I20,Totals!$AX$3:$AY$102,2,FALSE)),\"\",VLOOKUP(I20,Totals!$AX$3:$AY$102,2,FALSE))","v":0},16,null,52,"Rachel Duerr","Stillwater",58.328947368421055,{"$f":"IF(ISNA(VLOOKUP(P20,Totals!$AX$3:$AY$102,2,FALSE)),\"\",VLOOKUP(P20,Totals!$AX$3:$AY$102,2,FALSE))","v":0},16,null,52,"Rachel Duerr","Stillwater",58.328947368421055,{"$f":"IF(ISNA(VLOOKUP(W20,Totals!$AX$3:$AY$102,2,FALSE)),\"\",VLOOKUP(W20,Totals!$AX$3:$AY$102,2,FALSE))","v":0},16]
[null,null,null,12,"Miranda Bergan","Stillwater",58.192982456140356,{"$f":"IF(ISNA(VLOOKUP(I21,Totals!$AX$3:$AY$102,2,FALSE)),\"\",VLOOKUP(I21,Totals!$AX$3:$AY$102,2,FALSE))","v":0},17,null,12,"Miranda Bergan","Stillwater",58.192982456140356,{"$f":"IF(ISNA(VLOOKUP(P21,Totals!$AX$3:$AY$102,2,FALSE)),\"\",VLOOKUP(P21,Totals!$AX$3:$AY$102,2,FALSE))","v":0},17,null,12,"Miranda Bergan","Stillwater",58.192982456140356,{"$f":"IF(ISNA(VLOOKUP(W21,Totals!$AX$3:$AY$102,2,FALSE)),\"\",VLOOKUP(W21,Totals!$AX$3:$AY$102,2,FALSE))","v":0},17]
[null,null,null,58,"Kelly Keenan","Stillwater",57.907894736842103,{"$f":"IF(ISNA(VLOOKUP(I22,Totals!$AX$3:$AY$102,2,FALSE)),\"\",VLOOKUP(I22,Totals!$AX$3:$AY$102,2,FALSE))","v":0},18,null,58,"Kelly Keenan","Stillwater",57.907894736842103,{"$f":"IF(ISNA(VLOOKUP(P22,Totals!$AX$3:$AY$102,2,FALSE)),\"\",VLOOKUP(P22,Totals!$AX$3:$AY$102,2,FALSE))","v":0},18,null,58,"Kelly Keenan","Stillwater",57.907894736842103,{"$f":"IF(ISNA(VLOOKUP(W22,Totals!$AX$3:$AY$102,2,FALSE)),\"\",VLOOKUP(W22,Totals!$AX$3:$AY$102,2,FALSE))","v":0},18]
[null,null,null,32,"Claire Summary","Stillwater",57.899122807017548,{"$f":"IF(ISNA(VLOOKUP(I23,Totals!$AX$3:$AY$102,2,FALSE)),\"\",VLOOKUP(I23,Totals!$AX$3:$AY$102,2,FALSE))","v":0},19,null,32,"Claire Summary","Stillwater",57.899122807017548,{"$f":"IF(ISNA(VLOOKUP(P23,Totals!$AX$3:$AY$102,2,FALSE)),\"\",VLOOKUP(P23,Totals!$AX$3:$AY$102,2,FALSE))","v":0},19,null,32,"Claire Summary","Stillwater",57.899122807017548,{"$f":"IF(ISNA(VLOOKUP(W23,Totals!$AX$3:$AY$102,2,FALSE)),\"\",VLOOKUP(W23,Totals!$AX$3:$AY$102,2,FALSE))","v":0},19]
[null,null,null,54,"Littel, Hannah","Osseo-Maple Grove",57.504385964912281,{"$f":"IF(ISNA(VLOOKUP(I24,Totals!$AX$3:$AY$102,2,FALSE)),\"\",VLOOKUP(I24,Totals!$AX$3:$AY$102,2,FALSE))","v":0},20,null,54,"Littel, Hannah","Osseo-Maple Grove",57.504385964912281,{"$f":"IF(ISNA(VLOOKUP(P24,Totals!$AX$3:$AY$102,2,FALSE)),\"\",VLOOKUP(P24,Totals!$AX$3:$AY$102,2,FALSE))","v":0},20,null,54,"Littel, Hannah","Osseo-Maple Grove",57.504385964912281,{"$f":"IF(ISNA(VLOOKUP(W24,Totals!$AX$3:$AY$102,2,FALSE)),\"\",VLOOKUP(W24,Totals!$AX$3:$AY$102,2,FALSE))","v":0},20]
[null,null,null,38,"Greta Bliss","Stillwater",56.925438596491233,{"$f":"IF(ISNA(VLOOKUP(I25,Totals!$AX$3:$AY$102,2,FALSE)),\"\",VLOOKUP(I25,Totals!$AX$3:$AY$102,2,FALSE))","v":0},21,null,38,"Greta Bliss","Stillwater",56.925438596491233,{"$f":"IF(ISNA(VLOOKUP(P25,Totals!$AX$3:$AY$102,2,FALSE)),\"\",VLOOKUP(P25,Totals!$AX$3:$AY$102,2,FALSE))","v":0},21,null,38,"Greta Bliss","Stillwater",56.925438596491233,{"$f":"IF(ISNA(VLOOKUP(W25,Totals!$AX$3:$AY$102,2,FALSE)),\"\",VLOOKUP(W25,Totals!$AX$3:$AY$102,2,FALSE))","v":0},21]
[null,null,null,34,"Emily Cossetta","Stillwater",56.877192982456151,{"$f":"IF(ISNA(VLOOKUP(I26,Totals!$AX$3:$AY$102,2,FALSE)),\"\",VLOOKUP(I26,Totals!$AX$3:$AY$102,2,FALSE))","v":0},22,null,34,"Emily Cossetta","Stillwater",56.877192982456151,{"$f":"IF(ISNA(VLOOKUP(P26,Totals!$AX$3:$AY$102,2,FALSE)),\"\",VLOOKUP(P26,Totals!$AX$3:$AY$102,2,FALSE))","v":0},22,null,34,"Emily Cossetta","Stillwater",56.877192982456151,{"$f":"IF(ISNA(VLOOKUP(W26,Totals!$AX$3:$AY$102,2,FALSE)),\"\",VLOOKUP(W26,Totals!$AX$3:$AY$102,2,FALSE))","v":0},22]
[null,null,null,22,"Grace Sneden","Stillwater",56.780701754385973,{"$f":"IF(ISNA(VLOOKUP(I27,Totals!$AX$3:$AY$102,2,FALSE)),\"\",VLOOKUP(I27,Totals!$AX$3:$AY$102,2,FALSE))","v":0},23,null,22,"Grace Sneden","Stillwater",56.780701754385973,{"$f":"IF(ISNA(VLOOKUP(P27,Totals!$AX$3:$AY$102,2,FALSE)),\"\",VLOOKUP(P27,Totals!$AX$3:$AY$102,2,FALSE))","v":0},23,null,22,"Grace Sneden","Stillwater",56.780701754385973,{"$f":"IF(ISNA(VLOOKUP(W27,Totals!$AX$3:$AY$102,2,FALSE)),\"\",VLOOKUP(W27,Totals!$AX$3:$AY$102,2,FALSE))","v":0},23]
[null,null,null,46,"Morgan Tope-Yates","Stillwater",56.723684210526322,{"$f":"IF(ISNA(VLOOKUP(I28,Totals!$AX$3:$AY$102,2,FALSE)),\"\",VLOOKUP(I28,Totals!$AX$3:$AY$102,2,FALSE))","v":0},24,null,46,"Morgan Tope-Yates","Stillwater",56.723684210526322,{"$f":"IF(ISNA(VLOOKUP(P28,Totals!$AX$3:$AY$102,2,FALSE)),\"\",VLOOKUP(P28,Totals!$AX$3:$AY$102,2,FALSE))","v":0},24,null,46,"Morgan Tope-Yates","Stillwater",56.723684210526322,{"$f":"IF(ISNA(VLOOKUP(W28,Totals!$AX$3:$AY$102,2,FALSE)),\"\",VLOOKUP(W28,Totals!$AX$3:$AY$102,2,FALSE))","v":0},24]
[null,null,null,3,"Carolyn Wrightsman","Stillwater",56.596491228070178,{"$f":"IF(ISNA(VLOOKUP(I29,Totals!$AX$3:$AY$102,2,FALSE)),\"\",VLOOKUP(I29,Totals!$AX$3:$AY$102,2,FALSE))","v":0},25,null,3,"Carolyn Wrightsman","Stillwater",56.596491228070178,{"$f":"IF(ISNA(VLOOKUP(P29,Totals!$AX$3:$AY$102,2,FALSE)),\"\",VLOOKUP(P29,Totals!$AX$3:$AY$102,2,FALSE))","v":0},25,null,3,"Carolyn Wrightsman","Stillwater",56.596491228070178,{"$f":"IF(ISNA(VLOOKUP(W29,Totals!$AX$3:$AY$102,2,FALSE)),\"\",VLOOKUP(W29,Totals!$AX$3:$AY$102,2,FALSE))","v":0},25]
[null,null,null,44,"Aubrie Filandrinos","Stillwater",56.526315789473685,{"$f":"IF(ISNA(VLOOKUP(I30,Totals!$AX$3:$AY$102,2,FALSE)),\"\",VLOOKUP(I30,Totals!$AX$3:$AY$102,2,FALSE))","v":0},26,null,44,"Aubrie Filandrinos","Stillwater",56.526315789473685,{"$f":"IF(ISNA(VLOOKUP(P30,Totals!$AX$3:$AY$102,2,FALSE)),\"\",VLOOKUP(P30,Totals!$AX$3:$AY$102,2,FALSE))","v":0},26,null,44,"Aubrie Filandrinos","Stillwater",56.526315789473685,{"$f":"IF(ISNA(VLOOKUP(W30,Totals!$AX$3:$AY$102,2,FALSE)),\"\",VLOOKUP(W30,Totals!$AX$3:$AY$102,2,FALSE))","v":0},26]
[null,null,null,14,"Vanderwarn, Marie","Osseo-Maple Grove",56.276315789473692,{"$f":"IF(ISNA(VLOOKUP(I31,Totals!$AX$3:$AY$102,2,FALSE)),\"\",VLOOKUP(I31,Totals!$AX$3:$AY$102,2,FALSE))","v":0},27,null,14,"Vanderwarn, Marie","Osseo-Maple Grove",56.276315789473692,{"$f":"IF(ISNA(VLOOKUP(P31,Totals!$AX$3:$AY$102,2,FALSE)),\"\",VLOOKUP(P31,Totals!$AX$3:$AY$102,2,FALSE))","v":0},27,null,14,"Vanderwarn, Marie","Osseo-Maple Grove",56.276315789473692,{"$f":"IF(ISNA(VLOOKUP(W31,Totals!$AX$3:$AY$102,2,FALSE)),\"\",VLOOKUP(W31,Totals!$AX$3:$AY$102,2,FALSE))","v":0},27]
[null,null,null,10,"Ellie Bliss","Stillwater",55.535087719298254,{"$f":"IF(ISNA(VLOOKUP(I32,Totals!$AX$3:$AY$102,2,FALSE)),\"\",VLOOKUP(I32,Totals!$AX$3:$AY$102,2,FALSE))","v":0},28,null,10,"Ellie Bliss","Stillwater",55.535087719298254,{"$f":"IF(ISNA(VLOOKUP(P32,Totals!$AX$3:$AY$102,2,FALSE)),\"\",VLOOKUP(P32,Totals!$AX$3:$AY$102,2,FALSE))","v":0},28,null,10,"Ellie Bliss","Stillwater",55.535087719298254,{"$f":"IF(ISNA(VLOOKUP(W32,Totals!$AX$3:$AY$102,2,FALSE)),\"\",VLOOKUP(W32,Totals!$AX$3:$AY$102,2,FALSE))","v":0},28]
[null,null,null,53,"Sofia Johnson","Stillwater",55.381578947368425,{"$f":"IF(ISNA(VLOOKUP(I33,Totals!$AX$3:$AY$102,2,FALSE)),\"\",VLOOKUP(I33,Totals!$AX$3:$AY$102,2,FALSE))","v":0},29,null,53,"Sofia Johnson","Stillwater",55.381578947368425,{"$f":"IF(ISNA(VLOOKUP(P33,Totals!$AX$3:$AY$102,2,FALSE)),\"\",VLOOKUP(P33,Totals!$AX$3:$AY$102,2,FALSE))","v":0},29,null,53,"Sofia Johnson","Stillwater",55.381578947368425,{"$f":"IF(ISNA(VLOOKUP(W33,Totals!$AX$3:$AY$102,2,FALSE)),\"\",VLOOKUP(W33,Totals!$AX$3:$AY$102,2,FALSE))","v":0},29]
[null,null,null,41,"Raina Hoge","Stillwater",55.228070175438596,{"$f":"IF(ISNA(VLOOKUP(I34,Totals!$AX$3:$AY$102,2,FALSE)),\"\",VLOOKUP(I34,Totals!$AX$3:$AY$102,2,FALSE))","v":0},30,null,41,"Raina Hoge","Stillwater",55.228070175438596,{"$f":"IF(ISNA(VLOOKUP(P34,Totals!$AX$3:$AY$102,2,FALSE)),\"\",VLOOKUP(P34,Totals!$AX$3:$AY$102,2,FALSE))","v":0},30,null,41,"Raina Hoge","Stillwater",55.228070175438596,{"$f":"IF(ISNA(VLOOKUP(W34,Totals!$AX$3:$AY$102,2,FALSE)),\"\",VLOOKUP(W34,Totals!$AX$3:$AY$102,2,FALSE))","v":0},30]
[null,null,null,42,"Courtney Lillemoen","Stillwater",55.223684210526315,{"$f":"IF(ISNA(VLOOKUP(I35,Totals!$AX$3:$AY$102,2,FALSE)),\"\",VLOOKUP(I35,Totals!$AX$3:$AY$102,2,FALSE))","v":0},31,null,42,"Courtney Lillemoen","Stillwater",55.223684210526315,{"$f":"IF(ISNA(VLOOKUP(P35,Totals!$AX$3:$AY$102,2,FALSE)),\"\",VLOOKUP(P35,Totals!$AX$3:$AY$102,2,FALSE))","v":0},31,null,42,"Courtney Lillemoen","Stillwater",55.223684210526315,{"$f":"IF(ISNA(VLOOKUP(W35,Totals!$AX$3:$AY$102,2,FALSE)),\"\",VLOOKUP(W35,Totals!$AX$3:$AY$102,2,FALSE))","v":0},31]
[null,null,null,31,"McNamee, Kelly","Osseo-Maple Grove",54.995614035087719,{"$f":"IF(ISNA(VLOOKUP(I36,Totals!$AX$3:$AY$102,2,FALSE)),\"\",VLOOKUP(I36,Totals!$AX$3:$AY$102,2,FALSE))","v":0},32,null,31,"McNamee, Kelly","Osseo-Maple Grove",54.995614035087719,{"$f":"IF(ISNA(VLOOKUP(P36,Totals!$AX$3:$AY$102,2,FALSE)),\"\",VLOOKUP(P36,Totals!$AX$3:$AY$102,2,FALSE))","v":0},32,null,31,"McNamee, Kelly","Osseo-Maple Grove",54.995614035087719,{"$f":"IF(ISNA(VLOOKUP(W36,Totals!$AX$3:$AY$102,2,FALSE)),\"\",VLOOKUP(W36,Totals!$AX$3:$AY$102,2,FALSE))","v":0},32]
[null,null,null,13,"Waldron, Zoe","Osseo-Maple Grove",54.837719298245617,{"$f":"IF(ISNA(VLOOKUP(I37,Totals!$AX$3:$AY$102,2,FALSE)),\"\",VLOOKUP(I37,Totals!$AX$3:$AY$102,2,FALSE))","v":0},33,null,13,"Waldron, Zoe","Osseo-Maple Grove",54.837719298245617,{"$f":"IF(ISNA(VLOOKUP(P37,Totals!$AX$3:$AY$102,2,FALSE)),\"\",VLOOKUP(P37,Totals!$AX$3:$AY$102,2,FALSE))","v":0},33,null,13,"Waldron, Zoe","Osseo-Maple Grove",54.837719298245617,{"$f":"IF(ISNA(VLOOKUP(W37,Totals!$AX$3:$AY$102,2,FALSE)),\"\",VLOOKUP(W37,Totals!$AX$3:$AY$102,2,FALSE))","v":0},33]
[null,null,null,21,"Ali Gerard","Stillwater",54.793859649122808,{"$f":"IF(ISNA(VLOOKUP(I38,Totals!$AX$3:$AY$102,2,FALSE)),\"\",VLOOKUP(I38,Totals!$AX$3:$AY$102,2,FALSE))","v":0},{"$f":"IF(G38=G37,I37,IF(ISNA(RANK(G38,G$5:G$150)),\"\",RANK(G38,G$5:G$150)))","v":34},null,21,"Ali Gerard","Stillwater",54.793859649122808,{"$f":"IF(ISNA(VLOOKUP(P38,Totals!$AX$3:$AY$102,2,FALSE)),\"\",VLOOKUP(P38,Totals!$AX$3:$AY$102,2,FALSE))","v":0},34,null,21,"Ali Gerard","Stillwater",54.793859649122808,{"$f":"IF(ISNA(VLOOKUP(W38,Totals!$AX$3:$AY$102,2,FALSE)),\"\",VLOOKUP(W38,Totals!$AX$3:$AY$102,2,FALSE))","v":0},34]
[null,null,null,16,"Ryann Ellis","Stillwater",54.719298245614041,{"$f":"IF(ISNA(VLOOKUP(I39,Totals!$AX$3:$AY$102,2,FALSE)),\"\",VLOOKUP(I39,Totals!$AX$3:$AY$102,2,FALSE))","v":0},35,null,16,"Ryann Ellis","Stillwater",54.719298245614041,{"$f":"IF(ISNA(VLOOKUP(P39,Totals!$AX$3:$AY$102,2,FALSE)),\"\",VLOOKUP(P39,Totals!$AX$3:$AY$102,2,FALSE))","v":0},35,null,16,"Ryann Ellis","Stillwater",54.719298245614041,{"$f":"IF(ISNA(VLOOKUP(W39,Totals!$AX$3:$AY$102,2,FALSE)),\"\",VLOOKUP(W39,Totals!$AX$3:$AY$102,2,FALSE))","v":0},35]
[null,null,null,36,"Kaitlin Johnson","Stillwater",53.916666666666671,{"$f":"IF(ISNA(VLOOKUP(I40,Totals!$AX$3:$AY$102,2,FALSE)),\"\",VLOOKUP(I40,Totals!$AX$3:$AY$102,2,FALSE))","v":0},36,null,36,"Kaitlin Johnson","Stillwater",53.916666666666671,{"$f":"IF(ISNA(VLOOKUP(P40,Totals!$AX$3:$AY$102,2,FALSE)),\"\",VLOOKUP(P40,Totals!$AX$3:$AY$102,2,FALSE))","v":0},36,null,36,"Kaitlin Johnson","Stillwater",53.916666666666671,{"$f":"IF(ISNA(VLOOKUP(W40,Totals!$AX$3:$AY$102,2,FALSE)),\"\",VLOOKUP(W40,Totals!$AX$3:$AY$102,2,FALSE))","v":0},36]
[null,null,null,19,"Andrea Finholt","Stillwater",53.583333333333336,{"$f":"IF(ISNA(VLOOKUP(I41,Totals!$AX$3:$AY$102,2,FALSE)),\"\",VLOOKUP(I41,Totals!$AX$3:$AY$102,2,FALSE))","v":0},37,null,19,"Andrea Finholt","Stillwater",53.583333333333336,{"$f":"IF(ISNA(VLOOKUP(P41,Totals!$AX$3:$AY$102,2,FALSE)),\"\",VLOOKUP(P41,Totals!$AX$3:$AY$102,2,FALSE))","v":0},37,null,19,"Andrea Finholt","Stillwater",53.583333333333336,{"$f":"IF(ISNA(VLOOKUP(W41,Totals!$AX$3:$AY$102,2,FALSE)),\"\",VLOOKUP(W41,Totals!$AX$3:$AY$102,2,FALSE))","v":0},37]
[null,null,null,47,"Heiss, Hayley","Osseo-Maple Grove",53.070175438596493,{"$f":"IF(ISNA(VLOOKUP(I42,Totals!$AX$3:$AY$102,2,FALSE)),\"\",VLOOKUP(I42,Totals!$AX$3:$AY$102,2,FALSE))","v":0},38,null,47,"Heiss, Hayley","Osseo-Maple Grove",53.070175438596493,{"$f":"IF(ISNA(VLOOKUP(P42,Totals!$AX$3:$AY$102,2,FALSE)),\"\",VLOOKUP(P42,Totals!$AX$3:$AY$102,2,FALSE))","v":0},38,null,47,"Heiss, Hayley","Osseo-Maple Grove",53.070175438596493,{"$f":"IF(ISNA(VLOOKUP(W42,Totals!$AX$3:$AY$102,2,FALSE)),\"\",VLOOKUP(W42,Totals!$AX$3:$AY$102,2,FALSE))","v":0},38]
[null,null,null,26,"Laborde, Caroline","Osseo-Maple Grove",52.833333333333336,{"$f":"IF(ISNA(VLOOKUP(I43,Totals!$AX$3:$AY$102,2,FALSE)),\"\",VLOOKUP(I43,Totals!$AX$3:$AY$102,2,FALSE))","v":0},39,null,26,"Laborde, Caroline","Osseo-Maple Grove",52.833333333333336,{"$f":"IF(ISNA(VLOOKUP(P43,Totals!$AX$3:$AY$102,2,FALSE)),\"\",VLOOKUP(P43,Totals!$AX$3:$AY$102,2,FALSE))","v":0},39,null,26,"Laborde, Caroline","Osseo-Maple Grove",52.833333333333336,{"$f":"IF(ISNA(VLOOKUP(W43,Totals!$AX$3:$AY$102,2,FALSE)),\"\",VLOOKUP(W43,Totals!$AX$3:$AY$102,2,FALSE))","v":0},39]
[null,null,null,23,"Moline, Katelyn (Katie)","Osseo-Maple Grove",52.504385964912288,{"$f":"IF(ISNA(VLOOKUP(I44,Totals!$AX$3:$AY$102,2,FALSE)),\"\",VLOOKUP(I44,Totals!$AX$3:$AY$102,2,FALSE))","v":0},40,null,23,"Moline, Katelyn (Katie)","Osseo-Maple Grove",52.504385964912288,{"$f":"IF(ISNA(VLOOKUP(P44,Totals!$AX$3:$AY$102,2,FALSE)),\"\",VLOOKUP(P44,Totals!$AX$3:$AY$102,2,FALSE))","v":0},40,null,23,"Moline, Katelyn (Katie)","Osseo-Maple Grove",52.504385964912288,{"$f":"IF(ISNA(VLOOKUP(W44,Totals!$AX$3:$AY$102,2,FALSE)),\"\",VLOOKUP(W44,Totals!$AX$3:$AY$102,2,FALSE))","v":0},40]
[null,null,null,57,"Brie Sheridan","Stillwater",52.495614035087726,{"$f":"IF(ISNA(VLOOKUP(I45,Totals!$AX$3:$AY$102,2,FALSE)),\"\",VLOOKUP(I45,Totals!$AX$3:$AY$102,2,FALSE))","v":0},41,null,57,"Brie Sheridan","Stillwater",52.495614035087726,{"$f":"IF(ISNA(VLOOKUP(P45,Totals!$AX$3:$AY$102,2,FALSE)),\"\",VLOOKUP(P45,Totals!$AX$3:$AY$102,2,FALSE))","v":0},41,null,57,"Brie Sheridan","Stillwater",52.495614035087726,{"$f":"IF(ISNA(VLOOKUP(W45,Totals!$AX$3:$AY$102,2,FALSE)),\"\",VLOOKUP(W45,Totals!$AX$3:$AY$102,2,FALSE))","v":0},41]
[null,null,null,45,"Olsen, Katherine (Katie)","Osseo-Maple Grove",52.390350877192986,{"$f":"IF(ISNA(VLOOKUP(I46,Totals!$AX$3:$AY$102,2,FALSE)),\"\",VLOOKUP(I46,Totals!$AX$3:$AY$102,2,FALSE))","v":0},42,null,45,"Olsen, Katherine (Katie)","Osseo-Maple Grove",52.390350877192986,{"$f":"IF(ISNA(VLOOKUP(P46,Totals!$AX$3:$AY$102,2,FALSE)),\"\",VLOOKUP(P46,Totals!$AX$3:$AY$102,2,FALSE))","v":0},42,null,45,"Olsen, Katherine (Katie)","Osseo-Maple Grove",52.390350877192986,{"$f":"IF(ISNA(VLOOKUP(W46,Totals!$AX$3:$AY$102,2,FALSE)),\"\",VLOOKUP(W46,Totals!$AX$3:$AY$102,2,FALSE))","v":0},42]
[null,null,null,4,"Ruohoniemi, Jessica (Jess)","Osseo-Maple Grove",52.298245614035096,{"$f":"IF(ISNA(VLOOKUP(I47,Totals!$AX$3:$AY$102,2,FALSE)),\"\",VLOOKUP(I47,Totals!$AX$3:$AY$102,2,FALSE))","v":0},43,null,4,"Ruohoniemi, Jessica (Jess)","Osseo-Maple Grove",52.298245614035096,{"$f":"IF(ISNA(VLOOKUP(P47,Totals!$AX$3:$AY$102,2,FALSE)),\"\",VLOOKUP(P47,Totals!$AX$3:$AY$102,2,FALSE))","v":0},43,null,4,"Ruohoniemi, Jessica (Jess)","Osseo-Maple Grove",52.298245614035096,{"$f":"IF(ISNA(VLOOKUP(W47,Totals!$AX$3:$AY$102,2,FALSE)),\"\",VLOOKUP(W47,Totals!$AX$3:$AY$102,2,FALSE))","v":0},43]
[null,null,null,17,"Kya Hodgdon","Stillwater",52.258771929824562,{"$f":"IF(ISNA(VLOOKUP(I48,Totals!$AX$3:$AY$102,2,FALSE)),\"\",VLOOKUP(I48,Totals!$AX$3:$AY$102,2,FALSE))","v":0},44,null,17,"Kya Hodgdon","Stillwater",52.258771929824562,{"$f":"IF(ISNA(VLOOKUP(P48,Totals!$AX$3:$AY$102,2,FALSE)),\"\",VLOOKUP(P48,Totals!$AX$3:$AY$102,2,FALSE))","v":0},44,null,17,"Kya Hodgdon","Stillwater",52.258771929824562,{"$f":"IF(ISNA(VLOOKUP(W48,Totals!$AX$3:$AY$102,2,FALSE)),\"\",VLOOKUP(W48,Totals!$AX$3:$AY$102,2,FALSE))","v":0},44]
[null,null,null,7,"Jane Sorenson","Stillwater",52.083333333333336,{"$f":"IF(ISNA(VLOOKUP(I49,Totals!$AX$3:$AY$102,2,FALSE)),\"\",VLOOKUP(I49,Totals!$AX$3:$AY$102,2,FALSE))","v":0},45,null,7,"Jane Sorenson","Stillwater",52.083333333333336,{"$f":"IF(ISNA(VLOOKUP(P49,Totals!$AX$3:$AY$102,2,FALSE)),\"\",VLOOKUP(P49,Totals!$AX$3:$AY$102,2,FALSE))","v":0},45,null,7,"Jane Sorenson","Stillwater",52.083333333333336,{"$f":"IF(ISNA(VLOOKUP(W49,Totals!$AX$3:$AY$102,2,FALSE)),\"\",VLOOKUP(W49,Totals!$AX$3:$AY$102,2,FALSE))","v":0},45]
[null,null,null,51,"Breidenbach, Heather","Osseo-Maple Grove",51.828947368421055,{"$f":"IF(ISNA(VLOOKUP(I50,Totals!$AX$3:$AY$102,2,FALSE)),\"\",VLOOKUP(I50,Totals!$AX$3:$AY$102,2,FALSE))","v":0},46,null,51,"Breidenbach, Heather","Osseo-Maple Grove",51.828947368421055,{"$f":"IF(ISNA(VLOOKUP(P50,Totals!$AX$3:$AY$102,2,FALSE)),\"\",VLOOKUP(P50,Totals!$AX$3:$AY$102,2,FALSE))","v":0},46,null,51,"Breidenbach, Heather","Osseo-Maple Grove",51.828947368421055,{"$f":"IF(ISNA(VLOOKUP(W50,Totals!$AX$3:$AY$102,2,FALSE)),\"\",VLOOKUP(W50,Totals!$AX$3:$AY$102,2,FALSE))","v":0},46]
[null,null,null,27,"Peters, Madison","Osseo-Maple Grove",51.578947368421055,{"$f":"IF(ISNA(VLOOKUP(I51,Totals!$AX$3:$AY$102,2,FALSE)),\"\",VLOOKUP(I51,Totals!$AX$3:$AY$102,2,FALSE))","v":0},47,null,27,"Peters, Madison","Osseo-Maple Grove",51.578947368421055,{"$f":"IF(ISNA(VLOOKUP(P51,Totals!$AX$3:$AY$102,2,FALSE)),\"\",VLOOKUP(P51,Totals!$AX$3:$AY$102,2,FALSE))","v":0},47,null,27,"Peters, Madison","Osseo-Maple Grove",51.578947368421055,{"$f":"IF(ISNA(VLOOKUP(W51,Totals!$AX$3:$AY$102,2,FALSE)),\"\",VLOOKUP(W51,Totals!$AX$3:$AY$102,2,FALSE))","v":0},47]
[null,null,null,40,"Emily Shanley","Stillwater",51.35526315789474,{"$f":"IF(ISNA(VLOOKUP(I52,Totals!$AX$3:$AY$102,2,FALSE)),\"\",VLOOKUP(I52,Totals!$AX$3:$AY$102,2,FALSE))","v":0},48,null,40,"Emily Shanley","Stillwater",51.35526315789474,{"$f":"IF(ISNA(VLOOKUP(P52,Totals!$AX$3:$AY$102,2,FALSE)),\"\",VLOOKUP(P52,Totals!$AX$3:$AY$102,2,FALSE))","v":0},48,null,40,"Emily Shanley","Stillwater",51.35526315789474,{"$f":"IF(ISNA(VLOOKUP(W52,Totals!$AX$3:$AY$102,2,FALSE)),\"\",VLOOKUP(W52,Totals!$AX$3:$AY$102,2,FALSE))","v":0},48]
[null,null,null,24,"Prentice, Margo","Osseo-Maple Grove",51.333333333333343,{"$f":"IF(ISNA(VLOOKUP(I53,Totals!$AX$3:$AY$102,2,FALSE)),\"\",VLOOKUP(I53,Totals!$AX$3:$AY$102,2,FALSE))","v":0},49,null,24,"Prentice, Margo","Osseo-Maple Grove",51.333333333333343,{"$f":"IF(ISNA(VLOOKUP(P53,Totals!$AX$3:$AY$102,2,FALSE)),\"\",VLOOKUP(P53,Totals!$AX$3:$AY$102,2,FALSE))","v":0},49,null,24,"Prentice, Margo","Osseo-Maple Grove",51.333333333333343,{"$f":"IF(ISNA(VLOOKUP(W53,Totals!$AX$3:$AY$102,2,FALSE)),\"\",VLOOKUP(W53,Totals!$AX$3:$AY$102,2,FALSE))","v":0},49]
[null,null,null,30,"Sophie Browning","Stillwater",50.872807017543863,{"$f":"IF(ISNA(VLOOKUP(I54,Totals!$AX$3:$AY$102,2,FALSE)),\"\",VLOOKUP(I54,Totals!$AX$3:$AY$102,2,FALSE))","v":0},50,null,30,"Sophie Browning","Stillwater",50.872807017543863,{"$f":"IF(ISNA(VLOOKUP(P54,Totals!$AX$3:$AY$102,2,FALSE)),\"\",VLOOKUP(P54,Totals!$AX$3:$AY$102,2,FALSE))","v":0},50,null,30,"Sophie Browning","Stillwater",50.872807017543863,{"$f":"IF(ISNA(VLOOKUP(W54,Totals!$AX$3:$AY$102,2,FALSE)),\"\",VLOOKUP(W54,Totals!$AX$3:$AY$102,2,FALSE))","v":0},50]
[null,null,null,43,"Trudeau, Alexandra (Trudy)","Osseo-Maple Grove",50.60526315789474,{"$f":"IF(ISNA(VLOOKUP(I55,Totals!$AX$3:$AY$102,2,FALSE)),\"\",VLOOKUP(I55,Totals!$AX$3:$AY$102,2,FALSE))","v":0},51,null,43,"Trudeau, Alexandra (Trudy)","Osseo-Maple Grove",50.60526315789474,{"$f":"IF(ISNA(VLOOKUP(P55,Totals!$AX$3:$AY$102,2,FALSE)),\"\",VLOOKUP(P55,Totals!$AX$3:$AY$102,2,FALSE))","v":0},51,null,43,"Trudeau, Alexandra (Trudy)","Osseo-Maple Grove",50.60526315789474,{"$f":"IF(ISNA(VLOOKUP(W55,Totals!$AX$3:$AY$102,2,FALSE)),\"\",VLOOKUP(W55,Totals!$AX$3:$AY$102,2,FALSE))","v":0},51]
[null,null,null,50,"Knox, Rachel","Osseo-Maple Grove",50.495614035087726,{"$f":"IF(ISNA(VLOOKUP(I56,Totals!$AX$3:$AY$102,2,FALSE)),\"\",VLOOKUP(I56,Totals!$AX$3:$AY$102,2,FALSE))","v":0},52,null,50,"Knox, Rachel","Osseo-Maple Grove",50.495614035087726,{"$f":"IF(ISNA(VLOOKUP(P56,Totals!$AX$3:$AY$102,2,FALSE)),\"\",VLOOKUP(P56,Totals!$AX$3:$AY$102,2,FALSE))","v":0},52,null,50,"Knox, Rachel","Osseo-Maple Grove",50.495614035087726,{"$f":"IF(ISNA(VLOOKUP(W56,Totals!$AX$3:$AY$102,2,FALSE)),\"\",VLOOKUP(W56,Totals!$AX$3:$AY$102,2,FALSE))","v":0},52]
[null,null,null,2,"Drazenovich, Holly","Osseo-Maple Grove",49.723684210526322,{"$f":"IF(ISNA(VLOOKUP(I57,Totals!$AX$3:$AY$102,2,FALSE)),\"\",VLOOKUP(I57,Totals!$AX$3:$AY$102,2,FALSE))","v":0},53,null,2,"Drazenovich, Holly","Osseo-Maple Grove",49.723684210526322,{"$f":"IF(ISNA(VLOOKUP(P57,Totals!$AX$3:$AY$102,2,FALSE)),\"\",VLOOKUP(P57,Totals!$AX$3:$AY$102,2,FALSE))","v":0},53,null,2,"Drazenovich, Holly","Osseo-Maple Grove",49.723684210526322,{"$f":"IF(ISNA(VLOOKUP(W57,Totals!$AX$3:$AY$102,2,FALSE)),\"\",VLOOKUP(W57,Totals!$AX$3:$AY$102,2,FALSE))","v":0},53]
[null,null,null,28,"Hammann, Allison","Osseo-Maple Grove",49.723684210526315,{"$f":"IF(ISNA(VLOOKUP(I58,Totals!$AX$3:$AY$102,2,FALSE)),\"\",VLOOKUP(I58,Totals!$AX$3:$AY$102,2,FALSE))","v":0},53,null,28,"Hammann, Allison","Osseo-Maple Grove",49.723684210526315,{"$f":"IF(ISNA(VLOOKUP(P58,Totals!$AX$3:$AY$102,2,FALSE)),\"\",VLOOKUP(P58,Totals!$AX$3:$AY$102,2,FALSE))","v":0},54,null,28,"Hammann, Allison","Osseo-Maple Grove",49.723684210526315,{"$f":"IF(ISNA(VLOOKUP(W58,Totals!$AX$3:$AY$102,2,FALSE)),\"\",VLOOKUP(W58,Totals!$AX$3:$AY$102,2,FALSE))","v":0},54]
[null,null,null,25,"Honnold, Emily","Osseo-Maple Grove",47.434210526315795,{"$f":"IF(ISNA(VLOOKUP(I59,Totals!$AX$3:$AY$102,2,FALSE)),\"\",VLOOKUP(I59,Totals!$AX$3:$AY$102,2,FALSE))","v":0},55,null,25,"Honnold, Emily","Osseo-Maple Grove",47.434210526315795,{"$f":"IF(ISNA(VLOOKUP(P59,Totals!$AX$3:$AY$102,2,FALSE)),\"\",VLOOKUP(P59,Totals!$AX$3:$AY$102,2,FALSE))","v":0},55,null,25,"Honnold, Emily","Osseo-Maple Grove",47.434210526315795,{"$f":"IF(ISNA(VLOOKUP(W59,Totals!$AX$3:$AY$102,2,FALSE)),\"\",VLOOKUP(W59,Totals!$AX$3:$AY$102,2,FALSE))","v":0},55]
[null,null,null,49,"Heitzig, Elisabeth (Ellie)","Osseo-Maple Grove",0,{"$f":"IF(ISNA(VLOOKUP(I60,Totals!$AX$3:$AY$102,2,FALSE)),\"\",VLOOKUP(I60,Totals!$AX$3:$AY$102,2,FALSE))","v":0},56,null,49,"Heitzig, Elisabeth (Ellie)","Osseo-Maple Grove",0,{"$f":"IF(ISNA(VLOOKUP(P60,Totals!$AX$3:$AY$102,2,FALSE)),\"\",VLOOKUP(P60,Totals!$AX$3:$AY$102,2,FALSE))","v":0},56,null,49,"Heitzig, Elisabeth (Ellie)","Osseo-Maple Grove",0,{"$f":"IF(ISNA(VLOOKUP(W60,Totals!$AX$3:$AY$102,2,FALSE)),\"\",VLOOKUP(W60,Totals!$AX$3:$AY$102,2,FALSE))","v":0},56]
[null,null,null,35,"Mason, Ellery","Osseo-Maple Grove",0,{"$f":"IF(ISNA(VLOOKUP(I61,Totals!$AX$3:$AY$102,2,FALSE)),\"\",VLOOKUP(I61,Totals!$AX$3:$AY$102,2,FALSE))","v":0},56,null,35,"Mason, Ellery","Osseo-Maple Grove",0,{"$f":"IF(ISNA(VLOOKUP(P61,Totals!$AX$3:$AY$102,2,FALSE)),\"\",VLOOKUP(P61,Totals!$AX$3:$AY$102,2,FALSE))","v":0},56,null,35,"Mason, Ellery","Osseo-Maple Grove",0,{"$f":"IF(ISNA(VLOOKUP(W61,Totals!$AX$3:$AY$102,2,FALSE)),\"\",VLOOKUP(W61,Totals!$AX$3:$AY$102,2,FALSE))","v":0},56]
[null,null,null,39,"Vrba, Elena (Ellie)","Osseo-Maple Grove",0,{"$f":"IF(ISNA(VLOOKUP(I62,Totals!$AX$3:$AY$102,2,FALSE)),\"\",VLOOKUP(I62,Totals!$AX$3:$AY$102,2,FALSE))","v":0},56,null,39,"Vrba, Elena (Ellie)","Osseo-Maple Grove",0,{"$f":"IF(ISNA(VLOOKUP(P62,Totals!$AX$3:$AY$102,2,FALSE)),\"\",VLOOKUP(P62,Totals!$AX$3:$AY$102,2,FALSE))","v":0},56,null,39,"Vrba, Elena (Ellie)","Osseo-Maple Grove",0,{"$f":"IF(ISNA(VLOOKUP(W62,Totals!$AX$3:$AY$102,2,FALSE)),\"\",VLOOKUP(W62,Totals!$AX$3:$AY$102,2,FALSE))","v":0},56]
[null,null,null,null,null,null,null,{"$f":"IF(ISNA(VLOOKUP(I63,Totals!$AX$3:$AY$102,2,FALSE)),\"\",VLOOKUP(I63,Totals!$AX$3:$AY$102,2,FALSE))","v":0},56,null,null,null,null,null,{"$f":"IF(ISNA(VLOOKUP(P63,Totals!$AX$3:$AY$102,2,FALSE)),\"\",VLOOKUP(P63,Totals!$AX$3:$AY$102,2,FALSE))","v":0},56,null,null,null,null,null,{"$f":"IF(ISNA(VLOOKUP(W63,Totals!$AX$3:$AY$102,2,FALSE)),\"\",VLOOKUP(W63,Totals!$AX$3:$AY$102,2,FALSE))","v":0},56]
[null,null,null,null,null,null,null,{"$f":"IF(ISNA(VLOOKUP(I64,Totals!$AX$3:$AY$102,2,FALSE)),\"\",VLOOKUP(I64,Totals!$AX$3:$AY$102,2,FALSE))","v":0},56,null,null,null,null,null,{"$f":"IF(ISNA(VLOOKUP(P64,Totals!$AX$3:$AY$102,2,FALSE)),\"\",VLOOKUP(P64,Totals!$AX$3:$AY$102,2,FALSE))","v":0},56,null,null,null,null,null,{"$f":"IF(ISNA(VLOOKUP(W64,Totals!$AX$3:$AY$102,2,FALSE)),\"\",VLOOKUP(W64,Totals!$AX$3:$AY$102,2,FALSE))","v":0},56]
[null,null,null,null,null,null,null,{"$f":"IF(ISNA(VLOOKUP(I65,Totals!$AX$3:$AY$102,2,FALSE)),\"\",VLOOKUP(I65,Totals!$AX$3:$AY$102,2,FALSE))","v":0},56,null,null,null,null,null,{"$f":"IF(ISNA(VLOOKUP(P65,Totals!$AX$3:$AY$102,2,FALSE)),\"\",VLOOKUP(P65,Totals!$AX$3:$AY$102,2,FALSE))","v":0},56,null,null,null,null,null,{"$f":"IF(ISNA(VLOOKUP(W65,Totals!$AX$3:$AY$102,2,FALSE)),\"\",VLOOKUP(W65,Totals!$AX$3:$AY$102,2,FALSE))","v":0},56]
[null,null,null,null,null,null,null,{"$f":"IF(ISNA(VLOOKUP(I66,Totals!$AX$3:$AY$102,2,FALSE)),\"\",VLOOKUP(I66,Totals!$AX$3:$AY$102,2,FALSE))","v":0},56,null,null,null,null,null,{"$f":"IF(ISNA(VLOOKUP(P66,Totals!$AX$3:$AY$102,2,FALSE)),\"\",VLOOKUP(P66,Totals!$AX$3:$AY$102,2,FALSE))","v":0},56,null,null,null,null,null,{"$f":"IF(ISNA(VLOOKUP(W66,Totals!$AX$3:$AY$102,2,FALSE)),\"\",VLOOKUP(W66,Totals!$AX$3:$AY$102,2,FALSE))","v":0},56]
[null,null,null,null,null,null,null,{"$f":"IF(ISNA(VLOOKUP(I67,Totals!$AX$3:$AY$102,2,FALSE)),\"\",VLOOKUP(I67,Totals!$AX$3:$AY$102,2,FALSE))","v":0},56,null,null,null,null,null,{"$f":"IF(ISNA(VLOOKUP(P67,Totals!$AX$3:$AY$102,2,FALSE)),\"\",VLOOKUP(P67,Totals!$AX$3:$AY$102,2,FALSE))","v":0},56,null,null,null,null,null,{"$f":"IF(ISNA(VLOOKUP(W67,Totals!$AX$3:$AY$102,2,FALSE)),\"\",VLOOKUP(W67,Totals!$AX$3:$AY$102,2,FALSE))","v":0},56]
[null,null,null,null,null,null,null,{"$f":"IF(ISNA(VLOOKUP(I68,Totals!$AX$3:$AY$102,2,FALSE)),\"\",VLOOKUP(I68,Totals!$AX$3:$AY$102,2,FALSE))","v":0},56,null,null,null,null,null,{"$f":"IF(ISNA(VLOOKUP(P68,Totals!$AX$3:$AY$102,2,FALSE)),\"\",VLOOKUP(P68,Totals!$AX$3:$AY$102,2,FALSE))","v":0},56,null,null,null,null,null,{"$f":"IF(ISNA(VLOOKUP(W68,Totals!$AX$3:$AY$102,2,FALSE)),\"\",VLOOKUP(W68,Totals!$AX$3:$AY$102,2,FALSE))","v":0},56]
[null,null,null,null,null,null,null,{"$f":"IF(ISNA(VLOOKUP(I69,Totals!$AX$3:$AY$102,2,FALSE)),\"\",VLOOKUP(I69,Totals!$AX$3:$AY$102,2,FALSE))","v":0},56,null,null,null,null,null,{"$f":"IF(ISNA(VLOOKUP(P69,Totals!$AX$3:$AY$102,2,FALSE)),\"\",VLOOKUP(P69,Totals!$AX$3:$AY$102,2,FALSE))","v":0},56,null,null,null,null,null,{"$f":"IF(ISNA(VLOOKUP(W69,Totals!$AX$3:$AY$102,2,FALSE)),\"\",VLOOKUP(W69,Totals!$AX$3:$AY$102,2,FALSE))","v":0},56]
[null,null,null,null,null,null,null,{"$f":"IF(ISNA(VLOOKUP(I70,Totals!$AX$3:$AY$102,2,FALSE)),\"\",VLOOKUP(I70,Totals!$AX$3:$AY$102,2,FALSE))","v":0},56,null,null,null,null,null,{"$f":"IF(ISNA(VLOOKUP(P70,Totals!$AX$3:$AY$102,2,FALSE)),\"\",VLOOKUP(P70,Totals!$AX$3:$AY$102,2,FALSE))","v":0},{"$f":"IF(ISNA(RANK(N70,N$5:N$150)),\"\",RANK(N70,N$5:N$150))","v":56},null,null,null,null,null,{"$f":"IF(ISNA(VLOOKUP(W70,Totals!$AX$3:$AY$102,2,FALSE)),\"\",VLOOKUP(W70,Totals!$AX$3:$AY$102,2,FALSE))","v":0},{"$f":"IF(ISNA(RANK(U70,U$5:U$150)),\"\",RANK(U70,U$5:U$150))","v":56}]
[null,null,null,null,null,null,null,{"$f":"IF(ISNA(VLOOKUP(I71,Totals!$AX$3:$AY$102,2,FALSE)),\"\",VLOOKUP(I71,Totals!$AX$3:$AY$102,2,FALSE))","v":0},{"$f":"IF(G71=G70,I70,IF(ISNA(RANK(G71,G$5:G$150)),\"\",RANK(G71,G$5:G$150)))","v":56},null,null,null,null,null,{"$f":"IF(ISNA(VLOOKUP(P71,Totals!$AX$3:$AY$102,2,FALSE)),\"\",VLOOKUP(P71,Totals!$AX$3:$AY$102,2,FALSE))","v":0},56,null,null,null,null,null,{"$f":"IF(ISNA(VLOOKUP(W71,Totals!$AX$3:$AY$102,2,FALSE)),\"\",VLOOKUP(W71,Totals!$AX$3:$AY$102,2,FALSE))","v":0},56]
[null,null,null,null,null,null,null,{"$f":"IF(ISNA(VLOOKUP(I72,Totals!$AX$3:$AY$102,2,FALSE)),\"\",VLOOKUP(I72,Totals!$AX$3:$AY$102,2,FALSE))","v":0},56,null,null,null,null,null,{"$f":"IF(ISNA(VLOOKUP(P72,Totals!$AX$3:$AY$102,2,FALSE)),\"\",VLOOKUP(P72,Totals!$AX$3:$AY$102,2,FALSE))","v":0},56,null,null,null,null,null,{"$f":"IF(ISNA(VLOOKUP(W72,Totals!$AX$3:$AY$102,2,FALSE)),\"\",VLOOKUP(W72,Totals!$AX$3:$AY$102,2,FALSE))","v":0},56]
[null,null,null,null,null,null,null,{"$f":"IF(ISNA(VLOOKUP(I73,Totals!$AX$3:$AY$102,2,FALSE)),\"\",VLOOKUP(I73,Totals!$AX$3:$AY$102,2,FALSE))","v":0},56,null,null,null,null,null,{"$f":"IF(ISNA(VLOOKUP(P73,Totals!$AX$3:$AY$102,2,FALSE)),\"\",VLOOKUP(P73,Totals!$AX$3:$AY$102,2,FALSE))","v":0},56,null,null,null,null,null,{"$f":"IF(ISNA(VLOOKUP(W73,Totals!$AX$3:$AY$102,2,FALSE)),\"\",VLOOKUP(W73,Totals!$AX$3:$AY$102,2,FALSE))","v":0},56]
[null,null,null,null,null,null,null,{"$f":"IF(ISNA(VLOOKUP(I74,Totals!$AX$3:$AY$102,2,FALSE)),\"\",VLOOKUP(I74,Totals!$AX$3:$AY$102,2,FALSE))","v":0},56,null,null,null,null,null,{"$f":"IF(ISNA(VLOOKUP(P74,Totals!$AX$3:$AY$102,2,FALSE)),\"\",VLOOKUP(P74,Totals!$AX$3:$AY$102,2,FALSE))","v":0},56,null,null,null,null,null,{"$f":"IF(ISNA(VLOOKUP(W74,Totals!$AX$3:$AY$102,2,FALSE)),\"\",VLOOKUP(W74,Totals!$AX$3:$AY$102,2,FALSE))","v":0},56]
[null,null,null,null,null,null,null,{"$f":"IF(ISNA(VLOOKUP(I75,Totals!$AX$3:$AY$102,2,FALSE)),\"\",VLOOKUP(I75,Totals!$AX$3:$AY$102,2,FALSE))","v":0},56,null,null,null,null,null,{"$f":"IF(ISNA(VLOOKUP(P75,Totals!$AX$3:$AY$102,2,FALSE)),\"\",VLOOKUP(P75,Totals!$AX$3:$AY$102,2,FALSE))","v":0},56,null,null,null,null,null,{"$f":"IF(ISNA(VLOOKUP(W75,Totals!$AX$3:$AY$102,2,FALSE)),\"\",VLOOKUP(W75,Totals!$AX$3:$AY$102,2,FALSE))","v":0},56]
[null,null,null,null,null,null,null,{"$f":"IF(ISNA(VLOOKUP(I76,Totals!$AX$3:$AY$102,2,FALSE)),\"\",VLOOKUP(I76,Totals!$AX$3:$AY$102,2,FALSE))","v":0},56,null,null,null,null,null,{"$f":"IF(ISNA(VLOOKUP(P76,Totals!$AX$3:$AY$102,2,FALSE)),\"\",VLOOKUP(P76,Totals!$AX$3:$AY$102,2,FALSE))","v":0},56,null,null,null,null,null,{"$f":"IF(ISNA(VLOOKUP(W76,Totals!$AX$3:$AY$102,2,FALSE)),\"\",VLOOKUP(W76,Totals!$AX$3:$AY$102,2,FALSE))","v":0},56]
[null,null,null,null,null,null,null,{"$f":"IF(ISNA(VLOOKUP(I77,Totals!$AX$3:$AY$102,2,FALSE)),\"\",VLOOKUP(I77,Totals!$AX$3:$AY$102,2,FALSE))","v":0},56,null,null,null,null,null,{"$f":"IF(ISNA(VLOOKUP(P77,Totals!$AX$3:$AY$102,2,FALSE)),\"\",VLOOKUP(P77,Totals!$AX$3:$AY$102,2,FALSE))","v":0},56,null,null,null,null,null,{"$f":"IF(ISNA(VLOOKUP(W77,Totals!$AX$3:$AY$102,2,FALSE)),\"\",VLOOKUP(W77,Totals!$AX$3:$AY$102,2,FALSE))","v":0},56]
[null,null,null,null,null,null,null,{"$f":"IF(ISNA(VLOOKUP(I78,Totals!$AX$3:$AY$102,2,FALSE)),\"\",VLOOKUP(I78,Totals!$AX$3:$AY$102,2,FALSE))","v":0},56,null,null,null,null,null,{"$f":"IF(ISNA(VLOOKUP(P78,Totals!$AX$3:$AY$102,2,FALSE)),\"\",VLOOKUP(P78,Totals!$AX$3:$AY$102,2,FALSE))","v":0},56,null,null,null,null,null,{"$f":"IF(ISNA(VLOOKUP(W78,Totals!$AX$3:$AY$102,2,FALSE)),\"\",VLOOKUP(W78,Totals!$AX$3:$AY$102,2,FALSE))","v":0},56]
[null,null,null,null,null,null,null,{"$f":"IF(ISNA(VLOOKUP(I79,Totals!$AX$3:$AY$102,2,FALSE)),\"\",VLOOKUP(I79,Totals!$AX$3:$AY$102,2,FALSE))","v":0},56,null,null,null,null,null,{"$f":"IF(ISNA(VLOOKUP(P79,Totals!$AX$3:$AY$102,2,FALSE)),\"\",VLOOKUP(P79,Totals!$AX$3:$AY$102,2,FALSE))","v":0},56,null,null,null,null,null,{"$f":"IF(ISNA(VLOOKUP(W79,Totals!$AX$3:$AY$102,2,FALSE)),\"\",VLOOKUP(W79,Totals!$AX$3:$AY$102,2,FALSE))","v":0},56]
[null,null,null,null,null,null,null,{"$f":"IF(ISNA(VLOOKUP(I80,Totals!$AX$3:$AY$102,2,FALSE)),\"\",VLOOKUP(I80,Totals!$AX$3:$AY$102,2,FALSE))","v":0},56,null,null,null,null,null,{"$f":"IF(ISNA(VLOOKUP(P80,Totals!$AX$3:$AY$102,2,FALSE)),\"\",VLOOKUP(P80,Totals!$AX$3:$AY$102,2,FALSE))","v":0},56,null,null,null,null,null,{"$f":"IF(ISNA(VLOOKUP(W80,Totals!$AX$3:$AY$102,2,FALSE)),\"\",VLOOKUP(W80,Totals!$AX$3:$AY$102,2,FALSE))","v":0},56]
[null,null,null,null,null,null,null,{"$f":"IF(ISNA(VLOOKUP(I81,Totals!$AX$3:$AY$102,2,FALSE)),\"\",VLOOKUP(I81,Totals!$AX$3:$AY$102,2,FALSE))","v":0},56,null,null,null,null,null,{"$f":"IF(ISNA(VLOOKUP(P81,Totals!$AX$3:$AY$102,2,FALSE)),\"\",VLOOKUP(P81,Totals!$AX$3:$AY$102,2,FALSE))","v":0},56,null,null,null,null,null,{"$f":"IF(ISNA(VLOOKUP(W81,Totals!$AX$3:$AY$102,2,FALSE)),\"\",VLOOKUP(W81,Totals!$AX$3:$AY$102,2,FALSE))","v":0},56]
[null,null,null,null,null,null,null,{"$f":"IF(ISNA(VLOOKUP(I82,Totals!$AX$3:$AY$102,2,FALSE)),\"\",VLOOKUP(I82,Totals!$AX$3:$AY$102,2,FALSE))","v":0},56,null,null,null,null,null,{"$f":"IF(ISNA(VLOOKUP(P82,Totals!$AX$3:$AY$102,2,FALSE)),\"\",VLOOKUP(P82,Totals!$AX$3:$AY$102,2,FALSE))","v":0},56,null,null,null,null,null,{"$f":"IF(ISNA(VLOOKUP(W82,Totals!$AX$3:$AY$102,2,FALSE)),\"\",VLOOKUP(W82,Totals!$AX$3:$AY$102,2,FALSE))","v":0},56]
[null,null,null,null,null,null,null,{"$f":"IF(ISNA(VLOOKUP(I83,Totals!$AX$3:$AY$102,2,FALSE)),\"\",VLOOKUP(I83,Totals!$AX$3:$AY$102,2,FALSE))","v":0},56,null,null,null,null,null,{"$f":"IF(ISNA(VLOOKUP(P83,Totals!$AX$3:$AY$102,2,FALSE)),\"\",VLOOKUP(P83,Totals!$AX$3:$AY$102,2,FALSE))","v":0},56,null,null,null,null,null,{"$f":"IF(ISNA(VLOOKUP(W83,Totals!$AX$3:$AY$102,2,FALSE)),\"\",VLOOKUP(W83,Totals!$AX$3:$AY$102,2,FALSE))","v":0},56]
[null,null,null,null,null,null,null,{"$f":"IF(ISNA(VLOOKUP(I84,Totals!$AX$3:$AY$102,2,FALSE)),\"\",VLOOKUP(I84,Totals!$AX$3:$AY$102,2,FALSE))","v":0},56,null,null,null,null,null,{"$f":"IF(ISNA(VLOOKUP(P84,Totals!$AX$3:$AY$102,2,FALSE)),\"\",VLOOKUP(P84,Totals!$AX$3:$AY$102,2,FALSE))","v":0},56,null,null,null,null,null,{"$f":"IF(ISNA(VLOOKUP(W84,Totals!$AX$3:$AY$102,2,FALSE)),\"\",VLOOKUP(W84,Totals!$AX$3:$AY$102,2,FALSE))","v":0},56]
[null,null,null,null,null,null,null,{"$f":"IF(ISNA(VLOOKUP(I85,Totals!$AX$3:$AY$102,2,FALSE)),\"\",VLOOKUP(I85,Totals!$AX$3:$AY$102,2,FALSE))","v":0},56,null,null,null,null,null,{"$f":"IF(ISNA(VLOOKUP(P85,Totals!$AX$3:$AY$102,2,FALSE)),\"\",VLOOKUP(P85,Totals!$AX$3:$AY$102,2,FALSE))","v":0},56,null,null,null,null,null,{"$f":"IF(ISNA(VLOOKUP(W85,Totals!$AX$3:$AY$102,2,FALSE)),\"\",VLOOKUP(W85,Totals!$AX$3:$AY$102,2,FALSE))","v":0},56]
[null,null,null,null,null,null,null,{"$f":"IF(ISNA(VLOOKUP(I86,Totals!$AX$3:$AY$102,2,FALSE)),\"\",VLOOKUP(I86,Totals!$AX$3:$AY$102,2,FALSE))","v":0},56,null,null,null,null,null,{"$f":"IF(ISNA(VLOOKUP(P86,Totals!$AX$3:$AY$102,2,FALSE)),\"\",VLOOKUP(P86,Totals!$AX$3:$AY$102,2,FALSE))","v":0},56,null,null,null,null,null,{"$f":"IF(ISNA(VLOOKUP(W86,Totals!$AX$3:$AY$102,2,FALSE)),\"\",VLOOKUP(W86,Totals!$AX$3:$AY$102,2,FALSE))","v":0},56]
[null,null,null,null,null,null,null,{"$f":"IF(ISNA(VLOOKUP(I87,Totals!$AX$3:$AY$102,2,FALSE)),\"\",VLOOKUP(I87,Totals!$AX$3:$AY$102,2,FALSE))","v":0},56,null,null,null,null,null,{"$f":"IF(ISNA(VLOOKUP(P87,Totals!$AX$3:$AY$102,2,FALSE)),\"\",VLOOKUP(P87,Totals!$AX$3:$AY$102,2,FALSE))","v":0},56,null,null,null,null,null,{"$f":"IF(ISNA(VLOOKUP(W87,Totals!$AX$3:$AY$102,2,FALSE)),\"\",VLOOKUP(W87,Totals!$AX$3:$AY$102,2,FALSE))","v":0},56]
[null,null,null,null,null,null,null,{"$f":"IF(ISNA(VLOOKUP(I88,Totals!$AX$3:$AY$102,2,FALSE)),\"\",VLOOKUP(I88,Totals!$AX$3:$AY$102,2,FALSE))","v":0},56,null,null,null,null,null,{"$f":"IF(ISNA(VLOOKUP(P88,Totals!$AX$3:$AY$102,2,FALSE)),\"\",VLOOKUP(P88,Totals!$AX$3:$AY$102,2,FALSE))","v":0},56,null,null,null,null,null,{"$f":"IF(ISNA(VLOOKUP(W88,Totals!$AX$3:$AY$102,2,FALSE)),\"\",VLOOKUP(W88,Totals!$AX$3:$AY$102,2,FALSE))","v":0},56]
[null,null,null,null,null,null,null,{"$f":"IF(ISNA(VLOOKUP(I89,Totals!$AX$3:$AY$102,2,FALSE)),\"\",VLOOKUP(I89,Totals!$AX$3:$AY$102,2,FALSE))","v":0},56,null,null,null,null,null,{"$f":"IF(ISNA(VLOOKUP(P89,Totals!$AX$3:$AY$102,2,FALSE)),\"\",VLOOKUP(P89,Totals!$AX$3:$AY$102,2,FALSE))","v":0},56,null,null,null,null,null,{"$f":"IF(ISNA(VLOOKUP(W89,Totals!$AX$3:$AY$102,2,FALSE)),\"\",VLOOKUP(W89,Totals!$AX$3:$AY$102,2,FALSE))","v":0},56]
[null,null,null,null,null,null,null,{"$f":"IF(ISNA(VLOOKUP(I90,Totals!$AX$3:$AY$102,2,FALSE)),\"\",VLOOKUP(I90,Totals!$AX$3:$AY$102,2,FALSE))","v":0},56,null,null,null,null,null,{"$f":"IF(ISNA(VLOOKUP(P90,Totals!$AX$3:$AY$102,2,FALSE)),\"\",VLOOKUP(P90,Totals!$AX$3:$AY$102,2,FALSE))","v":0},56,null,null,null,null,null,{"$f":"IF(ISNA(VLOOKUP(W90,Totals!$AX$3:$AY$102,2,FALSE)),\"\",VLOOKUP(W90,Totals!$AX$3:$AY$102,2,FALSE))","v":0},56]
[null,null,null,null,null,null,null,{"$f":"IF(ISNA(VLOOKUP(I91,Totals!$AX$3:$AY$102,2,FALSE)),\"\",VLOOKUP(I91,Totals!$AX$3:$AY$102,2,FALSE))","v":0},56,null,null,null,null,null,{"$f":"IF(ISNA(VLOOKUP(P91,Totals!$AX$3:$AY$102,2,FALSE)),\"\",VLOOKUP(P91,Totals!$AX$3:$AY$102,2,FALSE))","v":0},56,null,null,null,null,null,{"$f":"IF(ISNA(VLOOKUP(W91,Totals!$AX$3:$AY$102,2,FALSE)),\"\",VLOOKUP(W91,Totals!$AX$3:$AY$102,2,FALSE))","v":0},56]
[null,null,null,null,null,null,null,{"$f":"IF(ISNA(VLOOKUP(I92,Totals!$AX$3:$AY$102,2,FALSE)),\"\",VLOOKUP(I92,Totals!$AX$3:$AY$102,2,FALSE))","v":0},56,null,null,null,null,null,{"$f":"IF(ISNA(VLOOKUP(P92,Totals!$AX$3:$AY$102,2,FALSE)),\"\",VLOOKUP(P92,Totals!$AX$3:$AY$102,2,FALSE))","v":0},56,null,null,null,null,null,{"$f":"IF(ISNA(VLOOKUP(W92,Totals!$AX$3:$AY$102,2,FALSE)),\"\",VLOOKUP(W92,Totals!$AX$3:$AY$102,2,FALSE))","v":0},56]
[null,null,null,null,null,null,null,{"$f":"IF(ISNA(VLOOKUP(I93,Totals!$AX$3:$AY$102,2,FALSE)),\"\",VLOOKUP(I93,Totals!$AX$3:$AY$102,2,FALSE))","v":0},56,null,null,null,null,null,{"$f":"IF(ISNA(VLOOKUP(P93,Totals!$AX$3:$AY$102,2,FALSE)),\"\",VLOOKUP(P93,Totals!$AX$3:$AY$102,2,FALSE))","v":0},56,null,null,null,null,null,{"$f":"IF(ISNA(VLOOKUP(W93,Totals!$AX$3:$AY$102,2,FALSE)),\"\",VLOOKUP(W93,Totals!$AX$3:$AY$102,2,FALSE))","v":0},56]
[null,null,null,null,null,null,null,{"$f":"IF(ISNA(VLOOKUP(I94,Totals!$AX$3:$AY$102,2,FALSE)),\"\",VLOOKUP(I94,Totals!$AX$3:$AY$102,2,FALSE))","v":0},56,null,null,null,null,null,{"$f":"IF(ISNA(VLOOKUP(P94,Totals!$AX$3:$AY$102,2,FALSE)),\"\",VLOOKUP(P94,Totals!$AX$3:$AY$102,2,FALSE))","v":0},56,null,null,null,null,null,{"$f":"IF(ISNA(VLOOKUP(W94,Totals!$AX$3:$AY$102,2,FALSE)),\"\",VLOOKUP(W94,Totals!$AX$3:$AY$102,2,FALSE))","v":0},56]
[null,null,null,null,null,null,null,{"$f":"IF(ISNA(VLOOKUP(I95,Totals!$AX$3:$AY$102,2,FALSE)),\"\",VLOOKUP(I95,Totals!$AX$3:$AY$102,2,FALSE))","v":0},56,null,null,null,null,null,{"$f":"IF(ISNA(VLOOKUP(P95,Totals!$AX$3:$AY$102,2,FALSE)),\"\",VLOOKUP(P95,Totals!$AX$3:$AY$102,2,FALSE))","v":0},56,null,null,null,null,null,{"$f":"IF(ISNA(VLOOKUP(W95,Totals!$AX$3:$AY$102,2,FALSE)),\"\",VLOOKUP(W95,Totals!$AX$3:$AY$102,2,FALSE))","v":0},56]
[null,null,null,null,null,null,null,{"$f":"IF(ISNA(VLOOKUP(I96,Totals!$AX$3:$AY$102,2,FALSE)),\"\",VLOOKUP(I96,Totals!$AX$3:$AY$102,2,FALSE))","v":0},56,null,null,null,null,null,{"$f":"IF(ISNA(VLOOKUP(P96,Totals!$AX$3:$AY$102,2,FALSE)),\"\",VLOOKUP(P96,Totals!$AX$3:$AY$102,2,FALSE))","v":0},56,null,null,null,null,null,{"$f":"IF(ISNA(VLOOKUP(W96,Totals!$AX$3:$AY$102,2,FALSE)),\"\",VLOOKUP(W96,Totals!$AX$3:$AY$102,2,FALSE))","v":0},56]
[null,null,null,null,null,null,null,{"$f":"IF(ISNA(VLOOKUP(I97,Totals!$AX$3:$AY$102,2,FALSE)),\"\",VLOOKUP(I97,Totals!$AX$3:$AY$102,2,FALSE))","v":0},56,null,null,null,null,null,{"$f":"IF(ISNA(VLOOKUP(P97,Totals!$AX$3:$AY$102,2,FALSE)),\"\",VLOOKUP(P97,Totals!$AX$3:$AY$102,2,FALSE))","v":0},56,null,null,null,null,null,{"$f":"IF(ISNA(VLOOKUP(W97,Totals!$AX$3:$AY$102,2,FALSE)),\"\",VLOOKUP(W97,Totals!$AX$3:$AY$102,2,FALSE))","v":0},56]
[null,null,null,null,null,null,null,{"$f":"IF(ISNA(VLOOKUP(I98,Totals!$AX$3:$AY$102,2,FALSE)),\"\",VLOOKUP(I98,Totals!$AX$3:$AY$102,2,FALSE))","v":0},56,null,null,null,null,null,{"$f":"IF(ISNA(VLOOKUP(P98,Totals!$AX$3:$AY$102,2,FALSE)),\"\",VLOOKUP(P98,Totals!$AX$3:$AY$102,2,FALSE))","v":0},56,null,null,null,null,null,{"$f":"IF(ISNA(VLOOKUP(W98,Totals!$AX$3:$AY$102,2,FALSE)),\"\",VLOOKUP(W98,Totals!$AX$3:$AY$102,2,FALSE))","v":0},56]
[null,null,null,null,null,null,null,{"$f":"IF(ISNA(VLOOKUP(I99,Totals!$AX$3:$AY$102,2,FALSE)),\"\",VLOOKUP(I99,Totals!$AX$3:$AY$102,2,FALSE))","v":0},56,null,null,null,null,null,{"$f":"IF(ISNA(VLOOKUP(P99,Totals!$AX$3:$AY$102,2,FALSE)),\"\",VLOOKUP(P99,Totals!$AX$3:$AY$102,2,FALSE))","v":0},56,null,null,null,null,null,{"$f":"IF(ISNA(VLOOKUP(W99,Totals!$AX$3:$AY$102,2,FALSE)),\"\",VLOOKUP(W99,Totals!$AX$3:$AY$102,2,FALSE))","v":0},56]
[null,null,null,null,null,null,null,{"$f":"IF(ISNA(VLOOKUP(I100,Totals!$AX$3:$AY$102,2,FALSE)),\"\",VLOOKUP(I100,Totals!$AX$3:$AY$102,2,FALSE))","v":0},56,null,null,null,null,null,{"$f":"IF(ISNA(VLOOKUP(P100,Totals!$AX$3:$AY$102,2,FALSE)),\"\",VLOOKUP(P100,Totals!$AX$3:$AY$102,2,FALSE))","v":0},56,null,null,null,null,null,{"$f":"IF(ISNA(VLOOKUP(W100,Totals!$AX$3:$AY$102,2,FALSE)),\"\",VLOOKUP(W100,Totals!$AX$3:$AY$102,2,FALSE))","v":0},56]
[null,null,null,null,null,null,null,{"$f":"IF(ISNA(VLOOKUP(I101,Totals!$AX$3:$AY$102,2,FALSE)),\"\",VLOOKUP(I101,Totals!$AX$3:$AY$102,2,FALSE))","v":0},56,null,null,null,null,null,{"$f":"IF(ISNA(VLOOKUP(P101,Totals!$AX$3:$AY$102,2,FALSE)),\"\",VLOOKUP(P101,Totals!$AX$3:$AY$102,2,FALSE))","v":0},56,null,null,null,null,null,{"$f":"IF(ISNA(VLOOKUP(W101,Totals!$AX$3:$AY$102,2,FALSE)),\"\",VLOOKUP(W101,Totals!$AX$3:$AY$102,2,FALSE))","v":0},56]
[null,null,null,null,null,null,null,{"$f":"IF(ISNA(VLOOKUP(I102,Totals!$AX$3:$AY$102,2,FALSE)),\"\",VLOOKUP(I102,Totals!$AX$3:$AY$102,2,FALSE))","v":0},56,null,null,null,null,null,{"$f":"IF(ISNA(VLOOKUP(P102,Totals!$AX$3:$AY$102,2,FALSE)),\"\",VLOOKUP(P102,Totals!$AX$3:$AY$102,2,FALSE))","v":0},56,null,null,null,null,null,{"$f":"IF(ISNA(VLOOKUP(W102,Totals!$AX$3:$AY$102,2,FALSE)),\"\",VLOOKUP(W102,Totals!$AX$3:$AY$102,2,FALSE))","v":0},56]
[null,null,null,null,null,null,null,{"$f":"IF(ISNA(VLOOKUP(I103,Totals!$AX$3:$AY$102,2,FALSE)),\"\",VLOOKUP(I103,Totals!$AX$3:$AY$102,2,FALSE))","v":0},56,null,null,null,null,null,{"$f":"IF(ISNA(VLOOKUP(P103,Totals!$AX$3:$AY$102,2,FALSE)),\"\",VLOOKUP(P103,Totals!$AX$3:$AY$102,2,FALSE))","v":0},56,null,null,null,null,null,{"$f":"IF(ISNA(VLOOKUP(W103,Totals!$AX$3:$AY$102,2,FALSE)),\"\",VLOOKUP(W103,Totals!$AX$3:$AY$102,2,FALSE))","v":0},56]
[null,null,null,null,null,null,null,{"$f":"IF(ISNA(VLOOKUP(I104,Totals!$AX$3:$AY$102,2,FALSE)),\"\",VLOOKUP(I104,Totals!$AX$3:$AY$102,2,FALSE))","v":0},56,null,null,null,null,null,{"$f":"IF(ISNA(VLOOKUP(P104,Totals!$AX$3:$AY$102,2,FALSE)),\"\",VLOOKUP(P104,Totals!$AX$3:$AY$102,2,FALSE))","v":0},56,null,null,null,null,null,{"$f":"IF(ISNA(VLOOKUP(W104,Totals!$AX$3:$AY$102,2,FALSE)),\"\",VLOOKUP(W104,Totals!$AX$3:$AY$102,2,FALSE))","v":0},56]
[null,null,null,null,null,null,null,{"$f":"IF(ISNA(VLOOKUP(I105,Totals!$AX$3:$AY$102,2,FALSE)),\"\",VLOOKUP(I105,Totals!$AX$3:$AY$102,2,FALSE))","v":0},56,null,null,null,null,null,{"$f":"IF(ISNA(VLOOKUP(P105,Totals!$AX$3:$AY$102,2,FALSE)),\"\",VLOOKUP(P105,Totals!$AX$3:$AY$102,2,FALSE))","v":0},56,null,null,null,null,null,{"$f":"IF(ISNA(VLOOKUP(W105,Totals!$AX$3:$AY$102,2,FALSE)),\"\",VLOOKUP(W105,Totals!$AX$3:$AY$102,2,FALSE))","v":0},56]
[null,null,null,null,null,null,null,{"$f":"IF(ISNA(VLOOKUP(I106,Totals!$AX$3:$AY$102,2,FALSE)),\"\",VLOOKUP(I106,Totals!$AX$3:$AY$102,2,FALSE))","v":0},56,null,null,null,null,null,{"$f":"IF(ISNA(VLOOKUP(P106,Totals!$AX$3:$AY$102,2,FALSE)),\"\",VLOOKUP(P106,Totals!$AX$3:$AY$102,2,FALSE))","v":0},56,null,null,null,null,null,{"$f":"IF(ISNA(VLOOKUP(W106,Totals!$AX$3:$AY$102,2,FALSE)),\"\",VLOOKUP(W106,Totals!$AX$3:$AY$102,2,FALSE))","v":0},56]
[null,null,null,null,null,null,null,{"$f":"IF(ISNA(VLOOKUP(I107,Totals!$AX$3:$AY$102,2,FALSE)),\"\",VLOOKUP(I107,Totals!$AX$3:$AY$102,2,FALSE))","v":0},56,null,null,null,null,null,{"$f":"IF(ISNA(VLOOKUP(P107,Totals!$AX$3:$AY$102,2,FALSE)),\"\",VLOOKUP(P107,Totals!$AX$3:$AY$102,2,FALSE))","v":0},56,null,null,null,null,null,{"$f":"IF(ISNA(VLOOKUP(W107,Totals!$AX$3:$AY$102,2,FALSE)),\"\",VLOOKUP(W107,Totals!$AX$3:$AY$102,2,FALSE))","v":0},56]
[null,null,null,null,null,null,null,{"$f":"IF(ISNA(VLOOKUP(I108,Totals!$AX$3:$AY$102,2,FALSE)),\"\",VLOOKUP(I108,Totals!$AX$3:$AY$102,2,FALSE))","v":0},56,null,null,null,null,null,{"$f":"IF(ISNA(VLOOKUP(P108,Totals!$AX$3:$AY$102,2,FALSE)),\"\",VLOOKUP(P108,Totals!$AX$3:$AY$102,2,FALSE))","v":0},56,null,null,null,null,null,{"$f":"IF(ISNA(VLOOKUP(W108,Totals!$AX$3:$AY$102,2,FALSE)),\"\",VLOOKUP(W108,Totals!$AX$3:$AY$102,2,FALSE))","v":0},56]
[null,null,null,null,null,null,null,{"$f":"IF(ISNA(VLOOKUP(I109,Totals!$AX$3:$AY$102,2,FALSE)),\"\",VLOOKUP(I109,Totals!$AX$3:$AY$102,2,FALSE))","v":0},56,null,null,null,null,null,{"$f":"IF(ISNA(VLOOKUP(P109,Totals!$AX$3:$AY$102,2,FALSE)),\"\",VLOOKUP(P109,Totals!$AX$3:$AY$102,2,FALSE))","v":0},56,null,null,null,null,null,{"$f":"IF(ISNA(VLOOKUP(W109,Totals!$AX$3:$AY$102,2,FALSE)),\"\",VLOOKUP(W109,Totals!$AX$3:$AY$102,2,FALSE))","v":0},56]
[null,null,null,null,null,null,null,{"$f":"IF(ISNA(VLOOKUP(I110,Totals!$AX$3:$AY$102,2,FALSE)),\"\",VLOOKUP(I110,Totals!$AX$3:$AY$102,2,FALSE))","v":0},56,null,null,null,null,null,{"$f":"IF(ISNA(VLOOKUP(P110,Totals!$AX$3:$AY$102,2,FALSE)),\"\",VLOOKUP(P110,Totals!$AX$3:$AY$102,2,FALSE))","v":0},56,null,null,null,null,null,{"$f":"IF(ISNA(VLOOKUP(W110,Totals!$AX$3:$AY$102,2,FALSE)),\"\",VLOOKUP(W110,Totals!$AX$3:$AY$102,2,FALSE))","v":0},56]
[null,null,null,null,null,null,null,{"$f":"IF(ISNA(VLOOKUP(I111,Totals!$AX$3:$AY$102,2,FALSE)),\"\",VLOOKUP(I111,Totals!$AX$3:$AY$102,2,FALSE))","v":0},56,null,null,null,null,null,{"$f":"IF(ISNA(VLOOKUP(P111,Totals!$AX$3:$AY$102,2,FALSE)),\"\",VLOOKUP(P111,Totals!$AX$3:$AY$102,2,FALSE))","v":0},56,null,null,null,null,null,{"$f":"IF(ISNA(VLOOKUP(W111,Totals!$AX$3:$AY$102,2,FALSE)),\"\",VLOOKUP(W111,Totals!$AX$3:$AY$102,2,FALSE))","v":0},56]
[null,null,null,null,null,null,null,{"$f":"IF(ISNA(VLOOKUP(I112,Totals!$AX$3:$AY$102,2,FALSE)),\"\",VLOOKUP(I112,Totals!$AX$3:$AY$102,2,FALSE))","v":0},56,null,null,null,null,null,{"$f":"IF(ISNA(VLOOKUP(P112,Totals!$AX$3:$AY$102,2,FALSE)),\"\",VLOOKUP(P112,Totals!$AX$3:$AY$102,2,FALSE))","v":0},56,null,null,null,null,null,{"$f":"IF(ISNA(VLOOKUP(W112,Totals!$AX$3:$AY$102,2,FALSE)),\"\",VLOOKUP(W112,Totals!$AX$3:$AY$102,2,FALSE))","v":0},56]
[null,null,null,null,null,null,null,{"$f":"IF(ISNA(VLOOKUP(I113,Totals!$AX$3:$AY$102,2,FALSE)),\"\",VLOOKUP(I113,Totals!$AX$3:$AY$102,2,FALSE))","v":0},56,null,null,null,null,null,{"$f":"IF(ISNA(VLOOKUP(P113,Totals!$AX$3:$AY$102,2,FALSE)),\"\",VLOOKUP(P113,Totals!$AX$3:$AY$102,2,FALSE))","v":0},56,null,null,null,null,null,{"$f":"IF(ISNA(VLOOKUP(W113,Totals!$AX$3:$AY$102,2,FALSE)),\"\",VLOOKUP(W113,Totals!$AX$3:$AY$102,2,FALSE))","v":0},56]
[null,null,null,null,null,null,null,{"$f":"IF(ISNA(VLOOKUP(I114,Totals!$AX$3:$AY$102,2,FALSE)),\"\",VLOOKUP(I114,Totals!$AX$3:$AY$102,2,FALSE))","v":0},56,null,null,null,null,null,{"$f":"IF(ISNA(VLOOKUP(P114,Totals!$AX$3:$AY$102,2,FALSE)),\"\",VLOOKUP(P114,Totals!$AX$3:$AY$102,2,FALSE))","v":0},56,null,null,null,null,null,{"$f":"IF(ISNA(VLOOKUP(W114,Totals!$AX$3:$AY$102,2,FALSE)),\"\",VLOOKUP(W114,Totals!$AX$3:$AY$102,2,FALSE))","v":0},56]
[null,null,null,null,null,null,null,{"$f":"IF(ISNA(VLOOKUP(I115,Totals!$AX$3:$AY$102,2,FALSE)),\"\",VLOOKUP(I115,Totals!$AX$3:$AY$102,2,FALSE))","v":0},56,null,null,null,null,null,{"$f":"IF(ISNA(VLOOKUP(P115,Totals!$AX$3:$AY$102,2,FALSE)),\"\",VLOOKUP(P115,Totals!$AX$3:$AY$102,2,FALSE))","v":0},56,null,null,null,null,null,{"$f":"IF(ISNA(VLOOKUP(W115,Totals!$AX$3:$AY$102,2,FALSE)),\"\",VLOOKUP(W115,Totals!$AX$3:$AY$102,2,FALSE))","v":0},56]
[null,null,null,null,null,null,null,{"$f":"IF(ISNA(VLOOKUP(I116,Totals!$AX$3:$AY$102,2,FALSE)),\"\",VLOOKUP(I116,Totals!$AX$3:$AY$102,2,FALSE))","v":0},56,null,null,null,null,null,{"$f":"IF(ISNA(VLOOKUP(P116,Totals!$AX$3:$AY$102,2,FALSE)),\"\",VLOOKUP(P116,Totals!$AX$3:$AY$102,2,FALSE))","v":0},56,null,null,null,null,null,{"$f":"IF(ISNA(VLOOKUP(W116,Totals!$AX$3:$AY$102,2,FALSE)),\"\",VLOOKUP(W116,Totals!$AX$3:$AY$102,2,FALSE))","v":0},56]
[null,null,null,null,null,null,null,{"$f":"IF(ISNA(VLOOKUP(I117,Totals!$AX$3:$AY$102,2,FALSE)),\"\",VLOOKUP(I117,Totals!$AX$3:$AY$102,2,FALSE))","v":0},56,null,null,null,null,null,{"$f":"IF(ISNA(VLOOKUP(P117,Totals!$AX$3:$AY$102,2,FALSE)),\"\",VLOOKUP(P117,Totals!$AX$3:$AY$102,2,FALSE))","v":0},56,null,null,null,null,null,{"$f":"IF(ISNA(VLOOKUP(W117,Totals!$AX$3:$AY$102,2,FALSE)),\"\",VLOOKUP(W117,Totals!$AX$3:$AY$102,2,FALSE))","v":0},56]
[null,null,null,null,null,null,null,{"$f":"IF(ISNA(VLOOKUP(I118,Totals!$AX$3:$AY$102,2,FALSE)),\"\",VLOOKUP(I118,Totals!$AX$3:$AY$102,2,FALSE))","v":0},56,null,null,null,null,null,{"$f":"IF(ISNA(VLOOKUP(P118,Totals!$AX$3:$AY$102,2,FALSE)),\"\",VLOOKUP(P118,Totals!$AX$3:$AY$102,2,FALSE))","v":0},56,null,null,null,null,null,{"$f":"IF(ISNA(VLOOKUP(W118,Totals!$AX$3:$AY$102,2,FALSE)),\"\",VLOOKUP(W118,Totals!$AX$3:$AY$102,2,FALSE))","v":0},56]
[null,null,null,null,null,null,null,{"$f":"IF(ISNA(VLOOKUP(I119,Totals!$AX$3:$AY$102,2,FALSE)),\"\",VLOOKUP(I119,Totals!$AX$3:$AY$102,2,FALSE))","v":0},56,null,null,null,null,null,{"$f":"IF(ISNA(VLOOKUP(P119,Totals!$AX$3:$AY$102,2,FALSE)),\"\",VLOOKUP(P119,Totals!$AX$3:$AY$102,2,FALSE))","v":0},56,null,null,null,null,null,{"$f":"IF(ISNA(VLOOKUP(W119,Totals!$AX$3:$AY$102,2,FALSE)),\"\",VLOOKUP(W119,Totals!$AX$3:$AY$102,2,FALSE))","v":0},56]
[null,null,null,null,null,null,null,{"$f":"IF(ISNA(VLOOKUP(I120,Totals!$AX$3:$AY$102,2,FALSE)),\"\",VLOOKUP(I120,Totals!$AX$3:$AY$102,2,FALSE))","v":0},56,null,null,null,null,null,{"$f":"IF(ISNA(VLOOKUP(P120,Totals!$AX$3:$AY$102,2,FALSE)),\"\",VLOOKUP(P120,Totals!$AX$3:$AY$102,2,FALSE))","v":0},56,null,null,null,null,null,{"$f":"IF(ISNA(VLOOKUP(W120,Totals!$AX$3:$AY$102,2,FALSE)),\"\",VLOOKUP(W120,Totals!$AX$3:$AY$102,2,FALSE))","v":0},56]
[null,null,null,null,null,null,null,{"$f":"IF(ISNA(VLOOKUP(I121,Totals!$AX$3:$AY$102,2,FALSE)),\"\",VLOOKUP(I121,Totals!$AX$3:$AY$102,2,FALSE))","v":0},56,null,null,null,null,null,{"$f":"IF(ISNA(VLOOKUP(P121,Totals!$AX$3:$AY$102,2,FALSE)),\"\",VLOOKUP(P121,Totals!$AX$3:$AY$102,2,FALSE))","v":0},56,null,null,null,null,null,{"$f":"IF(ISNA(VLOOKUP(W121,Totals!$AX$3:$AY$102,2,FALSE)),\"\",VLOOKUP(W121,Totals!$AX$3:$AY$102,2,FALSE))","v":0},56]
[null,null,null,null,null,null,null,{"$f":"IF(ISNA(VLOOKUP(I122,Totals!$AX$3:$AY$102,2,FALSE)),\"\",VLOOKUP(I122,Totals!$AX$3:$AY$102,2,FALSE))","v":0},56,null,null,null,null,null,{"$f":"IF(ISNA(VLOOKUP(P122,Totals!$AX$3:$AY$102,2,FALSE)),\"\",VLOOKUP(P122,Totals!$AX$3:$AY$102,2,FALSE))","v":0},56,null,null,null,null,null,{"$f":"IF(ISNA(VLOOKUP(W122,Totals!$AX$3:$AY$102,2,FALSE)),\"\",VLOOKUP(W122,Totals!$AX$3:$AY$102,2,FALSE))","v":0},56]
[null,null,null,null,null,null,null,{"$f":"IF(ISNA(VLOOKUP(I123,Totals!$AX$3:$AY$102,2,FALSE)),\"\",VLOOKUP(I123,Totals!$AX$3:$AY$102,2,FALSE))","v":0},56,null,null,null,null,null,{"$f":"IF(ISNA(VLOOKUP(P123,Totals!$AX$3:$AY$102,2,FALSE)),\"\",VLOOKUP(P123,Totals!$AX$3:$AY$102,2,FALSE))","v":0},56,null,null,null,null,null,{"$f":"IF(ISNA(VLOOKUP(W123,Totals!$AX$3:$AY$102,2,FALSE)),\"\",VLOOKUP(W123,Totals!$AX$3:$AY$102,2,FALSE))","v":0},56]
[null,null,null,null,null,null,null,{"$f":"IF(ISNA(VLOOKUP(I124,Totals!$AX$3:$AY$102,2,FALSE)),\"\",VLOOKUP(I124,Totals!$AX$3:$AY$102,2,FALSE))","v":0},56,null,null,null,null,null,{"$f":"IF(ISNA(VLOOKUP(P124,Totals!$AX$3:$AY$102,2,FALSE)),\"\",VLOOKUP(P124,Totals!$AX$3:$AY$102,2,FALSE))","v":0},56,null,null,null,null,null,{"$f":"IF(ISNA(VLOOKUP(W124,Totals!$AX$3:$AY$102,2,FALSE)),\"\",VLOOKUP(W124,Totals!$AX$3:$AY$102,2,FALSE))","v":0},56]
[null,null,null,null,null,null,null,{"$f":"IF(ISNA(VLOOKUP(I125,Totals!$AX$3:$AY$102,2,FALSE)),\"\",VLOOKUP(I125,Totals!$AX$3:$AY$102,2,FALSE))","v":0},56,null,null,null,null,null,{"$f":"IF(ISNA(VLOOKUP(P125,Totals!$AX$3:$AY$102,2,FALSE)),\"\",VLOOKUP(P125,Totals!$AX$3:$AY$102,2,FALSE))","v":0},56,null,null,null,null,null,{"$f":"IF(ISNA(VLOOKUP(W125,Totals!$AX$3:$AY$102,2,FALSE)),\"\",VLOOKUP(W125,Totals!$AX$3:$AY$102,2,FALSE))","v":0},56]
[null,null,null,null,null,null,null,{"$f":"IF(ISNA(VLOOKUP(I126,Totals!$AX$3:$AY$102,2,FALSE)),\"\",VLOOKUP(I126,Totals!$AX$3:$AY$102,2,FALSE))","v":0},56,null,null,null,null,null,{"$f":"IF(ISNA(VLOOKUP(P126,Totals!$AX$3:$AY$102,2,FALSE)),\"\",VLOOKUP(P126,Totals!$AX$3:$AY$102,2,FALSE))","v":0},56,null,null,null,null,null,{"$f":"IF(ISNA(VLOOKUP(W126,Totals!$AX$3:$AY$102,2,FALSE)),\"\",VLOOKUP(W126,Totals!$AX$3:$AY$102,2,FALSE))","v":0},56]
[null,null,null,null,null,null,null,{"$f":"IF(ISNA(VLOOKUP(I127,Totals!$AX$3:$AY$102,2,FALSE)),\"\",VLOOKUP(I127,Totals!$AX$3:$AY$102,2,FALSE))","v":0},56,null,null,null,null,null,{"$f":"IF(ISNA(VLOOKUP(P127,Totals!$AX$3:$AY$102,2,FALSE)),\"\",VLOOKUP(P127,Totals!$AX$3:$AY$102,2,FALSE))","v":0},56,null,null,null,null,null,{"$f":"IF(ISNA(VLOOKUP(W127,Totals!$AX$3:$AY$102,2,FALSE)),\"\",VLOOKUP(W127,Totals!$AX$3:$AY$102,2,FALSE))","v":0},56]
[null,null,null,null,null,null,null,{"$f":"IF(ISNA(VLOOKUP(I128,Totals!$AX$3:$AY$102,2,FALSE)),\"\",VLOOKUP(I128,Totals!$AX$3:$AY$102,2,FALSE))","v":0},56,null,null,null,null,null,{"$f":"IF(ISNA(VLOOKUP(P128,Totals!$AX$3:$AY$102,2,FALSE)),\"\",VLOOKUP(P128,Totals!$AX$3:$AY$102,2,FALSE))","v":0},56,null,null,null,null,null,{"$f":"IF(ISNA(VLOOKUP(W128,Totals!$AX$3:$AY$102,2,FALSE)),\"\",VLOOKUP(W128,Totals!$AX$3:$AY$102,2,FALSE))","v":0},56]
[null,null,null,null,null,null,null,{"$f":"IF(ISNA(VLOOKUP(I129,Totals!$AX$3:$AY$102,2,FALSE)),\"\",VLOOKUP(I129,Totals!$AX$3:$AY$102,2,FALSE))","v":0},56,null,null,null,null,null,{"$f":"IF(ISNA(VLOOKUP(P129,Totals!$AX$3:$AY$102,2,FALSE)),\"\",VLOOKUP(P129,Totals!$AX$3:$AY$102,2,FALSE))","v":0},56,null,null,null,null,null,{"$f":"IF(ISNA(VLOOKUP(W129,Totals!$AX$3:$AY$102,2,FALSE)),\"\",VLOOKUP(W129,Totals!$AX$3:$AY$102,2,FALSE))","v":0},56]
[null,null,null,null,null,null,null,{"$f":"IF(ISNA(VLOOKUP(I130,Totals!$AX$3:$AY$102,2,FALSE)),\"\",VLOOKUP(I130,Totals!$AX$3:$AY$102,2,FALSE))","v":0},56,null,null,null,null,null,{"$f":"IF(ISNA(VLOOKUP(P130,Totals!$AX$3:$AY$102,2,FALSE)),\"\",VLOOKUP(P130,Totals!$AX$3:$AY$102,2,FALSE))","v":0},56,null,null,null,null,null,{"$f":"IF(ISNA(VLOOKUP(W130,Totals!$AX$3:$AY$102,2,FALSE)),\"\",VLOOKUP(W130,Totals!$AX$3:$AY$102,2,FALSE))","v":0},56]
[null,null,null,null,null,null,null,{"$f":"IF(ISNA(VLOOKUP(I131,Totals!$AX$3:$AY$102,2,FALSE)),\"\",VLOOKUP(I131,Totals!$AX$3:$AY$102,2,FALSE))","v":0},56,null,null,null,null,null,{"$f":"IF(ISNA(VLOOKUP(P131,Totals!$AX$3:$AY$102,2,FALSE)),\"\",VLOOKUP(P131,Totals!$AX$3:$AY$102,2,FALSE))","v":0},56,null,null,null,null,null,{"$f":"IF(ISNA(VLOOKUP(W131,Totals!$AX$3:$AY$102,2,FALSE)),\"\",VLOOKUP(W131,Totals!$AX$3:$AY$102,2,FALSE))","v":0},56]
[null,null,null,null,null,null,null,{"$f":"IF(ISNA(VLOOKUP(I132,Totals!$AX$3:$AY$102,2,FALSE)),\"\",VLOOKUP(I132,Totals!$AX$3:$AY$102,2,FALSE))","v":0},56,null,null,null,null,null,{"$f":"IF(ISNA(VLOOKUP(P132,Totals!$AX$3:$AY$102,2,FALSE)),\"\",VLOOKUP(P132,Totals!$AX$3:$AY$102,2,FALSE))","v":0},56,null,null,null,null,null,{"$f":"IF(ISNA(VLOOKUP(W132,Totals!$AX$3:$AY$102,2,FALSE)),\"\",VLOOKUP(W132,Totals!$AX$3:$AY$102,2,FALSE))","v":0},56]
[null,null,null,null,null,null,null,{"$f":"IF(ISNA(VLOOKUP(I133,Totals!$AX$3:$AY$102,2,FALSE)),\"\",VLOOKUP(I133,Totals!$AX$3:$AY$102,2,FALSE))","v":0},56,null,null,null,null,null,{"$f":"IF(ISNA(VLOOKUP(P133,Totals!$AX$3:$AY$102,2,FALSE)),\"\",VLOOKUP(P133,Totals!$AX$3:$AY$102,2,FALSE))","v":0},56,null,null,null,null,null,{"$f":"IF(ISNA(VLOOKUP(W133,Totals!$AX$3:$AY$102,2,FALSE)),\"\",VLOOKUP(W133,Totals!$AX$3:$AY$102,2,FALSE))","v":0},56]
[null,null,null,null,null,null,null,{"$f":"IF(ISNA(VLOOKUP(I134,Totals!$AX$3:$AY$102,2,FALSE)),\"\",VLOOKUP(I134,Totals!$AX$3:$AY$102,2,FALSE))","v":0},56,null,null,null,null,null,{"$f":"IF(ISNA(VLOOKUP(P134,Totals!$AX$3:$AY$102,2,FALSE)),\"\",VLOOKUP(P134,Totals!$AX$3:$AY$102,2,FALSE))","v":0},{"$f":"IF(ISNA(RANK(N134,N$5:N$150)),\"\",RANK(N134,N$5:N$150))","v":56},null,null,null,null,null,{"$f":"IF(ISNA(VLOOKUP(W134,Totals!$AX$3:$AY$102,2,FALSE)),\"\",VLOOKUP(W134,Totals!$AX$3:$AY$102,2,FALSE))","v":0},{"$f":"IF(ISNA(RANK(U134,U$5:U$150)),\"\",RANK(U134,U$5:U$150))","v":56}]
[null,null,null,null,null,null,null,{"$f":"IF(ISNA(VLOOKUP(I135,Totals!$AX$3:$AY$102,2,FALSE)),\"\",VLOOKUP(I135,Totals!$AX$3:$AY$102,2,FALSE))","v":0},{"$f":"IF(G135=G134,I134,IF(ISNA(RANK(G135,G$5:G$150)),\"\",RANK(G135,G$5:G$150)))","v":56},null,null,null,null,null,{"$f":"IF(ISNA(VLOOKUP(P135,Totals!$AX$3:$AY$102,2,FALSE)),\"\",VLOOKUP(P135,Totals!$AX$3:$AY$102,2,FALSE))","v":0},56,null,null,null,null,null,{"$f":"IF(ISNA(VLOOKUP(W135,Totals!$AX$3:$AY$102,2,FALSE)),\"\",VLOOKUP(W135,Totals!$AX$3:$AY$102,2,FALSE))","v":0},56]
[null,null,null,null,null,null,null,{"$f":"IF(ISNA(VLOOKUP(I136,Totals!$AX$3:$AY$102,2,FALSE)),\"\",VLOOKUP(I136,Totals!$AX$3:$AY$102,2,FALSE))","v":0},56,null,null,null,null,null,{"$f":"IF(ISNA(VLOOKUP(P136,Totals!$AX$3:$AY$102,2,FALSE)),\"\",VLOOKUP(P136,Totals!$AX$3:$AY$102,2,FALSE))","v":0},56,null,null,null,null,null,{"$f":"IF(ISNA(VLOOKUP(W136,Totals!$AX$3:$AY$102,2,FALSE)),\"\",VLOOKUP(W136,Totals!$AX$3:$AY$102,2,FALSE))","v":0},56]
[null,null,null,null,null,null,null,{"$f":"IF(ISNA(VLOOKUP(I137,Totals!$AX$3:$AY$102,2,FALSE)),\"\",VLOOKUP(I137,Totals!$AX$3:$AY$102,2,FALSE))","v":0},56,null,null,null,null,null,{"$f":"IF(ISNA(VLOOKUP(P137,Totals!$AX$3:$AY$102,2,FALSE)),\"\",VLOOKUP(P137,Totals!$AX$3:$AY$102,2,FALSE))","v":0},56,null,null,null,null,null,{"$f":"IF(ISNA(VLOOKUP(W137,Totals!$AX$3:$AY$102,2,FALSE)),\"\",VLOOKUP(W137,Totals!$AX$3:$AY$102,2,FALSE))","v":0},56]
[null,null,null,null,null,null,null,{"$f":"IF(ISNA(VLOOKUP(I138,Totals!$AX$3:$AY$102,2,FALSE)),\"\",VLOOKUP(I138,Totals!$AX$3:$AY$102,2,FALSE))","v":0},56,null,null,null,null,null,{"$f":"IF(ISNA(VLOOKUP(P138,Totals!$AX$3:$AY$102,2,FALSE)),\"\",VLOOKUP(P138,Totals!$AX$3:$AY$102,2,FALSE))","v":0},56,null,null,null,null,null,{"$f":"IF(ISNA(VLOOKUP(W138,Totals!$AX$3:$AY$102,2,FALSE)),\"\",VLOOKUP(W138,Totals!$AX$3:$AY$102,2,FALSE))","v":0},56]
[null,null,null,null,null,null,null,{"$f":"IF(ISNA(VLOOKUP(I139,Totals!$AX$3:$AY$102,2,FALSE)),\"\",VLOOKUP(I139,Totals!$AX$3:$AY$102,2,FALSE))","v":0},56,null,null,null,null,null,{"$f":"IF(ISNA(VLOOKUP(P139,Totals!$AX$3:$AY$102,2,FALSE)),\"\",VLOOKUP(P139,Totals!$AX$3:$AY$102,2,FALSE))","v":0},56,null,null,null,null,null,{"$f":"IF(ISNA(VLOOKUP(W139,Totals!$AX$3:$AY$102,2,FALSE)),\"\",VLOOKUP(W139,Totals!$AX$3:$AY$102,2,FALSE))","v":0},56]
[null,null,null,null,null,null,null,{"$f":"IF(ISNA(VLOOKUP(I140,Totals!$AX$3:$AY$102,2,FALSE)),\"\",VLOOKUP(I140,Totals!$AX$3:$AY$102,2,FALSE))","v":0},56,null,null,null,null,null,{"$f":"IF(ISNA(VLOOKUP(P140,Totals!$AX$3:$AY$102,2,FALSE)),\"\",VLOOKUP(P140,Totals!$AX$3:$AY$102,2,FALSE))","v":0},56,null,null,null,null,null,{"$f":"IF(ISNA(VLOOKUP(W140,Totals!$AX$3:$AY$102,2,FALSE)),\"\",VLOOKUP(W140,Totals!$AX$3:$AY$102,2,FALSE))","v":0},56]
[null,null,null,null,null,null,null,{"$f":"IF(ISNA(VLOOKUP(I141,Totals!$AX$3:$AY$102,2,FALSE)),\"\",VLOOKUP(I141,Totals!$AX$3:$AY$102,2,FALSE))","v":0},56,null,null,null,null,null,{"$f":"IF(ISNA(VLOOKUP(P141,Totals!$AX$3:$AY$102,2,FALSE)),\"\",VLOOKUP(P141,Totals!$AX$3:$AY$102,2,FALSE))","v":0},56,null,null,null,null,null,{"$f":"IF(ISNA(VLOOKUP(W141,Totals!$AX$3:$AY$102,2,FALSE)),\"\",VLOOKUP(W141,Totals!$AX$3:$AY$102,2,FALSE))","v":0},56]
[null,null,null,null,null,null,null,{"$f":"IF(ISNA(VLOOKUP(I142,Totals!$AX$3:$AY$102,2,FALSE)),\"\",VLOOKUP(I142,Totals!$AX$3:$AY$102,2,FALSE))","v":0},56,null,null,null,null,null,{"$f":"IF(ISNA(VLOOKUP(P142,Totals!$AX$3:$AY$102,2,FALSE)),\"\",VLOOKUP(P142,Totals!$AX$3:$AY$102,2,FALSE))","v":0},56,null,null,null,null,null,{"$f":"IF(ISNA(VLOOKUP(W142,Totals!$AX$3:$AY$102,2,FALSE)),\"\",VLOOKUP(W142,Totals!$AX$3:$AY$102,2,FALSE))","v":0},56]
[null,null,null,null,null,null,null,{"$f":"IF(ISNA(VLOOKUP(I143,Totals!$AX$3:$AY$102,2,FALSE)),\"\",VLOOKUP(I143,Totals!$AX$3:$AY$102,2,FALSE))","v":0},56,null,null,null,null,null,{"$f":"IF(ISNA(VLOOKUP(P143,Totals!$AX$3:$AY$102,2,FALSE)),\"\",VLOOKUP(P143,Totals!$AX$3:$AY$102,2,FALSE))","v":0},56,null,null,null,null,null,{"$f":"IF(ISNA(VLOOKUP(W143,Totals!$AX$3:$AY$102,2,FALSE)),\"\",VLOOKUP(W143,Totals!$AX$3:$AY$102,2,FALSE))","v":0},56]
[null,null,null,null,null,null,null,{"$f":"IF(ISNA(VLOOKUP(I144,Totals!$AX$3:$AY$102,2,FALSE)),\"\",VLOOKUP(I144,Totals!$AX$3:$AY$102,2,FALSE))","v":0},56,null,null,null,null,null,{"$f":"IF(ISNA(VLOOKUP(P144,Totals!$AX$3:$AY$102,2,FALSE)),\"\",VLOOKUP(P144,Totals!$AX$3:$AY$102,2,FALSE))","v":0},56,null,null,null,null,null,{"$f":"IF(ISNA(VLOOKUP(W144,Totals!$AX$3:$AY$102,2,FALSE)),\"\",VLOOKUP(W144,Totals!$AX$3:$AY$102,2,FALSE))","v":0},56]
[null,null,null,null,null,null,null,{"$f":"IF(ISNA(VLOOKUP(I145,Totals!$AX$3:$AY$102,2,FALSE)),\"\",VLOOKUP(I145,Totals!$AX$3:$AY$102,2,FALSE))","v":0},56,null,null,null,null,null,{"$f":"IF(ISNA(VLOOKUP(P145,Totals!$AX$3:$AY$102,2,FALSE)),\"\",VLOOKUP(P145,Totals!$AX$3:$AY$102,2,FALSE))","v":0},56,null,null,null,null,null,{"$f":"IF(ISNA(VLOOKUP(W145,Totals!$AX$3:$AY$102,2,FALSE)),\"\",VLOOKUP(W145,Totals!$AX$3:$AY$102,2,FALSE))","v":0},56]
[null,null,null,null,null,null,null,{"$f":"IF(ISNA(VLOOKUP(I146,Totals!$AX$3:$AY$102,2,FALSE)),\"\",VLOOKUP(I146,Totals!$AX$3:$AY$102,2,FALSE))","v":0},56,null,null,null,null,null,{"$f":"IF(ISNA(VLOOKUP(P146,Totals!$AX$3:$AY$102,2,FALSE)),\"\",VLOOKUP(P146,Totals!$AX$3:$AY$102,2,FALSE))","v":0},56,null,null,null,null,null,{"$f":"IF(ISNA(VLOOKUP(W146,Totals!$AX$3:$AY$102,2,FALSE)),\"\",VLOOKUP(W146,Totals!$AX$3:$AY$102,2,FALSE))","v":0},56]
[null,null,null,null,null,null,null,{"$f":"IF(ISNA(VLOOKUP(I147,Totals!$AX$3:$AY$102,2,FALSE)),\"\",VLOOKUP(I147,Totals!$AX$3:$AY$102,2,FALSE))","v":0},56,null,null,null,null,null,{"$f":"IF(ISNA(VLOOKUP(P147,Totals!$AX$3:$AY$102,2,FALSE)),\"\",VLOOKUP(P147,Totals!$AX$3:$AY$102,2,FALSE))","v":0},56,null,null,null,null,null,{"$f":"IF(ISNA(VLOOKUP(W147,Totals!$AX$3:$AY$102,2,FALSE)),\"\",VLOOKUP(W147,Totals!$AX$3:$AY$102,2,FALSE))","v":0},56]
[null,null,null,null,null,null,null,{"$f":"IF(ISNA(VLOOKUP(I148,Totals!$AX$3:$AY$102,2,FALSE)),\"\",VLOOKUP(I148,Totals!$AX$3:$AY$102,2,FALSE))","v":0},56,null,null,null,null,null,{"$f":"IF(ISNA(VLOOKUP(P148,Totals!$AX$3:$AY$102,2,FALSE)),\"\",VLOOKUP(P148,Totals!$AX$3:$AY$102,2,FALSE))","v":0},56,null,null,null,null,null,{"$f":"IF(ISNA(VLOOKUP(W148,Totals!$AX$3:$AY$102,2,FALSE)),\"\",VLOOKUP(W148,Totals!$AX$3:$AY$102,2,FALSE))","v":0},56]
[null,null,null,null,null,null,null,{"$f":"IF(ISNA(VLOOKUP(I149,Totals!$AX$3:$AY$102,2,FALSE)),\"\",VLOOKUP(I149,Totals!$AX$3:$AY$102,2,FALSE))","v":0},56,null,null,null,null,null,{"$f":"IF(ISNA(VLOOKUP(P149,Totals!$AX$3:$AY$102,2,FALSE)),\"\",VLOOKUP(P149,Totals!$AX$3:$AY$102,2,FALSE))","v":0},56,null,null,null,null,null,{"$f":"IF(ISNA(VLOOKUP(W149,Totals!$AX$3:$AY$102,2,FALSE)),\"\",VLOOKUP(W149,Totals!$AX$3:$AY$102,2,FALSE))","v":0},56]
[null,null,null,null,null,null,null,{"$f":"IF(ISNA(VLOOKUP(I150,Totals!$AX$3:$AY$102,2,FALSE)),\"\",VLOOKUP(I150,Totals!$AX$3:$AY$102,2,FALSE))","v":0},56,null,null,null,null,null,{"$f":"IF(ISNA(VLOOKUP(P150,Totals!$AX$3:$AY$102,2,FALSE)),\"\",VLOOKUP(P150,Totals!$AX$3:$AY$102,2,FALSE))","v":0},56,null,null,null,null,null,{"$f":"IF(ISNA(VLOOKUP(W150,Totals!$AX$3:$AY$102,2,FALSE)),\"\",VLOOKUP(W150,Totals!$AX$3:$AY$102,2,FALSE))","v":0},56]